{"text_format":"1","workbook":"xlsx","n_sheets":7,"sheets":["CycleTime","DataSerch","ModelData","LeadData","StrokeData","MassDataLink","AccVelDataLink"],"not_rendered":{"charts":0,"images":3,"macros":1,"external_links":0,"defined_names":4,"comments":2,"pivot_tables":0},"unopened":[],"bounds":{"document_bytes":16777216,"sheet_cells":100000,"rows_first":2000,"rows_last":500,"rows_between":2000,"halvings":0,"cell_chars":16384,"cell_head_chars":4096},"cells_cut":0,"cells_raw":0,"read":"whole","date_system":"1900"}

{"sheet":"CycleTime","index":0,"n_rows":3231,"n_cols":48,"rows_kept":1125,"cut":true,"hidden":false,"merged":[[24,5,24,9],[0,11,0,43],[28,14,28,20],[8,11,8,12],[9,11,9,12],[2,27,2,28],[3,27,3,28],[2,11,2,12],[3,11,3,12],[16,15,16,18],[16,19,16,20],[16,21,16,23],[16,13,17,13],[16,14,17,14],[41,37,42,37],[35,25,36,25],[41,34,42,34],[41,29,42,29],[41,36,42,36],[41,32,42,32],[41,35,42,35],[41,33,42,33],[41,31,42,31],[35,29,36,29],[41,30,42,30],[41,28,42,28],[35,28,36,28],[41,26,42,26],[41,25,42,25],[35,27,36,27],[3,2,3,3],[5,11,5,12],[5,2,5,4],[13,11,13,12],[4,11,4,12],[7,11,7,12],[6,11,6,12],[15,1,15,2],[10,11,10,12],[11,11,11,12],[23,1,23,2],[17,1,17,2],[21,1,21,2],[19,6,21,7],[19,8,21,8],[19,1,19,2],[13,1,13,2],[16,12,17,12],[16,11,17,11],[23,5,23,9],[28,44,28,47],[35,33,36,33],[35,30,36,30],[35,32,36,32],[35,31,36,31],[35,35,36,35],[35,34,36,34],[35,36,36,36],[41,27,42,27],[35,26,36,26],[30,23,30,24],[41,23,42,23],[43,22,44,22],[41,22,42,22],[31,22,32,22],[37,22,38,22],[35,22,36,22],[35,23,36,23],[31,23,32,24],[35,24,36,24],[41,24,42,24]],"bounds":{"rows_first":500,"rows_last":125,"rows_between":500,"halvings":2}}
[null,null,null,null,null,null,null,null,null,null,null,"↓　L～AR　「表示しない」列　↓　↓　L～AR　「表示しない」列　↓　↓　L～AR　「表示しない」列　↓　↓　L～AR　「表示しない」列　↓　↓　L～AR　「表示しない」列　↓　↓　L～AR　「表示しない」列　↓　↓　L～AR　「表示しない」列　↓　↓　L～AR　「表示しない」列　↓　↓　L～AR　「表示しない」列　↓　↓　L～AR　「表示しない」列　",null,null,null,null,null,null,null,null,null,null,null,null,null,null,null,null,null,null,null,null,null,null,null,null,null,null,null,null,null,null,null,null,null,"残す列",null,"残す列"]
[null,null,null,null,null,null,null,null,null,null,null,"参考表示"]
[null,null,null,null,null,null,null,null,null,null,null,"Vmax[㎜/s]",null,{"$f":"SQRT(D14*(2*N4*N5)/(N4+N5))","v":442.86905513932669},null,null,null,null,null,null,null,null,null,null,null,null,null,"feedforward",null,null,"物理計算用変換係数"]
["<a>","シリーズ","ISB",null,null,null,null,null,null,null,null,{"$f":"IF(AE33=0,\"加速度[㎜/s^2]\",\"加速度[deg/s^2]\")","v":"加速度[㎜/s^2]"},null,{"$f":"D20*AH5*1000","v":1961.33},null,null,null,null,null,null,null,null,null,null,null,null,null,{"$f":"AF45/100","v":0},null,null,"ﾓｰﾀ軸角速度及び角加速度",null,null,"Ｇ"]
[null,null,null,null,null,null,null,null,null,null,null,{"$f":"IF(AE33=0,\"減速度[㎜/s^2]\",\"減速度[deg/s^2]\")","v":"減速度[㎜/s^2]"},null,{"$f":"D22*AH5*1000","v":1961.33},null,null,null,null,null,null,null,null,null,null,null,null,null,"Kf",{"$f":"IF( AB4=1,1,1-EXP(-((N11/(1-AB4))-N11)*N8) )","v":0},null,{"$f":"IF(AE33=0,1000,360/(2*PI()))","v":1000},null,null,{"$f":"LeadData!$A$1","v":9.8066499999999994}]
["<b>","型式","ISB-SXM-60",null,null,null,null,null,null,null,null,"最高速度[㎜/s]",null,{"$f":"IF(D18<N3,D18,N3)","v":240},null,null,null,null,null,null,null,null,null,null,null,null,null,null,null,null,null,null,null,null,null,null,null,null,null,null,"(Tkp+2Kf)",{"$f":"($N$8*$N$11+2*$AB$4)","v":8.1795540549926861E-3}]
[null,null,null,null,null,null,null,null,null,null,null,"分割数",null,{"$f":"ROUND(3200/(AP18+AP20*10)*AP18,0)","v":1977},null,null,null,null,null,null,null,null,null,null,null,null,null,null,null,null,null,null,null,null,null,null,null,null,null,null,"(Tkp-2Kf)",{"$f":"($N$8*$N$11-2*$AB$4)","v":8.1795540549926861E-3}]
["<c>",{"$f":"IF(AE33=0,\"リード\",\"減速比\")","v":"リード"},4,{"$f":"IF(AE33=0,\"㎜\",\"：1\")","v":"㎜"},null,null,null,null,null,null,null,"⊿ｔ[s]",null,{"$f":"AT32-AT31","v":2.7265180183308957E-4},null,null,null,null,null,null,null,null,null,null,null,null,null,null,null,null,null,null,null,null,null,null,null,null,null,null,"(2+TKp)",{"$f":"(2+$N$8*$N$11)","v":2.0081795540549927}]
[null,null,null,null,null,null,null,null,null,null,null,"最終時刻[s]",null,{"$f":"AT3231","v":0.87248576586588666},null,null,null,null,null,null,null,null,null,null,null,null,null,null,null,null,null,null,null,null,null,null,null,null,null,null,"(2-TKp)",{"$f":"(2-$N$8*$N$11)","v":1.9918204459450073}]
["<d>","ストローク",100,{"$f":"IF(AE33=0,\"㎜\",\"deg\")","v":"㎜"},null,null,null,null,null,null,null,"最終位置[㎜]",null,{"$f":"AV3231","v":99.999903931711785},null,null,null,null,null,null,null,null,null,null,null,null,null,null,null,null,null,null,null,null,null,null,null,null,null,null,"減速時間",{"$f":"N6/N5","v":0.12236594555735139},"s"]
[null,null,null,null,null,null,null,null,null,null,null,"位置ｹﾞｲﾝ",null,{"$f":"AE45","v":30},null,null,null,null,null,null,null,null,null,null,null,null,null,null,null,null,null,null,null,null,null,null,null,null,null,null,"減速距離",{"$f":"N5*AP10*AP10/2","v":14.683913466882167},"㎜"]
["<e>","設置姿勢","水平",null,null,null,null,null,null,null,null,"速度制御帯域",null,{"$f":"AG45","v":120},null,null,null,null,null,null,null,null,null,null,null,null,null,null,null,null,null,null,null,null,null,null,null,null,null,null,"加速時間",{"$f":"N6/N4","v":0.12236594555735139},"s"]
[null,null,null,null,null,null,null,null,null,null,null,null,null,null,null,null,null,null,null,null,null,null,null,null,null,null,null,null,null,null,null,null,null,null,null,null,null,null,null,null,"加速距離",{"$f":"N4*AP12*AP12/2","v":14.683913466882167},"㎜"]
["<1>",{"$f":"IF(AE33=0,\"移動距離[㎜]\",\"移動距離[deg]\")","v":"移動距離[㎜]"},null,100,null,null,null,null,null,null,null,"移動可能距離[㎜]",null,{"$f":"X45+Y45","v":100},null,null,null,null,null,null,null,null,null,null,null,null,null,null,null,null,null,null,null,null,null,null,null,null,null,null,"等速時間",{"$f":"IF(D18<N3,(D14-AP13-AP11)/D18,0)","v":0.29430072110931532},"s"]
[null,null,null,null,null,null,null,null,null,null,null,null,null,null,null,null,null,null,null,null,null,null,null,null,null,null,null,null,null,null,null,null,null,null,null,null,null,null,null,null,"等速距離",{"$f":"AP14*N6","v":70.63217306623568},"㎜"]
["<2>",{"$f":"IF(AE33=0,\"搬送質量[kg]\",\"搬送ｲﾅｰｼｬ[kgm^2]\")","v":"搬送質量[kg]"},null,55,null,null,null,null,null,null,null,null,null,null,null,null,null,null,null,null,null,null,null,null,null,null,null,null,null,null,null,null,null,null,null,null,null,null,null,null,"減速時刻",{"$f":"AP12+AP14","v":0.41666666666666674},"s"]
[null,null,null,null,null,null,null,null,null,null,null,"型式","リード","ストローク","最高速度","加速度",null,null,null,"搬送負荷",null,"サーボゲイン",null,null,null,null,null,null,null,null,null,null,null,null,null,null,null,null,null,null,"減速位置",{"$f":"AP13+AP15","v":85.31608653311784},"㎜"]
["<3>",{"$f":"IF(AE33=0,\"速度[㎜/s]\",\"速度[deg/s]\")","v":"速度[㎜/s]"},null,240,null,null,"●計算結果",null,null,null,null,null,null,null,null,"定格(水平)","定格(垂直)","最大(水平)","最大(垂直)","可搬(水平)","可搬(垂直)","位置ゲイン","FFゲイン","速度制御帯域",null,null,null,null,null,null,null,null,null,null,null,null,null,null,null,null,"TotalTime",{"$f":"AP14+AP12+AP10","v":0.5390326122240181},"s"]
[null,null,null,null,null,null,null,null,null,null,null,{"$f":"X32","v":"ISB-SXM-60"},{"$f":"X39","v":4},{"$f":"X45","v":100},{"$f":"AD45","v":240},{"$f":"Z39/9.80665","v":0.2},{"$f":"AA39/9.80665","v":0.2},{"$f":"AB39/9.80665","v":0.5},{"$f":"AC39/9.80665","v":0.4},{"$f":"AB45","v":55},{"$f":"AC45","v":14},{"$f":"AE45","v":30},{"$f":"AF45","v":0},{"$f":"AG45","v":120},null,null,null,null,null,null,"運転姿勢","←初期値",null,null,null,null,null,null,null,null,"Spdτ",{"$f":"1/N12","v":8.3333333333333332E-3},"s"]
["<4>","加速度[G]",null,0.2,{"$f":"\"(1G=9806\" & IF(AE33=0,\"mm\",\"deg\") & \"/s^2)\"","v":"(1G=9806mm/s^2)"},null,"位置決め時間 [s]",null,{"$f":"LOOKUP((D14-D24),AV31:AV3231,AT31:AT3231)","v":0.64073173430776043},null,null,null,null,null,null,null,null,null,null,null,null,null,null,null,null,null,null,null,null,null,"水平","水平",null,null,null,null,null,null,null,null,"Posτ",{"$f":"1/N11","v":3.3333333333333333E-2},"s"]
[null,null,null,null,null,null,null,null,null,null,null,null,null,null,null,null,null,null,null,null,null,null,null,null,null,null,null,null,null,null,"垂直",null,null,null,null,null,null,null,null,null,"収束時間",{"$f":"I20-AP18","v":0.10169912208374232},"s"]
["<5>","減速度[G]",null,0.2]
[]
["<6>",{"$f":"IF(AE33=0,\"位置決め幅 [㎜]\",\"位置決め幅 [deg]\")","v":"位置決め幅 [㎜]"},null,0.1,null,{"$f":"IF(N9<=I20,\"位置決め時間を正しく計算できていません\",\"※位置決め幅に到達するまでの時間を表します。\")","v":"※位置決め幅に到達するまでの時間を表します。"}]
[null,null,null,null,null,{"$f":"IF(N10<=I21,\"\",\"※計算結果は参考値です。\n　 負荷状況により実際の位置決め時間とは異なる場合があります。\n※ゲイン調整により計算結果より早く位置決めできる場合があります。\n　 詳しくは使用するコントローラーの取扱説明書をご確認ください。\")","v":"※計算結果は参考値です。\n　 負荷状況により実際の位置決め時間とは異なる場合があります。\n※ゲイン調整により計算結果より早く位置決めできる場合があります。\n　 詳しくは使用するコントローラーの取扱説明書をご確認ください。"}]
[]
[]
[1,{"$f":"A28+1","v":2},3,4,5,6,7,8,9,10,11,12,13,14,15,{"$f":"O28+1","v":16},{"$f":"P28+1","v":17},{"$f":"Q28+1","v":18},{"$f":"R28+1","v":19},{"$f":"S28+1","v":20},21,22,23,24,25,26,27,28,29,30,31,32,33,34,35,36,37,38,39,40,41,42,43,44,45,46,47,48]
[null,null,null,null,null,null,null,null,null,null,null,null,null,null,"↓↓↓↓↓↓↓↓　フォント色を白にする列　O29～U193　↓↓↓↓↓↓↓↓",null,null,null,null,null,null,null,null,null,null,null,null,null,null,null,null,null,null,null,null,null,null,null,null,null,null,null,null,null,"↓↓↓↓↓↓↓↓↓↓↓↓↓↓↓　フォント色を白に、数式は非表示に、する列　AS29～BB3231　↓↓↓↓↓↓↓↓↓↓↓↓↓↓↓"]
[null,"可搬質量","加減速度","最高速度","実加速度","到達速度","運転時間","三角速度",null,null,null,null,null,null,"№","メカ型式リスト","絞込み","ﾀｲﾌﾟﾘｽﾄ","ﾘｰﾄﾞﾘｽﾄ","ｽﾄﾛｰｸﾘｽﾄ","型式総数",null,{"$f":"DataSerch!B1","v":"メカ機種データレコード"},null,null,null,null,null,null,null,null,null,null,null,null,null,null,null,null,null,null,null,null,null,"№","時刻","位置計画","位置"]
[{"$f":"A30+1","v":1},30,0.5,240,4903.3249999999998,240,0.4656130448896072,700.23745972348547,null,null,null,null,null,null,1,"ISB-SXM-60","ISB-SXM-60","ISB",4,100,229,null,"ﾚｺｰﾄﾞ№",{"$f":"DataSerch!$C$2","v":"ｱｸﾁｭｴｰﾀ型式"},null,{"$f":"DataSerch!$E$2","v":0},{"$f":"DataSerch!$F$2","v":0},{"$f":"DataSerch!$G$2","v":0},{"$f":"DataSerch!$H$2","v":"最小ｽﾄﾛｰｸ"},{"$f":"DataSerch!$I$2","v":"最大ｽﾄﾛｰｸ"},{"$f":"DataSerch!$J$2","v":"動作種別"},{"$f":"DataSerch!$K$2","v":0},null,null,null,null,null,null,null,null,null,null,null,null,0,{"$f":"$AP$18/$N$7*AS31","v":0},0,0]
[2,38,0.4,240,3922.66,240,0.47784963944534237,626.31142413339387,null,null,null,null,null,null,{"$f":"O31+1","v":2},"ISB-MXM-100","ISB-MXM-100","ISPB",8,150,"絞込み数",null,{"$f":"DataSerch!$B$3","v":1},{"$f":"DataSerch!$C$3","v":"ISB-SXM-60"},null,{"$f":"DataSerch!$E$4","v":"[kg]"},{"$f":"DataSerch!$F$4","v":"[mm]"},{"$f":"DataSerch!$G$4","v":"[mm]"},{"$f":"DataSerch!$H$4","v":"[mm]"},{"$f":"DataSerch!$I$4","v":"[mm]"},{"$f":"DataSerch!$J$4","v":"0/1"},{"$f":"DataSerch!$K$4","v":"[K]"},null,null,null,null,null,null,null,null,null,null,null,null,{"$f":"AS31+1","v":1},2.7265180183308957E-4,{"$f":"IF(($N$4*AT32^2/2)<=$AP$13,($N$4*AT32^2/2), IF(($AP$13+$N$6*(AT32-$AP$12))<=$AP$17, ($AP$13+$N$6*(AT32-$AP$12)), IF(AU31<$D$14, ($AP$17+($N$6-$N$5*(AT32-$AP$16)/2)*(AT32-$AP$16)), $D$14)))","v":7.2901660380327217E-5},{"$f":"( $AP$6*AU32 + $AP$7*AU31 + $AP$9*AV31 )/$AP$8","v":2.9693712924002597E-7}]
[3,50,0.3,240,2941.9949999999999,240,0.49824396370490093,542.40160397992929,null,null,null,null,null,null,3,"ISB-MXM-200","ISB-MXM-200","ISDB",16,200,24,null,null,null,null,null,null,null,{"$f":"DataSerch!$H$5","v":100},{"$f":"DataSerch!$I$5","v":900},{"$f":"DataSerch!$J$5","v":0},null,null,null,null,null,null,null,null,null,null,null,null,null,{"$f":"AS32+1","v":2},5.4530360366617913E-4,2.9160664152130887E-4,{"$f":"( $AP$6*AU33 + $AP$7*AU32 + $AP$9*AV32 )/$AP$8","v":1.7792038549859081E-6}]
[4,55,0.2,240,1961.33,240,0.5390326122240181,442.86905513932669,null,null,null,null,null,null,4,"ISB-LXM-200","ISB-LXM-200","SSP","- - -",250,null,null,null,null,null,null,null,null,null,null,null,null,null,null,null,null,null,null,null,null,null,null,null,null,3,8.179554054992687E-4,6.5611494342294498E-4,5.6248927174818981E-6]
[5,-1,-1,-1,-1,-1,-1,-1,null,null,null,null,null,null,5,"ISB-LXM-400","ISB-LXM-400","RCS3","- - -",300,"ﾘｰﾄﾞ総数",null,"リードデータレコード",null,null,null,null,null,null,null,null,null,null,null,null,null,null,null,null,null,null,null,null,null,4,1.0906072073323583E-3,1.1664265660852355E-3,1.3002499235037379E-5]
[6,-1,-1,-1,-1,-1,-1,-1,null,null,null,null,null,null,6,"ISB-SXL-60","ISB-SXL-60","RCS2","- - -",350,3,null,"リスト№",{"$f":"DataSerch!$F$24","v":"ﾘｰﾄﾞ長"},{"$f":"DataSerch!$G$24","v":0},{"$f":"DataSerch!$H$24","v":"水平定格加速度"},{"$f":"DataSerch!$I$24","v":"垂直定格加速度"},{"$f":"DataSerch!$J$24","v":"水平最大加速度"},{"$f":"DataSerch!$K$24","v":"垂直最大加速度"},{"$f":"DataSerch!$L$24","v":0},{"$f":"DataSerch!$M$24","v":0},{"$f":"DataSerch!$N$24","v":0},{"$f":"DataSerch!$O$24","v":"ｷﾞｱ比分子"},{"$f":"DataSerch!$P$24","v":"ｷﾞｱ比分母"},{"$f":"DataSerch!$Q$24","v":0},{"$f":"DataSerch!$R$24","v":"ｽﾄﾛｰｸ刻み"},{"$f":"DataSerch!$S$24","v":"位置決め幅\n初期値"},null,null,null,null,null,null,null,5,1.3632590091654478E-3,1.8225415095081804E-3,2.5071000083649322E-5]
[7,-1,-1,-1,-1,-1,-1,-1,null,null,null,null,null,null,7,"ISB-MXL-100","ISB-MXL-100","RCS4","- - -",400,null,null,null,null,null,null,null,null,null,null,null,null,null,null,null,null,null,null,null,null,null,null,null,null,6,1.6359108109985374E-3,2.6244597736917799E-3,4.2979930639754959E-5]
[8,-1,-1,-1,-1,-1,-1,-1,null,null,null,null,null,null,8,"ISB-MXL-200","ISB-MXL-200","EC","- - -",450,"ｽﾄﾛｰｸ総数",null,{"$f":"DataSerch!$D$35","v":1},{"$f":"DataSerch!$F$25","v":"[mm]"},{"$f":"DataSerch!$G$25","v":"[kgm^2]"},{"$f":"DataSerch!$H$25","v":"[m/s^2]"},{"$f":"DataSerch!$I$25","v":"[m/s^2]"},{"$f":"DataSerch!$J$25","v":"[m/s^2]"},{"$f":"DataSerch!$K$25","v":"[m/s^2]"},{"$f":"DataSerch!$L$25","v":"[Nm]"},{"$f":"DataSerch!$M$25","v":"[Nms]"},{"$f":"DataSerch!$N$25","v":"[Nm]"},{"$f":"DataSerch!$O$25","v":0},{"$f":"DataSerch!$P$25","v":0},{"$f":"DataSerch!$Q$25","v":0},{"$f":"DataSerch!$R$25","v":"[mm]"},{"$f":"DataSerch!$S$25","v":"[mm]"},null,null,null,null,null,null,null,7,1.908562612831627E-3,3.5721813586360334E-3,6.7869461891302736E-5]
[9,-1,-1,-1,-1,-1,-1,-1,null,null,null,null,null,null,9,"ISB-LXL-200","ISB-LXL-200","IFA",null,500,17,null,null,{"$f":"LOOKUP(W38,DataSerch!$B$26:$B$33,DataSerch!$F$26:$F$33)","v":4},null,{"$f":"LOOKUP(W38,DataSerch!$B$26:$B$33,DataSerch!$H$26:$H$33)","v":1.96133},{"$f":"LOOKUP(W38,DataSerch!$B$26:$B$33,DataSerch!$I$26:$I$33)","v":1.96133},{"$f":"LOOKUP(W38,DataSerch!$B$26:$B$33,DataSerch!$J$26:$J$33)","v":4.9033249999999997},{"$f":"LOOKUP(W38,DataSerch!$B$26:$B$33,DataSerch!$K$26:$K$33)","v":3.92266},null,null,null,{"$f":"LOOKUP(W38,DataSerch!$B$26:$B$33,DataSerch!$O$26:$O$33)","v":1},{"$f":"LOOKUP(W38,DataSerch!$B$26:$B$33,DataSerch!$P$26:$P$33)","v":1},null,{"$f":"LOOKUP(W38,DataSerch!$B$26:$B$33,DataSerch!$R$26:$R$33)","v":50},{"$f":"LOOKUP(W38,DataSerch!$B$26:$B$33,DataSerch!$S$26:$S$33)","v":0.1},null,null,null,null,null,null,null,8,2.1812144146647165E-3,4.6657062643409419E-3,1.0087047672228743E-4]
[10,-1,-1,-1,-1,-1,-1,-1,null,null,null,null,null,null,10,"ISB-LXL-400","ISB-LXL-400",null,null,550,null,null,null,null,null,null,null,null,null,null,null,null,null,null,null,null,null,null,null,null,null,null,null,null,9,2.4538662164978061E-3,5.9050344908065048E-3,1.4310464557585326E-4]
[11,-1,-1,-1,-1,-1,-1,-1,null,null,null,null,null,null,11,"ISDB-S-60","ISB-MXMX-200",null,null,600,null,null,"ストロークデータレコード",null,null,null,null,null,null,null,null,null,null,null,null,null,null,null,null,null,null,null,null,null,10,2.7265180183308957E-3,7.2901660380327218E-3,1.956845015010274E-4]
[12,-1,-1,-1,-1,-1,-1,-1,null,null,null,null,null,null,12,"ISDB-M-100","ISB-LXMX-200",null,null,650,null,null,"リスト№",{"$f":"DataSerch!$E$58","v":"ｽﾄﾛｰｸ長"},{"$f":"DataSerch!$G$58","v":"有効ｽﾄﾛｰｸ補正"},{"$f":"DataSerch!$H$58","v":0},{"$f":"DataSerch!$I$58","v":"基準ｹﾞｲﾝ用搬送質量"},{"$f":"DataSerch!$J$58","v":"水平可搬質量"},{"$f":"DataSerch!$K$58","v":"垂直可搬質量"},{"$f":"DataSerch!$L$58","v":"最大速度"},{"$f":"DataSerch!$M$58","v":"位置ｹﾞｲﾝ"},{"$f":"DataSerch!$N$58","v":"FFｹﾞｲﾝ"},{"$f":"DataSerch!$O$58","v":"速度制御帯域"},{"$f":"DataSerch!$P$58","v":0},{"$f":"DataSerch!$Q$58","v":0},{"$f":"DataSerch!$R$58","v":0},{"$f":"DataSerch!$S$58","v":0},{"$f":"DataSerch!$T$58","v":0},null,null,null,null,null,null,11,2.9991698201639852E-3,8.8211009060195945E-3,2.59713514588105E-4]
[13,-1,-1,-1,-1,-1,-1,-1,null,null,null,null,null,null,13,"ISDB-M-200","ISB-LXMX-400",null,null,700,null,null,null,null,null,null,null,null,null,null,null,null,null,null,null,null,null,null,null,null,null,null,null,null,12,3.2718216219970748E-3,1.049783909476712E-2,3.3628616579766584E-4]
[14,-1,-1,-1,-1,-1,-1,-1,null,null,null,null,null,null,14,"ISDB-L-200","ISB-LXUWX-200",null,null,750,null,null,{"$f":"MATCH(C10,DataSerch!$E$60:$E$109,0)","v":1},{"$f":"DataSerch!$E$59","v":"[mm]"},{"$f":"DataSerch!$G$59","v":"[mm]"},{"$f":"DataSerch!$H$59","v":"[kg/mm]"},{"$f":"DataSerch!$I$59","v":"[kg]"},{"$f":"DataSerch!$J$59","v":"[kg]"},{"$f":"DataSerch!$K$59","v":"[kg]"},{"$f":"DataSerch!$L$59","v":"[mm/s]"},{"$f":"DataSerch!$M$59","v":"[1/s]"},{"$f":"DataSerch!$N$59","v":"[%]"},{"$f":"DataSerch!$O$59","v":"[rad/s]"},{"$f":"DataSerch!$P$59","v":0},{"$f":"DataSerch!$Q$59","v":"[s]"},{"$f":"DataSerch!$R$59","v":0},{"$f":"DataSerch!$S$59","v":0},{"$f":"DataSerch!$T$59","v":"[Nm/rad]"},null,null,null,null,null,null,13,3.5444734238301643E-3,1.2320380604275299E-2,4.26488020188162E-4]
[15,-1,-1,-1,-1,-1,-1,-1,null,null,null,null,null,null,15,"ISDB-L-400","ISB-LXUWX-400",null,null,800,null,null,null,{"$f":"LOOKUP(W44,DataSerch!$D$60:$D$109,DataSerch!$E$60:$E$109)","v":100},{"$f":"LOOKUP(W44,DataSerch!$D$60:$D$109,DataSerch!$G$60:$G$109)","v":0},null,{"$f":"LOOKUP(W44,DataSerch!$D$60:$D$109,DataSerch!$I$60:$I$109)","v":55},{"$f":"LOOKUP(W44,DataSerch!$D$60:$D$109,DataSerch!$J$60:$J$109)","v":55},{"$f":"LOOKUP(W44,DataSerch!$D$60:$D$109,DataSerch!$K$60:$K$109)","v":14},{"$f":"LOOKUP(W44,DataSerch!$D$60:$D$109,DataSerch!$L$60:$L$109)","v":240},{"$f":"LOOKUP(W44,DataSerch!$D$60:$D$109,DataSerch!$M$60:$M$109)","v":30},{"$f":"LOOKUP(W44,DataSerch!$D$60:$D$109,DataSerch!$N$60:$N$109)","v":0},{"$f":"LOOKUP(W44,DataSerch!$D$60:$D$109,DataSerch!$O$60:$O$109)","v":120},null,null,null,null,null,null,null,null,null,null,null,14,3.8171252256632539E-3,1.4288725434544134E-2,5.3139579954697674E-4]
[16,-1,-1,-1,-1,-1,-1,-1,null,null,null,null,null,null,16,"ISDBCR-S-60","ISB-SXM-100",null,null,850,null,null,null,null,null,null,null,null,null,null,null,null,null,null,null,null,null,null,null,null,null,null,null,null,15,4.089777027496343E-3,1.6402873585573619E-2,6.5207745442981294E-4]
[17,-1,-1,-1,-1,-1,-1,-1,null,null,null,null,null,null,17,"ISDBCR-M-100","ISB-MXM-400",null,null,900,null,null,null,null,null,null,null,null,null,null,null,null,null,null,null,null,null,null,null,null,null,null,null,null,16,4.362428829329433E-3,1.8662825057363767E-2,7.8959223561323214E-4]
[18,-1,-1,-1,-1,-1,-1,-1,null,null,null,null,null,null,18,"ISDBCR-M-200","ISB-SXL-100",null,null,"- - -",null,null,null,null,null,null,null,null,null,null,null,null,null,null,null,null,null,null,null,null,null,null,null,null,17,4.635080631162523E-3,2.106857984991457E-2,9.4499076496512352E-4]
[19,-1,-1,-1,-1,-1,-1,-1,null,null,null,null,null,null,19,"ISDBCR-L-200","ISB-MXL-400",null,null,"- - -",null,null,null,null,null,null,null,null,null,null,null,null,null,null,null,null,null,null,null,null,null,null,null,null,18,4.9077324329956122E-3,2.3620137963226019E-2,1.1193151057378456E-3]
[20,-1,-1,-1,-1,-1,-1,-1,null,null,null,null,null,null,20,"ISDBCR-L-400","ISB-MXMX-400",null,null,"- - -","リンクリスト総数",null,null,null,null,null,null,null,null,null,null,null,null,null,null,null,null,null,null,null,null,null,null,null,19,5.1803842348287013E-3,2.6317499397298119E-2,1.3135988322887436E-3]
[21,-1,-1,-1,-1,-1,-1,-1,null,null,null,null,null,null,21,"SSPA-SXM-200","ISB-WXM-750",null,null,"- - -",4,null,null,null,null,null,null,null,null,null,null,null,null,null,null,null,null,null,null,null,null,null,null,null,20,5.4530360366617913E-3,2.9160664152130887E-2,1.528867099232706E-3]
[22,-1,-1,-1,-1,-1,-1,-1,null,null,null,null,null,null,22,"SSPA-MXM-400","ISB-WXMX-750",null,null,"- - -",null,null,null,null,null,null,null,null,null,null,null,null,null,null,null,null,null,null,null,null,null,null,null,null,21,5.7256878384948813E-3,3.2149632227724309E-2,1.7661367100313887E-3]
[23,-1,-1,-1,-1,-1,-1,-1,null,null,null,null,null,null,23,"SSPA-LXM-750","ISB-WXM-750-W",null,null,"- - -",null,null,null,null,null,null,null,null,null,null,null,null,null,null,null,null,null,null,null,null,null,null,null,null,22,5.9983396403279704E-3,3.5284403624078378E-2,2.0264161850236952E-3]
[24,-1,-1,-1,-1,-1,-1,-1,null,null,null,null,null,null,24,"SSPDACR-S-200","ISB-WXMX-750-W",null,null,"- - -",null,null,null,null,null,null,null,null,null,null,null,null,null,null,null,null,null,null,null,null,null,null,null,null,23,6.2709914421610596E-3,3.8564978341193094E-2,2.310705828902063E-3]
[25,-1,-1,-1,-1,-1,-1,-1,null,null,null,null,null,null,25,"SSPDACR-M-400","- - -",null,null,"- - -",null,null,null,null,null,null,null,null,null,null,null,null,null,null,null,null,null,null,null,null,null,null,null,null,24,6.5436432439941496E-3,4.1991356379068479E-2,2.6199977976390739E-3]
[26,-1,-1,-1,-1,-1,-1,-1,null,null,null,null,null,null,26,"SSPDACR-L-750","- - -",null,null,"- - -",null,null,null,null,null,null,null,null,null,null,null,null,null,null,null,null,null,null,null,null,null,null,null,null,25,6.8162950458272396E-3,4.556353773770451E-2,2.9552761648688631E-3]
[27,-1,-1,-1,-1,-1,-1,-1,null,null,null,null,null,null,27,"RCS3-SA8C-100","- - -",null,null,"- - -",null,null,null,null,null,null,null,null,null,null,null,null,null,null,null,null,null,null,null,null,null,null,null,null,26,7.0889468476603287E-3,4.9281522417101195E-2,3.3175169877277702E-3]
[28,-1,-1,-1,-1,-1,-1,-1,null,null,null,null,null,null,28,"RCS3-SA8C-150","- - -",null,null,"- - -",null,null,null,null,null,null,null,null,null,null,null,null,null,null,null,null,null,null,null,null,null,null,null,null,27,7.3615986494934178E-3,5.3145310417258534E-2,3.7076883721586353E-3]
[29,-1,-1,-1,-1,-1,-1,-1,null,null,null,null,null,null,29,"RCS3-SS8C-100","- - -",null,null,"- - -",null,null,null,null,null,null,null,null,null,null,null,null,null,null,null,null,null,null,null,null,null,null,null,null,28,7.6342504513265078E-3,5.7154901738176535E-2,4.1267505376831118E-3]
[30,-1,-1,-1,-1,-1,-1,-1,null,null,null,null,null,null,30,"RCS3-SS8C-150","- - -",null,null,"- - -",null,null,null,null,null,null,null,null,null,null,null,null,null,null,null,null,null,null,null,null,null,null,null,null,29,7.9069022531595978E-3,6.1310296379855189E-2,4.5756558816463294E-3]
[31,-1,-1,-1,-1,-1,-1,-1,null,null,null,null,null,null,31,"RCS3CR-SA8C-100","- - -",null,null,"- - -",null,null,null,null,null,null,null,null,null,null,null,null,null,null,null,null,null,null,null,null,null,null,null,null,30,8.1795540549926861E-3,6.5611494342294477E-2,5.0553490429382049E-3]
[32,-1,-1,-1,-1,-1,-1,-1,null,null,null,null,null,null,32,"RCS3CR-SA8C-150","- - -",null,null,"- - -",null,null,null,null,null,null,null,null,null,null,null,null,null,null,null,null,null,null,null,null,null,null,null,null,31,8.4522058568257761E-3,7.0058495625494446E-2,5.5667669651956603E-3]
[33,-1,-1,-1,-1,-1,-1,-1,null,null,null,null,null,null,33,"RCS3CR-SS8C-100","- - -",null,null,"- - -",null,null,null,null,null,null,null,null,null,null,null,null,null,null,null,null,null,null,null,null,null,null,null,null,32,8.7248576586588661E-3,7.465130022945507E-2,6.1108389594899835E-3]
[34,-1,-1,-1,-1,-1,-1,-1,null,null,null,null,null,null,34,"RCS3CR-SS8C-150","- - -",null,null,"- - -",null,null,null,null,null,null,null,null,null,null,null,null,null,null,null,null,null,null,null,null,null,null,null,null,33,8.9975094604919561E-3,7.9389908154176347E-2,6.6884867665035251E-3]
[35,-1,-1,-1,-1,-1,-1,-1,null,null,null,null,null,null,35,"RCS3-SA8R-100","- - -",null,null,"- - -",null,null,null,null,null,null,null,null,null,null,null,null,null,null,null,null,null,null,null,null,null,null,null,null,34,9.2701612623250461E-3,8.4274319399658279E-2,7.3006246181998849E-3]
[36,-1,-1,-1,-1,-1,-1,-1,null,null,null,null,null,null,36,"RCS3-SA8R-150","- - -",null,null,"- - -",null,null,null,null,null,null,null,null,null,null,null,null,null,null,null,null,null,null,null,null,null,null,null,null,35,9.5428130641581344E-3,8.9304533965900823E-2,7.9481592989917183E-3]
[37,-1,-1,-1,-1,-1,-1,-1,null,null,null,null,null,null,37,"RCS3-SS8R-100","- - -",null,null,"- - -",null,null,null,null,null,null,null,null,null,null,null,null,null,null,null,null,null,null,null,null,null,null,null,null,36,9.8154648659912243E-3,9.4480551852904077E-2,8.6319902064102613E-3]
[38,-1,-1,-1,-1,-1,-1,-1,null,null,null,null,null,null,38,"RCS3-SS8R-150","- - -",null,null,"- - -",null,null,null,null,null,null,null,null,null,null,null,null,null,null,null,null,null,null,null,null,null,null,null,null,37,1.0088116667824314E-2,9.980237306066797E-2,9.3530094112806213E-3]
[39,-1,-1,-1,-1,-1,-1,-1,null,null,null,null,null,null,39,"RCS2-SA4C-20","- - -",null,null,"- - -",null,null,null,null,null,null,null,null,null,null,null,null,null,null,null,null,null,null,null,null,null,null,null,null,38,1.0360768469657403E-2,0.10526999758919248,1.0112101717406867E-2]
[40,-1,-1,-1,-1,-1,-1,-1,null,null,null,null,null,null,40,"RCS2-SA5C-20","- - -",null,null,"- - -",null,null,null,null,null,null,null,null,null,null,null,null,null,null,null,null,null,null,null,null,null,null,null,null,39,1.0633420271490493E-2,0.11088342543847769,1.0910144720770905E-2]
[41,-1,-1,-1,-1,-1,-1,-1,null,null,null,null,null,null,41,"RCS2-SA6C-30","- - -",null,null,"- - -",null,null,null,null,null,null,null,null,null,null,null,null,null,null,null,null,null,null,null,null,null,null,null,null,40,1.0906072073323583E-2,0.11664265660852355,1.1748008868249119E-2]
[42,-1,-1,-1,-1,-1,-1,-1,null,null,null,null,null,null,42,"RCS2-SA7C-60","- - -",null,null,"- - -",null,null,null,null,null,null,null,null,null,null,null,null,null,null,null,null,null,null,null,null,null,null,null,null,41,1.1178723875156673E-2,0.12254769109933004,1.2626557515850685E-2]
[43,-1,-1,-1,-1,-1,-1,-1,null,null,null,null,null,null,43,"RCS2-SS7C-60","- - -",null,null,"- - -",null,null,null,null,null,null,null,null,null,null,null,null,null,null,null,null,null,null,null,null,null,null,null,null,42,1.1451375676989763E-2,0.12859852891089724,1.3546646986481451E-2]
[44,-1,-1,-1,-1,-1,-1,-1,null,null,null,null,null,null,44,"RCS2CR-SA4C-20","- - -",null,null,"- - -",null,null,null,null,null,null,null,null,null,null,null,null,null,null,null,null,null,null,null,null,null,null,null,null,43,1.1724027478822851E-2,0.13479517004322503,1.4509126627237282E-2]
[45,-1,-1,-1,-1,-1,-1,-1,null,null,null,null,null,null,45,"RCS2CR-SA5C-20","- - -",null,null,"- - -",null,null,null,null,null,null,null,null,null,null,null,null,null,null,null,null,null,null,null,null,null,null,null,null,44,1.1996679280655941E-2,0.14113761449631351,1.5514838866230656E-2]
[46,-1,-1,-1,-1,-1,-1,-1,null,null,null,null,null,null,46,"RCS2CR-SA6C-30","- - -",null,null,"- - -",null,null,null,null,null,null,null,null,null,null,null,null,null,null,null,null,null,null,null,null,null,null,null,null,45,1.2269331082489031E-2,0.14762586227016264,1.6564619268954354E-2]
[47,-1,-1,-1,-1,-1,-1,-1,null,null,null,null,null,null,47,"RCS2CR-SA7C-60","- - -",null,null,"- - -",null,null,null,null,null,null,null,null,null,null,null,null,null,null,null,null,null,null,null,null,null,null,null,null,46,1.2541982884322119E-2,0.15425991336477238,1.7659296594185987E-2]
[48,-1,-1,-1,-1,-1,-1,-1,null,null,null,null,null,null,48,"RCS2CR-SS7C-60","- - -",null,null,"- - -",null,null,null,null,null,null,null,null,null,null,null,null,null,null,null,null,null,null,null,null,null,null,null,null,47,1.2814634686155209E-2,0.16103976778014281,1.8799692849437121E-2]
[49,-1,-1,-1,-1,-1,-1,-1,null,null,null,null,null,null,49,"RCS2-SA4D-20","- - -",null,null,"- - -",null,null,null,null,null,null,null,null,null,null,null,null,null,null,null,null,null,null,null,null,null,null,null,null,48,1.3087286487988299E-2,0.16796542551627391,1.9986623345950694E-2]
[50,-1,-1,-1,-1,-1,-1,-1,null,null,null,null,null,null,50,"RCS2-SA5D-20","- - -",null,null,"- - -",null,null,null,null,null,null,null,null,null,null,null,null,null,null,null,null,null,null,null,null,null,null,null,null,49,1.3359938289821389E-2,0.17503688657316563,2.1220896753250406E-2]
[51,-1,-1,-1,-1,-1,-1,-1,null,null,null,null,null,null,51,"RCS2-SA6D-30","- - -",null,null,null,null,null,null,null,null,null,null,null,null,null,null,null,null,null,null,null,null,null,null,null,null,null,null,null,50,1.3632590091654479E-2,0.18225415095081804,2.2503315153245756E-2]
[52,-1,-1,-1,-1,-1,-1,-1,null,null,null,null,null,null,52,"RCS2CR-SA5D-20","- - -",null,null,null,null,null,null,null,null,null,null,null,null,null,null,null,null,null,null,null,null,null,null,null,null,null,null,null,51,1.3905241893487567E-2,0.18961721864923109,2.3834674093896301E-2]
[53,-1,-1,-1,-1,-1,-1,-1,null,null,null,null,null,null,53,"RCS2CR-SA6D-30","- - -",null,null,null,null,null,null,null,null,null,null,null,null,null,null,null,null,null,null,null,null,null,null,null,null,null,null,null,52,1.4177893695320657E-2,0.19712608966840478,2.5215762642438775E-2]
[54,-1,-1,-1,-1,-1,-1,-1,null,null,null,null,null,null,54,"RCS2-SA4R-20","- - -",null,null,null,null,null,null,null,null,null,null,null,null,null,null,null,null,null,null,null,null,null,null,null,null,null,null,null,53,1.4450545497153747E-2,0.20478076400833914,2.6647363438180589E-2]
[55,-1,-1,-1,-1,-1,-1,-1,null,null,null,null,null,null,55,"RCS2-SA5R-20","- - -",null,null,null,null,null,null,null,null,null,null,null,null,null,null,null,null,null,null,null,null,null,null,null,null,null,null,null,54,1.4723197298986836E-2,0.21258124166903414,2.8130252744863284E-2]
[56,-1,-1,-1,-1,-1,-1,-1,null,null,null,null,null,null,56,"RCS2-SA6R-30","- - -",null,null,null,null,null,null,null,null,null,null,null,null,null,null,null,null,null,null,null,null,null,null,null,null,null,null,null,55,1.4995849100819926E-2,0.2205275226504898,2.9665200502599388E-2]
[57,-1,-1,-1,-1,-1,-1,-1,null,null,null,null,null,null,57,"RCS2-SA7R-60","- - -",null,null,null,null,null,null,null,null,null,null,null,null,null,null,null,null,null,null,null,null,null,null,null,null,null,null,null,56,1.5268500902653016E-2,0.22861960695270614,3.1252970379386222E-2]
[58,-1,-1,-1,-1,-1,-1,-1,null,null,null,null,null,null,58,"RCS2-SS7R-60","- - -",null,null,null,null,null,null,null,null,null,null,null,null,null,null,null,null,null,null,null,null,null,null,null,null,null,null,null,57,1.5541152704486106E-2,0.23685749457568314,3.2894319822200022E-2]
[59,-1,-1,-1,-1,-1,-1,-1,null,null,null,null,null,null,59,"RCS2-RA4C-20","- - -",null,null,null,null,null,null,null,null,null,null,null,null,null,null,null,null,null,null,null,null,null,null,null,null,null,null,null,58,1.5813804506319196E-2,0.24524118551942076,3.4590000107673873E-2]
[60,-1,-1,-1,-1,-1,-1,-1,null,null,null,null,null,null,60,"RCS2-RA4C-30","- - -",null,null,null,null,null,null,null,null,null,null,null,null,null,null,null,null,null,null,null,null,null,null,null,null,null,null,null,59,1.6086456308152284E-2,0.25377067978391904,3.6340756392362776E-2]
[61,-1,-1,-1,-1,-1,-1,-1,null,null,null,null,null,null,61,"RCS2-RA5C-60","- - -",null,null,null,null,null,null,null,null,null,null,null,null,null,null,null,null,null,null,null,null,null,null,null,null,null,null,null,60,1.6359108109985372E-2,0.26244597736917791,3.8147327762599284E-2]
[62,-1,-1,-1,-1,-1,-1,-1,null,null,null,null,null,null,62,"RCS2-RA5C-100","- - -",null,null,null,null,null,null,null,null,null,null,null,null,null,null,null,null,null,null,null,null,null,null,null,null,null,null,null,61,1.6631759911818464E-2,0.27126707827519758,4.0010447283942957E-2]
[63,-1,-1,-1,-1,-1,-1,-1,null,null,null,null,null,null,63,"ISB-MXMX-200","- - -",null,null,null,null,null,null,null,null,null,null,null,null,null,null,null,null,null,null,null,null,null,null,null,null,null,null,null,62,1.6904411713651552E-2,0.28023398250197779,4.1930842050226999E-2]
[64,-1,-1,-1,-1,-1,-1,-1,null,null,null,null,null,null,64,"ISB-LXMX-200","- - -",null,null,null,null,null,null,null,null,null,null,null,null,null,null,null,null,null,null,null,null,null,null,null,null,null,null,null,63,1.7177063515484644E-2,0.28934669004951874,4.3909233232205379E-2]
[{"$f":"A94+1","v":65},-1,-1,-1,-1,-1,-1,-1,null,null,null,null,null,null,65,"ISB-LXMX-400","- - -",null,null,null,null,null,null,null,null,null,null,null,null,null,null,null,null,null,null,null,null,null,null,null,null,null,null,null,64,{"$f":"$AP$18/$N$7*AS95","v":1.7449715317317732E-2},0.29860520091782028,4.594633612580365E-2]
[66,-1,-1,-1,-1,-1,-1,-1,null,null,null,null,null,null,{"$f":"O95+1","v":66},"ISB-LXUWX-200","- - -",null,null,null,null,null,null,null,null,null,null,null,null,null,null,null,null,null,null,null,null,null,null,null,null,null,null,null,65,1.772236711915082E-2,{"$f":"IF(($N$4*AT96^2/2)<=$AP$13,($N$4*AT96^2/2), IF(($AP$13+$N$6*(AT96-$AP$12))<=$AP$17, ($AP$13+$N$6*(AT96-$AP$12)), IF(AU95<$D$14, ($AP$17+($N$6-$N$5*(AT96-$AP$16)/2)*(AT96-$AP$16)), $D$14)))","v":0.30800951510688246},4.8042860199976674E-2]
[67,-1,-1,-1,-1,-1,-1,-1,null,null,null,null,null,null,67,"ISB-LXUWX-400","- - -",null,null,null,null,null,null,null,null,null,null,null,null,null,null,null,null,null,null,null,null,null,null,null,null,null,null,null,{"$f":"AS96+1","v":66},1.7995018920983912E-2,0.31755963261670539,{"$f":"( $AP$6*AU97 + $AP$7*AU96 + $AP$9*AV96 )/$AP$8","v":5.0199509144176542E-2}]
[68,-1,-1,-1,-1,-1,-1,-1,null,null,null,null,null,null,68,"ISDB-MX-200","- - -",null,null,null,null,null,null,null,null,null,null,null,null,null,null,null,null,null,null,null,null,null,null,null,null,null,null,null,67,1.8267670722817E-2,0.32725555344728885,5.2416980915433752E-2]
[69,-1,-1,-1,-1,-1,-1,-1,null,null,null,null,null,null,69,"ISDB-LX-200","- - -",null,null,null,null,null,null,null,null,null,null,null,null,null,null,null,null,null,null,null,null,null,null,null,null,null,null,null,68,1.8540322524650092E-2,0.33709727759863312,5.469596778505486E-2]
[70,-1,-1,-1,-1,-1,-1,-1,null,null,null,null,null,null,70,"ISDB-LX-400","- - -",null,null,null,null,null,null,null,null,null,null,null,null,null,null,null,null,null,null,null,null,null,null,null,null,null,null,null,69,1.881297432648318E-2,0.34708480507073786,5.7037156384939808E-2]
[71,-1,-1,-1,-1,-1,-1,-1,null,null,null,null,null,null,71,"ISDBCR-MX-200","- - -",null,null,null,null,null,null,null,null,null,null,null,null,null,null,null,null,null,null,null,null,null,null,null,null,null,null,null,70,1.9085626128316269E-2,0.35721813586360329,5.9441227753521814E-2]
[72,-1,-1,-1,-1,-1,-1,-1,null,null,null,null,null,null,72,"ISDBCR-LX-200","- - -",null,null,null,null,null,null,null,null,null,null,null,null,null,null,null,null,null,null,null,null,null,null,null,null,null,null,null,71,1.935827793014936E-2,0.36749726997722953,6.1908857381333088E-2]
[73,-1,-1,-1,-1,-1,-1,-1,null,null,null,null,null,null,73,"ISDBCR-LX-400","- - -",null,null,null,null,null,null,null,null,null,null,null,null,null,null,null,null,null,null,null,null,null,null,null,null,null,null,null,72,1.9630929731982449E-2,0.37792220741161631,6.4440715256199363E-2]
[74,-1,-1,-1,-1,-1,-1,-1,null,null,null,null,null,null,74,"ISB-SXM-100","- - -",null,null,null,null,null,null,null,null,null,null,null,null,null,null,null,null,null,null,null,null,null,null,null,null,null,null,null,73,1.9903581533815537E-2,0.38849294816676372,6.7037465908066238E-2]
[75,-1,-1,-1,-1,-1,-1,-1,null,null,null,null,null,null,75,"ISB-MXM-400","- - -",null,null,null,null,null,null,null,null,null,null,null,null,null,null,null,null,null,null,null,null,null,null,null,null,null,null,null,74,2.0176233335648629E-2,0.39920949224267188,6.969976845346039E-2]
[76,-1,-1,-1,-1,-1,-1,-1,null,null,null,null,null,null,76,"ISB-SXL-100","- - -",null,null,null,null,null,null,null,null,null,null,null,null,null,null,null,null,null,null,null,null,null,null,null,null,null,null,null,75,2.0448885137481717E-2,0.41007183963934057,7.2428276639588562E-2]
[77,-1,-1,-1,-1,-1,-1,-1,null,null,null,null,null,null,77,"ISB-MXL-400","- - -",null,null,null,null,null,null,null,null,null,null,null,null,null,null,null,null,null,null,null,null,null,null,null,null,null,null,null,76,2.0721536939314805E-2,0.42107999035676991,7.5223638888077329E-2]
[78,-1,-1,-1,-1,-1,-1,-1,null,null,null,null,null,null,78,"ISDB-S-100","- - -",null,null,null,null,null,null,null,null,null,null,null,null,null,null,null,null,null,null,null,null,null,null,null,null,null,null,null,77,2.0994188741147897E-2,0.4322339443949601,7.8086498338356486E-2]
[79,-1,-1,-1,-1,-1,-1,-1,null,null,null,null,null,null,79,"ISDB-M-400","- - -",null,null,null,null,null,null,null,null,null,null,null,null,null,null,null,null,null,null,null,null,null,null,null,null,null,null,null,78,2.1266840542980985E-2,0.44353370175391077,8.1017492890689144E-2]
[80,-1,-1,-1,-1,-1,-1,-1,null,null,null,null,null,null,80,"ISB-MXMX-400","- - -",null,null,null,null,null,null,null,null,null,null,null,null,null,null,null,null,null,null,null,null,null,null,null,null,null,null,null,79,2.1539492344814077E-2,0.45497926243362224,8.4017255248851216E-2]
[81,-1,-1,-1,-1,-1,-1,-1,null,null,null,null,null,null,81,"ISDB-MX-400","- - -",null,null,null,null,null,null,null,null,null,null,null,null,null,null,null,null,null,null,null,null,null,null,null,null,null,null,null,80,2.1812144146647165E-2,0.46657062643409419,8.7086412962463222E-2]
[82,-1,-1,-1,-1,-1,-1,-1,null,null,null,null,null,null,82,"RCS4-RA4C-60","- - -",null,null,null,null,null,null,null,null,null,null,null,null,null,null,null,null,null,null,null,null,null,null,null,null,null,null,null,81,2.2084795948480253E-2,0.47830779375532678,9.0225588468977255E-2]
[83,-1,-1,-1,-1,-1,-1,-1,null,null,null,null,null,null,83,"RCS4-RA6C-100","- - -",null,null,null,null,null,null,null,null,null,null,null,null,null,null,null,null,null,null,null,null,null,null,null,null,null,null,null,82,2.2357447750313345E-2,0.49019076439732018,9.3435399135321937E-2]
[84,-1,-1,-1,-1,-1,-1,-1,null,null,null,null,null,null,84,"RCS4-RA7C-200","- - -",null,null,null,null,null,null,null,null,null,null,null,null,null,null,null,null,null,null,null,null,null,null,null,null,null,null,null,83,2.2630099552146433E-2,0.50221953836007416,9.6716457299208108E-2]
[85,-1,-1,-1,-1,-1,-1,-1,null,null,null,null,null,null,85,"RCS4-RA8C-400","- - -",null,null,null,null,null,null,null,null,null,null,null,null,null,null,null,null,null,null,null,null,null,null,null,null,null,null,null,84,2.2902751353979525E-2,0.51439411564358895,0.10006937031009801]
[86,-1,-1,-1,-1,-1,-1,-1,null,null,null,null,null,null,86,"RCS4-SA4C-60","- - -",null,null,null,null,null,null,null,null,null,null,null,null,null,null,null,null,null,null,null,null,null,null,null,null,null,null,null,85,2.3175403155812613E-2,0.52671449624786415,0.10349474056984077]
[87,-1,-1,-1,-1,-1,-1,-1,null,null,null,null,null,null,87,"RCS4-SA6C-100","- - -",null,null,null,null,null,null,null,null,null,null,null,null,null,null,null,null,null,null,null,null,null,null,null,null,null,null,null,86,2.3448054957645702E-2,0.53918068017290011,0.10699316557297688]
[88,-1,-1,-1,-1,-1,-1,-1,null,null,null,null,null,null,88,"RCS4-SA7C-200","- - -",null,null,null,null,null,null,null,null,null,null,null,null,null,null,null,null,null,null,null,null,null,null,null,null,null,null,null,87,2.3720706759478793E-2,0.55179266741869681,0.11056523794671416]
[89,-1,-1,-1,-1,-1,-1,-1,null,null,null,null,null,null,89,"RCS4-SA8C-400","- - -",null,null,null,null,null,null,null,null,null,null,null,null,null,null,null,null,null,null,null,null,null,null,null,null,null,null,null,88,2.3993358561311882E-2,0.56455045798525405,0.11421154549057834]
[90,-1,-1,-1,-1,-1,-1,-1,null,null,null,null,null,null,90,"RCS4-WSA10C-60","- - -",null,null,null,null,null,null,null,null,null,null,null,null,null,null,null,null,null,null,null,null,null,null,null,null,null,null,null,89,2.426601036314497E-2,0.57745405187257182,0.11793267121574046]
[91,-1,-1,-1,-1,-1,-1,-1,null,null,null,null,null,null,91,"RCS4-WSA12C-100","- - -",null,null,null,null,null,null,null,null,null,null,null,null,null,null,null,null,null,null,null,null,null,null,null,null,null,null,null,90,2.4538662164978062E-2,0.59050344908065056,0.12172919338402392]
[92,-1,-1,-1,-1,-1,-1,-1,null,null,null,null,null,null,92,"RCS4-WSA14C-200","- - -",null,null,null,null,null,null,null,null,null,null,null,null,null,null,null,null,null,null,null,null,null,null,null,null,null,null,null,91,2.481131396681115E-2,0.6036986496094896,0.12560168554659384]
[93,-1,-1,-1,-1,-1,-1,-1,null,null,null,null,null,null,93,"RCS4-WSA16C-400","- - -",null,null,null,null,null,null,null,null,null,null,null,null,null,null,null,null,null,null,null,null,null,null,null,null,null,null,null,92,2.5083965768644238E-2,0.61703965345908951,0.12955071658233119]
[94,-1,-1,-1,-1,-1,-1,-1,null,null,null,null,null,null,94,"RCS4-TA4C(SB)-60","- - -",null,null,null,null,null,null,null,null,null,null,null,null,null,null,null,null,null,null,null,null,null,null,null,null,null,null,null,93,2.535661757047733E-2,0.63052646062945017,0.13357685073589429]
[95,-1,-1,-1,-1,-1,-1,-1,null,null,null,null,null,null,95,"RCS4-TA6C(SB)-100","- - -",null,null,null,null,null,null,null,null,null,null,null,null,null,null,null,null,null,null,null,null,null,null,null,null,null,null,null,94,2.5629269372310418E-2,0.64415907112057125,0.13768064765547036]
[96,-1,-1,-1,-1,-1,-1,-1,null,null,null,null,null,null,96,"RCS4-TA7C(SB)-200","- - -",null,null,null,null,null,null,null,null,null,null,null,null,null,null,null,null,null,null,null,null,null,null,null,null,null,null,null,95,2.590192117414351E-2,0.65793748493245319,0.14186266243021939]
[97,-1,-1,-1,-1,-1,-1,-1,null,null,null,null,null,null,97,"RCS4-TA4C(DB)-60","- - -",null,null,null,null,null,null,null,null,null,null,null,null,null,null,null,null,null,null,null,null,null,null,null,null,null,null,null,96,2.6174572975976598E-2,0.67186170206509566,0.14612344562741308]
[98,-1,-1,-1,-1,-1,-1,-1,null,null,null,null,null,null,98,"RCS4-TA6C(DB)-100","- - -",null,null,null,null,null,null,null,null,null,null,null,null,null,null,null,null,null,null,null,null,null,null,null,null,null,null,null,97,2.6447224777809687E-2,0.68593172251849865,0.15046354332927128]
[99,-1,-1,-1,-1,-1,-1,-1,null,null,null,null,null,null,99,"RCS4-TA7C(DB)-200","- - -",null,null,null,null,null,null,null,null,null,null,null,null,null,null,null,null,null,null,null,null,null,null,null,null,null,null,null,98,2.6719876579642778E-2,0.70014754629266251,0.15488349716949823]
[100,-1,-1,-1,-1,-1,-1,-1,null,null,null,null,null,null,100,"RCS4-RRA4C-60","- - -",null,null,null,null,null,null,null,null,null,null,null,null,null,null,null,null,null,null,null,null,null,null,null,null,null,null,null,99,2.6992528381475867E-2,0.71450917338758702,0.15938384436952122]
[101,-1,-1,-1,-1,-1,-1,-1,null,null,null,null,null,null,101,"RCS4-RRA6C-100","- - -",null,null,null,null,null,null,null,null,null,null,null,null,null,null,null,null,null,null,null,null,null,null,null,null,null,null,null,100,2.7265180183308958E-2,0.72901660380327216,0.16396511777443404]
[102,-1,-1,-1,-1,-1,-1,-1,null,null,null,null,null,null,102,"RCS4-RRA7C-200","- - -",null,null,null,null,null,null,null,null,null,null,null,null,null,null,null,null,null,null,null,null,null,null,null,null,null,null,null,{"$f":"AS131+1","v":101},2.7537831985142047E-2,0.74366983753971794,0.16862784588864774]
[103,-1,-1,-1,-1,-1,-1,-1,null,null,null,null,null,null,103,"RCS4-RRA8C-400","- - -",null,null,null,null,null,null,null,null,null,null,null,null,null,null,null,null,null,null,null,null,null,null,null,null,null,null,null,102,2.7810483786975135E-2,0.75846887459692436,0.1733725529112507]
[104,-1,-1,-1,-1,-1,-1,-1,null,null,null,null,null,null,104,"RCS4-WRA10C-60","- - -",null,null,null,null,null,null,null,null,null,null,null,null,null,null,null,null,null,null,null,null,null,null,null,null,null,null,null,103,2.8083135588808227E-2,0.77341371497489142,0.17819975877108093]
[105,-1,-1,-1,-1,-1,-1,-1,null,null,null,null,null,null,105,"RCS4-WRA12C-100","- - -",null,null,null,null,null,null,null,null,null,null,null,null,null,null,null,null,null,null,null,null,null,null,null,null,null,null,null,104,2.8355787390641315E-2,0.78850435867361912,0.1831099791615125]
[106,-1,-1,-1,-1,-1,-1,-1,null,null,null,null,null,null,106,"RCS4-WRA14C-200","- - -",null,null,null,null,null,null,null,null,null,null,null,null,null,null,null,null,null,null,null,null,null,null,null,null,null,null,null,105,2.8628439192474403E-2,0.80374080569310757,0.18810372557495864]
[107,-1,-1,-1,-1,-1,-1,-1,null,null,null,null,null,null,107,"RCS4-WRA16C-400","- - -",null,null,null,null,null,null,null,null,null,null,null,null,null,null,null,null,null,null,null,null,null,null,null,null,null,null,null,106,2.8901090994307495E-2,0.81912305603335656,0.19318150533709377]
[108,-1,-1,-1,-1,-1,-1,-1,null,null,null,null,null,null,108,"RCS4-RA4R-60","- - -",null,null,null,null,null,null,null,null,null,null,null,null,null,null,null,null,null,null,null,null,null,null,null,null,null,null,null,107,2.9173742796140583E-2,0.83465110969436629,0.19834382164079675]
[109,-1,-1,-1,-1,-1,-1,-1,null,null,null,null,null,null,109,"RCS4-RA6R-100","- - -",null,null,null,null,null,null,null,null,null,null,null,null,null,null,null,null,null,null,null,null,null,null,null,null,null,null,null,108,2.9446394597973671E-2,0.85032496667613655,0.20359117357981762]
[110,-1,-1,-1,-1,-1,-1,-1,null,null,null,null,null,null,110,"RCS4-RA7R-200","- - -",null,null,null,null,null,null,null,null,null,null,null,null,null,null,null,null,null,null,null,null,null,null,null,null,null,null,null,109,2.9719046399806763E-2,0.86614462697866768,0.20892405618217005]
[111,-1,-1,-1,-1,-1,-1,-1,null,null,null,null,null,null,111,"RCS4-RA8R-400","- - -",null,null,null,null,null,null,null,null,null,null,null,null,null,null,null,null,null,null,null,null,null,null,null,null,null,null,null,110,2.9991698201639851E-2,0.88211009060195922,0.21434296044325182]
[112,-1,-1,-1,-1,-1,-1,-1,null,null,null,null,null,null,112,"RCS4-SA4R-60","- - -",null,null,null,null,null,null,null,null,null,null,null,null,null,null,null,null,null,null,null,null,null,null,null,null,null,null,null,111,3.0264350003472943E-2,0.89822135754601173,0.21984837335869548]
[113,-1,-1,-1,-1,-1,-1,-1,null,null,null,null,null,null,113,"RCS4-SA6R-100","- - -",null,null,null,null,null,null,null,null,null,null,null,null,null,null,null,null,null,null,null,null,null,null,null,null,null,null,null,112,3.0537001805306031E-2,0.91447842781082456,0.22544077795695133]
[114,-1,-1,-1,-1,-1,-1,-1,null,null,null,null,null,null,114,"RCS4-SA7R-200","- - -",null,null,null,null,null,null,null,null,null,null,null,null,null,null,null,null,null,null,null,null,null,null,null,null,null,null,null,113,3.080965360713912E-2,0.93088130139639813,0.23112065333160511]
[115,-1,-1,-1,-1,-1,-1,-1,null,null,null,null,null,null,115,"RCS4-SA8R-400","- - -",null,null,null,null,null,null,null,null,null,null,null,null,null,null,null,null,null,null,null,null,null,null,null,null,null,null,null,114,3.1082305408972211E-2,0.94742997830273257,0.2368884746734323]
[116,-1,-1,-1,-1,-1,-1,-1,null,null,null,null,null,null,116,"RCS4-WSA10R-60","- - -",null,null,null,null,null,null,null,null,null,null,null,null,null,null,null,null,null,null,null,null,null,null,null,null,null,null,null,115,3.13549572108053E-2,0.96412445852982731,0.24274471330219127]
[117,-1,-1,-1,-1,-1,-1,-1,null,null,null,null,null,null,117,"RCS4-WSA12R-100","- - -",null,null,null,null,null,null,null,null,null,null,null,null,null,null,null,null,null,null,null,null,null,null,null,null,null,null,null,116,3.1627609012638391E-2,0.98096474207768303,0.24868983669815767]
[118,-1,-1,-1,-1,-1,-1,-1,null,null,null,null,null,null,118,"RCS4-WSA14R-200","- - -",null,null,null,null,null,null,null,null,null,null,null,null,null,null,null,null,null,null,null,null,null,null,null,null,null,null,null,117,3.1900260814471476E-2,0.99795082894629916,0.25472430853340156]
[119,-1,-1,-1,-1,-1,-1,-1,null,null,null,null,null,null,119,"RCS4-WSA16R-400","- - -",null,null,null,null,null,null,null,null,null,null,null,null,null,null,null,null,null,null,null,null,null,null,null,null,null,null,null,118,3.2172912616304568E-2,1.0150827191356762,0.2608485887028103]
[120,-1,-1,-1,-1,-1,-1,-1,null,null,null,null,null,null,120,"RCS4-TA4R(SB)-60","- - -",null,null,null,null,null,null,null,null,null,null,null,null,null,null,null,null,null,null,null,null,null,null,null,null,null,null,null,119,3.244556441813766E-2,1.0323604126458139,0.26706313335485793]
[121,-1,-1,-1,-1,-1,-1,-1,null,null,null,null,null,null,121,"RCS4-TA6R(SB)-100","- - -",null,null,null,null,null,null,null,null,null,null,null,null,null,null,null,null,null,null,null,null,null,null,null,null,null,null,null,120,3.2718216219970744E-2,1.0497839094767116,0.27336839492212467]
[122,-1,-1,-1,-1,-1,-1,-1,null,null,null,null,null,null,122,"RCS4-TA7R(SB)-200","- - -",null,null,null,null,null,null,null,null,null,null,null,null,null,null,null,null,null,null,null,null,null,null,null,null,null,null,null,121,3.2990868021803836E-2,1.0673532096283707,0.27976482215156734]
[123,-1,-1,-1,-1,-1,-1,-1,null,null,null,null,null,null,123,"RCS4-TA4R(DB)-60","- - -",null,null,null,null,null,null,null,null,null,null,null,null,null,null,null,null,null,null,null,null,null,null,null,null,null,null,null,122,3.3263519823636928E-2,1.0850683131007903,0.28625286013454326]
[124,-1,-1,-1,-1,-1,-1,-1,null,null,null,null,null,null,124,"RCS4-TA6R(DB)-100","- - -",null,null,null,null,null,null,null,null,null,null,null,null,null,null,null,null,null,null,null,null,null,null,null,null,null,null,null,123,3.353617162547002E-2,1.1029292198939706,0.2928329503365899]
[125,-1,-1,-1,-1,-1,-1,-1,null,null,null,null,null,null,125,"RCS4-TA7R(DB)-200","- - -",null,null,null,null,null,null,null,null,null,null,null,null,null,null,null,null,null,null,null,null,null,null,null,null,null,null,null,124,3.3808823427303104E-2,1.1209359300079111,0.2995055306269615]
[126,-1,-1,-1,-1,-1,-1,-1,null,null,null,null,null,null,126,"RCS4-RRA4R-60","- - -",null,null,null,null,null,null,null,null,null,null,null,null,null,null,null,null,null,null,null,null,null,null,null,null,null,null,null,125,3.4081475229136196E-2,1.139088443442613,0.3062710353079251]
[127,-1,-1,-1,-1,-1,-1,-1,null,null,null,null,null,null,127,"RCS4-RRA6R-100","- - -",null,null,null,null,null,null,null,null,null,null,null,null,null,null,null,null,null,null,null,null,null,null,null,null,null,null,null,126,3.4354127030969288E-2,1.157386760198075,0.31312989514381834]
[128,-1,-1,-1,-1,-1,-1,-1,null,null,null,null,null,null,128,"RCS4-RRA7R-200","- - -",null,null,null,null,null,null,null,null,null,null,null,null,null,null,null,null,null,null,null,null,null,null,null,null,null,null,null,127,3.4626778832802373E-2,1.1758308802742976,0.32008253738987008]
[{"$f":"A158+1","v":129},-1,-1,-1,-1,-1,-1,-1,null,null,null,null,null,null,129,"RCS4-RRA8R-400","- - -",null,null,null,null,null,null,null,null,null,null,null,null,null,null,null,null,null,null,null,null,null,null,null,null,null,null,null,128,{"$f":"$AP$18/$N$7*AS159","v":3.4899430634635464E-2},1.1944208036712811,0.32712938582078654]
[130,-1,-1,-1,-1,-1,-1,-1,null,null,null,null,null,null,{"$f":"O159+1","v":130},"RCS4-WRA10R-60","- - -",null,null,null,null,null,null,null,null,null,null,null,null,null,null,null,null,null,null,null,null,null,null,null,null,null,null,null,129,3.5172082436468556E-2,{"$f":"IF(($N$4*AT160^2/2)<=$AP$13,($N$4*AT160^2/2), IF(($AP$13+$N$6*(AT160-$AP$12))<=$AP$17, ($AP$13+$N$6*(AT160-$AP$12)), IF(AU159<$D$14, ($AP$17+($N$6-$N$5*(AT160-$AP$16)/2)*(AT160-$AP$16)), $D$14)))","v":1.2131565303890253},0.33427086075910439]
[131,-1,-1,-1,-1,-1,-1,-1,null,null,null,null,null,null,131,"RCS4-WRA12R-100","- - -",null,null,null,null,null,null,null,null,null,null,null,null,null,null,null,null,null,null,null,null,null,null,null,null,null,null,null,130,3.5444734238301641E-2,1.2320380604275298,{"$f":"( $AP$6*AU161 + $AP$7*AU160 + $AP$9*AV160 )/$AP$8","v":0.34150737910331302}]
[132,-1,-1,-1,-1,-1,-1,-1,null,null,null,null,null,null,132,"RCS4-WRA14R-200","- - -",null,null,null,null,null,null,null,null,null,null,null,null,null,null,null,null,null,null,null,null,null,null,null,null,null,null,null,131,3.5717386040134733E-2,1.2510653937867955,0.34883935435574759]
[133,-1,-1,-1,-1,-1,-1,-1,null,null,null,null,null,null,133,"RCS4-WRA16R-400","- - -",null,null,null,null,null,null,null,null,null,null,null,null,null,null,null,null,null,null,null,null,null,null,null,null,null,null,null,132,3.5990037841967824E-2,1.2702385304668216,0.35626719665025486]
[134,-1,-1,-1,-1,-1,-1,-1,null,null,null,null,null,null,134,"ISB-WXM-750","- - -",null,null,null,null,null,null,null,null,null,null,null,null,null,null,null,null,null,null,null,null,null,null,null,null,null,null,null,133,3.6262689643800909E-2,1.289557470467608,0.36379131277963389]
[135,-1,-1,-1,-1,-1,-1,-1,null,null,null,null,null,null,135,"ISPB-WXM-750-HLA","- - -",null,null,null,null,null,null,null,null,null,null,null,null,null,null,null,null,null,null,null,null,null,null,null,null,null,null,null,134,3.6535341445634001E-2,1.3090222137891554,0.37141210622285281]
[136,-1,-1,-1,-1,-1,-1,-1,null,null,null,null,null,null,136,"ISB-WXMX-750","- - -",null,null,null,null,null,null,null,null,null,null,null,null,null,null,null,null,null,null,null,null,null,null,null,null,null,null,null,135,3.6807993247467093E-2,1.3286327604314636,0.37912997717204411]
[137,-1,-1,-1,-1,-1,-1,-1,null,null,null,null,null,null,137,"ISB-WXM-750-W","- - -",null,null,null,null,null,null,null,null,null,null,null,null,null,null,null,null,null,null,null,null,null,null,null,null,null,null,null,136,3.7080645049300184E-2,1.3483891103945325,0.38694532255927999]
[138,-1,-1,-1,-1,-1,-1,-1,null,null,null,null,null,null,138,"ISPB-WXM-750-HLA-W","- - -",null,null,null,null,null,null,null,null,null,null,null,null,null,null,null,null,null,null,null,null,null,null,null,null,null,null,null,137,3.7353296851133269E-2,1.3682912636783615,0.39485853608312976]
[139,-1,-1,-1,-1,-1,-1,-1,null,null,null,null,null,null,139,"ISB-WXMX-750-W","- - -",null,null,null,null,null,null,null,null,null,null,null,null,null,null,null,null,null,null,null,null,null,null,null,null,null,null,null,138,3.7625948652966361E-2,1.3883392202829514,0.40287000823500052]
[140,-1,-1,-1,-1,-1,-1,-1,null,null,null,null,null,null,140,"EC-S10L","- - -",null,null,null,null,null,null,null,null,null,null,null,null,null,null,null,null,null,null,null,null,null,null,null,null,null,null,null,139,3.7898600454799453E-2,1.4085329802083024,0.41098012632526343]
[141,-1,-1,-1,-1,-1,-1,-1,null,null,null,null,null,null,141,"EC-S10M","- - -",null,null,null,null,null,null,null,null,null,null,null,null,null,null,null,null,null,null,null,null,null,null,null,null,null,null,null,140,3.8171252256632537E-2,1.4288725434544132,0.41918927450916738]
[142,-1,-1,-1,-1,-1,-1,-1,null,null,null,null,null,null,142,"EC-S10H","- - -",null,null,null,null,null,null,null,null,null,null,null,null,null,null,null,null,null,null,null,null,null,null,null,null,null,null,null,141,3.8443904058465629E-2,1.4493579100212854,0.42749783381254125]
[143,-1,-1,-1,-1,-1,-1,-1,null,null,null,null,null,null,143,"EC-S10S","- - -",null,null,null,null,null,null,null,null,null,null,null,null,null,null,null,null,null,null,null,null,null,null,null,null,null,null,null,142,3.8716555860298721E-2,1.4699890799089181,0.43590618215728688]
[144,-1,-1,-1,-1,-1,-1,-1,null,null,null,null,null,null,144,"EC-S10XL","- - -",null,null,null,null,null,null,null,null,null,null,null,null,null,null,null,null,null,null,null,null,null,null,null,null,null,null,null,143,3.8989207662131806E-2,1.4907660531173113,0.44441469438666448]
[145,-1,-1,-1,-1,-1,-1,-1,null,null,null,null,null,null,145,"EC-S10XM","- - -",null,null,null,null,null,null,null,null,null,null,null,null,null,null,null,null,null,null,null,null,null,null,null,null,null,null,null,144,3.9261859463964897E-2,1.5116888296464652,0.45302374229037201]
[146,-1,-1,-1,-1,-1,-1,-1,null,null,null,null,null,null,146,"EC-S10XH","- - -",null,null,null,null,null,null,null,null,null,null,null,null,null,null,null,null,null,null,null,null,null,null,null,null,null,null,null,145,3.9534511265797989E-2,1.5327574094963798,0.46173369462942004]
[147,-1,-1,-1,-1,-1,-1,-1,null,null,null,null,null,null,147,"EC-S10XS","- - -",null,null,null,null,null,null,null,null,null,null,null,null,null,null,null,null,null,null,null,null,null,null,null,null,null,null,null,146,3.9807163067631074E-2,1.5539717926670549,0.47054491716080432]
[148,-1,-1,-1,-1,-1,-1,-1,null,null,null,null,null,null,148,"EC-S13L","- - -",null,null,null,null,null,null,null,null,null,null,null,null,null,null,null,null,null,null,null,null,null,null,null,null,null,null,null,147,4.0079814869464166E-2,1.5753319791584908,0.47945777266197714]
[149,-1,-1,-1,-1,-1,-1,-1,null,null,null,null,null,null,149,"EC-S13M","- - -",null,null,null,null,null,null,null,null,null,null,null,null,null,null,null,null,null,null,null,null,null,null,null,null,null,null,null,148,4.0352466671297257E-2,1.5968379689706875,0.4884726209551194]
[150,-1,-1,-1,-1,-1,-1,-1,null,null,null,null,null,null,150,"EC-S13H","- - -",null,null,null,null,null,null,null,null,null,null,null,null,null,null,null,null,null,null,null,null,null,null,null,null,null,null,null,149,4.0625118473130342E-2,1.6184897621036443,0.49758981893121496]
[151,-1,-1,-1,-1,-1,-1,-1,null,null,null,null,null,null,151,"EC-S13S","- - -",null,null,null,null,null,null,null,null,null,null,null,null,null,null,null,null,null,null,null,null,null,null,null,null,null,null,null,150,4.0897770274963434E-2,1.6402873585573623,0.50680972057392892]
[152,-1,-1,-1,-1,-1,-1,-1,null,null,null,null,null,null,152,"EC-S13XL","- - -",null,null,null,null,null,null,null,null,null,null,null,null,null,null,null,null,null,null,null,null,null,null,null,null,null,null,null,151,4.1170422076796526E-2,1.662230758331841,0.51613267698329135]
[153,-1,-1,-1,-1,-1,-1,-1,null,null,null,null,null,null,153,"EC-S13XM","- - -",null,null,null,null,null,null,null,null,null,null,null,null,null,null,null,null,null,null,null,null,null,null,null,null,null,null,null,{"$f":"AS182+1","v":152},4.144307387862961E-2,1.6843199614270796,0.52555903639918777]
[154,-1,-1,-1,-1,-1,-1,-1,null,null,null,null,null,null,154,"EC-S13XH","- - -",null,null,null,null,null,null,null,null,null,null,null,null,null,null,null,null,null,null,null,null,null,null,null,null,null,null,null,153,4.1715725680462702E-2,1.7065549678430796,0.53508914422465892]
[155,-1,-1,-1,-1,-1,-1,-1,null,null,null,null,null,null,155,"EC-S13XS","- - -",null,null,null,null,null,null,null,null,null,null,null,null,null,null,null,null,null,null,null,null,null,null,null,null,null,null,null,154,4.1988377482295794E-2,1.7289357775798404,0.54472334304901027]
[156,-1,-1,-1,-1,-1,-1,-1,null,null,null,null,null,null,156,"EC-S15L","- - -",null,null,null,null,null,null,null,null,null,null,null,null,null,null,null,null,null,null,null,null,null,null,null,null,null,null,null,155,4.2261029284128886E-2,1.7514623906373614,0.55446197267073338]
[157,-1,-1,-1,-1,-1,-1,-1,null,null,null,null,null,null,157,"EC-S15M","- - -",null,null,null,null,null,null,null,null,null,null,null,null,null,null,null,null,null,null,null,null,null,null,null,null,null,null,null,156,4.253368108596197E-2,1.7741348070156431,0.5643053701202404]
[158,-1,-1,-1,-1,-1,-1,-1,null,null,null,null,null,null,158,"EC-S15H","- - -",null,null,null,null,null,null,null,null,null,null,null,null,null,null,null,null,null,null,null,null,null,null,null,null,null,null,null,157,4.2806332887795062E-2,1.7969530267146854,0.57425386968241376]
[159,-1,-1,-1,-1,-1,-1,-1,null,null,null,null,null,null,159,"EC-S15XL","- - -",null,null,null,null,null,null,null,null,null,null,null,null,null,null,null,null,null,null,null,null,null,null,null,null,null,null,null,158,4.3078984689628154E-2,1.819917049734489,0.58430780291897166]
[160,-1,-1,-1,-1,-1,-1,-1,null,null,null,null,null,null,160,"EC-S15XM","- - -",null,null,null,null,null,null,null,null,null,null,null,null,null,null,null,null,null,null,null,null,null,null,null,null,null,null,null,159,4.3351636491461239E-2,1.8430268760750521,0.59446749869065174]
[161,-1,-1,-1,-1,-1,-1,-1,null,null,null,null,null,null,161,"EC-S15XH","- - -",null,null,null,null,null,null,null,null,null,null,null,null,null,null,null,null,null,null,null,null,null,null,null,null,null,null,null,160,4.362428829329433E-2,1.8662825057363768,0.60473328317921371]
[162,-1,-1,-1,-1,-1,-1,-1,null,null,null,null,null,null,162,"EC-S10L-W","- - -",null,null,null,null,null,null,null,null,null,null,null,null,null,null,null,null,null,null,null,null,null,null,null,null,null,null,null,161,4.3896940095127422E-2,1.8896839387184619,0.61510547990926345]
[163,-1,-1,-1,-1,-1,-1,-1,null,null,null,null,null,null,163,"EC-S10M-W","- - -",null,null,null,null,null,null,null,null,null,null,null,null,null,null,null,null,null,null,null,null,null,null,null,null,null,null,null,162,4.4169591896960507E-2,1.9132311750213071,0.62558440976989826]
[164,-1,-1,-1,-1,-1,-1,-1,null,null,null,null,null,null,164,"EC-S10H-W","- - -",null,null,null,null,null,null,null,null,null,null,null,null,null,null,null,null,null,null,null,null,null,null,null,null,null,null,null,163,4.4442243698793599E-2,1.9369242146449137,0.63617039103617645]
[165,-1,-1,-1,-1,-1,-1,-1,null,null,null,null,null,null,165,"EC-S10S-W","- - -",null,null,null,null,null,null,null,null,null,null,null,null,null,null,null,null,null,null,null,null,null,null,null,null,null,null,null,164,4.471489550062669E-2,1.9607630575892807,0.64686373939041231]
[166,-1,-1,-1,-1,-1,-1,-1,null,null,null,null,null,null,166,"EC-S10XL-W","- - -",null,null,null,null,null,null,null,null,null,null,null,null,null,null,null,null,null,null,null,null,null,null,null,null,null,null,null,165,4.4987547302459775E-2,1.9847477038544079,0.65766476794329676]
[167,-1,-1,-1,-1,-1,-1,-1,null,null,null,null,null,null,167,"EC-S10XM-W","- - -",null,null,null,null,null,null,null,null,null,null,null,null,null,null,null,null,null,null,null,null,null,null,null,null,null,null,null,166,4.5260199104292867E-2,2.0088781534402966,0.66857378725484673]
[168,-1,-1,-1,-1,-1,-1,-1,null,null,null,null,null,null,168,"EC-S10XH-W","- - -",null,null,null,null,null,null,null,null,null,null,null,null,null,null,null,null,null,null,null,null,null,null,null,null,null,null,null,167,4.5532850906125959E-2,2.033154406346946,0.6795911053551833]
[169,-1,-1,-1,-1,-1,-1,-1,null,null,null,null,null,null,169,"EC-S10XS-W","- - -",null,null,null,null,null,null,null,null,null,null,null,null,null,null,null,null,null,null,null,null,null,null,null,null,null,null,null,168,4.580550270795905E-2,2.0575764625743558,0.69071702776514088]
[170,-1,-1,-1,-1,-1,-1,-1,null,null,null,null,null,null,170,"EC-S13L-W","- - -",null,null,null,null,null,null,null,null,null,null,null,null,null,null,null,null,null,null,null,null,null,null,null,null,null,null,null,169,4.6078154509792135E-2,2.0821443221225255,0.70195185751670863]
[171,-1,-1,-1,-1,-1,-1,-1,null,null,null,null,null,null,171,"EC-S13M-W","- - -",null,null,null,null,null,null,null,null,null,null,null,null,null,null,null,null,null,null,null,null,null,null,null,null,null,null,null,170,4.6350806311625227E-2,2.1068579849914566,0.71329589517330516]
[172,-1,-1,-1,-1,-1,-1,-1,null,null,null,null,null,null,172,"EC-S13H-W","- - -",null,null,null,null,null,null,null,null,null,null,null,null,null,null,null,null,null,null,null,null,null,null,null,null,null,null,null,171,4.6623458113458319E-2,2.1317174511811485,0.72474943884988785]
[173,-1,-1,-1,-1,-1,-1,-1,null,null,null,null,null,null,173,"EC-S13S-W","- - -",null,null,null,null,null,null,null,null,null,null,null,null,null,null,null,null,null,null,null,null,null,null,null,null,null,null,null,172,4.6896109915291403E-2,2.1567227206916004,0.73631278423289881]
[174,-1,-1,-1,-1,-1,-1,-1,null,null,null,null,null,null,174,"EC-S13XL-W","- - -",null,null,null,null,null,null,null,null,null,null,null,null,null,null,null,null,null,null,null,null,null,null,null,null,null,null,null,173,4.7168761717124495E-2,2.1818737935228132,0.74798622460004804]
[175,-1,-1,-1,-1,-1,-1,-1,null,null,null,null,null,null,175,"EC-S13XM-W","- - -",null,null,null,null,null,null,null,null,null,null,null,null,null,null,null,null,null,null,null,null,null,null,null,null,null,null,null,174,4.7441413518957587E-2,2.2071706696747873,0.75977005083993565]
[176,-1,-1,-1,-1,-1,-1,-1,null,null,null,null,null,null,176,"EC-S13XH-W","- - -",null,null,null,null,null,null,null,null,null,null,null,null,null,null,null,null,null,null,null,null,null,null,null,null,null,null,null,175,4.7714065320790672E-2,2.2326133491475209,0.77166455147151414]
[177,-1,-1,-1,-1,-1,-1,-1,null,null,null,null,null,null,177,"EC-S13XS-W","- - -",null,null,null,null,null,null,null,null,null,null,null,null,null,null,null,null,null,null,null,null,null,null,null,null,null,null,null,176,4.7986717122623763E-2,2.2582018319410162,0.78367001266339198]
[178,-1,-1,-1,-1,-1,-1,-1,null,null,null,null,null,null,178,"EC-S15L-W","- - -",null,null,null,null,null,null,null,null,null,null,null,null,null,null,null,null,null,null,null,null,null,null,null,null,null,null,null,177,4.8259368924456855E-2,2.2839361180552715,0.79578671825297986]
[179,-1,-1,-1,-1,-1,-1,-1,null,null,null,null,null,null,179,"EC-S15M-W","- - -",null,null,null,null,null,null,null,null,null,null,null,null,null,null,null,null,null,null,null,null,null,null,null,null,null,null,null,178,4.853202072628994E-2,2.3098162074902873,0.80801494976548172]
[180,-1,-1,-1,-1,-1,-1,-1,null,null,null,null,null,null,180,"EC-S15H-W","- - -",null,null,null,null,null,null,null,null,null,null,null,null,null,null,null,null,null,null,null,null,null,null,null,null,null,null,null,179,4.8804672528123032E-2,2.3358421002460643,0.82035498643273008]
[181,-1,-1,-1,-1,-1,-1,-1,null,null,null,null,null,null,181,"EC-S15XL-W","- - -",null,null,null,null,null,null,null,null,null,null,null,null,null,null,null,null,null,null,null,null,null,null,null,null,null,null,null,180,4.9077324329956123E-2,2.3620137963226022,0.83280710521186885]
[182,-1,-1,-1,-1,-1,-1,-1,null,null,null,null,null,null,182,"EC-S15XM-W","- - -",null,null,null,null,null,null,null,null,null,null,null,null,null,null,null,null,null,null,null,null,null,null,null,null,null,null,null,181,4.9349976131789208E-2,2.3883312957198997,0.84537158080388297]
[183,-1,-1,-1,-1,-1,-1,-1,null,null,null,null,null,null,183,"EC-S15XH-W","- - -",null,null,null,null,null,null,null,null,null,null,null,null,null,null,null,null,null,null,null,null,null,null,null,null,null,null,null,182,4.96226279336223E-2,2.4147945984379584,0.8580486856719779]
[184,-1,-1,-1,-1,-1,-1,-1,null,null,null,null,null,null,184,"IFA-SA-100(-1450st)",null,null,null,null,null,null,null,null,null,null,null,null,null,null,null,null,null,null,null,null,null,null,null,null,null,null,null,null,183,4.9895279735455392E-2,2.441403704476778,0.87083869005980907]
[185,-1,-1,-1,-1,-1,-1,-1,null,null,null,null,null,null,185,"IFA-SA-100(1500st-)",null,null,null,null,null,null,null,null,null,null,null,null,null,null,null,null,null,null,null,null,null,null,null,null,null,null,null,null,184,5.0167931537288477E-2,2.468158613836358,0.88374186200956262]
[186,-1,-1,-1,-1,-1,-1,-1,null,null,null,null,null,null,186,"IFA-MA-200",null,null,null,null,null,null,null,null,null,null,null,null,null,null,null,null,null,null,null,null,null,null,null,null,null,null,null,null,185,5.0440583339121568E-2,2.4950593265166989,0.89675846737988951]
[187,-1,-1,-1,-1,-1,-1,-1,null,null,null,null,null,null,187,"IFA-MA-400",null,null,null,null,null,null,null,null,null,null,null,null,null,null,null,null,null,null,null,null,null,null,null,null,null,null,null,null,186,5.071323514095466E-2,2.5221058425178007,0.90988876986369305]
[188,-1,-1,-1,-1,-1,-1,-1,null,null,null,null,null,null,188,"IFA-MA-200-AC100V",null,null,null,null,null,null,null,null,null,null,null,null,null,null,null,null,null,null,null,null,null,null,null,null,null,null,null,null,187,5.0985886942787752E-2,2.5492981618396624,0.92313303100577127]
[189,-1,-1,-1,-1,-1,-1,-1,null,null,null,null,null,null,189,"IFA-SA-100-W(-1450st)",null,null,null,null,null,null,null,null,null,null,null,null,null,null,null,null,null,null,null,null,null,null,null,null,null,null,null,null,188,5.1258538744620837E-2,2.576636284482285,0.93649151022031607]
[190,-1,-1,-1,-1,-1,-1,-1,null,null,null,null,null,null,190,"IFA-SA-100-W(1500st-)",null,null,null,null,null,null,null,null,null,null,null,null,null,null,null,null,null,null,null,null,null,null,null,null,null,null,null,null,189,5.1531190546453928E-2,2.6041202104456689,0.94996446480826979]
[191,-1,-1,-1,-1,-1,-1,-1,null,null,null,null,null,null,191,"IFA-MA-200-W",null,null,null,null,null,null,null,null,null,null,null,null,null,null,null,null,null,null,null,null,null,null,null,null,null,null,null,null,190,5.180384234828702E-2,2.6317499397298127,0.96355214997453997]
[192,-1,-1,-1,-1,-1,-1,-1,null,null,null,null,null,null,192,"IFA-MA-400-W",null,null,null,null,null,null,null,null,null,null,null,null,null,null,null,null,null,null,null,null,null,null,null,null,null,null,null,null,191,5.2076494150120105E-2,2.659525472334717,0.97725481884507437]
[{"$f":"A222+1","v":193},-1,-1,-1,-1,-1,-1,-1,null,null,null,null,null,null,193,"IFA-MA-200-W-AC100V",null,null,null,null,null,null,null,null,null,null,null,null,null,null,null,null,null,null,null,null,null,null,null,null,null,null,null,null,192,{"$f":"$AP$18/$N$7*AS223","v":5.2349145951953197E-2},2.6874468082603826,0.99107272248379663]
[194,-1,-1,-1,-1,-1,-1,-1,null,null,null,null,null,null,194,"EC-S18L (～1350st)",null,null,null,null,null,null,null,null,null,null,null,null,null,null,null,null,null,null,null,null,null,null,null,null,null,null,null,null,193,5.2621797753786288E-2,{"$f":"IF(($N$4*AT224^2/2)<=$AP$13,($N$4*AT224^2/2), IF(($AP$13+$N$6*(AT224-$AP$12))<=$AP$17, ($AP$13+$N$6*(AT224-$AP$12)), IF(AU223<$D$14, ($AP$17+($N$6-$N$5*(AT224-$AP$16)/2)*(AT224-$AP$16)), $D$14)))","v":2.7155139475068086},1.0050061099094041]
[195,-1,-1,-1,-1,-1,-1,-1,null,null,null,null,null,null,{"$f":"O224+1","v":195},"EC-S18L (1400st～)",null,null,null,null,null,null,null,null,null,null,null,null,null,null,null,null,null,null,null,null,null,null,null,null,null,null,null,null,194,5.2894449555619373E-2,2.7437268900739946,{"$f":"( $AP$6*AU225 + $AP$7*AU224 + $AP$9*AV224 )/$AP$8","v":1.0190552281120284}]
[196,-1,-1,-1,-1,-1,-1,-1,null,null,null,null,null,null,196,"EC-S18M (～1350st)",null,null,null,null,null,null,null,null,null,null,null,null,null,null,null,null,null,null,null,null,null,null,null,null,null,null,null,null,195,5.3167101357452465E-2,2.7720856359619424,1.0332203220697607]
[197,-1,-1,-1,-1,-1,-1,-1,null,null,null,null,null,null,197,"EC-S18M (1400st～)",null,null,null,null,null,null,null,null,null,null,null,null,null,null,null,null,null,null,null,null,null,null,null,null,null,null,null,null,196,5.3439753159285557E-2,2.8005901851706501,1.0475016347650428]
[198,-1,-1,-1,-1,-1,-1,-1,null,null,null,null,null,null,198,"EC-S18H (～1350st)",null,null,null,null,null,null,null,null,null,null,null,null,null,null,null,null,null,null,null,null,null,null,null,null,null,null,null,null,197,5.3712404961118641E-2,2.8292405377001186,1.0618994072009236]
[199,-1,-1,-1,-1,-1,-1,-1,null,null,null,null,null,null,199,"EC-S18H (1400st～)",null,null,null,null,null,null,null,null,null,null,null,null,null,null,null,null,null,null,null,null,null,null,null,null,null,null,null,null,198,5.3985056762951733E-2,2.8580366935503481,1.0764138784171835]
[200,-1,-1,-1,-1,-1,-1,-1,null,null,null,null,null,null,200,"EC-S18LP (～1350st)",null,null,null,null,null,null,null,null,null,null,null,null,null,null,null,null,null,null,null,null,null,null,null,null,null,null,null,null,199,5.4257708564784825E-2,2.8869786527213384,1.0910452855063284]
[201,-1,-1,-1,-1,-1,-1,-1,null,null,null,null,null,null,201,"EC-S18LP (1400st～)",null,null,null,null,null,null,null,null,null,null,null,null,null,null,null,null,null,null,null,null,null,null,null,null,null,null,null,null,200,5.4530360366617917E-2,2.9160664152130886,1.1057938636294522]
[202,-1,-1,-1,-1,-1,-1,-1,null,null,null,null,null,null,202,"EC-S18XL (～2200st)",null,null,null,null,null,null,null,null,null,null,null,null,null,null,null,null,null,null,null,null,null,null,null,null,null,null,null,null,{"$f":"AS231+1","v":201},5.4803012168451001E-2,2.9452999810255998,1.1206598460319708]
[203,-1,-1,-1,-1,-1,-1,-1,null,null,null,null,null,null,203,"EC-S18XL (2250st～)",null,null,null,null,null,null,null,null,null,null,null,null,null,null,null,null,null,null,null,null,null,null,null,null,null,null,null,null,202,5.5075663970284093E-2,2.9746793501588717,1.1356434640592272]
[204,-1,-1,-1,-1,-1,-1,-1,null,null,null,null,null,null,204,"EC-S18XM (～2200st)",null,null,null,null,null,null,null,null,null,null,null,null,null,null,null,null,null,null,null,null,null,null,null,null,null,null,null,null,203,5.5348315772117185E-2,3.0042045226129046,1.1507449471719704]
[205,-1,-1,-1,-1,-1,-1,-1,null,null,null,null,null,null,205,"EC-S18XM (2250st～)",null,null,null,null,null,null,null,null,null,null,null,null,null,null,null,null,null,null,null,null,null,null,null,null,null,null,null,null,204,5.562096757395027E-2,3.0338754983876974,1.1659645229617073]
[206,-1,-1,-1,-1,-1,-1,-1,null,null,null,null,null,null,206,"EC-S18XH (～2200st)",null,null,null,null,null,null,null,null,null,null,null,null,null,null,null,null,null,null,null,null,null,null,null,null,null,null,null,null,205,5.5893619375783361E-2,3.0636922774832511,1.1813024171659303]
[207,-1,-1,-1,-1,-1,-1,-1,null,null,null,null,null,null,207,"EC-S18XH (2250st～)",null,null,null,null,null,null,null,null,null,null,null,null,null,null,null,null,null,null,null,null,null,null,null,null,null,null,null,null,206,5.6166271177616453E-2,3.0936548598995657,1.1967588536832212]
[208,-1,-1,-1,-1,-1,-1,-1,null,null,null,null,null,null,208,"EC-S18XLP",null,null,null,null,null,null,null,null,null,null,null,null,null,null,null,null,null,null,null,null,null,null,null,null,null,null,null,null,207,5.6438922979449538E-2,3.1237632456366407,1.2123340545882302]
[209,-1,-1,-1,-1,-1,-1,-1,null,null,null,null,null,null,209,"EC-S18L-W (～1350st)",null,null,null,null,null,null,null,null,null,null,null,null,null,null,null,null,null,null,null,null,null,null,null,null,null,null,null,null,208,5.671157478128263E-2,3.1540174346944765,1.2280282401465341]
[210,-1,-1,-1,-1,-1,-1,-1,null,null,null,null,null,null,210,"EC-S18L-W (1400st～)",null,null,null,null,null,null,null,null,null,null,null,null,null,null,null,null,null,null,null,null,null,null,null,null,null,null,null,null,209,5.6984226583115721E-2,3.1844174270730736,1.2438416288293748]
[211,-1,-1,-1,-1,-1,-1,-1,null,null,null,null,null,null,211,"EC-S18M-W (～1350st)",null,null,null,null,null,null,null,null,null,null,null,null,null,null,null,null,null,null,null,null,null,null,null,null,null,null,null,null,210,5.7256878384948806E-2,3.2149632227724303,1.2597744373282751]
[212,-1,-1,-1,-1,-1,-1,-1,null,null,null,null,null,null,212,"EC-S18M-W (1400st～)",null,null,null,null,null,null,null,null,null,null,null,null,null,null,null,null,null,null,null,null,null,null,null,null,null,null,null,null,211,5.7529530186781898E-2,3.2456548217925478,1.2758268805695374]
[213,-1,-1,-1,-1,-1,-1,-1,null,null,null,null,null,null,213,"EC-S18H-W (～1350st)",null,null,null,null,null,null,null,null,null,null,null,null,null,null,null,null,null,null,null,null,null,null,null,null,null,null,null,null,212,5.780218198861499E-2,3.2764922241334262,1.291999171728623]
[214,-1,-1,-1,-1,-1,-1,-1,null,null,null,null,null,null,214,"EC-S18H-W (1400st～)",null,null,null,null,null,null,null,null,null,null,null,null,null,null,null,null,null,null,null,null,null,null,null,null,null,null,null,null,213,5.8074833790448074E-2,3.3074754297950655,1.3082915222444151]
[215,-1,-1,-1,-1,-1,-1,-1,null,null,null,null,null,null,215,"EC-S18LP-W (～1350st)",null,null,null,null,null,null,null,null,null,null,null,null,null,null,null,null,null,null,null,null,null,null,null,null,null,null,null,null,214,5.8347485592281166E-2,3.3386044387774652,1.324704141833366]
[216,-1,-1,-1,-1,-1,-1,-1,null,null,null,null,null,null,216,"EC-S18LP-W (1400st～)",null,null,null,null,null,null,null,null,null,null,null,null,null,null,null,null,null,null,null,null,null,null,null,null,null,null,null,null,215,5.8620137394114258E-2,3.3698792510806257,1.3412372385035278]
[217,-1,-1,-1,-1,-1,-1,-1,null,null,null,null,null,null,217,"EC-S18XL-W (～2200st)",null,null,null,null,null,null,null,null,null,null,null,null,null,null,null,null,null,null,null,null,null,null,null,null,null,null,null,null,216,5.8892789195947343E-2,3.4012998667045462,1.3578910185684694]
[218,-1,-1,-1,-1,-1,-1,-1,null,null,null,null,null,null,218,"EC-S18XL-W (2250st～)",null,null,null,null,null,null,null,null,null,null,null,null,null,null,null,null,null,null,null,null,null,null,null,null,null,null,null,null,217,5.9165440997780434E-2,3.432866285649228,1.37466568666108]
[219,-1,-1,-1,-1,-1,-1,-1,null,null,null,null,null,null,219,"EC-S18XM-W (～2200st)",null,null,null,null,null,null,null,null,null,null,null,null,null,null,null,null,null,null,null,null,null,null,null,null,null,null,null,null,218,5.9438092799613526E-2,3.4645785079146707,1.3915614457472611]
[220,-1,-1,-1,-1,-1,-1,-1,null,null,null,null,null,null,220,"EC-S18XM-W (2250st～)",null,null,null,null,null,null,null,null,null,null,null,null,null,null,null,null,null,null,null,null,null,null,null,null,null,null,null,null,219,5.9710744601446618E-2,3.4964365335008738,1.4085784971395057]
[221,-1,-1,-1,-1,-1,-1,-1,null,null,null,null,null,null,221,"EC-S18XH-W (～2200st)",null,null,null,null,null,null,null,null,null,null,null,null,null,null,null,null,null,null,null,null,null,null,null,null,null,null,null,null,220,5.9983396403279703E-2,3.5284403624078369,1.425717040510367]
[222,-1,-1,-1,-1,-1,-1,-1,null,null,null,null,null,null,222,"EC-S18XH-W (2250st～)",null,null,null,null,null,null,null,null,null,null,null,null,null,null,null,null,null,null,null,null,null,null,null,null,null,null,null,null,221,6.0256048205112794E-2,3.5605899946355617,1.4429772739058186]
[223,-1,-1,-1,-1,-1,-1,-1,null,null,null,null,null,null,223,"EC-S18XLP-W",null,null,null,null,null,null,null,null,null,null,null,null,null,null,null,null,null,null,null,null,null,null,null,null,null,null,null,null,222,6.0528700006945886E-2,3.5928854301840469,1.4603593937585042]
[224,-1,-1,-1,-1,-1,-1,-1,null,null,null,null,null,null,224,"EC-B8SS",null,null,null,null,null,null,null,null,null,null,null,null,null,null,null,null,null,null,null,null,null,null,null,null,null,null,null,null,223,6.0801351808778971E-2,3.6253266690532922,1.4778635949008803]
[225,-1,-1,-1,-1,-1,-1,-1,null,null,null,null,null,null,225,"EC-B8SSU",null,null,null,null,null,null,null,null,null,null,null,null,null,null,null,null,null,null,null,null,null,null,null,null,null,null,null,null,224,6.1074003610612063E-2,3.6579137112432982,1.4954900705782523]
[null,null,null,null,null,null,null,null,null,null,null,null,null,null,226,"RCS4-HSA6C-100",null,null,null,null,null,null,null,null,null,null,null,null,null,null,null,null,null,null,null,null,null,null,null,null,null,null,null,null,225,6.1346655412445154E-2,3.6906465567540656,1.5132390124617032]
[null,null,null,null,null,null,null,null,null,null,null,null,null,null,227,"RCS4-HSA7C-200",null,null,null,null,null,null,null,null,null,null,null,null,null,null,null,null,null,null,null,null,null,null,null,null,null,null,null,null,226,6.1619307214278239E-2,3.7235252055855925,1.531110610660918]
[null,null,null,null,null,null,null,null,null,null,null,null,null,null,228,"RCS4-HSA6C-100-W",null,null,null,null,null,null,null,null,null,null,null,null,null,null,null,null,null,null,null,null,null,null,null,null,null,null,null,null,227,6.1891959016111331E-2,3.7565496577378807,1.5491050537369027]
[null,null,null,null,null,null,null,null,null,null,null,null,null,null,229,"RCS4-HSA7C-200-W",null,null,null,null,null,null,null,null,null,null,null,null,null,null,null,null,null,null,null,null,null,null,null,null,null,null,null,null,228,6.2164610817944423E-2,3.7897199132109303,1.5672225287146002]
[null,null,null,null,null,null,null,null,null,null,null,null,null,null,null,null,null,null,null,null,null,null,null,null,null,null,null,null,null,null,null,null,null,null,null,null,null,null,null,null,null,null,null,null,229,6.2437262619777507E-2,3.8230359720047389,1.5854632210954047]
[null,null,null,null,null,null,null,null,null,null,null,null,null,null,null,null,null,null,null,null,null,null,null,null,null,null,null,null,null,null,null,null,null,null,null,null,null,null,null,null,null,null,null,null,230,6.2709914421610599E-2,3.8564978341193092,1.6038273148695714]
[null,null,null,null,null,null,null,null,null,null,null,null,null,null,null,null,null,null,null,null,null,null,null,null,null,null,null,null,null,null,null,null,null,null,null,null,null,null,null,null,null,null,null,null,231,6.2982566223443684E-2,3.8901054995546396,1.622314992528527]
[null,null,null,null,null,null,null,null,null,null,null,null,null,null,null,null,null,null,null,null,null,null,null,null,null,null,null,null,null,null,null,null,null,null,null,null,null,null,null,null,null,null,null,null,232,6.3255218025276783E-2,3.9238589683107321,1.6409264350770796]
[null,null,null,null,null,null,null,null,null,null,null,null,null,null,null,null,null,null,null,null,null,null,null,null,null,null,null,null,null,null,null,null,null,null,null,null,null,null,null,null,null,null,null,null,233,6.3527869827109867E-2,3.9577582403875842,1.6596618220455295]
[null,null,null,null,null,null,null,null,null,null,null,null,null,null,null,null,null,null,null,null,null,null,null,null,null,null,null,null,null,null,null,null,null,null,null,null,null,null,null,null,null,null,null,null,234,6.3800521628942952E-2,3.9918033157851966,1.6785213315016803]
[null,null,null,null,null,null,null,null,null,null,null,null,null,null,null,null,null,null,null,null,null,null,null,null,null,null,null,null,null,null,null,null,null,null,null,null,null,null,null,null,null,null,null,null,235,6.4073173430776051E-2,4.0259941945035704,1.6975051400627528]
[null,null,null,null,null,null,null,null,null,null,null,null,null,null,null,null,null,null,null,null,null,null,null,null,null,null,null,null,null,null,null,null,null,null,null,null,null,null,null,null,null,null,null,null,236,6.4345825232609136E-2,4.0603308765427046,1.7166134229072023]
[null,null,null,null,null,null,null,null,null,null,null,null,null,null,null,null,null,null,null,null,null,null,null,null,null,null,null,null,null,null,null,null,null,null,null,null,null,null,null,null,null,null,null,null,237,6.461847703444222E-2,4.0948133619025979,1.7358463537864384]
[null,null,null,null,null,null,null,null,null,null,null,null,null,null,null,null,null,null,null,null,null,null,null,null,null,null,null,null,null,null,null,null,null,null,null,null,null,null,null,null,null,null,null,null,238,6.4891128836275319E-2,4.1294416505832556,1.7552041050364502]
[null,null,null,null,null,null,null,null,null,null,null,null,null,null,null,null,null,null,null,null,null,null,null,null,null,null,null,null,null,null,null,null,null,null,null,null,null,null,null,null,null,null,null,null,239,6.5163780638108404E-2,4.1642157425846706,1.7746868475893376]
[null,null,null,null,null,null,null,null,null,null,null,null,null,null,null,null,null,null,null,null,null,null,null,null,null,null,null,null,null,null,null,null,null,null,null,null,null,null,null,null,null,null,null,null,240,6.5436432439941489E-2,4.1991356379068465,1.7942947509847462]
[null,null,null,null,null,null,null,null,null,null,null,null,null,null,null,null,null,null,null,null,null,null,null,null,null,null,null,null,null,null,null,null,null,null,null,null,null,null,null,null,null,null,null,null,241,6.5709084241774587E-2,4.234201336549785,1.8140279833812119]
[null,null,null,null,null,null,null,null,null,null,null,null,null,null,null,null,null,null,null,null,null,null,null,null,null,null,null,null,null,null,null,null,null,null,null,null,null,null,null,null,null,null,null,null,242,6.5981736043607672E-2,4.2694128385134826,1.8338867115674107]
[null,null,null,null,null,null,null,null,null,null,null,null,null,null,null,null,null,null,null,null,null,null,null,null,null,null,null,null,null,null,null,null,null,null,null,null,null,null,null,null,null,null,null,null,243,6.6254387845440771E-2,4.304770143797942,1.8538711009733186]
[null,null,null,null,null,null,null,null,null,null,null,null,null,null,null,null,null,null,null,null,null,null,null,null,null,null,null,null,null,null,null,null,null,null,null,null,null,null,null,null,null,null,null,null,244,6.6527039647273856E-2,4.3402732524031613,1.8739813156812801]
[null,null,null,null,null,null,null,null,null,null,null,null,null,null,null,null,null,null,null,null,null,null,null,null,null,null,null,null,null,null,null,null,null,null,null,null,null,null,null,null,null,null,null,null,245,6.679969144910694E-2,4.3759221643291406,1.8942175184369854]
[null,null,null,null,null,null,null,null,null,null,null,null,null,null,null,null,null,null,null,null,null,null,null,null,null,null,null,null,null,null,null,null,null,null,null,null,null,null,null,null,null,null,null,null,246,6.7072343250940039E-2,4.4117168795758825,1.9145798706603596]
[null,null,null,null,null,null,null,null,null,null,null,null,null,null,null,null,null,null,null,null,null,null,null,null,null,null,null,null,null,null,null,null,null,null,null,null,null,null,null,null,null,null,null,null,247,6.7344995052773124E-2,4.4476573981433827,1.935068532456363]
[null,null,null,null,null,null,null,null,null,null,null,null,null,null,null,null,null,null,null,null,null,null,null,null,null,null,null,null,null,null,null,null,null,null,null,null,null,null,null,null,null,null,null,null,248,6.7617646854606209E-2,4.4837437200316446,1.9556836626257028]
[null,null,null,null,null,null,null,null,null,null,null,null,null,null,null,null,null,null,null,null,null,null,null,null,null,null,null,null,null,null,null,null,null,null,null,null,null,null,null,null,null,null,null,null,249,6.7890298656439307E-2,4.5199758452406682,1.9764254186754577]
[null,null,null,null,null,null,null,null,null,null,null,null,null,null,null,null,null,null,null,null,null,null,null,null,null,null,null,null,null,null,null,null,null,null,null,null,null,null,null,null,null,null,null,null,250,6.8162950458272392E-2,4.5563537737704518,1.9972939568296162]
[null,null,null,null,null,null,null,null,null,null,null,null,null,null,null,null,null,null,null,null,null,null,null,null,null,null,null,null,null,null,null,null,null,null,null,null,null,null,null,null,null,null,null,null,251,6.8435602260105477E-2,4.5928775056209945,2.0182894320395293]
[null,null,null,null,null,null,null,null,null,null,null,null,null,null,null,null,null,null,null,null,null,null,null,null,null,null,null,null,null,null,null,null,null,null,null,null,null,null,null,null,null,null,null,null,{"$f":"AS282+1","v":252},6.8708254061938576E-2,4.6295470407922998,2.0394119979942773]
[null,null,null,null,null,null,null,null,null,null,null,null,null,null,null,null,null,null,null,null,null,null,null,null,null,null,null,null,null,null,null,null,null,null,null,null,null,null,null,null,null,null,null,null,253,6.898090586377166E-2,4.6663623792843651,2.0606618071309533]
[null,null,null,null,null,null,null,null,null,null,null,null,null,null,null,null,null,null,null,null,null,null,null,null,null,null,null,null,null,null,null,null,null,null,null,null,null,null,null,null,null,null,null,null,254,6.9253557665604745E-2,4.7033235210971904,2.0820390106448601]
[null,null,null,null,null,null,null,null,null,null,null,null,null,null,null,null,null,null,null,null,null,null,null,null,null,null,null,null,null,null,null,null,null,null,null,null,null,null,null,null,null,null,null,null,255,6.9526209467437844E-2,4.7404304662307775,2.103543758499629]
[null,null,null,null,null,null,null,null,null,null,null,null,null,null,null,null,null,null,null,null,null,null,null,null,null,null,null,null,null,null,null,null,null,null,null,null,null,null,null,null,null,null,null,null,256,{"$f":"$AP$18/$N$7*AS287","v":6.9798861269270929E-2},4.7776832146851245,2.1251761994372518]
[null,null,null,null,null,null,null,null,null,null,null,null,null,null,null,null,null,null,null,null,null,null,null,null,null,null,null,null,null,null,null,null,null,null,null,null,null,null,null,null,null,null,null,null,257,7.0071513071104014E-2,{"$f":"IF(($N$4*AT288^2/2)<=$AP$13,($N$4*AT288^2/2), IF(($AP$13+$N$6*(AT288-$AP$12))<=$AP$17, ($AP$13+$N$6*(AT288-$AP$12)), IF(AU287<$D$14, ($AP$17+($N$6-$N$5*(AT288-$AP$16)/2)*(AT288-$AP$16)), $D$14)))","v":4.8150817664602314},2.1469364809880322]
[null,null,null,null,null,null,null,null,null,null,null,null,null,null,null,null,null,null,null,null,null,null,null,null,null,null,null,null,null,null,null,null,null,null,null,null,null,null,null,null,null,null,null,null,258,7.0344164872937112E-2,4.8526261215561011,{"$f":"( $AP$6*AU289 + $AP$7*AU288 + $AP$9*AV288 )/$AP$8","v":2.1688247494804571}]
[null,null,null,null,null,null,null,null,null,null,null,null,null,null,null,null,null,null,null,null,null,null,null,null,null,null,null,null,null,null,null,null,null,null,null,null,null,null,null,null,null,null,null,null,259,7.0616816674770197E-2,4.8903162799727307,2.190841150050987]
[null,null,null,null,null,null,null,null,null,null,null,null,null,null,null,null,null,null,null,null,null,null,null,null,null,null,null,null,null,null,null,null,null,null,null,null,null,null,null,null,null,null,null,null,260,7.0889468476603282E-2,4.9281522417101193,2.2129858266537656]
[null,null,null,null,null,null,null,null,null,null,null,null,null,null,null,null,null,null,null,null,null,null,null,null,null,null,null,null,null,null,null,null,null,null,null,null,null,null,null,null,null,null,null,null,261,7.116212027843638E-2,4.9661340067682707,2.235258922070253]
[null,null,null,null,null,null,null,null,null,null,null,null,null,null,null,null,null,null,null,null,null,null,null,null,null,null,null,null,null,null,null,null,null,null,null,null,null,null,null,null,null,null,null,null,262,7.1434772080269465E-2,5.004261575147182,2.2576605779187764]
[null,null,null,null,null,null,null,null,null,null,null,null,null,null,null,null,null,null,null,null,null,null,null,null,null,null,null,null,null,null,null,null,null,null,null,null,null,null,null,null,null,null,null,null,263,7.170742388210255E-2,5.0425349468468523,2.2801909346640072]
[null,null,null,null,null,null,null,null,null,null,null,null,null,null,null,null,null,null,null,null,null,null,null,null,null,null,null,null,null,null,null,null,null,null,null,null,null,null,null,null,null,null,null,null,264,7.1980075683935649E-2,5.0809541218672862,2.3028501316263581]
[null,null,null,null,null,null,null,null,null,null,null,null,null,null,null,null,null,null,null,null,null,null,null,null,null,null,null,null,null,null,null,null,null,null,null,null,null,null,null,null,null,null,null,null,265,7.2252727485768733E-2,5.1195191002084783,2.3256383069913045]
[null,null,null,null,null,null,null,null,null,null,null,null,null,null,null,null,null,null,null,null,null,null,null,null,null,null,null,null,null,null,null,null,null,null,null,null,null,null,null,null,null,null,null,null,266,7.2525379287601818E-2,5.1582298818704322,2.3485555978186294]
[null,null,null,null,null,null,null,null,null,null,null,null,null,null,null,null,null,null,null,null,null,null,null,null,null,null,null,null,null,null,null,null,null,null,null,null,null,null,null,null,null,null,null,null,267,7.2798031089434917E-2,5.1970864668531478,2.3716021400515954]
[null,null,null,null,null,null,null,null,null,null,null,null,null,null,null,null,null,null,null,null,null,null,null,null,null,null,null,null,null,null,null,null,null,null,null,null,null,null,null,null,null,null,null,null,268,7.3070682891268002E-2,5.2360888551566216,2.3947780685260387]
[null,null,null,null,null,null,null,null,null,null,null,null,null,null,null,null,null,null,null,null,null,null,null,null,null,null,null,null,null,null,null,null,null,null,null,null,null,null,null,null,null,null,null,null,269,7.3343334693101087E-2,5.2752370467808571,2.4180835169793902]
[null,null,null,null,null,null,null,null,null,null,null,null,null,null,null,null,null,null,null,null,null,null,null,null,null,null,null,null,null,null,null,null,null,null,null,null,null,null,null,null,null,null,null,null,270,7.3615986494934185E-2,5.3145310417258544,2.4415186180596238]
[null,null,null,null,null,null,null,null,null,null,null,null,null,null,null,null,null,null,null,null,null,null,null,null,null,null,null,null,null,null,null,null,null,null,null,null,null,null,null,null,null,null,null,null,271,7.388863829676727E-2,5.3539708399916108,2.4650835033341321]
[null,null,null,null,null,null,null,null,null,null,null,null,null,null,null,null,null,null,null,null,null,null,null,null,null,null,null,null,null,null,null,null,null,null,null,null,null,null,null,null,null,null,null,null,272,7.4161290098600369E-2,5.3935564415781299,2.488778303298528]
[null,null,null,null,null,null,null,null,null,null,null,null,null,null,null,null,null,null,null,null,null,null,null,null,null,null,null,null,null,null,null,null,null,null,null,null,null,null,null,null,null,null,null,null,273,7.4433941900433453E-2,5.4332878464854071,2.5126031473853767]
[null,null,null,null,null,null,null,null,null,null,null,null,null,null,null,null,null,null,null,null,null,null,null,null,null,null,null,null,null,null,null,null,null,null,null,null,null,null,null,null,null,null,null,null,274,7.4706593702266538E-2,5.4731650547134461,2.5365581639728543]
[null,null,null,null,null,null,null,null,null,null,null,null,null,null,null,null,null,null,null,null,null,null,null,null,null,null,null,null,null,null,null,null,null,null,null,null,null,null,null,null,null,null,null,null,275,7.4979245504099637E-2,5.5131880662622459,2.5606434803933382]
[null,null,null,null,null,null,null,null,null,null,null,null,null,null,null,null,null,null,null,null,null,null,null,null,null,null,null,null,null,null,null,null,null,null,null,null,null,null,null,null,null,null,null,null,276,7.5251897305932722E-2,5.5533568811318057,2.5848592229419252]
[null,null,null,null,null,null,null,null,null,null,null,null,null,null,null,null,null,null,null,null,null,null,null,null,null,null,null,null,null,null,null,null,null,null,null,null,null,null,null,null,null,null,null,null,277,7.5524549107765807E-2,5.5936714993221264,2.6092055168848827]
[null,null,null,null,null,null,null,null,null,null,null,null,null,null,null,null,null,null,null,null,null,null,null,null,null,null,null,null,null,null,null,null,null,null,null,null,null,null,null,null,null,null,null,null,278,7.5797200909598905E-2,5.6341319208332097,2.6336824864680297]
[null,null,null,null,null,null,null,null,null,null,null,null,null,null,null,null,null,null,null,null,null,null,null,null,null,null,null,null,null,null,null,null,null,null,null,null,null,null,null,null,null,null,null,null,279,7.606985271143199E-2,5.6747381456650512,2.6582902549250491]
[null,null,null,null,null,null,null,null,null,null,null,null,null,null,null,null,null,null,null,null,null,null,null,null,null,null,null,null,null,null,null,null,null,null,null,null,null,null,null,null,null,null,null,null,280,7.6342504513265075E-2,5.7154901738176527,2.6830289444857325]
[null,null,null,null,null,null,null,null,null,null,null,null,null,null,null,null,null,null,null,null,null,null,null,null,null,null,null,null,null,null,null,null,null,null,null,null,null,null,null,null,null,null,null,null,281,7.6615156315098173E-2,5.7563880052910177,2.7078986763841586]
[null,null,null,null,null,null,null,null,null,null,null,null,null,null,null,null,null,null,null,null,null,null,null,null,null,null,null,null,null,null,null,null,null,null,null,null,null,null,null,null,null,null,null,null,282,7.6887808116931258E-2,5.7974316400851418,2.7328995708668047]
[null,null,null,null,null,null,null,null,null,null,null,null,null,null,null,null,null,null,null,null,null,null,null,null,null,null,null,null,null,null,null,null,null,null,null,null,null,null,null,null,null,null,null,null,283,7.7160459918764343E-2,5.8386210782000258,2.7580317472005915]
[null,null,null,null,null,null,null,null,null,null,null,null,null,null,null,null,null,null,null,null,null,null,null,null,null,null,null,null,null,null,null,null,null,null,null,null,null,null,null,null,null,null,null,null,284,7.7433111720597442E-2,5.8799563196356726,2.7832953236808633]
[null,null,null,null,null,null,null,null,null,null,null,null,null,null,null,null,null,null,null,null,null,null,null,null,null,null,null,null,null,null,null,null,null,null,null,null,null,null,null,null,null,null,null,null,285,7.7705763522430527E-2,5.9214373643920784,2.8086904176393022]
[null,null,null,null,null,null,null,null,null,null,null,null,null,null,null,null,null,null,null,null,null,null,null,null,null,null,null,null,null,null,null,null,null,null,null,null,null,null,null,null,null,null,null,null,286,7.7978415324263611E-2,5.963064212469245,2.8342171454517788]
[null,null,null,null,null,null,null,null,null,null,null,null,null,null,null,null,null,null,null,null,null,null,null,null,null,null,null,null,null,null,null,null,null,null,null,null,null,null,null,null,null,null,null,null,287,7.825106712609671E-2,6.0048368638671734,2.859875622546137]
[null,null,null,null,null,null,null,null,null,null,null,null,null,null,null,null,null,null,null,null,null,null,null,null,null,null,null,null,null,null,null,null,null,null,null,null,null,null,null,null,null,null,null,null,288,7.8523718927929795E-2,6.0467553185858609,2.8856659634099198]
[null,null,null,null,null,null,null,null,null,null,null,null,null,null,null,null,null,null,null,null,null,null,null,null,null,null,null,null,null,null,null,null,null,null,null,null,null,null,null,null,null,null,null,null,289,7.879637072976288E-2,6.0888195766253084,2.9115882815980267]
[null,null,null,null,null,null,null,null,null,null,null,null,null,null,null,null,null,null,null,null,null,null,null,null,null,null,null,null,null,null,null,null,null,null,null,null,null,null,null,null,null,null,null,null,290,7.9069022531595978E-2,6.1310296379855194,2.9376426897403114]
[null,null,null,null,null,null,null,null,null,null,null,null,null,null,null,null,null,null,null,null,null,null,null,null,null,null,null,null,null,null,null,null,null,null,null,null,null,null,null,null,null,null,null,null,291,7.9341674333429063E-2,6.1733855026664886,2.9638292995491189]
[null,null,null,null,null,null,null,null,null,null,null,null,null,null,null,null,null,null,null,null,null,null,null,null,null,null,null,null,null,null,null,null,null,null,null,null,null,null,null,null,null,null,null,null,292,7.9614326135262148E-2,6.2158871706682195,2.9901482218267592]
[null,null,null,null,null,null,null,null,null,null,null,null,null,null,null,null,null,null,null,null,null,null,null,null,null,null,null,null,null,null,null,null,null,null,null,null,null,null,null,null,null,null,null,null,293,7.9886977937095247E-2,6.2585346419907113,3.0165995664729186]
[null,null,null,null,null,null,null,null,null,null,null,null,null,null,null,null,null,null,null,null,null,null,null,null,null,null,null,null,null,null,null,null,null,null,null,null,null,null,null,null,null,null,null,null,294,8.0159629738928331E-2,6.3013279166339631,3.0431834424920154]
[null,null,null,null,null,null,null,null,null,null,null,null,null,null,null,null,null,null,null,null,null,null,null,null,null,null,null,null,null,null,null,null,null,null,null,null,null,null,null,null,null,null,null,null,295,8.0432281540761416E-2,6.3442669945979748,3.0698999580004931]
[null,null,null,null,null,null,null,null,null,null,null,null,null,null,null,null,null,null,null,null,null,null,null,null,null,null,null,null,null,null,null,null,null,null,null,null,null,null,null,null,null,null,null,null,296,8.0704933342594515E-2,6.3873518758827501,3.0967492202340514]
[null,null,null,null,null,null,null,null,null,null,null,null,null,null,null,null,null,null,null,null,null,null,null,null,null,null,null,null,null,null,null,null,null,null,null,null,null,null,null,null,null,null,null,null,297,8.09775851444276E-2,6.4305825604882836,3.1237313355548229]
[null,null,null,null,null,null,null,null,null,null,null,null,null,null,null,null,null,null,null,null,null,null,null,null,null,null,null,null,null,null,null,null,null,null,null,null,null,null,null,null,null,null,null,null,298,8.1250236946260684E-2,6.473959048414577,3.1508464094584894]
[null,null,null,null,null,null,null,null,null,null,null,null,null,null,null,null,null,null,null,null,null,null,null,null,null,null,null,null,null,null,null,null,null,null,null,null,null,null,null,null,null,null,null,null,299,8.1522888748093783E-2,6.517481339661634,3.1780945465813391]
[null,null,null,null,null,null,null,null,null,null,null,null,null,null,null,null,null,null,null,null,null,null,null,null,null,null,null,null,null,null,null,null,null,null,null,null,null,null,null,null,null,null,null,null,300,8.1795540549926868E-2,6.5611494342294492,3.2054758507072685]
[null,null,null,null,null,null,null,null,null,null,null,null,null,null,null,null,null,null,null,null,null,null,null,null,null,null,null,null,null,null,null,null,null,null,null,null,null,null,null,null,null,null,null,null,301,8.2068192351759953E-2,6.6049633321180252,3.2329904247747261]
[null,null,null,null,null,null,null,null,null,null,null,null,null,null,null,null,null,null,null,null,null,null,null,null,null,null,null,null,null,null,null,null,null,null,null,null,null,null,null,null,null,null,null,null,302,8.2340844153593051E-2,6.6489230333273639,3.2606383708835995]
[null,null,null,null,null,null,null,null,null,null,null,null,null,null,null,null,null,null,null,null,null,null,null,null,null,null,null,null,null,null,null,null,null,null,null,null,null,null,null,null,null,null,null,null,303,8.2613495955426136E-2,6.6930285378574608,3.2884197903020453]
[null,null,null,null,null,null,null,null,null,null,null,null,null,null,null,null,null,null,null,null,null,null,null,null,null,null,null,null,null,null,null,null,null,null,null,null,null,null,null,null,null,null,null,null,304,8.2886147757259221E-2,6.7372798457083185,3.3163347834732666]
[null,null,null,null,null,null,null,null,null,null,null,null,null,null,null,null,null,null,null,null,null,null,null,null,null,null,null,null,null,null,null,null,null,null,null,null,null,null,null,null,null,null,null,null,305,8.315879955909232E-2,6.7816769568799398,3.3443834500222316]
[null,null,null,null,null,null,null,null,null,null,null,null,null,null,null,null,null,null,null,null,null,null,null,null,null,null,null,null,null,null,null,null,null,null,null,null,null,null,null,null,null,null,null,null,306,8.3431451360925404E-2,6.8262198713723183,3.3725658887623404]
[null,null,null,null,null,null,null,null,null,null,null,null,null,null,null,null,null,null,null,null,null,null,null,null,null,null,null,null,null,null,null,null,null,null,null,null,null,null,null,null,null,null,null,null,307,8.3704103162758503E-2,6.8709085891854604,3.4008821977020349]
[null,null,null,null,null,null,null,null,null,null,null,null,null,null,null,null,null,null,null,null,null,null,null,null,null,null,null,null,null,null,null,null,null,null,null,null,null,null,null,null,null,null,null,null,308,8.3976754964591588E-2,6.9157431103193616,3.4293324740513573]
[null,null,null,null,null,null,null,null,null,null,null,null,null,null,null,null,null,null,null,null,null,null,null,null,null,null,null,null,null,null,null,null,null,null,null,null,null,null,null,null,null,null,null,null,309,8.4249406766424673E-2,6.9607234347740228,3.4579168142284544]
[null,null,null,null,null,null,null,null,null,null,null,null,null,null,null,null,null,null,null,null,null,null,null,null,null,null,null,null,null,null,null,null,null,null,null,null,null,null,null,null,null,null,null,null,310,8.4522058568257771E-2,7.0058495625494457,3.4866353138660271]
[null,null,null,null,null,null,null,null,null,null,null,null,null,null,null,null,null,null,null,null,null,null,null,null,null,null,null,null,null,null,null,null,null,null,null,null,null,null,null,null,null,null,null,null,311,8.4794710370090856E-2,7.0511214936456286,3.5154880678177292]
[null,null,null,null,null,null,null,null,null,null,null,null,null,null,null,null,null,null,null,null,null,null,null,null,null,null,null,null,null,null,null,null,null,null,null,null,null,null,null,null,null,null,null,null,312,8.5067362171923941E-2,7.0965392280625723,3.5444751701645152]
[null,null,null,null,null,null,null,null,null,null,null,null,null,null,null,null,null,null,null,null,null,null,null,null,null,null,null,null,null,null,null,null,null,null,null,null,null,null,null,null,null,null,null,null,313,8.534001397375704E-2,7.1421027658002778,3.5735967142209328]
[null,null,null,null,null,null,null,null,null,null,null,null,null,null,null,null,null,null,null,null,null,null,null,null,null,null,null,null,null,null,null,null,null,null,null,null,null,null,null,null,null,null,null,null,314,8.5612665775590124E-2,7.1878121068587415,3.6028527925413676]
[null,null,null,null,null,null,null,null,null,null,null,null,null,null,null,null,null,null,null,null,null,null,null,null,null,null,null,null,null,null,null,null,null,null,null,null,null,null,null,null,null,null,null,null,315,8.5885317577423209E-2,7.2336672512379678,3.6322434969262352]
[null,null,null,null,null,null,null,null,null,null,null,null,null,null,null,null,null,null,null,null,null,null,null,null,null,null,null,null,null,null,null,null,null,null,null,null,null,null,null,null,null,null,null,null,{"$f":"AS346+1","v":316},8.6157969379256308E-2,7.2796681989379559,3.6617689184281232]
[null,null,null,null,null,null,null,null,null,null,null,null,null,null,null,null,null,null,null,null,null,null,null,null,null,null,null,null,null,null,null,null,null,null,null,null,null,null,null,null,null,null,null,null,317,8.6430621181089393E-2,7.3258149499587013,3.6914291473578835]
[null,null,null,null,null,null,null,null,null,null,null,null,null,null,null,null,null,null,null,null,null,null,null,null,null,null,null,null,null,null,null,null,null,null,null,null,null,null,null,null,null,null,null,null,318,8.6703272982922477E-2,7.3721075043002084,3.721224273290674]
[null,null,null,null,null,null,null,null,null,null,null,null,null,null,null,null,null,null,null,null,null,null,null,null,null,null,null,null,null,null,null,null,null,null,null,null,null,null,null,null,null,null,null,null,319,8.6975924784755576E-2,7.4185458619624791,3.7511543850719509]
[null,null,null,null,null,null,null,null,null,null,null,null,null,null,null,null,null,null,null,null,null,null,null,null,null,null,null,null,null,null,null,null,null,null,null,null,null,null,null,null,null,null,null,null,320,{"$f":"$AP$18/$N$7*AS351","v":8.7248576586588661E-2},7.4651300229455071,3.7812195708234162]
[null,null,null,null,null,null,null,null,null,null,null,null,null,null,null,null,null,null,null,null,null,null,null,null,null,null,null,null,null,null,null,null,null,null,null,null,null,null,null,null,null,null,null,null,321,8.7521228388421746E-2,{"$f":"IF(($N$4*AT352^2/2)<=$AP$13,($N$4*AT352^2/2), IF(($AP$13+$N$6*(AT352-$AP$12))<=$AP$17, ($AP$13+$N$6*(AT352-$AP$12)), IF(AU351<$D$14, ($AP$17+($N$6-$N$5*(AT352-$AP$16)/2)*(AT352-$AP$16)), $D$14)))","v":7.511859987249295},3.8114199179489106]
[null,null,null,null,null,null,null,null,null,null,null,null,null,null,null,null,null,null,null,null,null,null,null,null,null,null,null,null,null,null,null,null,null,null,null,null,null,null,null,null,null,null,null,null,322,8.7793880190254844E-2,7.5587357548738474,{"$f":"( $AP$6*AU353 + $AP$7*AU352 + $AP$9*AV352 )/$AP$8","v":3.8417555131402619}]
[null,null,null,null,null,null,null,null,null,null,null,null,null,null,null,null,null,null,null,null,null,null,null,null,null,null,null,null,null,null,null,null,null,null,null,null,null,null,null,null,null,null,null,null,323,8.8066531992087929E-2,7.605757325819158,3.8722264423830866]
[null,null,null,null,null,null,null,null,null,null,null,null,null,null,null,null,null,null,null,null,null,null,null,null,null,null,null,null,null,null,null,null,null,null,null,null,null,null,null,null,null,null,null,null,324,8.8339183793921014E-2,7.6529247000852285,3.9028327909625413]
[null,null,null,null,null,null,null,null,null,null,null,null,null,null,null,null,null,null,null,null,null,null,null,null,null,null,null,null,null,null,null,null,null,null,null,null,null,null,null,null,null,null,null,null,325,8.8611835595754113E-2,7.7002378776720626,3.9335746434690297]
[null,null,null,null,null,null,null,null,null,null,null,null,null,null,null,null,null,null,null,null,null,null,null,null,null,null,null,null,null,null,null,null,null,null,null,null,null,null,null,null,null,null,null,null,326,8.8884487397587197E-2,7.7476968585796548,3.9644520838038617]
[null,null,null,null,null,null,null,null,null,null,null,null,null,null,null,null,null,null,null,null,null,null,null,null,null,null,null,null,null,null,null,null,null,null,null,null,null,null,null,null,null,null,null,null,327,8.9157139199420282E-2,7.7953016428080071,3.9954651951848672]
[null,null,null,null,null,null,null,null,null,null,null,null,null,null,null,null,null,null,null,null,null,null,null,null,null,null,null,null,null,null,null,null,null,null,null,null,null,null,null,null,null,null,null,null,328,8.9429791001253381E-2,7.8430522303571228,4.0266140601519647]
[null,null,null,null,null,null,null,null,null,null,null,null,null,null,null,null,null,null,null,null,null,null,null,null,null,null,null,null,null,null,null,null,null,null,null,null,null,null,null,null,null,null,null,null,329,8.9702442803086466E-2,7.8909486212269977,4.057898760572682]
[null,null,null,null,null,null,null,null,null,null,null,null,null,null,null,null,null,null,null,null,null,null,null,null,null,null,null,null,null,null,null,null,null,null,null,null,null,null,null,null,null,null,null,null,330,8.997509460491955E-2,7.9389908154176316,4.0893193776476346]
[null,null,null,null,null,null,null,null,null,null,null,null,null,null,null,null,null,null,null,null,null,null,null,null,null,null,null,null,null,null,null,null,null,null,null,null,null,null,null,null,null,null,null,null,331,9.0247746406752649E-2,7.98717881292903,4.120875991915959]
[null,null,null,null,null,null,null,null,null,null,null,null,null,null,null,null,null,null,null,null,null,null,null,null,null,null,null,null,null,null,null,null,null,null,null,null,null,null,null,null,null,null,null,null,332,9.0520398208585734E-2,8.0355126137611865,4.1525686832607001]
[null,null,null,null,null,null,null,null,null,null,null,null,null,null,null,null,null,null,null,null,null,null,null,null,null,null,null,null,null,null,null,null,null,null,null,null,null,null,null,null,null,null,null,null,333,9.0793050010418819E-2,8.0839922179141031,4.1843975309141568]
[null,null,null,null,null,null,null,null,null,null,null,null,null,null,null,null,null,null,null,null,null,null,null,null,null,null,null,null,null,null,null,null,null,null,null,null,null,null,null,null,null,null,null,null,334,9.1065701812251917E-2,8.132617625387784,4.2163626134631826]
[null,null,null,null,null,null,null,null,null,null,null,null,null,null,null,null,null,null,null,null,null,null,null,null,null,null,null,null,null,null,null,null,null,null,null,null,null,null,null,null,null,null,null,null,335,9.1338353614085002E-2,8.1813888361822205,4.2484640088544436]
[null,null,null,null,null,null,null,null,null,null,null,null,null,null,null,null,null,null,null,null,null,null,null,null,null,null,null,null,null,null,null,null,null,null,null,null,null,null,null,null,null,null,null,null,336,9.1611005415918101E-2,8.2303058502974231,4.2807017943996355]
[null,null,null,null,null,null,null,null,null,null,null,null,null,null,null,null,null,null,null,null,null,null,null,null,null,null,null,null,null,null,null,null,null,null,null,null,null,null,null,null,null,null,null,null,337,9.1883657217751186E-2,8.2793686677333813,4.3130760467806528]
[null,null,null,null,null,null,null,null,null,null,null,null,null,null,null,null,null,null,null,null,null,null,null,null,null,null,null,null,null,null,null,null,null,null,null,null,null,null,null,null,null,null,null,null,338,9.215630901958427E-2,8.3285772884901021,4.3455868420547219]
[null,null,null,null,null,null,null,null,null,null,null,null,null,null,null,null,null,null,null,null,null,null,null,null,null,null,null,null,null,null,null,null,null,null,null,null,null,null,null,null,null,null,null,null,339,9.2428960821417369E-2,8.3779317125675856,4.3782342556594891]
[null,null,null,null,null,null,null,null,null,null,null,null,null,null,null,null,null,null,null,null,null,null,null,null,null,null,null,null,null,null,null,null,null,null,null,null,null,null,null,null,null,null,null,null,340,9.2701612623250454E-2,8.4274319399658264,4.4110183624180666]
[null,null,null,null,null,null,null,null,null,null,null,null,null,null,null,null,null,null,null,null,null,null,null,null,null,null,null,null,null,null,null,null,null,null,null,null,null,null,null,null,null,null,null,null,341,9.2974264425083539E-2,8.477077970684828,4.4439392365440407]
[null,null,null,null,null,null,null,null,null,null,null,null,null,null,null,null,null,null,null,null,null,null,null,null,null,null,null,null,null,null,null,null,null,null,null,null,null,null,null,null,null,null,null,null,342,9.3246916226916637E-2,8.5268698047245941,4.4769969516464361]
[null,null,null,null,null,null,null,null,null,null,null,null,null,null,null,null,null,null,null,null,null,null,null,null,null,null,null,null,null,null,null,null,null,null,null,null,null,null,null,null,null,null,null,null,343,9.3519568028749722E-2,8.5768074420851175,4.5101915807346398]
[null,null,null,null,null,null,null,null,null,null,null,null,null,null,null,null,null,null,null,null,null,null,null,null,null,null,null,null,null,null,null,null,null,null,null,null,null,null,null,null,null,null,null,null,344,9.3792219830582807E-2,8.6268908827664017,4.5435231962232878]
[null,null,null,null,null,null,null,null,null,null,null,null,null,null,null,null,null,null,null,null,null,null,null,null,null,null,null,null,null,null,null,null,null,null,null,null,null,null,null,null,null,null,null,null,345,9.4064871632415906E-2,8.6771201267684468,4.5769918699371095]
[null,null,null,null,null,null,null,null,null,null,null,null,null,null,null,null,null,null,null,null,null,null,null,null,null,null,null,null,null,null,null,null,null,null,null,null,null,null,null,null,null,null,null,null,346,9.433752343424899E-2,8.7274951740912527,4.6105976731157332]
[null,null,null,null,null,null,null,null,null,null,null,null,null,null,null,null,null,null,null,null,null,null,null,null,null,null,null,null,null,null,null,null,null,null,null,null,null,null,null,null,null,null,null,null,347,9.4610175236082075E-2,8.7780160247348196,4.6443406764184525]
[null,null,null,null,null,null,null,null,null,null,null,null,null,null,null,null,null,null,null,null,null,null,null,null,null,null,null,null,null,null,null,null,null,null,null,null,null,null,null,null,null,null,null,null,348,9.4882827037915174E-2,8.828682678699149,4.678220949928952]
[null,null,null,null,null,null,null,null,null,null,null,null,null,null,null,null,null,null,null,null,null,null,null,null,null,null,null,null,null,null,null,null,null,null,null,null,null,null,null,null,null,null,null,null,349,9.5155478839748259E-2,8.879495135984234,4.7122385631599979]
[null,null,null,null,null,null,null,null,null,null,null,null,null,null,null,null,null,null,null,null,null,null,null,null,null,null,null,null,null,null,null,null,null,null,null,null,null,null,null,null,null,null,null,null,350,9.5428130641581344E-2,8.9304533965900834,4.7463935850580912]
[null,null,null,null,null,null,null,null,null,null,null,null,null,null,null,null,null,null,null,null,null,null,null,null,null,null,null,null,null,null,null,null,null,null,null,null,null,null,null,null,null,null,null,null,351,9.5700782443414442E-2,8.9815574605166937,4.7806860840080772]
[null,null,null,null,null,null,null,null,null,null,null,null,null,null,null,null,null,null,null,null,null,null,null,null,null,null,null,null,null,null,null,null,null,null,null,null,null,null,null,null,null,null,null,null,352,9.5973434245247527E-2,9.0328073277640648,4.8151161278377206]
[null,null,null,null,null,null,null,null,null,null,null,null,null,null,null,null,null,null,null,null,null,null,null,null,null,null,null,null,null,null,null,null,null,null,null,null,null,null,null,null,null,null,null,null,353,9.6246086047080612E-2,9.0842029983321932,4.8496837838222469]
[null,null,null,null,null,null,null,null,null,null,null,null,null,null,null,null,null,null,null,null,null,null,null,null,null,null,null,null,null,null,null,null,null,null,null,null,null,null,null,null,null,null,null,null,354,9.651873784891371E-2,9.1357444722210861,4.8843891186888406]
[null,null,null,null,null,null,null,null,null,null,null,null,null,null,null,null,null,null,null,null,null,null,null,null,null,null,null,null,null,null,null,null,null,null,null,null,null,null,null,null,null,null,null,null,355,9.6791389650746795E-2,9.1874317494307363,4.9192321986211116]
[null,null,null,null,null,null,null,null,null,null,null,null,null,null,null,null,null,null,null,null,null,null,null,null,null,null,null,null,null,null,null,null,null,null,null,null,null,null,null,null,null,null,null,null,356,9.706404145257988E-2,9.2392648299611491,4.9542130892635212]
[null,null,null,null,null,null,null,null,null,null,null,null,null,null,null,null,null,null,null,null,null,null,null,null,null,null,null,null,null,null,null,null,null,null,null,null,null,null,null,null,null,null,null,null,357,9.7336693254412979E-2,9.2912437138123227,4.9893318557257764]
[null,null,null,null,null,null,null,null,null,null,null,null,null,null,null,null,null,null,null,null,null,null,null,null,null,null,null,null,null,null,null,null,null,null,null,null,null,null,null,null,null,null,null,null,358,9.7609345056246063E-2,9.3433684009842572,5.0245885625871836]
[null,null,null,null,null,null,null,null,null,null,null,null,null,null,null,null,null,null,null,null,null,null,null,null,null,null,null,null,null,null,null,null,null,null,null,null,null,null,null,null,null,null,null,null,359,9.7881996858079148E-2,9.3956388914769509,5.0599832739009711]
[null,null,null,null,null,null,null,null,null,null,null,null,null,null,null,null,null,null,null,null,null,null,null,null,null,null,null,null,null,null,null,null,null,null,null,null,null,null,null,null,null,null,null,null,360,9.8154648659912247E-2,9.4480551852904089,5.0955160531985761]
[null,null,null,null,null,null,null,null,null,null,null,null,null,null,null,null,null,null,null,null,null,null,null,null,null,null,null,null,null,null,null,null,null,null,null,null,null,null,null,null,null,null,null,null,361,9.8427300461745332E-2,9.5006172824246242,5.1311869634938931]
[null,null,null,null,null,null,null,null,null,null,null,null,null,null,null,null,null,null,null,null,null,null,null,null,null,null,null,null,null,null,null,null,null,null,null,null,null,null,null,null,null,null,null,null,362,9.8699952263578417E-2,9.5533251828795986,5.1669960672874886]
[null,null,null,null,null,null,null,null,null,null,null,null,null,null,null,null,null,null,null,null,null,null,null,null,null,null,null,null,null,null,null,null,null,null,null,null,null,null,null,null,null,null,null,null,363,9.8972604065411515E-2,9.6061788866553375,5.2029434265707861]
[null,null,null,null,null,null,null,null,null,null,null,null,null,null,null,null,null,null,null,null,null,null,null,null,null,null,null,null,null,null,null,null,null,null,null,null,null,null,null,null,null,null,null,null,364,9.92452558672446E-2,9.6591783937518336,5.2390291028302132]
[null,null,null,null,null,null,null,null,null,null,null,null,null,null,null,null,null,null,null,null,null,null,null,null,null,null,null,null,null,null,null,null,null,null,null,null,null,null,null,null,null,null,null,null,365,9.9517907669077685E-2,9.7123237041690924,5.2752531570513126]
[null,null,null,null,null,null,null,null,null,null,null,null,null,null,null,null,null,null,null,null,null,null,null,null,null,null,null,null,null,null,null,null,null,null,null,null,null,null,null,null,null,null,null,null,366,9.9790559470910783E-2,9.7656148179071121,5.3116156497228237]
[null,null,null,null,null,null,null,null,null,null,null,null,null,null,null,null,null,null,null,null,null,null,null,null,null,null,null,null,null,null,null,null,null,null,null,null,null,null,null,null,null,null,null,null,367,0.10006321127274387,9.8190517349658908,5.3481166408407326]
[null,null,null,null,null,null,null,null,null,null,null,null,null,null,null,null,null,null,null,null,null,null,null,null,null,null,null,null,null,null,null,null,null,null,null,null,null,null,null,null,null,null,null,null,368,0.10033586307457695,9.8726344553454322,5.3847561899122818]
[null,null,null,null,null,null,null,null,null,null,null,null,null,null,null,null,null,null,null,null,null,null,null,null,null,null,null,null,null,null,null,null,null,null,null,null,null,null,null,null,null,null,null,null,369,0.10060851487641005,9.9263629790457344,5.4215343559599551]
[null,null,null,null,null,null,null,null,null,null,null,null,null,null,null,null,null,null,null,null,null,null,null,null,null,null,null,null,null,null,null,null,null,null,null,null,null,null,null,null,null,null,null,null,370,0.10088116667824314,9.9802373060667957,5.4584511975254237]
[null,null,null,null,null,null,null,null,null,null,null,null,null,null,null,null,null,null,null,null,null,null,null,null,null,null,null,null,null,null,null,null,null,null,null,null,null,null,null,null,null,null,null,null,371,0.10115381848007624,10.03425743640862,5.4955067726734654]
[null,null,null,null,null,null,null,null,null,null,null,null,null,null,null,null,null,null,null,null,null,null,null,null,null,null,null,null,null,null,null,null,null,null,null,null,null,null,null,null,null,null,null,null,372,0.10142647028190932,10.088423370071203,5.5327011389958498]
[null,null,null,null,null,null,null,null,null,null,null,null,null,null,null,null,null,null,null,null,null,null,null,null,null,null,null,null,null,null,null,null,null,null,null,null,null,null,null,null,null,null,null,null,373,0.1016991220837424,10.142735107054543,5.5700343536151875]
[null,null,null,null,null,null,null,null,null,null,null,null,null,null,null,null,null,null,null,null,null,null,null,null,null,null,null,null,null,null,null,null,null,null,null,null,null,null,null,null,null,null,null,null,374,0.1019717738855755,10.19719264735865,5.6075064731887565]
[null,null,null,null,null,null,null,null,null,null,null,null,null,null,null,null,null,null,null,null,null,null,null,null,null,null,null,null,null,null,null,null,null,null,null,null,null,null,null,null,null,null,null,null,375,0.10224442568740859,10.251795990983515,5.6451175539122911]
[null,null,null,null,null,null,null,null,null,null,null,null,null,null,null,null,null,null,null,null,null,null,null,null,null,null,null,null,null,null,null,null,null,null,null,null,null,null,null,null,null,null,null,null,376,0.10251707748924167,10.30654513792914,5.6828676515237406]
[null,null,null,null,null,null,null,null,null,null,null,null,null,null,null,null,null,null,null,null,null,null,null,null,null,null,null,null,null,null,null,null,null,null,null,null,null,null,null,null,null,null,null,null,377,0.10278972929107477,10.361440088195527,5.7207568213070008]
[null,null,null,null,null,null,null,null,null,null,null,null,null,null,null,null,null,null,null,null,null,null,null,null,null,null,null,null,null,null,null,null,null,null,null,null,null,null,null,null,null,null,null,null,378,0.10306238109290786,10.416480841782676,5.7587851180956111]
[null,null,null,null,null,null,null,null,null,null,null,null,null,null,null,null,null,null,null,null,null,null,null,null,null,null,null,null,null,null,null,null,null,null,null,null,null,null,null,null,null,null,null,null,379,0.10333503289474094,10.471667398690581,5.7969525962764248]
[null,null,null,null,null,null,null,null,null,null,null,null,null,null,null,null,null,null,null,null,null,null,null,null,null,null,null,null,null,null,null,null,null,null,null,null,null,null,null,null,null,null,null,null,{"$f":"AS410+1","v":380},0.10360768469657404,10.526999758919251,5.8352593097932459]
[null,null,null,null,null,null,null,null,null,null,null,null,null,null,null,null,null,null,null,null,null,null,null,null,null,null,null,null,null,null,null,null,null,null,null,null,null,null,null,null,null,null,null,null,381,0.10388033649840712,10.58247792246868,5.8737053121504408]
[null,null,null,null,null,null,null,null,null,null,null,null,null,null,null,null,null,null,null,null,null,null,null,null,null,null,null,null,null,null,null,null,null,null,null,null,null,null,null,null,null,null,null,null,382,0.10415298830024021,10.638101889338868,5.9122906564165145]
[null,null,null,null,null,null,null,null,null,null,null,null,null,null,null,null,null,null,null,null,null,null,null,null,null,null,null,null,null,null,null,null,null,null,null,null,null,null,null,null,null,null,null,null,383,0.10442564010207331,10.693871659529821,5.9510153952276648]
[null,null,null,null,null,null,null,null,null,null,null,null,null,null,null,null,null,null,null,null,null,null,null,null,null,null,null,null,null,null,null,null,null,null,null,null,null,null,null,null,null,null,null,null,384,{"$f":"$AP$18/$N$7*AS415","v":0.10469829190390639},10.74978723304153,5.9898795807913014]
[null,null,null,null,null,null,null,null,null,null,null,null,null,null,null,null,null,null,null,null,null,null,null,null,null,null,null,null,null,null,null,null,null,null,null,null,null,null,null,null,null,null,null,null,385,0.10497094370573948,{"$f":"IF(($N$4*AT416^2/2)<=$AP$13,($N$4*AT416^2/2), IF(($AP$13+$N$6*(AT416-$AP$12))<=$AP$17, ($AP$13+$N$6*(AT416-$AP$12)), IF(AU415<$D$14, ($AP$17+($N$6-$N$5*(AT416-$AP$16)/2)*(AT416-$AP$16)), $D$14)))","v":10.805848609874001},6.0288832648895427]
[null,null,null,null,null,null,null,null,null,null,null,null,null,null,null,null,null,null,null,null,null,null,null,null,null,null,null,null,null,null,null,null,null,null,null,null,null,null,null,null,null,null,null,null,386,0.10524359550757258,10.862055790027235,{"$f":"( $AP$6*AU417 + $AP$7*AU416 + $AP$9*AV416 )/$AP$8","v":6.0680264988826744}]
[null,null,null,null,null,null,null,null,null,null,null,null,null,null,null,null,null,null,null,null,null,null,null,null,null,null,null,null,null,null,null,null,null,null,null,null,null,null,null,null,null,null,null,null,387,0.10551624730940566,10.918408773501227,6.1073093337125899]
[null,null,null,null,null,null,null,null,null,null,null,null,null,null,null,null,null,null,null,null,null,null,null,null,null,null,null,null,null,null,null,null,null,null,null,null,null,null,null,null,null,null,null,null,388,0.10578889911123875,10.974907560295978,6.1467318199061989]
[null,null,null,null,null,null,null,null,null,null,null,null,null,null,null,null,null,null,null,null,null,null,null,null,null,null,null,null,null,null,null,null,null,null,null,null,null,null,null,null,null,null,null,null,389,0.10606155091307184,11.031552150411496,6.1862940075788071]
[null,null,null,null,null,null,null,null,null,null,null,null,null,null,null,null,null,null,null,null,null,null,null,null,null,null,null,null,null,null,null,null,null,null,null,null,null,null,null,null,null,null,null,null,390,0.10633420271490493,11.088342543847769,6.2259959464374672]
[null,null,null,null,null,null,null,null,null,null,null,null,null,null,null,null,null,null,null,null,null,null,null,null,null,null,null,null,null,null,null,null,null,null,null,null,null,null,null,null,null,null,null,null,391,0.10660685451673801,11.145278740604804,6.2658376857843088]
[null,null,null,null,null,null,null,null,null,null,null,null,null,null,null,null,null,null,null,null,null,null,null,null,null,null,null,null,null,null,null,null,null,null,null,null,null,null,null,null,null,null,null,null,392,0.10687950631857111,11.2023607406826,6.3058192745198314]
[null,null,null,null,null,null,null,null,null,null,null,null,null,null,null,null,null,null,null,null,null,null,null,null,null,null,null,null,null,null,null,null,null,null,null,null,null,null,null,null,null,null,null,null,393,0.1071521581204042,11.259588544081158,6.3459407611461822]
[null,null,null,null,null,null,null,null,null,null,null,null,null,null,null,null,null,null,null,null,null,null,null,null,null,null,null,null,null,null,null,null,null,null,null,null,null,null,null,null,null,null,null,null,394,0.10742480992223728,11.316962150800475,6.3862021937703988]
[null,null,null,null,null,null,null,null,null,null,null,null,null,null,null,null,null,null,null,null,null,null,null,null,null,null,null,null,null,null,null,null,null,null,null,null,null,null,null,null,null,null,null,null,395,0.10769746172407038,11.374481560840554,6.4266036201076249]
[null,null,null,null,null,null,null,null,null,null,null,null,null,null,null,null,null,null,null,null,null,null,null,null,null,null,null,null,null,null,null,null,null,null,null,null,null,null,null,null,null,null,null,null,396,0.10797011352590347,11.432146774201392,6.4671450874843055]
[null,null,null,null,null,null,null,null,null,null,null,null,null,null,null,null,null,null,null,null,null,null,null,null,null,null,null,null,null,null,null,null,null,null,null,null,null,null,null,null,null,null,null,null,397,0.10824276532773655,11.489957790882992,6.5078266428413558]
[null,null,null,null,null,null,null,null,null,null,null,null,null,null,null,null,null,null,null,null,null,null,null,null,null,null,null,null,null,null,null,null,null,null,null,null,null,null,null,null,null,null,null,null,398,0.10851541712956965,11.547914610885353,6.5486483327372973]
[null,null,null,null,null,null,null,null,null,null,null,null,null,null,null,null,null,null,null,null,null,null,null,null,null,null,null,null,null,null,null,null,null,null,null,null,null,null,null,null,null,null,null,null,399,0.10878806893140273,11.606017234208473,6.5896102033513744]
[null,null,null,null,null,null,null,null,null,null,null,null,null,null,null,null,null,null,null,null,null,null,null,null,null,null,null,null,null,null,null,null,null,null,null,null,null,null,null,null,null,null,null,null,400,0.10906072073323583,11.664265660852355,6.6307123004866453]
[null,null,null,null,null,null,null,null,null,null,null,null,null,null,null,null,null,null,null,null,null,null,null,null,null,null,null,null,null,null,null,null,null,null,null,null,null,null,null,null,null,null,null,null,{"$f":"AS431+1","v":401},0.10933337253506892,11.722659890816997,6.6719546695730454]
[null,null,null,null,null,null,null,null,null,null,null,null,null,null,null,null,null,null,null,null,null,null,null,null,null,null,null,null,null,null,null,null,null,null,null,null,null,null,null,null,null,null,null,null,402,0.109606024336902,11.781199924102399,6.7133373556704266]
[null,null,null,null,null,null,null,null,null,null,null,null,null,null,null,null,null,null,null,null,null,null,null,null,null,null,null,null,null,null,null,null,null,null,null,null,null,null,null,null,null,null,null,null,403,0.1098786761387351,11.839885760708565,6.7548604034715725]
[null,null,null,null,null,null,null,null,null,null,null,null,null,null,null,null,null,null,null,null,null,null,null,null,null,null,null,null,null,null,null,null,null,null,null,null,null,null,null,null,null,null,null,null,404,0.11015132794056819,11.898717400635487,6.7965238573051883]
[null,null,null,null,null,null,null,null,null,null,null,null,null,null,null,null,null,null,null,null,null,null,null,null,null,null,null,null,null,null,null,null,null,null,null,null,null,null,null,null,null,null,null,null,405,0.11042397974240127,11.957694843883171,6.8383277611388689]
[null,null,null,null,null,null,null,null,null,null,null,null,null,null,null,null,null,null,null,null,null,null,null,null,null,null,null,null,null,null,null,null,null,null,null,null,null,null,null,null,null,null,null,null,406,0.11069663154423437,12.016818090451618,6.880272158582037]
[null,null,null,null,null,null,null,null,null,null,null,null,null,null,null,null,null,null,null,null,null,null,null,null,null,null,null,null,null,null,null,null,null,null,null,null,null,null,null,null,null,null,null,null,407,0.11096928334606745,12.076087140340825,6.9223570928888627]
[null,null,null,null,null,null,null,null,null,null,null,null,null,null,null,null,null,null,null,null,null,null,null,null,null,null,null,null,null,null,null,null,null,null,null,null,null,null,null,null,null,null,null,null,408,0.11124193514790054,12.13550199355079,6.9645826069611587]
[null,null,null,null,null,null,null,null,null,null,null,null,null,null,null,null,null,null,null,null,null,null,null,null,null,null,null,null,null,null,null,null,null,null,null,null,null,null,null,null,null,null,null,null,409,0.11151458694973364,12.195062650081518,7.0069487433512485]
[null,null,null,null,null,null,null,null,null,null,null,null,null,null,null,null,null,null,null,null,null,null,null,null,null,null,null,null,null,null,null,null,null,null,null,null,null,null,null,null,null,null,null,null,410,0.11178723875156672,12.254769109933005,7.0494555442648128]
[null,null,null,null,null,null,null,null,null,null,null,null,null,null,null,null,null,null,null,null,null,null,null,null,null,null,null,null,null,null,null,null,null,null,null,null,null,null,null,null,null,null,null,null,411,0.11205989055339981,12.314621373105252,7.0921030515637167]
[null,null,null,null,null,null,null,null,null,null,null,null,null,null,null,null,null,null,null,null,null,null,null,null,null,null,null,null,null,null,null,null,null,null,null,null,null,null,null,null,null,null,null,null,412,0.11233254235523291,12.374619439598263,7.1348913067688082]
[null,null,null,null,null,null,null,null,null,null,null,null,null,null,null,null,null,null,null,null,null,null,null,null,null,null,null,null,null,null,null,null,null,null,null,null,null,null,null,null,null,null,null,null,413,0.11260519415706599,12.434763309412032,7.1778203510626959]
[null,null,null,null,null,null,null,null,null,null,null,null,null,null,null,null,null,null,null,null,null,null,null,null,null,null,null,null,null,null,null,null,null,null,null,null,null,null,null,null,null,null,null,null,414,0.11287784595889908,12.495052982546563,7.2208902252925053]
[null,null,null,null,null,null,null,null,null,null,null,null,null,null,null,null,null,null,null,null,null,null,null,null,null,null,null,null,null,null,null,null,null,null,null,null,null,null,null,null,null,null,null,null,415,0.11315049776073217,12.555488459001856,7.2641009699726133]
[null,null,null,null,null,null,null,null,null,null,null,null,null,null,null,null,null,null,null,null,null,null,null,null,null,null,null,null,null,null,null,null,null,null,null,null,null,null,null,null,null,null,null,null,416,0.11342314956256526,12.616069738777906,7.307452625287354]
[null,null,null,null,null,null,null,null,null,null,null,null,null,null,null,null,null,null,null,null,null,null,null,null,null,null,null,null,null,null,null,null,null,null,null,null,null,null,null,null,null,null,null,null,417,0.11369580136439834,12.676796821874717,7.3509452310937116]
[null,null,null,null,null,null,null,null,null,null,null,null,null,null,null,null,null,null,null,null,null,null,null,null,null,null,null,null,null,null,null,null,null,null,null,null,null,null,null,null,null,null,null,null,418,0.11396845316623144,12.737669708292295,7.394578826923988]
[null,null,null,null,null,null,null,null,null,null,null,null,null,null,null,null,null,null,null,null,null,null,null,null,null,null,null,null,null,null,null,null,null,null,null,null,null,null,null,null,null,null,null,null,419,0.11424110496806453,12.798688398030626,7.4383534519884424]
[null,null,null,null,null,null,null,null,null,null,null,null,null,null,null,null,null,null,null,null,null,null,null,null,null,null,null,null,null,null,null,null,null,null,null,null,null,null,null,null,null,null,null,null,420,0.11451375676989761,12.859852891089721,7.4822691451779191]
[null,null,null,null,null,null,null,null,null,null,null,null,null,null,null,null,null,null,null,null,null,null,null,null,null,null,null,null,null,null,null,null,null,null,null,null,null,null,null,null,null,null,null,null,421,0.11478640857173071,12.921163187469578,7.526325945066449]
[null,null,null,null,null,null,null,null,null,null,null,null,null,null,null,null,null,null,null,null,null,null,null,null,null,null,null,null,null,null,null,null,null,null,null,null,null,null,null,null,null,null,null,null,422,0.1150590603735638,12.982619287170191,7.5705238899138294]
[null,null,null,null,null,null,null,null,null,null,null,null,null,null,null,null,null,null,null,null,null,null,null,null,null,null,null,null,null,null,null,null,null,null,null,null,null,null,null,null,null,null,null,null,423,0.11533171217539688,13.044221190191566,7.6148630176681822]
[null,null,null,null,null,null,null,null,null,null,null,null,null,null,null,null,null,null,null,null,null,null,null,null,null,null,null,null,null,null,null,null,null,null,null,null,null,null,null,null,null,null,null,null,424,0.11560436397722998,13.105968896533705,7.659343365968498]
[null,null,null,null,null,null,null,null,null,null,null,null,null,null,null,null,null,null,null,null,null,null,null,null,null,null,null,null,null,null,null,null,null,null,null,null,null,null,null,null,null,null,null,null,425,0.11587701577906306,13.167862406196603,7.7039649721471504]
[null,null,null,null,null,null,null,null,null,null,null,null,null,null,null,null,null,null,null,null,null,null,null,null,null,null,null,null,null,null,null,null,null,null,null,null,null,null,null,null,null,null,null,null,426,0.11614966758089615,13.229901719180262,7.7487278732323928]
[null,null,null,null,null,null,null,null,null,null,null,null,null,null,null,null,null,null,null,null,null,null,null,null,null,null,null,null,null,null,null,null,null,null,null,null,null,null,null,null,null,null,null,null,427,0.11642231938272925,13.29208683548468,7.7936321059508398]
[null,null,null,null,null,null,null,null,null,null,null,null,null,null,null,null,null,null,null,null,null,null,null,null,null,null,null,null,null,null,null,null,null,null,null,null,null,null,null,null,null,null,null,null,428,0.11669497118456233,13.354417755109861,7.8386777067299214]
[null,null,null,null,null,null,null,null,null,null,null,null,null,null,null,null,null,null,null,null,null,null,null,null,null,null,null,null,null,null,null,null,null,null,null,null,null,null,null,null,null,null,null,null,429,0.11696762298639542,13.416894478055799,7.8838647117003209]
[null,null,null,null,null,null,null,null,null,null,null,null,null,null,null,null,null,null,null,null,null,null,null,null,null,null,null,null,null,null,null,null,null,null,null,null,null,null,null,null,null,null,null,null,430,0.11724027478822852,13.479517004322503,7.9291931566983926]
[null,null,null,null,null,null,null,null,null,null,null,null,null,null,null,null,null,null,null,null,null,null,null,null,null,null,null,null,null,null,null,null,null,null,null,null,null,null,null,null,null,null,null,null,431,0.1175129265900616,13.542285333909962,7.9746630772685592]
[null,null,null,null,null,null,null,null,null,null,null,null,null,null,null,null,null,null,null,null,null,null,null,null,null,null,null,null,null,null,null,null,null,null,null,null,null,null,null,null,null,null,null,null,432,0.11778557839189469,13.605199466818185,8.0202745086656897]
[null,null,null,null,null,null,null,null,null,null,null,null,null,null,null,null,null,null,null,null,null,null,null,null,null,null,null,null,null,null,null,null,null,null,null,null,null,null,null,null,null,null,null,null,433,0.11805823019372778,13.66825940304717,8.0660274858574628]
[null,null,null,null,null,null,null,null,null,null,null,null,null,null,null,null,null,null,null,null,null,null,null,null,null,null,null,null,null,null,null,null,null,null,null,null,null,null,null,null,null,null,null,null,434,0.11833088199556087,13.731465142596912,8.111922043526695]
[null,null,null,null,null,null,null,null,null,null,null,null,null,null,null,null,null,null,null,null,null,null,null,null,null,null,null,null,null,null,null,null,null,null,null,null,null,null,null,null,null,null,null,null,435,0.11860353379739397,13.794816685467419,8.1579582160736717]
[null,null,null,null,null,null,null,null,null,null,null,null,null,null,null,null,null,null,null,null,null,null,null,null,null,null,null,null,null,null,null,null,null,null,null,null,null,null,null,null,null,null,null,null,436,0.11887618559922705,13.858314031658683,8.2041360376184471]
[null,null,null,null,null,null,null,null,null,null,null,null,null,null,null,null,null,null,null,null,null,null,null,null,null,null,null,null,null,null,null,null,null,null,null,null,null,null,null,null,null,null,null,null,437,0.11914883740106014,13.921957181170706,8.250455542003122]
[null,null,null,null,null,null,null,null,null,null,null,null,null,null,null,null,null,null,null,null,null,null,null,null,null,null,null,null,null,null,null,null,null,null,null,null,null,null,null,null,null,null,null,null,438,0.11942148920289324,13.985746134003495,8.2969167627941136]
[null,null,null,null,null,null,null,null,null,null,null,null,null,null,null,null,null,null,null,null,null,null,null,null,null,null,null,null,null,null,null,null,null,null,null,null,null,null,null,null,null,null,null,null,439,0.11969414100472632,14.049680890157042,8.3435197332844009]
[null,null,null,null,null,null,null,null,null,null,null,null,null,null,null,null,null,null,null,null,null,null,null,null,null,null,null,null,null,null,null,null,null,null,null,null,null,null,null,null,null,null,null,null,440,0.11996679280655941,14.113761449631347,8.390264486495747]
[null,null,null,null,null,null,null,null,null,null,null,null,null,null,null,null,null,null,null,null,null,null,null,null,null,null,null,null,null,null,null,null,null,null,null,null,null,null,null,null,null,null,null,null,441,0.1202394446083925,14.177987812426418,8.4371510551809124]
[null,null,null,null,null,null,null,null,null,null,null,null,null,null,null,null,null,null,null,null,null,null,null,null,null,null,null,null,null,null,null,null,null,null,null,null,null,null,null,null,null,null,null,null,442,0.12051209641022559,14.242359978542247,8.484179471825847]
[null,null,null,null,null,null,null,null,null,null,null,null,null,null,null,null,null,null,null,null,null,null,null,null,null,null,null,null,null,null,null,null,null,null,null,null,null,null,null,null,null,null,null,null,443,0.12078474821205867,14.306877947978835,8.5313497686518609]
[null,null,null,null,null,null,null,null,null,null,null,null,null,null,null,null,null,null,null,null,null,null,null,null,null,null,null,null,null,null,null,null,null,null,null,null,null,null,null,null,null,null,null,null,444,0.12105740001389177,14.371541720736188,8.5786619776177844]
[null,null,null,null,null,null,null,null,null,null,null,null,null,null,null,null,null,null,null,null,null,null,null,null,null,null,null,null,null,null,null,null,null,null,null,null,null,null,null,null,null,null,null,null,445,0.12133005181572486,14.436351296814296,8.6261161304221012]
[null,null,null,null,null,null,null,null,null,null,null,null,null,null,null,null,null,null,null,null,null,null,null,null,null,null,null,null,null,null,null,null,null,null,null,null,null,null,null,null,null,null,null,null,446,0.12160270361755794,14.501306676213169,8.6737122585050734]
[null,null,null,null,null,null,null,null,null,null,null,null,null,null,null,null,null,null,null,null,null,null,null,null,null,null,null,null,null,null,null,null,null,null,null,null,null,null,null,null,null,null,null,null,447,0.12187535541939104,14.566407858932802,8.7214503930508407]
[null,null,null,null,null,null,null,null,null,null,null,null,null,null,null,null,null,null,null,null,null,null,null,null,null,null,null,null,null,null,null,null,null,null,null,null,null,null,null,null,null,null,null,null,448,{"$f":"$AP$18/$N$7*AS479","v":0.12214800722122413},14.631654844973193,8.7693305649895095]
[null,null,null,null,null,null,null,null,null,null,null,null,null,null,null,null,null,null,null,null,null,null,null,null,null,null,null,null,null,null,null,null,null,null,null,null,null,null,null,null,null,null,null,null,449,0.12242065902305721,{"$f":"IF(($N$4*AT480^2/2)<=$AP$13,($N$4*AT480^2/2), IF(($AP$13+$N$6*(AT480-$AP$12))<=$AP$17, ($AP$13+$N$6*(AT480-$AP$12)), IF(AU479<$D$14, ($AP$17+($N$6-$N$5*(AT480-$AP$16)/2)*(AT480-$AP$16)), $D$14)))","v":14.697044698651563},8.8173527930418398]
[null,null,null,null,null,null,null,null,null,null,null,null,null,null,null,null,null,null,null,null,null,null,null,null,null,null,null,null,null,null,null,null,null,null,null,null,null,null,null,null,null,null,null,null,450,0.12269331082489031,14.762481131091507,{"$f":"( $AP$6*AU481 + $AP$7*AU480 + $AP$9*AV480 )/$AP$8","v":8.8655166916226626}]
[null,null,null,null,null,null,null,null,null,null,null,null,null,null,null,null,null,null,null,null,null,null,null,null,null,null,null,null,null,null,null,null,null,null,null,null,null,null,null,null,null,null,null,null,451,0.12296596262672339,14.827917563531448,8.9138212963710011]
[null,null,null,null,null,null,null,null,null,null,null,null,null,null,null,null,null,null,null,null,null,null,null,null,null,null,null,null,null,null,null,null,null,null,null,null,null,null,null,null,null,null,null,null,452,0.12323861442855648,14.893353995971388,8.9622654610609604]
[null,null,null,null,null,null,null,null,null,null,null,null,null,null,null,null,null,null,null,null,null,null,null,null,null,null,null,null,null,null,null,null,null,null,null,null,null,null,null,null,null,null,null,null,453,0.12351126623038958,14.958790428411332,9.010848048804073]
[null,null,null,null,null,null,null,null,null,null,null,null,null,null,null,null,null,null,null,null,null,null,null,null,null,null,null,null,null,null,null,null,null,null,null,null,null,null,null,null,null,null,null,null,454,0.12378391803222266,15.024226860851272,9.0595679319732376]
[null,null,null,null,null,null,null,null,null,null,null,null,null,null,null,null,null,null,null,null,null,null,null,null,null,null,null,null,null,null,null,null,null,null,null,null,null,null,null,null,null,null,null,null,455,0.12405656983405575,15.089663293291213,9.1084239921272712]
[null,null,null,null,null,null,null,null,null,null,null,null,null,null,null,null,null,null,null,null,null,null,null,null,null,null,null,null,null,null,null,null,null,null,null,null,null,null,null,null,null,null,null,null,456,0.12432922163588885,15.155099725731157,9.1574151199360774]
[null,null,null,null,null,null,null,null,null,null,null,null,null,null,null,null,null,null,null,null,null,null,null,null,null,null,null,null,null,null,null,null,null,null,null,null,null,null,null,null,null,null,null,null,457,0.12460187343772193,15.220536158171097,9.2065402151064273]
[null,null,null,null,null,null,null,null,null,null,null,null,null,null,null,null,null,null,null,null,null,null,null,null,null,null,null,null,null,null,null,null,null,null,null,null,null,null,null,null,null,null,null,null,458,0.12487452523955501,15.285972590611037,9.2557981863083416]
[null,null,null,null,null,null,null,null,null,null,null,null,null,null,null,null,null,null,null,null,null,null,null,null,null,null,null,null,null,null,null,null,null,null,null,null,null,null,null,null,null,null,null,null,459,0.12514717704138811,15.35140902305098,9.3051879511020754]
[null,null,null,null,null,null,null,null,null,null,null,null,null,null,null,null,null,null,null,null,null,null,null,null,null,null,null,null,null,null,null,null,null,null,null,null,null,null,null,null,null,null,null,null,460,0.1254198288432212,15.416845455490922,9.3547084358656942]
[null,null,null,null,null,null,null,null,null,null,null,null,null,null,null,null,null,null,null,null,null,null,null,null,null,null,null,null,null,null,null,null,null,null,null,null,null,null,null,null,null,null,null,null,461,0.12569248064505428,15.482281887930862,9.4043585757232417]
[null,null,null,null,null,null,null,null,null,null,null,null,null,null,null,null,null,null,null,null,null,null,null,null,null,null,null,null,null,null,null,null,null,null,null,null,null,null,null,null,null,null,null,null,462,0.12596513244688737,15.547718320370802,9.4541373144734973]
[null,null,null,null,null,null,null,null,null,null,null,null,null,null,null,null,null,null,null,null,null,null,null,null,null,null,null,null,null,null,null,null,null,null,null,null,null,null,null,null,null,null,null,null,463,0.12623778424872048,15.613154752810749,9.5040436045193069]
[null,null,null,null,null,null,null,null,null,null,null,null,null,null,null,null,null,null,null,null,null,null,null,null,null,null,null,null,null,null,null,null,null,null,null,null,null,null,null,null,null,null,null,null,464,0.12651043605055357,15.678591185250689,9.5540764067974902]
[null,null,null,null,null,null,null,null,null,null,null,null,null,null,null,null,null,null,null,null,null,null,null,null,null,null,null,null,null,null,null,null,null,null,null,null,null,null,null,null,null,null,null,null,{"$f":"AS495+1","v":465},0.12678308785238665,15.74402761769063,9.6042346907093226]
[null,null,null,null,null,null,null,null,null,null,null,null,null,null,null,null,null,null,null,null,null,null,null,null,null,null,null,null,null,null,null,null,null,null,null,null,null,null,null,null,null,null,null,null,466,0.12705573965421973,15.80946405013057,9.6545174340515807]
[null,null,null,null,null,null,null,null,null,null,null,null,null,null,null,null,null,null,null,null,null,null,null,null,null,null,null,null,null,null,null,null,null,null,null,null,null,null,null,null,null,null,null,null,467,0.12732839145605282,15.87490048257051,9.7049236229481526]
[null,null,null,null,null,null,null,null,null,null,null,null,null,null,null,null,null,null,null,null,null,null,null,null,null,null,null,null,null,null,null,null,null,null,null,null,null,null,null,null,null,null,null,null,468,0.1276010432578859,15.94033691501045,9.755452251782204]
[null,null,null,null,null,null,null,null,null,null,null,null,null,null,null,null,null,null,null,null,null,null,null,null,null,null,null,null,null,null,null,null,null,null,null,null,null,null,null,null,null,null,null,null,469,0.12787369505971902,16.005773347450397,9.8061023231288935]
[null,null,null,null,null,null,null,null,null,null,null,null,null,null,null,null,null,null,null,null,null,null,null,null,null,null,null,null,null,null,null,null,null,null,null,null,null,null,null,null,null,null,null,null,470,0.1281463468615521,16.071209779890339,9.8568728476886385]
[null,null,null,null,null,null,null,null,null,null,null,null,null,null,null,null,null,null,null,null,null,null,null,null,null,null,null,null,null,null,null,null,null,null,null,null,null,null,null,null,null,null,null,null,476,0.12978225767255064,16.463828374529985,10.163971118960175]
[null,null,null,null,null,null,null,null,null,null,null,null,null,null,null,null,null,null,null,null,null,null,null,null,null,null,null,null,null,null,null,null,null,null,null,null,null,null,null,null,null,null,null,null,481,0.13114551668171609,16.791010536729694,10.423023527513395]
[null,null,null,null,null,null,null,null,null,null,null,null,null,null,null,null,null,null,null,null,null,null,null,null,null,null,null,null,null,null,null,null,null,null,null,null,null,null,null,null,null,null,null,null,487,0.13278142749271463,17.183629131369344,10.737480524240361]
[null,null,null,null,null,null,null,null,null,null,null,null,null,null,null,null,null,null,null,null,null,null,null,null,null,null,null,null,null,null,null,null,null,null,null,null,null,null,null,null,null,null,null,null,495,0.13496264190737933,17.707120590888874,11.162548308342298]
[null,null,null,null,null,null,null,null,null,null,null,null,null,null,null,null,null,null,null,null,null,null,null,null,null,null,null,null,null,null,null,null,null,null,null,null,null,null,null,null,null,null,null,null,498,0.13578059731287861,17.903429888208702,11.323577789928818]
[null,null,null,null,null,null,null,null,null,null,null,null,null,null,null,null,null,null,null,null,null,null,null,null,null,null,null,null,null,null,null,null,null,null,null,null,null,null,null,null,null,null,null,null,504,0.13741650812387715,18.296048482848349,11.648181589405906]
[null,null,null,null,null,null,null,null,null,null,null,null,null,null,null,null,null,null,null,null,null,null,null,null,null,null,null,null,null,null,null,null,null,null,null,null,null,null,null,null,null,null,null,null,509,0.13877976713304258,18.62323064504805,11.921179774554972]
[null,null,null,null,null,null,null,null,null,null,null,null,null,null,null,null,null,null,null,null,null,null,null,null,null,null,null,null,null,null,null,null,null,null,null,null,null,null,null,null,null,null,null,null,515,0.14041567794404114,19.015849239687707,12.251636009860146]
[null,null,null,null,null,null,null,null,null,null,null,null,null,null,null,null,null,null,null,null,null,null,null,null,null,null,null,null,null,null,null,null,null,null,null,null,null,null,null,null,null,null,null,null,520,0.14177893695320656,19.343031401887409,12.529296537192867]
[null,null,null,null,null,null,null,null,null,null,null,null,null,null,null,null,null,null,null,null,null,null,null,null,null,null,null,null,null,null,null,null,null,null,null,null,null,null,null,null,null,null,null,null,526,0.1434148477642051,19.735649996527059,12.865101626641565]
[null,null,null,null,null,null,null,null,null,null,null,null,null,null,null,null,null,null,null,null,null,null,null,null,null,null,null,null,null,null,null,null,null,null,null,null,null,null,null,null,null,null,null,null,527,0.14368749956603821,19.801086428967004,12.921337277565362]
[null,null,null,null,null,null,null,null,null,null,null,null,null,null,null,null,null,null,null,null,null,null,null,null,null,null,null,null,null,null,null,null,null,null,null,null,null,null,null,null,null,null,null,null,532,0.14505075857520364,20.128268591166705,13.203627671360731]
[null,null,null,null,null,null,null,null,null,null,null,null,null,null,null,null,null,null,null,null,null,null,null,null,null,null,null,null,null,null,null,null,null,null,null,null,null,null,null,null,null,null,null,null,537,0.14641401758436909,20.455450753366414,13.487717011234105]
[null,null,null,null,null,null,null,null,null,null,null,null,null,null,null,null,null,null,null,null,null,null,null,null,null,null,null,null,null,null,null,null,null,null,null,null,null,null,null,null,null,null,null,null,545,0.14859523199903382,20.978942212885951,13.945822913566479]
[null,null,null,null,null,null,null,null,null,null,null,null,null,null,null,null,null,null,null,null,null,null,null,null,null,null,null,null,null,null,null,null,null,null,null,null,null,null,null,null,null,null,null,null,549,0.14968583920636616,21.240687942645714,14.176445776656484]
[null,null,null,null,null,null,null,null,null,null,null,null,null,null,null,null,null,null,null,null,null,null,null,null,null,null,null,null,null,null,null,null,null,null,null,null,null,null,null,null,null,null,null,null,555,0.1513217500173647,21.63330653728536,14.524248350848605]
[null,null,null,null,null,null,null,null,null,null,null,null,null,null,null,null,null,null,null,null,null,null,null,null,null,null,null,null,null,null,null,null,null,null,null,null,null,null,null,null,null,null,null,null,560,0.15268500902653015,21.960488699485069,14.815727836628771]
[null,null,null,null,null,null,null,null,null,null,null,null,null,null,null,null,null,null,null,null,null,null,null,null,null,null,null,null,null,null,null,null,null,null,null,null,null,null,null,null,null,null,null,null,564,0.15377561623386252,22.222234429244835,15.049944323517776]
[null,null,null,null,null,null,null,null,null,null,null,null,null,null,null,null,null,null,null,null,null,null,null,null,null,null,null,null,null,null,null,null,null,null,null,null,null,null,null,null,null,null,null,null,572,0.15595683064852722,22.745725888764369,15.521007185072525]
[null,null,null,null,null,null,null,null,null,null,null,null,null,null,null,null,null,null,null,null,null,null,null,null,null,null,null,null,null,null,null,null,null,null,null,null,null,null,null,null,null,null,null,null,577,0.15732008965769267,{"$f":"IF(($N$4*AT608^2/2)<=$AP$13,($N$4*AT608^2/2), IF(($AP$13+$N$6*(AT608-$AP$12))<=$AP$17, ($AP$13+$N$6*(AT608-$AP$12)), IF(AU607<$D$14, ($AP$17+($N$6-$N$5*(AT608-$AP$16)/2)*(AT608-$AP$16)), $D$14)))","v":23.072908050964074},15.817121530233196]
[null,null,null,null,null,null,null,null,null,null,null,null,null,null,null,null,null,null,null,null,null,null,null,null,null,null,null,null,null,null,null,null,null,null,null,null,null,null,null,null,null,null,null,null,583,0.15895600046869121,23.465526645603724,16.174097691230262]
[null,null,null,null,null,null,null,null,null,null,null,null,null,null,null,null,null,null,null,null,null,null,null,null,null,null,null,null,null,null,null,null,null,null,null,null,null,null,null,null,null,null,null,null,588,0.16031925947785666,23.792708807803432,16.472885313655166]
[null,null,null,null,null,null,null,null,null,null,null,null,null,null,null,null,null,null,null,null,null,null,null,null,null,null,null,null,null,null,null,null,null,null,null,null,null,null,null,null,null,null,null,null,589,0.16059191127968975,23.858145240243374,16.532780866560394]
[null,null,null,null,null,null,null,null,null,null,null,null,null,null,null,null,null,null,null,null,null,null,null,null,null,null,null,null,null,null,null,null,null,null,null,null,null,null,null,null,null,null,null,null,595,0.16222782209068828,24.250763834883021,16.893089302604764]
[null,null,null,null,null,null,null,null,null,null,null,null,null,null,null,null,null,null,null,null,null,null,null,null,null,null,null,null,null,null,null,null,null,null,null,null,null,null,null,null,null,null,null,null,600,0.16359108109985374,24.577945997082729,17.1945315814799]
[null,null,null,null,null,null,null,null,null,null,null,null,null,null,null,null,null,null,null,null,null,null,null,null,null,null,null,null,null,null,null,null,null,null,null,null,null,null,null,null,null,null,null,null,605,0.16495434010901919,24.905128159282437,17.497005333691931]
[null,null,null,null,null,null,null,null,null,null,null,null,null,null,null,null,null,null,null,null,null,null,null,null,null,null,null,null,null,null,null,null,null,null,null,null,null,null,null,null,null,null,null,null,611,0.16659025092001772,25.297746753922087,17.861277299976823]
[null,null,null,null,null,null,null,null,null,null,null,null,null,null,null,null,null,null,null,null,null,null,null,null,null,null,null,null,null,null,null,null,null,null,null,null,null,null,null,null,null,null,null,null,620,0.16904411713651554,25.886674645881563,18.410210303983693]
[null,null,null,null,null,null,null,null,null,null,null,null,null,null,null,null,null,null,null,null,null,null,null,null,null,null,null,null,null,null,null,null,null,null,null,null,null,null,null,null,null,null,null,null,623,0.1698620725420148,26.082983943201384,18.59382900779196]
[null,null,null,null,null,null,null,null,null,null,null,null,null,null,null,null,null,null,null,null,null,null,null,null,null,null,null,null,null,null,null,null,null,null,null,null,null,null,null,null,null,null,null,null,628,0.17122533155118025,26.410166105401093,18.900540095715055]
[null,null,null,null,null,null,null,null,null,null,null,null,null,null,null,null,null,null,null,null,null,null,null,null,null,null,null,null,null,null,null,null,null,null,null,null,null,null,null,null,null,null,null,null,633,0.1725885905603457,26.737348267600801,19.208071520196299]
[null,null,null,null,null,null,null,null,null,null,null,null,null,null,null,null,null,null,null,null,null,null,null,null,null,null,null,null,null,null,null,null,null,null,null,null,null,null,null,null,null,null,null,null,639,0.17422450137134424,27.129966862240451,19.578145881545339]
[null,null,null,null,null,null,null,null,null,null,null,null,null,null,null,null,null,null,null,null,null,null,null,null,null,null,null,null,null,null,null,null,null,null,null,null,null,null,null,null,null,null,null,null,645,0.17586041218234277,27.522585456880101,19.949299948330342]
[null,null,null,null,null,null,null,null,null,null,null,null,null,null,null,null,null,null,null,null,null,null,null,null,null,null,null,null,null,null,null,null,null,null,null,null,null,null,null,null,null,null,null,null,650,0.17722367119150823,27.849767619079806,20.259382397417646]
[null,null,null,null,null,null,null,null,null,null,null,null,null,null,null,null,null,null,null,null,null,null,null,null,null,null,null,null,null,null,null,null,null,null,null,null,null,null,null,null,null,null,null,null,656,0.17885958200250676,28.242386213719456,20.632383411937319]
[null,null,null,null,null,null,null,null,null,null,null,null,null,null,null,null,null,null,null,null,null,null,null,null,null,null,null,null,null,null,null,null,null,null,null,null,null,null,null,null,null,null,null,null,661,0.18022284101167221,28.569568375919165,20.943937231679048]
[null,null,null,null,null,null,null,null,null,null,null,null,null,null,null,null,null,null,null,null,null,null,null,null,null,null,null,null,null,null,null,null,null,null,null,null,null,null,null,null,null,null,null,null,662,0.1804954928135053,28.635004808359106,21.006323966410427]
[null,null,null,null,null,null,null,null,null,null,null,null,null,null,null,null,null,null,null,null,null,null,null,null,null,null,null,null,null,null,null,null,null,null,null,null,null,null,null,null,null,null,null,null,668,0.18213140362450383,29.027623402998753,21.381159063680393]
[null,null,null,null,null,null,null,null,null,null,null,null,null,null,null,null,null,null,null,null,null,null,null,null,null,null,null,null,null,null,null,null,null,null,null,null,null,null,null,null,null,null,null,null,673,0.18349466263366929,29.354805565198461,21.694174005188543]
[null,null,null,null,null,null,null,null,null,null,null,null,null,null,null,null,null,null,null,null,null,null,null,null,null,null,null,null,null,null,null,null,null,null,null,null,null,null,null,null,null,null,null,null,679,0.18513057344466782,29.747424159838111,22.070539310362637]
[null,null,null,null,null,null,null,null,null,null,null,null,null,null,null,null,null,null,null,null,null,null,null,null,null,null,null,null,null,null,null,null,null,null,null,null,null,null,null,null,null,null,null,null,684,0.18649383245383327,30.07460632203782,22.384773291783528]
[null,null,null,null,null,null,null,null,null,null,null,null,null,null,null,null,null,null,null,null,null,null,null,null,null,null,null,null,null,null,null,null,null,null,null,null,null,null,null,null,null,null,null,null,693,0.18894769867033107,30.663534213997288,22.951688014646102]
[null,null,null,null,null,null,null,null,null,null,null,null,null,null,null,null,null,null,null,null,null,null,null,null,null,null,null,null,null,null,null,null,null,null,null,null,null,null,null,null,null,null,null,null,696,0.18976565407583035,30.859843511317116,23.141012414765036]
[null,null,null,null,null,null,null,null,null,null,null,null,null,null,null,null,null,null,null,null,null,null,null,null,null,null,null,null,null,null,null,null,null,null,null,null,null,null,null,null,null,null,null,null,701,0.19112891308499577,31.187025673516818,23.456927306503058]
[null,null,null,null,null,null,null,null,null,null,null,null,null,null,null,null,null,null,null,null,null,null,null,null,null,null,null,null,null,null,null,null,null,null,null,null,null,null,null,null,null,null,null,null,707,0.19276482389599434,31.579644268156475,23.836619568428091]
[null,null,null,null,null,null,null,null,null,null,null,null,null,null,null,null,null,null,null,null,null,null,null,null,null,null,null,null,null,null,null,null,null,null,null,null,null,null,null,null,null,null,null,null,712,0.19412808290515976,31.906826430356176,24.15350396947915]
[null,null,null,null,null,null,null,null,null,null,null,null,null,null,null,null,null,null,null,null,null,null,null,null,null,null,null,null,null,null,null,null,null,null,null,null,null,null,null,null,null,null,null,null,714,0.19467338650882596,32.037699295236067,24.280374216407008]
[null,null,null,null,null,null,null,null,null,null,null,null,null,null,null,null,null,null,null,null,null,null,null,null,null,null,null,null,null,null,null,null,null,null,null,null,null,null,null,null,null,null,null,null,724,0.19739990452715683,32.692063619635476,24.915678833200275]
[null,null,null,null,null,null,null,null,null,null,null,null,null,null,null,null,null,null,null,null,null,null,null,null,null,null,null,null,null,null,null,null,null,null,null,null,null,null,null,null,null,null,null,null,729,0.19876316353632228,33.019245781835181,25.233900071700074]
[null,null,null,null,null,null,null,null,null,null,null,null,null,null,null,null,null,null,null,null,null,null,null,null,null,null,null,null,null,null,null,null,null,null,null,null,null,null,null,null,null,null,null,null,730,0.19903581533815537,33.084682214275119,25.297587879258796]
[null,null,null,null,null,null,null,null,null,null,null,null,null,null,null,null,null,null,null,null,null,null,null,null,null,null,null,null,null,null,null,null,null,null,null,null,null,null,null,null,null,null,null,null,737,0.20094437795098702,33.542737241354715,25.743794951617716]
[null,null,null,null,null,null,null,null,null,null,null,null,null,null,null,null,null,null,null,null,null,null,null,null,null,null,null,null,null,null,null,null,null,null,null,null,null,null,null,null,null,null,null,null,741,0.20203498515831936,33.804482971114481,25.999068846429239]
[null,null,null,null,null,null,null,null,null,null,null,null,null,null,null,null,null,null,null,null,null,null,null,null,null,null,null,null,null,null,null,null,null,null,null,null,null,null,null,null,null,null,null,null,747,0.20367089596931789,34.197101565754124,26.38236818746508]
[null,null,null,null,null,null,null,null,null,null,null,null,null,null,null,null,null,null,null,null,null,null,null,null,null,null,null,null,null,null,null,null,null,null,null,null,null,null,null,null,null,null,null,null,752,0.20503415497848335,34.524283727953836,26.702126167585117]
[null,null,null,null,null,null,null,null,null,null,null,null,null,null,null,null,null,null,null,null,null,null,null,null,null,null,null,null,null,null,null,null,null,null,null,null,null,null,null,null,null,null,null,null,758,0.20667006578948188,34.916902322593486,27.086227397879778]
[null,null,null,null,null,null,null,null,null,null,null,null,null,null,null,null,null,null,null,null,null,null,null,null,null,null,null,null,null,null,null,null,null,null,null,null,null,null,null,null,null,null,null,null,762,0.20776067299681425,35.178648052353253,27.342522732633967]
[null,null,null,null,null,null,null,null,null,null,null,null,null,null,null,null,null,null,null,null,null,null,null,null,null,null,null,null,null,null,null,null,null,null,null,null,null,null,null,null,null,null,null,null,769,0.20966923560964587,{"$f":"IF(($N$4*AT800^2/2)<=$AP$13,($N$4*AT800^2/2), IF(($AP$13+$N$6*(AT800-$AP$12))<=$AP$17, ($AP$13+$N$6*(AT800-$AP$12)), IF(AU799<$D$14, ($AP$17+($N$6-$N$5*(AT800-$AP$16)/2)*(AT800-$AP$16)), $D$14)))","v":35.636703079432841},27.79145832274612]
[null,null,null,null,null,null,null,null,null,null,null,null,null,null,null,null,null,null,null,null,null,null,null,null,null,null,null,null,null,null,null,null,null,null,null,null,null,null,null,null,null,null,null,null,775,0.21130514642064441,36.029321674072492,28.176665262471836]
[null,null,null,null,null,null,null,null,null,null,null,null,null,null,null,null,null,null,null,null,null,null,null,null,null,null,null,null,null,null,null,null,null,null,null,null,null,null,null,null,null,null,null,null,780,0.21266840542980986,36.356503836272196,28.497942930821292]
[null,null,null,null,null,null,null,null,null,null,null,null,null,null,null,null,null,null,null,null,null,null,null,null,null,null,null,null,null,null,null,null,null,null,null,null,null,null,null,null,null,null,null,null,{"$f":"AS815+1","v":785},0.21403166443897531,36.683685998471908,28.819457209721673]
[null,null,null,null,null,null,null,null,null,null,null,null,null,null,null,null,null,null,null,null,null,null,null,null,null,null,null,null,null,null,null,null,null,null,null,null,null,null,null,null,null,null,null,null,787,0.21457696804264148,36.814558863351792,28.948127035405324]
[null,null,null,null,null,null,null,null,null,null,null,null,null,null,null,null,null,null,null,null,null,null,null,null,null,null,null,null,null,null,null,null,null,null,null,null,null,null,null,null,null,null,null,null,797,0.21730348606097238,37.468923187751201,29.592000904950371]
[null,null,null,null,null,null,null,null,null,null,null,null,null,null,null,null,null,null,null,null,null,null,null,null,null,null,null,null,null,null,null,null,null,null,null,null,null,null,null,null,null,null,null,null,798,0.21757613786280547,37.534359620191147,29.656434717043179]
[null,null,null,null,null,null,null,null,null,null,null,null,null,null,null,null,null,null,null,null,null,null,null,null,null,null,null,null,null,null,null,null,null,null,null,null,null,null,null,null,null,null,null,null,803,0.21893939687197092,37.861541782390859,29.978724968665293]
[null,null,null,null,null,null,null,null,null,null,null,null,null,null,null,null,null,null,null,null,null,null,null,null,null,null,null,null,null,null,null,null,null,null,null,null,null,null,null,null,null,null,null,null,808,0.22030265588113637,38.188723944590564,30.301211253628491]
[null,null,null,null,null,null,null,null,null,null,null,null,null,null,null,null,null,null,null,null,null,null,null,null,null,null,null,null,null,null,null,null,null,null,null,null,null,null,null,null,null,null,null,null,818,0.22302917389946728,38.84308826898998,30.946740815831138]
[null,null,null,null,null,null,null,null,null,null,null,null,null,null,null,null,null,null,null,null,null,null,null,null,null,null,null,null,null,null,null,null,null,null,null,null,null,null,null,null,null,null,null,null,820,0.22357447750313345,38.973961133869864,31.075931802635555]
[null,null,null,null,null,null,null,null,null,null,null,null,null,null,null,null,null,null,null,null,null,null,null,null,null,null,null,null,null,null,null,null,null,null,null,null,null,null,null,null,null,null,null,null,825,0.2249377365122989,39.301143296069569,31.399027698217388]
[null,null,null,null,null,null,null,null,null,null,null,null,null,null,null,null,null,null,null,null,null,null,null,null,null,null,null,null,null,null,null,null,null,null,null,null,null,null,null,null,null,null,null,null,831,0.22657364732329743,39.693761890709219,31.786958339191347]
[null,null,null,null,null,null,null,null,null,null,null,null,null,null,null,null,null,null,null,null,null,null,null,null,null,null,null,null,null,null,null,null,null,null,null,null,null,null,null,null,null,null,null,null,837,0.22820955813429597,40.086380485348869,32.175113499180483]
[null,null,null,null,null,null,null,null,null,null,null,null,null,null,null,null,null,null,null,null,null,null,null,null,null,null,null,null,null,null,null,null,null,null,null,null,null,null,null,null,null,null,null,null,843,0.22984546894529451,40.478999079988512,32.563482425350649]
[null,null,null,null,null,null,null,null,null,null,null,null,null,null,null,null,null,null,null,null,null,null,null,null,null,null,null,null,null,null,null,null,null,null,null,null,null,null,null,null,null,null,null,null,848,0.23120872795445996,40.806181242188224,32.8872790897587]
[null,null,null,null,null,null,null,null,null,null,null,null,null,null,null,null,null,null,null,null,null,null,null,null,null,null,null,null,null,null,null,null,null,null,null,null,null,null,null,null,null,null,null,null,853,0.23257198696362541,41.133363404387936,33.211211421087249]
[null,null,null,null,null,null,null,null,null,null,null,null,null,null,null,null,null,null,null,null,null,null,null,null,null,null,null,null,null,null,null,null,null,null,null,null,null,null,null,null,null,null,null,null,859,0.23420789777462395,41.525981999027579,33.600101659755509]
[null,null,null,null,null,null,null,null,null,null,null,null,null,null,null,null,null,null,null,null,null,null,null,null,null,null,null,null,null,null,null,null,null,null,null,null,null,null,null,null,null,null,null,null,862,0.2350258531801232,41.7222912963474,33.794614283876562]
[null,null,null,null,null,null,null,null,null,null,null,null,null,null,null,null,null,null,null,null,null,null,null,null,null,null,null,null,null,null,null,null,null,null,null,null,null,null,null,null,null,null,null,null,866,0.23611646038745557,41.984037026107174,34.054032013194863]
[null,null,null,null,null,null,null,null,null,null,null,null,null,null,null,null,null,null,null,null,null,null,null,null,null,null,null,null,null,null,null,null,null,null,null,null,null,null,null,null,null,null,null,null,871,0.23747971939662102,42.311219188306879,34.378409269016913]
[null,null,null,null,null,null,null,null,null,null,null,null,null,null,null,null,null,null,null,null,null,null,null,null,null,null,null,null,null,null,null,null,null,null,null,null,null,null,null,null,null,null,null,null,876,0.23884297840578647,42.638401350506584,34.702898925742424]
[null,null,null,null,null,null,null,null,null,null,null,null,null,null,null,null,null,null,null,null,null,null,null,null,null,null,null,null,null,null,null,null,null,null,null,null,null,null,null,null,null,null,null,null,882,0.24047888921678501,43.031019945146234,35.092428553829464]
[null,null,null,null,null,null,null,null,null,null,null,null,null,null,null,null,null,null,null,null,null,null,null,null,null,null,null,null,null,null,null,null,null,null,null,null,null,null,null,null,null,null,null,null,887,0.24184214822595043,43.358202107345939,35.417149891257203]
[null,null,null,null,null,null,null,null,null,null,null,null,null,null,null,null,null,null,null,null,null,null,null,null,null,null,null,null,null,null,null,null,null,null,null,null,null,null,null,null,null,null,null,null,893,0.24347805903694897,43.750820701985589,35.806945314139057]
[null,null,null,null,null,null,null,null,null,null,null,null,null,null,null,null,null,null,null,null,null,null,null,null,null,null,null,null,null,null,null,null,null,null,null,null,null,null,null,null,null,null,null,null,899,0.24511396984794753,44.143439296625246,36.196875946493506]
[null,null,null,null,null,null,null,null,null,null,null,null,null,null,null,null,null,null,null,null,null,null,null,null,null,null,null,null,null,null,null,null,null,null,null,null,null,null,null,null,null,null,null,null,904,0.24647722885711296,44.470621458824944,36.521916743914787]
[null,null,null,null,null,null,null,null,null,null,null,null,null,null,null,null,null,null,null,null,null,null,null,null,null,null,null,null,null,null,null,null,null,null,null,null,null,null,null,null,null,null,null,null,910,0.24811313966811149,44.863240053464594,36.912078666045922]
[null,null,null,null,null,null,null,null,null,null,null,null,null,null,null,null,null,null,null,null,null,null,null,null,null,null,null,null,null,null,null,null,null,null,null,null,null,null,null,null,null,null,null,null,916,0.24974905047911003,45.255858648104237,37.302358244990977]
[null,null,null,null,null,null,null,null,null,null,null,null,null,null,null,null,null,null,null,null,null,null,null,null,null,null,null,null,null,null,null,null,null,null,null,null,null,null,null,null,null,null,null,null,921,0.25111230948827551,45.583040810303956,37.627677030664842]
[null,null,null,null,null,null,null,null,null,null,null,null,null,null,null,null,null,null,null,null,null,null,null,null,null,null,null,null,null,null,null,null,null,null,null,null,null,null,null,null,null,null,null,null,927,0.25274822029927402,45.975659404943599,38.018157873749878]
[null,null,null,null,null,null,null,null,null,null,null,null,null,null,null,null,null,null,null,null,null,null,null,null,null,null,null,null,null,null,null,null,null,null,null,null,null,null,null,null,null,null,null,null,932,0.25411147930843947,46.302841567143304,38.343636996472689]
[null,null,null,null,null,null,null,null,null,null,null,null,null,null,null,null,null,null,null,null,null,null,null,null,null,null,null,null,null,null,null,null,null,null,null,null,null,null,null,null,null,null,null,null,937,0.25547473831760492,46.630023729343016,38.669184365029786]
[null,null,null,null,null,null,null,null,null,null,null,null,null,null,null,null,null,null,null,null,null,null,null,null,null,null,null,null,null,null,null,null,null,null,null,null,null,null,null,null,null,null,null,null,939,0.25602004192127109,46.760896594222892,38.799421804957845]
[null,null,null,null,null,null,null,null,null,null,null,null,null,null,null,null,null,null,null,null,null,null,null,null,null,null,null,null,null,null,null,null,null,null,null,null,null,null,null,null,null,null,null,null,944,0.25738330093043654,47.088078756422604,39.125060147895809]
[null,null,null,null,null,null,null,null,null,null,null,null,null,null,null,null,null,null,null,null,null,null,null,null,null,null,null,null,null,null,null,null,null,null,null,null,null,null,null,null,null,null,null,null,950,0.25901921174143511,47.480697351062261,39.515907601823407]
[null,null,null,null,null,null,null,null,null,null,null,null,null,null,null,null,null,null,null,null,null,null,null,null,null,null,null,null,null,null,null,null,null,null,null,null,null,null,null,null,null,null,null,null,955,0.26038247075060056,47.807879513261966,39.84167878502263]
[null,null,null,null,null,null,null,null,null,null,null,null,null,null,null,null,null,null,null,null,null,null,null,null,null,null,null,null,null,null,null,null,null,null,null,null,null,null,null,null,null,null,null,null,962,0.26229103336343218,48.265934540341554,{"$f":"( $AP$6*AU993 + $AP$7*AU992 + $AP$9*AV992 )/$AP$8","v":40.297852921608111}]
[null,null,null,null,null,null,null,null,null,null,null,null,null,null,null,null,null,null,null,null,null,null,null,null,null,null,null,null,null,null,null,null,null,null,null,null,null,null,null,null,null,null,null,null,967,0.26365429237259763,48.593116702541266,40.623756019764748]
[null,null,null,null,null,null,null,null,null,null,null,null,null,null,null,null,null,null,null,null,null,null,null,null,null,null,null,null,null,null,null,null,null,null,null,null,null,null,null,null,null,null,null,null,972,0.26501755138176308,48.920298864740971,40.94971037380472]
[null,null,null,null,null,null,null,null,null,null,null,null,null,null,null,null,null,null,null,null,null,null,null,null,null,null,null,null,null,null,null,null,null,null,null,null,null,null,null,null,null,null,null,null,978,0.26665346219276159,49.312917459380614,41.340920370254004]
[null,null,null,null,null,null,null,null,null,null,null,null,null,null,null,null,null,null,null,null,null,null,null,null,null,null,null,null,null,null,null,null,null,null,null,null,null,null,null,null,null,null,null,null,983,0.26801672120192704,49.640099621580326,41.666980372902437]
[null,null,null,null,null,null,null,null,null,null,null,null,null,null,null,null,null,null,null,null,null,null,null,null,null,null,null,null,null,null,null,null,null,null,null,null,null,null,null,null,null,null,null,null,987,0.26910732840925938,49.901845351340086,41.927860839720445]
[null,null,null,null,null,null,null,null,null,null,null,null,null,null,null,null,null,null,null,null,null,null,null,null,null,null,null,null,null,null,null,null,null,null,null,null,null,null,null,null,null,null,null,null,995,0.27128854282392412,50.425336810859619,42.449704432528939]
[null,null,null,null,null,null,null,null,null,null,null,null,null,null,null,null,null,null,null,null,null,null,null,null,null,null,null,null,null,null,null,null,null,null,null,null,null,null,null,null,null,null,null,null,1000,0.27265180183308957,50.752518973059331,42.77591011197935]
[null,null,null,null,null,null,null,null,null,null,null,null,null,null,null,null,null,null,null,null,null,null,null,null,null,null,null,null,null,null,null,null,null,null,null,null,null,null,null,null,null,null,null,null,1005,0.27401506084225502,51.079701135259036,43.102154921984734]
[null,null,null,null,null,null,null,null,null,null,null,null,null,null,null,null,null,null,null,null,null,null,null,null,null,null,null,null,null,null,null,null,null,null,null,null,null,null,null,null,null,null,null,null,1010,0.27537831985142047,51.406883297458748,43.428437294467912]
[null,null,null,null,null,null,null,null,null,null,null,null,null,null,null,null,null,null,null,null,null,null,null,null,null,null,null,null,null,null,null,null,null,null,null,null,null,null,null,null,null,null,null,null,1012,0.27592362345508664,51.537756162338624,43.558960421728095]
[null,null,null,null,null,null,null,null,null,null,null,null,null,null,null,null,null,null,null,null,null,null,null,null,null,null,null,null,null,null,null,null,null,null,null,null,null,null,null,null,null,null,null,null,1018,0.27755953426608515,51.930374756978267,43.950563485973206]
[null,null,null,null,null,null,null,null,null,null,null,null,null,null,null,null,null,null,null,null,null,null,null,null,null,null,null,null,null,null,null,null,null,null,null,null,null,null,null,null,null,null,null,null,1023,0.2789227932752506,52.257556919177979,44.276936626026178]
[null,null,null,null,null,null,null,null,null,null,null,null,null,null,null,null,null,null,null,null,null,null,null,null,null,null,null,null,null,null,null,null,null,null,null,null,null,null,null,null,null,null,null,null,1028,0.28028605228441605,52.584739081377684,44.603342185991963]
[null,null,null,null,null,null,null,null,null,null,null,null,null,null,null,null,null,null,null,null,null,null,null,null,null,null,null,null,null,null,null,null,null,null,null,null,null,null,null,null,null,null,null,null,1035,0.28219461489724768,53.042794108457272,45.060361971753984]
[null,null,null,null,null,null,null,null,null,null,null,null,null,null,null,null,null,null,null,null,null,null,null,null,null,null,null,null,null,null,null,null,null,null,null,null,null,null,null,null,null,null,null,null,1040,0.28355787390641313,53.369976270656984,45.386840137655497]
[null,null,null,null,null,null,null,null,null,null,null,null,null,null,null,null,null,null,null,null,null,null,null,null,null,null,null,null,null,null,null,null,null,null,null,null,null,null,null,null,null,null,null,null,1046,0.28519378471741169,53.762594865296641,45.778651075248874]
[null,null,null,null,null,null,null,null,null,null,null,null,null,null,null,null,null,null,null,null,null,null,null,null,null,null,null,null,null,null,null,null,null,null,null,null,null,null,null,null,null,null,null,null,1051,0.28655704372657714,54.089777027496346,46.105189817575663]
[null,null,null,null,null,null,null,null,null,null,null,null,null,null,null,null,null,null,null,null,null,null,null,null,null,null,null,null,null,null,null,null,null,null,null,null,null,null,null,null,null,null,null,null,1056,0.28792030273574259,54.416959189696058,46.431754343641835]
[null,null,null,null,null,null,null,null,null,null,null,null,null,null,null,null,null,null,null,null,null,null,null,null,null,null,null,null,null,null,null,null,null,null,null,null,null,null,null,null,null,null,null,null,1060,0.28901090994307493,54.678704919455818,46.693023833051271]
[null,null,null,null,null,null,null,null,null,null,null,null,null,null,null,null,null,null,null,null,null,null,null,null,null,null,null,null,null,null,null,null,null,null,null,null,null,null,null,null,null,null,null,null,1068,0.29119212435773967,55.202196378975351,47.215608307443041]
[null,null,null,null,null,null,null,null,null,null,null,null,null,null,null,null,null,null,null,null,null,null,null,null,null,null,null,null,null,null,null,null,null,null,null,null,null,null,null,null,null,null,null,null,1073,0.29255538336690512,55.529378541175063,47.542253013958259]
[null,null,null,null,null,null,null,null,null,null,null,null,null,null,null,null,null,null,null,null,null,null,null,null,null,null,null,null,null,null,null,null,null,null,null,null,null,null,null,null,null,null,null,null,1074,0.29282803516873818,55.594814973614994,47.607584567881879]
[null,null,null,null,null,null,null,null,null,null,null,null,null,null,null,null,null,null,null,null,null,null,null,null,null,null,null,null,null,null,null,null,null,null,null,null,null,null,null,null,null,null,null,null,1079,0.29419129417790363,55.921997135814706,47.934255014630381]
[null,null,null,null,null,null,null,null,null,null,null,null,null,null,null,null,null,null,null,null,null,null,null,null,null,null,null,null,null,null,null,null,null,null,null,null,null,null,null,null,null,null,null,null,1086,0.29609985679073525,56.380052162894295,48.391627904890392]
[null,null,null,null,null,null,null,null,null,null,null,null,null,null,null,null,null,null,null,null,null,null,null,null,null,null,null,null,null,null,null,null,null,null,null,null,null,null,null,null,null,null,null,null,1091,0.2974631157999007,56.707234325093999,48.718346192834211]
[null,null,null,null,null,null,null,null,null,null,null,null,null,null,null,null,null,null,null,null,null,null,null,null,null,null,null,null,null,null,null,null,null,null,null,null,null,null,null,null,null,null,null,null,1096,0.29882637480906615,57.034416487293711,49.04508306959292]
[null,null,null,null,null,null,null,null,null,null,null,null,null,null,null,null,null,null,null,null,null,null,null,null,null,null,null,null,null,null,null,null,null,null,null,null,null,null,null,null,null,null,null,null,1102,0.30046228562006472,57.427035081933369,49.437190812222497]
[null,null,null,null,null,null,null,null,null,null,null,null,null,null,null,null,null,null,null,null,null,null,null,null,null,null,null,null,null,null,null,null,null,null,null,null,null,null,null,null,null,null,null,null,1110,0.3026435000347294,57.950526541452888,49.960038989954477]
[null,null,null,null,null,null,null,null,null,null,null,null,null,null,null,null,null,null,null,null,null,null,null,null,null,null,null,null,null,null,null,null,null,null,null,null,null,null,null,null,null,null,null,null,1113,0.30346145544022868,58.146835838772716,50.156117703902638]
[null,null,null,null,null,null,null,null,null,null,null,null,null,null,null,null,null,null,null,null,null,null,null,null,null,null,null,null,null,null,null,null,null,null,null,null,null,null,null,null,null,null,null,null,1119,0.30509736625122724,58.539454433412374,50.548291764451989]
[null,null,null,null,null,null,null,null,null,null,null,null,null,null,null,null,null,null,null,null,null,null,null,null,null,null,null,null,null,null,null,null,null,null,null,null,null,null,null,null,null,null,null,null,1124,0.30646062526039269,58.866636595612079,50.875119788630869]
[null,null,null,null,null,null,null,null,null,null,null,null,null,null,null,null,null,null,null,null,null,null,null,null,null,null,null,null,null,null,null,null,null,null,null,null,null,null,null,null,null,null,null,null,1130,0.3080965360713912,59.259255190251722,51.267332099787772]
[null,null,null,null,null,null,null,null,null,null,null,null,null,null,null,null,null,null,null,null,null,null,null,null,null,null,null,null,null,null,null,null,null,null,null,null,null,null,null,null,null,null,null,null,1135,0.30945979508055665,59.586437352451433,51.594190596307797]
[null,null,null,null,null,null,null,null,null,null,null,null,null,null,null,null,null,null,null,null,null,null,null,null,null,null,null,null,null,null,null,null,null,null,null,null,null,null,null,null,null,null,null,null,1141,0.31109570589155522,59.979055947091084,51.986437866740921]
[null,null,null,null,null,null,null,null,null,null,null,null,null,null,null,null,null,null,null,null,null,null,null,null,null,null,null,null,null,null,null,null,null,null,null,null,null,null,null,null,null,null,null,null,1142,0.31136835769338828,60.044492379531022,52.051814164308276]
[null,null,null,null,null,null,null,null,null,null,null,null,null,null,null,null,null,null,null,null,null,null,null,null,null,null,null,null,null,null,null,null,null,null,null,null,null,null,null,null,null,null,null,null,1147,0.31273161670255373,60.371674541730727,52.378702920913192]
[null,null,null,null,null,null,null,null,null,null,null,null,null,null,null,null,null,null,null,null,null,null,null,null,null,null,null,null,null,null,null,null,null,null,null,null,null,null,null,null,null,null,null,null,1153,0.31436752751355229,{"$f":"IF(($N$4*AT1184^2/2)<=$AP$13,($N$4*AT1184^2/2), IF(($AP$13+$N$6*(AT1184-$AP$12))<=$AP$17, ($AP$13+$N$6*(AT1184-$AP$12)), IF(AU1183<$D$14, ($AP$17+($N$6-$N$5*(AT1184-$AP$16)/2)*(AT1184-$AP$16)), $D$14)))","v":60.764293136370384},52.770984907112378]
[null,null,null,null,null,null,null,null,null,null,null,null,null,null,null,null,null,null,null,null,null,null,null,null,null,null,null,null,null,null,null,null,null,null,null,null,null,null,null,null,null,null,null,null,1160,0.31627609012638391,61.222348163449972,53.22866754486752]
[null,null,null,null,null,null,null,null,null,null,null,null,null,null,null,null,null,null,null,null,null,null,null,null,null,null,null,null,null,null,null,null,null,null,null,null,null,null,null,null,null,null,null,null,1164,0.31736669733371625,61.484093893209732,53.490209860426184]
[null,null,null,null,null,null,null,null,null,null,null,null,null,null,null,null,null,null,null,null,null,null,null,null,null,null,null,null,null,null,null,null,null,null,null,null,null,null,null,null,null,null,null,null,1170,0.31900260814471482,61.876712487849389,53.882535544547878]
[null,null,null,null,null,null,null,null,null,null,null,null,null,null,null,null,null,null,null,null,null,null,null,null,null,null,null,null,null,null,null,null,null,null,null,null,null,null,null,null,null,null,null,null,1175,0.32036586715388021,62.203894650049087,54.209484359624433]
[null,null,null,null,null,null,null,null,null,null,null,null,null,null,null,null,null,null,null,null,null,null,null,null,null,null,null,null,null,null,null,null,null,null,null,null,null,null,null,null,null,null,null,null,1179,0.32145647436121261,62.46564037980886,54.471050162547606]
[null,null,null,null,null,null,null,null,null,null,null,null,null,null,null,null,null,null,null,null,null,null,null,null,null,null,null,null,null,null,null,null,null,null,null,null,null,null,null,null,null,null,null,null,1187,0.32363768877587734,62.989131839328394,54.994198956930155]
[null,null,null,null,null,null,null,null,null,null,null,null,null,null,null,null,null,null,null,null,null,null,null,null,null,null,null,null,null,null,null,null,null,null,null,null,null,null,null,null,null,null,null,null,1192,0.32500094778504274,63.316314001528092,55.321178064724549]
[null,null,null,null,null,null,null,null,null,null,null,null,null,null,null,null,null,null,null,null,null,null,null,null,null,null,null,null,null,null,null,null,null,null,null,null,null,null,null,null,null,null,null,null,1198,0.3266368585960413,63.708932596167749,55.713563705978437]
[null,null,null,null,null,null,null,null,null,null,null,null,null,null,null,null,null,null,null,null,null,null,null,null,null,null,null,null,null,null,null,null,null,null,null,null,null,null,null,null,null,null,null,null,1203,0.32800011760520675,64.036114758367461,56.040560285895957]
[null,null,null,null,null,null,null,null,null,null,null,null,null,null,null,null,null,null,null,null,null,null,null,null,null,null,null,null,null,null,null,null,null,null,null,null,null,null,null,null,null,null,null,null,1204,0.32827276940703981,64.101551190807385,56.105960504011684]
[null,null,null,null,null,null,null,null,null,null,null,null,null,null,null,null,null,null,null,null,null,null,null,null,null,null,null,null,null,null,null,null,null,null,null,null,null,null,null,null,null,null,null,null,1210,0.32990868021803837,64.494169785447042,56.498367924495433]
[null,null,null,null,null,null,null,null,null,null,null,null,null,null,null,null,null,null,null,null,null,null,null,null,null,null,null,null,null,null,null,null,null,null,null,null,null,null,null,null,null,null,null,null,1215,0.33127193922720383,64.821351947646747,56.825381854833388]
[null,null,null,null,null,null,null,null,null,null,null,null,null,null,null,null,null,null,null,null,null,null,null,null,null,null,null,null,null,null,null,null,null,null,null,null,null,null,null,null,null,null,null,null,1221,0.33290785003820234,65.213970542286404,57.217807446116474]
[null,null,null,null,null,null,null,null,null,null,null,null,null,null,null,null,null,null,null,null,null,null,null,null,null,null,null,null,null,null,null,null,null,null,null,null,null,null,null,null,null,null,null,null,1226,0.33427110904736779,65.541152704486109,57.544835852219194]
[null,null,null,null,null,null,null,null,null,null,null,null,null,null,null,null,null,null,null,null,null,null,null,null,null,null,null,null,null,null,null,null,null,null,null,null,null,null,null,null,null,null,null,null,1235,0.33672497526386563,66.130080596445595,58.133502343830564]
[null,null,null,null,null,null,null,null,null,null,null,null,null,null,null,null,null,null,null,null,null,null,null,null,null,null,null,null,null,null,null,null,null,null,null,null,null,null,null,null,null,null,null,null,1238,0.33754293066936486,66.326389893765395,58.329728697411056]
[null,null,null,null,null,null,null,null,null,null,null,null,null,null,null,null,null,null,null,null,null,null,null,null,null,null,null,null,null,null,null,null,null,null,null,null,null,null,null,null,null,null,null,null,1243,0.33890618967853031,66.6535720559651,58.656777063862975]
[null,null,null,null,null,null,null,null,null,null,null,null,null,null,null,null,null,null,null,null,null,null,null,null,null,null,null,null,null,null,null,null,null,null,null,null,null,null,null,null,null,null,null,null,1248,0.34026944868769576,66.980754218164819,58.983830791906641]
[null,null,null,null,null,null,null,null,null,null,null,null,null,null,null,null,null,null,null,null,null,null,null,null,null,null,null,null,null,null,null,null,null,null,null,null,null,null,null,null,null,null,null,null,1252,0.34136005589502816,67.242499947924586,59.245477490013073]
[null,null,null,null,null,null,null,null,null,null,null,null,null,null,null,null,null,null,null,null,null,null,null,null,null,null,null,null,null,null,null,null,null,null,null,null,null,null,null,null,null,null,null,null,1260,0.34354127030969284,67.765991407444119,59.768780346788866]
[null,null,null,null,null,null,null,null,null,null,null,null,null,null,null,null,null,null,null,null,null,null,null,null,null,null,null,null,null,null,null,null,null,null,null,null,null,null,null,null,null,null,null,null,1266,0.3451771811206914,68.158610002083776,60.161265371440443]
[null,null,null,null,null,null,null,null,null,null,null,null,null,null,null,null,null,null,null,null,null,null,null,null,null,null,null,null,null,null,null,null,null,null,null,null,null,null,null,null,null,null,null,null,1271,0.34654044012985685,68.485792164283481,60.488341125127853]
[null,null,null,null,null,null,null,null,null,null,null,null,null,null,null,null,null,null,null,null,null,null,null,null,null,null,null,null,null,null,null,null,null,null,null,null,null,null,null,null,null,null,null,null,1276,0.3479036991390223,68.812974326483186,60.815421142919412]
[null,null,null,null,null,null,null,null,null,null,null,null,null,null,null,null,null,null,null,null,null,null,null,null,null,null,null,null,null,null,null,null,null,null,null,null,null,null,null,null,null,null,null,null,1277,0.34817635094085536,68.87841075892311,60.880837643010906]
[null,null,null,null,null,null,null,null,null,null,null,null,null,null,null,null,null,null,null,null,null,null,null,null,null,null,null,null,null,null,null,null,null,null,null,null,null,null,null,null,null,null,null,null,1283,0.34981226175185393,69.271029353562767,61.273340007486141]
[null,null,null,null,null,null,null,null,null,null,null,null,null,null,null,null,null,null,null,null,null,null,null,null,null,null,null,null,null,null,null,null,null,null,null,null,null,null,null,null,null,null,null,null,1288,0.35117552076101938,69.598211515762486,61.600429574941622]
[null,null,null,null,null,null,null,null,null,null,null,null,null,null,null,null,null,null,null,null,null,null,null,null,null,null,null,null,null,null,null,null,null,null,null,null,null,null,null,null,null,null,null,null,1294,0.35281143157201789,69.990830110402129,61.99294194061698]
[null,null,null,null,null,null,null,null,null,null,null,null,null,null,null,null,null,null,null,null,null,null,null,null,null,null,null,null,null,null,null,null,null,null,null,null,null,null,null,null,null,null,null,null,1299,0.35417469058118334,70.318012272601834,62.320039475527153]
[null,null,null,null,null,null,null,null,null,null,null,null,null,null,null,null,null,null,null,null,null,null,null,null,null,null,null,null,null,null,null,null,null,null,null,null,null,null,null,null,null,null,null,null,1308,0.35662855679768113,70.906940164561306,62.908823492847645]
[null,null,null,null,null,null,null,null,null,null,null,null,null,null,null,null,null,null,null,null,null,null,null,null,null,null,null,null,null,null,null,null,null,null,null,null,null,null,null,null,null,null,null,null,1311,0.35744651220318041,71.103249461881134,63.105087137969072]
[null,null,null,null,null,null,null,null,null,null,null,null,null,null,null,null,null,null,null,null,null,null,null,null,null,null,null,null,null,null,null,null,null,null,null,null,null,null,null,null,null,null,null,null,1316,0.35880977121234586,71.430431624080839,63.432195659046833]
[null,null,null,null,null,null,null,null,null,null,null,null,null,null,null,null,null,null,null,null,null,null,null,null,null,null,null,null,null,null,null,null,null,null,null,null,null,null,null,null,null,null,null,null,1322,0.36044568202334443,71.823050218720496,63.824729769192487]
[null,null,null,null,null,null,null,null,null,null,null,null,null,null,null,null,null,null,null,null,null,null,null,null,null,null,null,null,null,null,null,null,null,null,null,null,null,null,null,null,null,null,null,null,1327,0.36180894103250988,72.150232380920201,64.151844626831874]
[null,null,null,null,null,null,null,null,null,null,null,null,null,null,null,null,null,null,null,null,null,null,null,null,null,null,null,null,null,null,null,null,null,null,null,null,null,null,null,null,null,null,null,null,1333,0.36344485184350839,72.542850975559844,64.544386006573461]
[null,null,null,null,null,null,null,null,null,null,null,null,null,null,null,null,null,null,null,null,null,null,null,null,null,null,null,null,null,null,null,null,null,null,null,null,null,null,null,null,null,null,null,null,1339,0.36508076265450695,72.935469570199501,64.936931084349212]
[null,null,null,null,null,null,null,null,null,null,null,null,null,null,null,null,null,null,null,null,null,null,null,null,null,null,null,null,null,null,null,null,null,null,null,null,null,null,null,null,null,null,null,null,1344,{"$f":"$AP$18/$N$7*AS1375","v":0.3664440216636724},73.262651732399206,65.264054679349613]
[null,null,null,null,null,null,null,null,null,null,null,null,null,null,null,null,null,null,null,null,null,null,null,null,null,null,null,null,null,null,null,null,null,null,null,null,null,null,null,null,null,null,null,null,1345,0.36671667346550546,{"$f":"IF(($N$4*AT1376^2/2)<=$AP$13,($N$4*AT1376^2/2), IF(($AP$13+$N$6*(AT1376-$AP$12))<=$AP$17, ($AP$13+$N$6*(AT1376-$AP$12)), IF(AU1375<$D$14, ($AP$17+($N$6-$N$5*(AT1376-$AP$16)/2)*(AT1376-$AP$16)), $D$14)))","v":73.328088164839144},65.329479683050138]
[null,null,null,null,null,null,null,null,null,null,null,null,null,null,null,null,null,null,null,null,null,null,null,null,null,null,null,null,null,null,null,null,null,null,null,null,null,null,null,null,null,null,null,null,1352,0.36862523607833708,73.78614319191874,65.787457273746057]
[null,null,null,null,null,null,null,null,null,null,null,null,null,null,null,null,null,null,null,null,null,null,null,null,null,null,null,null,null,null,null,null,null,null,null,null,null,null,null,null,null,null,null,null,1356,0.36971584328566948,74.047888921678506,66.049160704602286]
[null,null,null,null,null,null,null,null,null,null,null,null,null,null,null,null,null,null,null,null,null,null,null,null,null,null,null,null,null,null,null,null,null,null,null,null,null,null,null,null,null,null,null,null,1362,0.37135175409666799,74.440507516318149,66.441718390054291]
[null,null,null,null,null,null,null,null,null,null,null,null,null,null,null,null,null,null,null,null,null,null,null,null,null,null,null,null,null,null,null,null,null,null,null,null,null,null,null,null,null,null,null,null,1367,0.37271501310583344,74.767689678517854,66.768852028958179]
[null,null,null,null,null,null,null,null,null,null,null,null,null,null,null,null,null,null,null,null,null,null,null,null,null,null,null,null,null,null,null,null,null,null,null,null,null,null,null,null,null,null,null,null,1373,0.37435092391683195,75.160308273157483,67.161414955433258]
[null,null,null,null,null,null,null,null,null,null,null,null,null,null,null,null,null,null,null,null,null,null,null,null,null,null,null,null,null,null,null,null,null,null,null,null,null,null,null,null,null,null,null,null,{"$f":"AS1407+1","v":1377},0.37544153112416434,75.422054002917292,67.423125062261605]
[null,null,null,null,null,null,null,null,null,null,null,null,null,null,null,null,null,null,null,null,null,null,null,null,null,null,null,null,null,null,null,null,null,null,null,null,null,null,null,null,null,null,null,null,1384,0.37735009373699596,75.880109029996859,67.881120486123905]
[null,null,null,null,null,null,null,null,null,null,null,null,null,null,null,null,null,null,null,null,null,null,null,null,null,null,null,null,null,null,null,null,null,null,null,null,null,null,null,null,null,null,null,null,1390,0.37898600454799447,76.272727624636502,68.273690639343315]
[null,null,null,null,null,null,null,null,null,null,null,null,null,null,null,null,null,null,null,null,null,null,null,null,null,null,null,null,null,null,null,null,null,null,null,null,null,null,null,null,null,null,null,null,1395,0.38034926355715992,76.599909786836221,68.600834210692398]
[null,null,null,null,null,null,null,null,null,null,null,null,null,null,null,null,null,null,null,null,null,null,null,null,null,null,null,null,null,null,null,null,null,null,null,null,null,null,null,null,null,null,null,null,1400,0.38171252256632537,76.92709194903594,68.927979328491105]
[null,null,null,null,null,null,null,null,null,null,null,null,null,null,null,null,null,null,null,null,null,null,null,null,null,null,null,null,null,null,null,null,null,null,null,null,null,null,null,null,null,null,null,null,1402,0.38225782616999154,77.057964813915788,69.058837794650515]
[null,null,null,null,null,null,null,null,null,null,null,null,null,null,null,null,null,null,null,null,null,null,null,null,null,null,null,null,null,null,null,null,null,null,null,null,null,null,null,null,null,null,null,null,1412,0.38498434418832245,77.712329138315212,69.713133555073625]
[null,null,null,null,null,null,null,null,null,null,null,null,null,null,null,null,null,null,null,null,null,null,null,null,null,null,null,null,null,null,null,null,null,null,null,null,null,null,null,null,null,null,null,null,1413,0.38525699599015556,77.77776557075515,69.7785634345434]
[null,null,null,null,null,null,null,null,null,null,null,null,null,null,null,null,null,null,null,null,null,null,null,null,null,null,null,null,null,null,null,null,null,null,null,null,null,null,null,null,null,null,null,null,1418,0.38662025499932101,78.104947732954869,70.105713623978744]
[null,null,null,null,null,null,null,null,null,null,null,null,null,null,null,null,null,null,null,null,null,null,null,null,null,null,null,null,null,null,null,null,null,null,null,null,null,null,null,null,null,null,null,null,1427,0.3890741212158188,78.693875624914341,70.694587159123088]
[null,null,null,null,null,null,null,null,null,null,null,null,null,null,null,null,null,null,null,null,null,null,null,null,null,null,null,null,null,null,null,null,null,null,null,null,null,null,null,null,null,null,null,null,1430,0.38989207662131808,78.89018492223417,70.8908792087325]
[null,null,null,null,null,null,null,null,null,null,null,null,null,null,null,null,null,null,null,null,null,null,null,null,null,null,null,null,null,null,null,null,null,null,null,null,null,null,null,null,null,null,null,null,1435,0.39125533563048354,79.217367084433874,71.21803354881655]
[null,null,null,null,null,null,null,null,null,null,null,null,null,null,null,null,null,null,null,null,null,null,null,null,null,null,null,null,null,null,null,null,null,null,null,null,null,null,null,null,null,null,null,null,{"$f":"AS1471+1","v":1441},0.39289124644148204,79.609985679073503,71.610620224640968]
[null,null,null,null,null,null,null,null,null,null,null,null,null,null,null,null,null,null,null,null,null,null,null,null,null,null,null,null,null,null,null,null,null,null,null,null,null,null,null,null,null,null,null,null,1446,0.3942545054506475,79.937167841273236,71.937776958720974]
[null,null,null,null,null,null,null,null,null,null,null,null,null,null,null,null,null,null,null,null,null,null,null,null,null,null,null,null,null,null,null,null,null,null,null,null,null,null,null,null,null,null,null,null,1452,0.39589041626164606,80.329786435912894,72.330366381048094]
[null,null,null,null,null,null,null,null,null,null,null,null,null,null,null,null,null,null,null,null,null,null,null,null,null,null,null,null,null,null,null,null,null,null,null,null,null,null,null,null,null,null,null,null,1458,0.39752632707264457,80.722405030552522,72.722957200517584]
[null,null,null,null,null,null,null,null,null,null,null,null,null,null,null,null,null,null,null,null,null,null,null,null,null,null,null,null,null,null,null,null,null,null,null,null,null,null,null,null,null,null,null,null,1463,0.39888958608181002,81.049587192752256,73.050117235631888]
[null,null,null,null,null,null,null,null,null,null,null,null,null,null,null,null,null,null,null,null,null,null,null,null,null,null,null,null,null,null,null,null,null,null,null,null,null,null,null,null,null,null,null,null,1468,0.40025284509097547,81.376769354951961,73.37727815744401]
[null,null,null,null,null,null,null,null,null,null,null,null,null,null,null,null,null,null,null,null,null,null,null,null,null,null,null,null,null,null,null,null,null,null,null,null,null,null,null,null,null,null,null,null,1474,0.40188875590197404,81.769387949591618,{"$f":"( $AP$6*AU1505 + $AP$7*AU1504 + $AP$9*AV1504 )/$AP$8","v":73.769872384130679}]
[null,null,null,null,null,null,null,null,null,null,null,null,null,null,null,null,null,null,null,null,null,null,null,null,null,null,null,null,null,null,null,null,null,null,null,null,null,null,null,null,null,null,null,null,1477,0.40270671130747326,81.965697246911418,73.966169938674767]
[null,null,null,null,null,null,null,null,null,null,null,null,null,null,null,null,null,null,null,null,null,null,null,null,null,null,null,null,null,null,null,null,null,null,null,null,null,null,null,null,null,null,null,null,1481,0.40379731851480566,82.227442976671171,74.227900452986816]
[null,null,null,null,null,null,null,null,null,null,null,null,null,null,null,null,null,null,null,null,null,null,null,null,null,null,null,null,null,null,null,null,null,null,null,null,null,null,null,null,null,null,null,null,1486,0.40516057752397111,82.554625138870904,74.555064282756035]
[null,null,null,null,null,null,null,null,null,null,null,null,null,null,null,null,null,null,null,null,null,null,null,null,null,null,null,null,null,null,null,null,null,null,null,null,null,null,null,null,null,null,null,null,1491,0.40652383653313656,82.881807301070609,74.88222884716005]
[null,null,null,null,null,null,null,null,null,null,null,null,null,null,null,null,null,null,null,null,null,null,null,null,null,null,null,null,null,null,null,null,null,null,null,null,null,null,null,null,null,null,null,null,1497,0.40815974734413507,83.274425895710266,75.2748272527962]
[null,null,null,null,null,null,null,null,null,null,null,null,null,null,null,null,null,null,null,null,null,null,null,null,null,null,null,null,null,null,null,null,null,null,null,null,null,null,null,null,null,null,null,null,1502,0.40952300635330052,83.601608057909971,75.601993331429099]
[null,null,null,null,null,null,null,null,null,null,null,null,null,null,null,null,null,null,null,null,null,null,null,null,null,null,null,null,null,null,null,null,null,null,null,null,null,null,null,null,null,null,null,null,1509,0.41143156896613214,84.059663084989552,76.060026918481654]
[null,null,null,null,null,null,null,null,null,null,null,null,null,null,null,null,null,null,null,null,null,null,null,null,null,null,null,null,null,null,null,null,null,null,null,null,null,null,null,null,null,null,null,null,1514,0.4127948279752976,84.386845247189257,76.387194500796056]
[null,null,null,null,null,null,null,null,null,null,null,null,null,null,null,null,null,null,null,null,null,null,null,null,null,null,null,null,null,null,null,null,null,null,null,null,null,null,null,null,null,null,null,null,1519,0.41415808698446305,84.714027409388962,76.714362667369628]
[null,null,null,null,null,null,null,null,null,null,null,null,null,null,null,null,null,null,null,null,null,null,null,null,null,null,null,null,null,null,null,null,null,null,null,null,null,null,null,null,null,null,null,null,1525,0.41579399779546161,85.106646004028619,77.106965205581048]
[null,null,null,null,null,null,null,null,null,null,null,null,null,null,null,null,null,null,null,null,null,null,null,null,null,null,null,null,null,null,null,null,null,null,null,null,null,null,null,null,null,null,null,null,1531,0.41742990860646012,85.498693323786824,77.499563896205103]
[null,null,null,null,null,null,null,null,null,null,null,null,null,null,null,null,null,null,null,null,null,null,null,null,null,null,null,null,null,null,null,null,null,null,null,null,null,null,null,null,null,null,null,null,1536,{"$f":"$AP$18/$N$7*AS1567","v":0.41879316761562557},85.822012187573577,77.826644943843931]
[null,null,null,null,null,null,null,null,null,null,null,null,null,null,null,null,null,null,null,null,null,null,null,null,null,null,null,null,null,null,null,null,null,null,null,null,null,null,null,null,null,null,null,null,1542,0.42042907842662414,86.205183314532576,78.218833997512974]
[null,null,null,null,null,null,null,null,null,null,null,null,null,null,null,null,null,null,null,null,null,null,null,null,null,null,null,null,null,null,null,null,null,null,null,null,null,null,null,null,null,null,null,null,1547,0.42179233743578953,86.520482995677483,78.545241180702334]
[null,null,null,null,null,null,null,null,null,null,null,null,null,null,null,null,null,null,null,null,null,null,null,null,null,null,null,null,null,null,null,null,null,null,null,null,null,null,null,null,null,null,null,null,1550,0.42261029284128881,86.707913164515304,78.74084468457292]
[null,null,null,null,null,null,null,null,null,null,null,null,null,null,null,null,null,null,null,null,null,null,null,null,null,null,null,null,null,null,null,null,null,null,null,null,null,null,null,null,null,null,null,null,1554,0.42370090004862121,86.955778809808436,79.001311715404427]
[null,null,null,null,null,null,null,null,null,null,null,null,null,null,null,null,null,null,null,null,null,null,null,null,null,null,null,null,null,null,null,null,null,null,null,null,null,null,null,null,null,null,null,null,1559,0.42506415905778661,87.262330291707698,79.326264853448649]
[null,null,null,null,null,null,null,null,null,null,null,null,null,null,null,null,null,null,null,null,null,null,null,null,null,null,null,null,null,null,null,null,null,null,null,null,null,null,null,null,null,null,null,null,1565,0.42670006986878517,87.625380560401737,79.715128127152084]
[null,null,null,null,null,null,null,null,null,null,null,null,null,null,null,null,null,null,null,null,null,null,null,null,null,null,null,null,null,null,null,null,null,null,null,null,null,null,null,null,null,null,null,null,1570,0.42806332887795062,87.923912859659168,80.038147725231497]
[null,null,null,null,null,null,null,null,null,null,null,null,null,null,null,null,null,null,null,null,null,null,null,null,null,null,null,null,null,null,null,null,null,null,null,null,null,null,null,null,null,null,null,null,1577,0.42997189149078224,88.335734339147635,80.488579720553503]
[null,null,null,null,null,null,null,null,null,null,null,null,null,null,null,null,null,null,null,null,null,null,null,null,null,null,null,null,null,null,null,null,null,null,null,null,null,null,null,null,null,null,null,null,1582,0.43133515049994769,88.625518439159436,80.808894372289785]
[null,null,null,null,null,null,null,null,null,null,null,null,null,null,null,null,null,null,null,null,null,null,null,null,null,null,null,null,null,null,null,null,null,null,null,null,null,null,null,null,null,null,null,null,1587,0.43269840950911315,88.911657456152227,81.127912061885965]
[null,null,null,null,null,null,null,null,null,null,null,null,null,null,null,null,null,null,null,null,null,null,null,null,null,null,null,null,null,null,null,null,null,null,null,null,null,null,null,null,null,null,null,null,1593,0.43433432032011166,89.250212766958455,81.508889079169577]
[null,null,null,null,null,null,null,null,null,null,null,null,null,null,null,null,null,null,null,null,null,null,null,null,null,null,null,null,null,null,null,null,null,null,null,null,null,null,null,null,null,null,null,null,1600,{"$f":"$AP$18/$N$7*AS1631","v":0.43624288293294333},89.638559911804478,81.950623809267313]
[null,null,null,null,null,null,null,null,null,null,null,null,null,null,null,null,null,null,null,null,null,null,null,null,null,null,null,null,null,null,null,null,null,null,null,null,null,null,null,null,null,null,null,null,1604,0.43733349014027567,89.857264892945452,82.201634139503184]
[null,null,null,null,null,null,null,null,null,null,null,null,null,null,null,null,null,null,null,null,null,null,null,null,null,null,null,null,null,null,null,null,null,null,null,null,null,null,null,null,null,null,null,null,1610,0.43896940095127418,90.180948265034104,82.576116432697646]
[null,null,null,null,null,null,null,null,null,null,null,null,null,null,null,null,null,null,null,null,null,null,null,null,null,null,null,null,null,null,null,null,null,null,null,null,null,null,null,null,null,null,null,null,1615,0.44033265996043963,90.446674817120396,82.886235310168431]
[null,null,null,null,null,null,null,null,null,null,null,null,null,null,null,null,null,null,null,null,null,null,null,null,null,null,null,null,null,null,null,null,null,null,null,null,null,null,null,null,null,null,null,null,1616,0.44060531176227274,90.499382717575372,82.948039133498625]
[null,null,null,null,null,null,null,null,null,null,null,null,null,null,null,null,null,null,null,null,null,null,null,null,null,null,null,null,null,null,null,null,null,null,null,null,null,null,null,null,null,null,null,null,1625,0.44305917797877054,90.967192672235925,83.500843895414718]
[null,null,null,null,null,null,null,null,null,null,null,null,null,null,null,null,null,null,null,null,null,null,null,null,null,null,null,null,null,null,null,null,null,null,null,null,null,null,null,null,null,null,null,null,1627,0.4436044815824367,91.069546603409904,83.622826417114226]
[null,null,null,null,null,null,null,null,null,null,null,null,null,null,null,null,null,null,null,null,null,null,null,null,null,null,null,null,null,null,null,null,null,null,null,null,null,null,null,null,null,null,null,null,1633,0.44524039239343527,91.373109117233597,83.986817754612005]
[null,null,null,null,null,null,null,null,null,null,null,null,null,null,null,null,null,null,null,null,null,null,null,null,null,null,null,null,null,null,null,null,null,null,null,null,null,null,null,null,null,null,null,null,1638,0.44660365140260072,91.622068287432413,84.287840910729045]
[null,null,null,null,null,null,null,null,null,null,null,null,null,null,null,null,null,null,null,null,null,null,null,null,null,null,null,null,null,null,null,null,null,null,null,null,null,null,null,null,null,null,null,null,1643,0.44796691041176617,91.86738237461222,84.586704196240419]
[null,null,null,null,null,null,null,null,null,null,null,null,null,null,null,null,null,null,null,null,null,null,null,null,null,null,null,null,null,null,null,null,null,null,null,null,null,null,null,null,null,null,null,null,1650,0.44987547302459779,92.204698357191987,85.00137134955412]
[null,null,null,null,null,null,null,null,null,null,null,null,null,null,null,null,null,null,null,null,null,null,null,null,null,null,null,null,null,null,null,null,null,null,null,null,null,null,null,null,null,null,null,null,1655,0.45123873203376325,92.441264245126149,85.294812639613639]
[null,null,null,null,null,null,null,null,null,null,null,null,null,null,null,null,null,null,null,null,null,null,null,null,null,null,null,null,null,null,null,null,null,null,null,null,null,null,null,null,null,null,null,null,1661,0.45287464284476175,92.720331801062045,85.643832057703804]
[null,null,null,null,null,null,null,null,null,null,null,null,null,null,null,null,null,null,null,null,null,null,null,null,null,null,null,null,null,null,null,null,null,null,null,null,null,null,null,null,null,null,null,null,1666,0.45423790185392721,92.948878506354362,{"$f":"( $AP$6*AU1697 + $AP$7*AU1696 + $AP$9*AV1696 )/$AP$8","v":85.932029276187279}]
[null,null,null,null,null,null,null,null,null,null,null,null,null,null,null,null,null,null,null,null,null,null,null,null,null,null,null,null,null,null,null,null,null,null,null,null,null,null,null,null,null,null,null,null,1671,0.45560116086309266,93.173780128627669,86.217762609454653]
[null,null,null,null,null,null,null,null,null,null,null,null,null,null,null,null,null,null,null,null,null,null,null,null,null,null,null,null,null,null,null,null,null,null,null,null,null,null,null,null,null,null,null,null,1675,0.456691768070425,93.351076966672622,86.444543405847085]
[null,null,null,null,null,null,null,null,null,null,null,null,null,null,null,null,null,null,null,null,null,null,null,null,null,null,null,null,null,null,null,null,null,null,null,null,null,null,null,null,null,null,null,null,1683,0.45887298248508973,93.698672083366034,86.893190670307078]
[null,null,null,null,null,null,null,null,null,null,null,null,null,null,null,null,null,null,null,null,null,null,null,null,null,null,null,null,null,null,null,null,null,null,null,null,null,null,null,null,null,null,null,null,1688,0.46023624149425518,93.911180423374688,87.170203926691059]
[null,null,null,null,null,null,null,null,null,null,null,null,null,null,null,null,null,null,null,null,null,null,null,null,null,null,null,null,null,null,null,null,null,null,null,null,null,null,null,null,null,null,null,null,1689,0.4605088932960883,93.953244681414134,87.225288856684074]
[null,null,null,null,null,null,null,null,null,null,null,null,null,null,null,null,null,null,null,null,null,null,null,null,null,null,null,null,null,null,null,null,null,null,null,null,null,null,null,null,null,null,null,null,1694,0.46187215230525375,94.161378921799979,87.499107218158485]
[null,null,null,null,null,null,null,null,null,null,null,null,null,null,null,null,null,null,null,null,null,null,null,null,null,null,null,null,null,null,null,null,null,null,null,null,null,null,null,null,null,null,null,null,1701,0.46378071491808537,94.446643118868195,87.877898915199353]
[null,null,null,null,null,null,null,null,null,null,null,null,null,null,null,null,null,null,null,null,null,null,null,null,null,null,null,null,null,null,null,null,null,null,null,null,null,null,null,null,null,null,null,null,1706,0.46514397392725082,94.646029160008396,88.1451607655289]
[null,null,null,null,null,null,null,null,null,null,null,null,null,null,null,null,null,null,null,null,null,null,null,null,null,null,null,null,null,null,null,null,null,null,null,null,null,null,null,null,null,null,null,null,1711,0.46650723293641627,94.841770118129574,88.409629118677756]
[null,null,null,null,null,null,null,null,null,null,null,null,null,null,null,null,null,null,null,null,null,null,null,null,null,null,null,null,null,null,null,null,null,null,null,null,null,null,null,null,null,null,null,null,1717,0.46814314374741478,95.071847758289877,88.723255774278783]
[null,null,null,null,null,null,null,null,null,null,null,null,null,null,null,null,null,null,null,null,null,null,null,null,null,null,null,null,null,null,null,null,null,null,null,null,null,null,null,null,null,null,null,null,1725,0.47032435816207951,95.370452959207697,89.134993830165556]
[null,null,null,null,null,null,null,null,null,null,null,null,null,null,null,null,null,null,null,null,null,null,null,null,null,null,null,null,null,null,null,null,null,null,null,null,null,null,null,null,null,null,null,null,{"$f":"AS1759+1","v":1729},0.47141496536941185,{"$f":"IF(($N$4*AT1760^2/2)<=$AP$13,($N$4*AT1760^2/2), IF(($AP$13+$N$6*(AT1760-$AP$12))<=$AP$17, ($AP$13+$N$6*(AT1760-$AP$12)), IF(AU1759<$D$14, ($AP$17+($N$6-$N$5*(AT1760-$AP$16)/2)*(AT1760-$AP$16)), $D$14)))","v":95.51625627996836},89.338071151720726]
[null,null,null,null,null,null,null,null,null,null,null,null,null,null,null,null,null,null,null,null,null,null,null,null,null,null,null,null,null,null,null,null,null,null,null,null,null,null,null,null,null,null,null,null,1734,0.47277822437857731,95.695229856202062,89.58927047330765]
[null,null,null,null,null,null,null,null,null,null,null,null,null,null,null,null,null,null,null,null,null,null,null,null,null,null,null,null,null,null,null,null,null,null,null,null,null,null,null,null,null,null,null,null,1739,0.47414148338774276,95.87055834941674,89.837501982892348]
[null,null,null,null,null,null,null,null,null,null,null,null,null,null,null,null,null,null,null,null,null,null,null,null,null,null,null,null,null,null,null,null,null,null,null,null,null,null,null,null,null,null,null,null,1745,0.47577739419874127,96.076141031689261,90.131424146135274]
[null,null,null,null,null,null,null,null,null,null,null,null,null,null,null,null,null,null,null,null,null,null,null,null,null,null,null,null,null,null,null,null,null,null,null,null,null,null,null,null,null,null,null,null,1750,0.47714065320790672,96.243450342262122,90.373032463856632]
[null,null,null,null,null,null,null,null,null,null,null,null,null,null,null,null,null,null,null,null,null,null,null,null,null,null,null,null,null,null,null,null,null,null,null,null,null,null,null,null,null,null,null,null,1756,0.47877656401890528,96.439410005364437,90.658933152982442]
[null,null,null,null,null,null,null,null,null,null,null,null,null,null,null,null,null,null,null,null,null,null,null,null,null,null,null,null,null,null,null,null,null,null,null,null,null,null,null,null,null,null,null,null,1757,0.47904921582073834,96.471559637592165,90.706153241056015]
[null,null,null,null,null,null,null,null,null,null,null,null,null,null,null,null,null,null,null,null,null,null,null,null,null,null,null,null,null,null,null,null,null,null,null,null,null,null,null,null,null,null,null,null,1762,0.48041247482990379,96.630120748919367,90.940399626483668]
[null,null,null,null,null,null,null,null,null,null,null,null,null,null,null,null,null,null,null,null,null,null,null,null,null,null,null,null,null,null,null,null,null,null,null,null,null,null,null,null,null,null,null,null,1767,0.48177573383906924,96.78503677722756,91.171539566348926]
[null,null,null,null,null,null,null,null,null,null,null,null,null,null,null,null,null,null,null,null,null,null,null,null,null,null,null,null,null,null,null,null,null,null,null,null,null,null,null,null,null,null,null,null,1774,0.48368429645190086,96.995795477387091,91.489875721650947]
[null,null,null,null,null,null,null,null,null,null,null,null,null,null,null,null,null,null,null,null,null,null,null,null,null,null,null,null,null,null,null,null,null,null,null,null,null,null,null,null,null,null,null,null,1779,0.48504755546106632,97.141963306449654,91.713473766456914]
[null,null,null,null,null,null,null,null,null,null,null,null,null,null,null,null,null,null,null,null,null,null,null,null,null,null,null,null,null,null,null,null,null,null,null,null,null,null,null,null,null,null,null,null,1785,0.48668346627206488,97.312553191739624,91.977596944791429]
[null,null,null,null,null,null,null,null,null,null,null,null,null,null,null,null,null,null,null,null,null,null,null,null,null,null,null,null,null,null,null,null,null,null,null,null,null,null,null,null,null,null,null,null,1790,0.48804672528123033,97.450701838160342,92.194182248022884]
[null,null,null,null,null,null,null,null,null,null,null,null,null,null,null,null,null,null,null,null,null,null,null,null,null,null,null,null,null,null,null,null,null,null,null,null,null,null,null,null,null,null,null,null,1798,0.49022793969589507,97.664157899753945,92.534020823623933]
[null,null,null,null,null,null,null,null,null,null,null,null,null,null,null,null,null,null,null,null,null,null,null,null,null,null,null,null,null,null,null,null,null,null,null,null,null,null,null,null,null,null,null,null,1802,0.4913185469032274,97.767386650852487,92.700830279771182]
[null,null,null,null,null,null,null,null,null,null,null,null,null,null,null,null,null,null,null,null,null,null,null,null,null,null,null,null,null,null,null,null,null,null,null,null,null,null,null,null,null,null,null,null,1807,0.49268180591239286,97.89314201500855,92.906410062661095]
[null,null,null,null,null,null,null,null,null,null,null,null,null,null,null,null,null,null,null,null,null,null,null,null,null,null,null,null,null,null,null,null,null,null,null,null,null,null,null,null,null,null,null,null,1813,0.49431771672339136,98.039236942410724,93.148785023282841]
[null,null,null,null,null,null,null,null,null,null,null,null,null,null,null,null,null,null,null,null,null,null,null,null,null,null,null,null,null,null,null,null,null,null,null,null,null,null,null,null,null,null,null,null,1818,0.49568097573255682,98.156973123924956,93.347146051783952]
[null,null,null,null,null,null,null,null,null,null,null,null,null,null,null,null,null,null,null,null,null,null,null,null,null,null,null,null,null,null,null,null,null,null,null,null,null,null,null,null,null,null,null,null,1819,0.49595362753438993,98.180082950265515,93.386422175762988]
[null,null,null,null,null,null,null,null,null,null,null,null,null,null,null,null,null,null,null,null,null,null,null,null,null,null,null,null,null,null,null,null,null,null,null,null,null,null,null,null,null,null,null,null,1825,0.49758953834538844,98.315680038572921,93.619297041568345]
[null,null,null,null,null,null,null,null,null,null,null,null,null,null,null,null,null,null,null,null,null,null,null,null,null,null,null,null,null,null,null,null,null,null,null,null,null,null,null,null,null,null,null,null,1830,0.49895279735455389,98.424668020841509,93.8097047236636]
[null,null,null,null,null,null,null,null,null,null,null,null,null,null,null,null,null,null,null,null,null,null,null,null,null,null,null,null,null,null,null,null,null,null,null,null,null,null,null,null,null,null,null,null,1836,0.50058870816555245,98.550642089978723,94.033789006120315]
[null,null,null,null,null,null,null,null,null,null,null,null,null,null,null,null,null,null,null,null,null,null,null,null,null,null,null,null,null,null,null,null,null,null,null,null,null,null,null,null,null,null,null,null,1841,0.50195196717471791,98.651610889605479,94.216840665454555]
[null,null,null,null,null,null,null,null,null,null,null,null,null,null,null,null,null,null,null,null,null,null,null,null,null,null,null,null,null,null,null,null,null,null,null,null,null,null,null,null,null,null,null,null,1850,0.5044058333912157,98.82416911972571,94.537851739978933]
[null,null,null,null,null,null,null,null,null,null,null,null,null,null,null,null,null,null,null,null,null,null,null,null,null,null,null,null,null,null,null,null,null,null,null,null,null,null,null,null,null,null,null,null,1853,0.50522378879671492,98.879064069992083,94.642422909593208]
[null,null,null,null,null,null,null,null,null,null,null,null,null,null,null,null,null,null,null,null,null,null,null,null,null,null,null,null,null,null,null,null,null,null,null,null,null,null,null,null,null,null,null,null,1858,0.50658704780588037,98.967639587354185,{"$f":"( $AP$6*AU1889 + $AP$7*AU1888 + $AP$9*AV1888 )/$AP$8","v":94.81399570486505}]
[null,null,null,null,null,null,null,null,null,null,null,null,null,null,null,null,null,null,null,null,null,null,null,null,null,null,null,null,null,null,null,null,null,null,null,null,null,null,null,null,null,null,null,null,1863,0.50795030681504583,99.052570021697264,94.982169040932121]
[null,null,null,null,null,null,null,null,null,null,null,null,null,null,null,null,null,null,null,null,null,null,null,null,null,null,null,null,null,null,null,null,null,null,null,null,null,null,null,null,null,null,null,null,1867,0.50904091402237817,99.117889909398045,95.114253471365032]
[null,null,null,null,null,null,null,null,null,null,null,null,null,null,null,null,null,null,null,null,null,null,null,null,null,null,null,null,null,null,null,null,null,null,null,null,null,null,null,null,null,null,null,null,1875,0.51122212843704296,99.241531125403085,95.371857177624264]
[null,null,null,null,null,null,null,null,null,null,null,null,null,null,null,null,null,null,null,null,null,null,null,null,null,null,null,null,null,null,null,null,null,null,null,null,null,null,null,null,null,null,null,null,1881,0.51285803924804152,99.328138297934913,95.559297309127814]
[null,null,null,null,null,null,null,null,null,null,null,null,null,null,null,null,null,null,null,null,null,null,null,null,null,null,null,null,null,null,null,null,null,null,null,null,null,null,null,null,null,null,null,null,1886,0.51422129825720697,99.396301350390516,95.711712296233799]
[null,null,null,null,null,null,null,null,null,null,null,null,null,null,null,null,null,null,null,null,null,null,null,null,null,null,null,null,null,null,null,null,null,null,null,null,null,null,null,null,null,null,null,null,1891,0.51558455726637242,99.46081931982711,95.860677546324581]
[null,null,null,null,null,null,null,null,null,null,null,null,null,null,null,null,null,null,null,null,null,null,null,null,null,null,null,null,null,null,null,null,null,null,null,null,null,null,null,null,null,null,null,null,1892,0.51585720906820542,99.473285503752138,95.890055933426538]
[null,null,null,null,null,null,null,null,null,null,null,null,null,null,null,null,null,null,null,null,null,null,null,null,null,null,null,null,null,null,null,null,null,null,null,null,null,null,null,null,null,null,null,null,1898,0.51749311987920399,99.545020737566375,96.063418493595265]
[null,null,null,null,null,null,null,null,null,null,null,null,null,null,null,null,null,null,null,null,null,null,null,null,null,null,null,null,null,null,null,null,null,null,null,null,null,null,null,null,null,null,null,null,1904,0.51912903069020255,99.611507051833243,96.231787149023731]
[null,null,null,null,null,null,null,null,null,null,null,null,null,null,null,null,null,null,null,null,null,null,null,null,null,null,null,null,null,null,null,null,null,null,null,null,null,null,null,null,null,null,null,null,1909,0.520492289699368,99.66290272240137,96.368270744416975]
[null,null,null,null,null,null,null,null,null,null,null,null,null,null,null,null,null,null,null,null,null,null,null,null,null,null,null,null,null,null,null,null,null,null,null,null,null,null,null,null,null,null,null,null,1914,0.52185554870853346,99.710653309950487,96.501271102193456]
[null,null,null,null,null,null,null,null,null,null,null,null,null,null,null,null,null,null,null,null,null,null,null,null,null,null,null,null,null,null,null,null,null,null,null,null,null,null,null,null,null,null,null,null,1923,0.52430941492503125,99.787418758330972,96.731873451470648]
[null,null,null,null,null,null,null,null,null,null,null,null,null,null,null,null,null,null,null,null,null,null,null,null,null,null,null,null,null,null,null,null,null,null,null,null,null,null,null,null,null,null,null,null,1926,0.52512737033053047,99.810382781350768,96.806222083982391]
[null,null,null,null,null,null,null,null,null,null,null,null,null,null,null,null,null,null,null,null,null,null,null,null,null,null,null,null,null,null,null,null,null,null,null,null,null,null,null,null,null,null,null,null,1931,0.52649062933969593,99.845740086635232,96.927332454878794]
[null,null,null,null,null,null,null,null,null,null,null,null,null,null,null,null,null,null,null,null,null,null,null,null,null,null,null,null,null,null,null,null,null,null,null,null,null,null,null,null,null,null,null,null,1937,0.52812654015069449,99.883357343391481,97.068031362189942]
[null,null,null,null,null,null,null,null,null,null,null,null,null,null,null,null,null,null,null,null,null,null,null,null,null,null,null,null,null,null,null,null,null,null,null,null,null,null,null,null,null,null,null,null,1942,0.52948979915985994,99.910695466034099,97.181412839318043]
[null,null,null,null,null,null,null,null,null,null,null,null,null,null,null,null,null,null,null,null,null,null,null,null,null,null,null,null,null,null,null,null,null,null,null,null,null,null,null,null,null,null,null,null,1948,0.53112570997085851,99.938689703620156,97.312821760253044]
[null,null,null,null,null,null,null,null,null,null,null,null,null,null,null,null,null,null,null,null,null,null,null,null,null,null,null,null,null,null,null,null,null,null,null,null,null,null,null,null,null,null,null,null,1954,0.53276162078185696,99.961435021658815,97.439151174997576]
[null,null,null,null,null,null,null,null,null,null,null,null,null,null,null,null,null,null,null,null,null,null,null,null,null,null,null,null,null,null,null,null,null,null,null,null,null,null,null,null,null,null,null,null,1959,0.53412487979102241,99.976379862036779,97.540539643516894]
[null,null,null,null,null,null,null,null,null,null,null,null,null,null,null,null,null,null,null,null,null,null,null,null,null,null,null,null,null,null,null,null,null,null,null,null,null,null,null,null,null,null,null,null,1960,0.53439753159285552,99.97893142015009,97.560392969879274]
[null,null,null,null,null,null,null,null,null,null,null,null,null,null,null,null,null,null,null,null,null,null,null,null,null,null,null,null,null,null,null,null,null,null,null,null,null,null,null,null,null,null,null,null,1967,0.5363060942056872,99.992709833961968,97.695401259016123]
[null,null,null,null,null,null,null,null,null,null,null,null,null,null,null,null,null,null,null,null,null,null,null,null,null,null,null,null,null,null,null,null,null,null,null,null,null,null,null,null,null,null,null,null,1972,0.53766935321485265,99.998177458490503,97.787583169685021]
[null,null,null,null,null,null,null,null,null,null,null,null,null,null,null,null,null,null,null,null,null,null,null,null,null,null,null,null,null,null,null,null,null,null,null,null,null,null,null,null,null,null,null,null,1977,0.5390326122240181,100,97.876216669623787]
[null,null,null,null,null,null,null,null,null,null,null,null,null,null,null,null,null,null,null,null,null,null,null,null,null,null,null,null,null,null,null,null,null,null,null,null,null,null,null,null,null,null,null,null,1982,0.54039587123318356,100,97.961322955887695]
[null,null,null,null,null,null,null,null,null,null,null,null,null,null,null,null,null,null,null,null,null,null,null,null,null,null,null,null,null,null,null,null,null,null,null,null,null,null,null,null,null,null,null,null,1988,0.54203178204418201,100,98.058960815571112]
[null,null,null,null,null,null,null,null,null,null,null,null,null,null,null,null,null,null,null,null,null,null,null,null,null,null,null,null,null,null,null,null,null,null,null,null,null,null,null,null,null,null,null,null,1992,0.54312238925151446,100,98.121440813046704]
[null,null,null,null,null,null,null,null,null,null,null,null,null,null,null,null,null,null,null,null,null,null,null,null,null,null,null,null,null,null,null,null,null,null,null,null,null,null,null,null,null,null,null,null,1999,0.54503095186434602,100,98.225980465332597]
[null,null,null,null,null,null,null,null,null,null,null,null,null,null,null,null,null,null,null,null,null,null,null,null,null,null,null,null,null,null,null,null,null,null,null,null,null,null,null,null,null,null,null,null,2005,0.54666686267534459,100,98.310943147824005]
[null,null,null,null,null,null,null,null,null,null,null,null,null,null,null,null,null,null,null,null,null,null,null,null,null,null,null,null,null,null,null,null,null,null,null,null,null,null,null,null,null,null,null,null,2010,0.54803012168451004,100,98.378628656944059]
[null,null,null,null,null,null,null,null,null,null,null,null,null,null,null,null,null,null,null,null,null,null,null,null,null,null,null,null,null,null,null,null,null,null,null,null,null,null,null,null,null,null,null,null,2016,0.54966603249550861,100,98.456280597031935]
[null,null,null,null,null,null,null,null,null,null,null,null,null,null,null,null,null,null,null,null,null,null,null,null,null,null,null,null,null,null,null,null,null,null,null,null,null,null,null,null,null,null,null,null,2017,0.54993868429734161,100,98.468856102321595]
[null,null,null,null,null,null,null,null,null,null,null,null,null,null,null,null,null,null,null,null,null,null,null,null,null,null,null,null,null,null,null,null,null,null,null,null,null,null,null,null,null,null,null,null,2027,0.55266520231567251,100,98.589112265800864]
[null,null,null,null,null,null,null,null,null,null,null,null,null,null,null,null,null,null,null,null,null,null,null,null,null,null,null,null,null,null,null,null,null,null,null,null,null,null,null,null,null,null,null,null,2028,0.55293785411750562,100,98.600605692734817]
[null,null,null,null,null,null,null,null,null,null,null,null,null,null,null,null,null,null,null,null,null,null,null,null,null,null,null,null,null,null,null,null,null,null,null,null,null,null,null,null,null,null,null,null,2033,0.55430111312667107,100,98.656683566031347]
[null,null,null,null,null,null,null,null,null,null,null,null,null,null,null,null,null,null,null,null,null,null,null,null,null,null,null,null,null,null,null,null,null,null,null,null,null,null,null,null,null,null,null,null,2042,0.55675497934316887,100,98.752021415305961]
[null,null,null,null,null,null,null,null,null,null,null,null,null,null,null,null,null,null,null,null,null,null,null,null,null,null,null,null,null,null,null,null,null,null,null,null,null,null,null,null,null,null,null,null,2045,0.5575729347486682,100,98.782272628732159]
[null,null,null,null,null,null,null,null,null,null,null,null,null,null,null,null,null,null,null,null,null,null,null,null,null,null,null,null,null,null,null,null,null,null,null,null,null,null,null,null,null,null,null,null,2050,0.55893619375783365,100,{"$f":"( $AP$6*AU2081 + $AP$7*AU2080 + $AP$9*AV2080 )/$AP$8","v":98.831070570013722}]
[null,null,null,null,null,null,null,null,null,null,null,null,null,null,null,null,null,null,null,null,null,null,null,null,null,null,null,null,null,null,null,null,null,null,null,null,null,null,null,null,null,null,null,null,2056,0.56057210456883211,100,98.887053820521359]
[null,null,null,null,null,null,null,null,null,null,null,null,null,null,null,null,null,null,null,null,null,null,null,null,null,null,null,null,null,null,null,null,null,null,null,null,null,null,null,null,null,null,null,null,2061,0.56193536357799756,100,98.931652869205948]
[null,null,null,null,null,null,null,null,null,null,null,null,null,null,null,null,null,null,null,null,null,null,null,null,null,null,null,null,null,null,null,null,null,null,null,null,null,null,null,null,null,null,null,null,2067,0.56357127438899612,100,98.98281895632644]
[null,null,null,null,null,null,null,null,null,null,null,null,null,null,null,null,null,null,null,null,null,null,null,null,null,null,null,null,null,null,null,null,null,null,null,null,null,null,null,null,null,null,null,null,2073,0.56520718519999469,100,99.031534558585079]
[null,null,null,null,null,null,null,null,null,null,null,null,null,null,null,null,null,null,null,null,null,null,null,null,null,null,null,null,null,null,null,null,null,null,null,null,null,null,null,null,null,null,null,null,2078,0.56657044420916014,100,99.070343836308865]
[null,null,null,null,null,null,null,null,null,null,null,null,null,null,null,null,null,null,null,null,null,null,null,null,null,null,null,null,null,null,null,null,null,null,null,null,null,null,null,null,null,null,null,null,2084,0.5682063550201587,100,99.114867630956169]
[null,null,null,null,null,null,null,null,null,null,null,null,null,null,null,null,null,null,null,null,null,null,null,null,null,null,null,null,null,null,null,null,null,null,null,null,null,null,null,null,null,null,null,null,2089,0.56956961402932416,100,99.150337505732821]
[null,null,null,null,null,null,null,null,null,null,null,null,null,null,null,null,null,null,null,null,null,null,null,null,null,null,null,null,null,null,null,null,null,null,null,null,null,null,null,null,null,null,null,null,2092,0.57038756943482338,100,99.170933469293033]
[null,null,null,null,null,null,null,null,null,null,null,null,null,null,null,null,null,null,null,null,null,null,null,null,null,null,null,null,null,null,null,null,null,null,null,null,null,null,null,null,null,null,null,null,2096,0.57147817664215572,100,99.197620243656573]
[null,null,null,null,null,null,null,null,null,null,null,null,null,null,null,null,null,null,null,null,null,null,null,null,null,null,null,null,null,null,null,null,null,null,null,null,null,null,null,null,null,null,null,null,2101,0.57284143565132117,100,99.229773976223797]
[null,null,null,null,null,null,null,null,null,null,null,null,null,null,null,null,null,null,null,null,null,null,null,null,null,null,null,null,null,null,null,null,null,null,null,null,null,null,null,null,null,null,null,null,2106,0.57420469466048663,100,99.260639213524485]
[null,null,null,null,null,null,null,null,null,null,null,null,null,null,null,null,null,null,null,null,null,null,null,null,null,null,null,null,null,null,null,null,null,null,null,null,null,null,null,null,null,null,null,null,2112,{"$f":"$AP$18/$N$7*AS2143","v":0.57584060547148519},100,99.296049238341183]
[null,null,null,null,null,null,null,null,null,null,null,null,null,null,null,null,null,null,null,null,null,null,null,null,null,null,null,null,null,null,null,null,null,null,null,null,null,null,null,null,null,null,null,null,2117,0.57720386448065064,100,99.324258629657322]
[null,null,null,null,null,null,null,null,null,null,null,null,null,null,null,null,null,null,null,null,null,null,null,null,null,null,null,null,null,null,null,null,null,null,null,null,null,null,null,null,null,null,null,null,2124,0.57911242709348221,100,99.361862857611015]
[null,null,null,null,null,null,null,null,null,null,null,null,null,null,null,null,null,null,null,null,null,null,null,null,null,null,null,null,null,null,null,null,null,null,null,null,null,null,null,null,null,null,null,null,2129,0.58047568610264766,100,99.387434902338441]
[null,null,null,null,null,null,null,null,null,null,null,null,null,null,null,null,null,null,null,null,null,null,null,null,null,null,null,null,null,null,null,null,null,null,null,null,null,null,null,null,null,null,null,null,2134,0.58183894511181311,100,99.411982199518491]
[null,null,null,null,null,null,null,null,null,null,null,null,null,null,null,null,null,null,null,null,null,null,null,null,null,null,null,null,null,null,null,null,null,null,null,null,null,null,null,null,null,null,null,null,2140,0.58347485592281167,100,99.440143991824144]
[null,null,null,null,null,null,null,null,null,null,null,null,null,null,null,null,null,null,null,null,null,null,null,null,null,null,null,null,null,null,null,null,null,null,null,null,null,null,null,null,null,null,null,null,2146,0.58511076673381024,100,99.466957038317702]
[null,null,null,null,null,null,null,null,null,null,null,null,null,null,null,null,null,null,null,null,null,null,null,null,null,null,null,null,null,null,null,null,null,null,null,null,null,null,null,null,null,null,null,null,2151,0.58647402574297569,100,99.488317648055485]
[null,null,null,null,null,null,null,null,null,null,null,null,null,null,null,null,null,null,null,null,null,null,null,null,null,null,null,null,null,null,null,null,null,null,null,null,null,null,null,null,null,null,null,null,2157,0.58810993655397414,100,99.512823525445839]
[null,null,null,null,null,null,null,null,null,null,null,null,null,null,null,null,null,null,null,null,null,null,null,null,null,null,null,null,null,null,null,null,null,null,null,null,null,null,null,null,null,null,null,null,2162,0.5894731955631396,100,99.532346129240352]
[null,null,null,null,null,null,null,null,null,null,null,null,null,null,null,null,null,null,null,null,null,null,null,null,null,null,null,null,null,null,null,null,null,null,null,null,null,null,null,null,null,null,null,null,2165,0.59029115096863893,100,99.543682138709926]
[null,null,null,null,null,null,null,null,null,null,null,null,null,null,null,null,null,null,null,null,null,null,null,null,null,null,null,null,null,null,null,null,null,null,null,null,null,null,null,null,null,null,null,null,2169,0.59138175817597127,100,99.558370527821367]
[null,null,null,null,null,null,null,null,null,null,null,null,null,null,null,null,null,null,null,null,null,null,null,null,null,null,null,null,null,null,null,null,null,null,null,null,null,null,null,null,null,null,null,null,2174,0.59274501718513672,100,99.576067928372609]
[null,null,null,null,null,null,null,null,null,null,null,null,null,null,null,null,null,null,null,null,null,null,null,null,null,null,null,null,null,null,null,null,null,null,null,null,null,null,null,null,null,null,null,null,2180,0.59438092799613529,100,99.596371203108689]
[null,null,null,null,null,null,null,null,null,null,null,null,null,null,null,null,null,null,null,null,null,null,null,null,null,null,null,null,null,null,null,null,null,null,null,null,null,null,null,null,null,null,null,null,2185,0.59574418700530074,100,99.612545804086665]
[null,null,null,null,null,null,null,null,null,null,null,null,null,null,null,null,null,null,null,null,null,null,null,null,null,null,null,null,null,null,null,null,null,null,null,null,null,null,null,null,null,null,null,null,2190,0.59710744601446619,100,99.628072240912786]
[null,null,null,null,null,null,null,null,null,null,null,null,null,null,null,null,null,null,null,null,null,null,null,null,null,null,null,null,null,null,null,null,null,null,null,null,null,null,null,null,null,null,null,null,2197,0.59901600862729776,100,99.648769591776372]
[null,null,null,null,null,null,null,null,null,null,null,null,null,null,null,null,null,null,null,null,null,null,null,null,null,null,null,null,null,null,null,null,null,null,null,null,null,null,null,null,null,null,null,null,2202,0.60037926763646321,100,99.662844434176364]
[null,null,null,null,null,null,null,null,null,null,null,null,null,null,null,null,null,null,null,null,null,null,null,null,null,null,null,null,null,null,null,null,null,null,null,null,null,null,null,null,null,null,null,null,2208,0.60201517844746177,100,99.678991743002115]
[null,null,null,null,null,null,null,null,null,null,null,null,null,null,null,null,null,null,null,null,null,null,null,null,null,null,null,null,null,null,null,null,null,null,null,null,null,null,null,null,null,null,null,null,2215,0.60392374106029334,100,99.696855482297892]
[null,null,null,null,null,null,null,null,null,null,null,null,null,null,null,null,null,null,null,null,null,null,null,null,null,null,null,null,null,null,null,null,null,null,null,null,null,null,null,null,null,null,null,null,2219,0.60501434826762579,100,99.706613383556487]
[null,null,null,null,null,null,null,null,null,null,null,null,null,null,null,null,null,null,null,null,null,null,null,null,null,null,null,null,null,null,null,null,null,null,null,null,null,null,null,null,null,null,null,null,2225,0.60665025907862424,100,99.720664476824012]
[null,null,null,null,null,null,null,null,null,null,null,null,null,null,null,null,null,null,null,null,null,null,null,null,null,null,null,null,null,null,null,null,null,null,null,null,null,null,null,null,null,null,null,null,2230,0.60801351808778969,100,99.731858278309772]
[null,null,null,null,null,null,null,null,null,null,null,null,null,null,null,null,null,null,null,null,null,null,null,null,null,null,null,null,null,null,null,null,null,null,null,null,null,null,null,null,null,null,null,null,2231,0.60828616988962281,100,99.734042624527746]
[null,null,null,null,null,null,null,null,null,null,null,null,null,null,null,null,null,null,null,null,null,null,null,null,null,null,null,null,null,null,null,null,null,null,null,null,null,null,null,null,null,null,null,null,2240,{"$f":"$AP$18/$N$7*AS2271","v":0.6107400361061206},100,99.752918150453695]
[null,null,null,null,null,null,null,null,null,null,null,null,null,null,null,null,null,null,null,null,null,null,null,null,null,null,null,null,null,null,null,null,null,null,null,null,null,null,null,null,null,null,null,null,2242,0.61128533970978682,100,{"$f":"( $AP$6*AU2273 + $AP$7*AU2272 + $AP$9*AV2272 )/$AP$8","v":99.756927328792841}]
[null,null,null,null,null,null,null,null,null,null,null,null,null,null,null,null,null,null,null,null,null,null,null,null,null,null,null,null,null,null,null,null,null,null,null,null,null,null,null,null,null,null,null,null,2248,0.61292125052078539,100,99.768568748620794]
[null,null,null,null,null,null,null,null,null,null,null,null,null,null,null,null,null,null,null,null,null,null,null,null,null,null,null,null,null,null,null,null,null,null,null,null,null,null,null,null,null,null,null,null,2253,0.61428450952995084,100,99.777842884098035]
[null,null,null,null,null,null,null,null,null,null,null,null,null,null,null,null,null,null,null,null,null,null,null,null,null,null,null,null,null,null,null,null,null,null,null,null,null,null,null,null,null,null,null,null,2259,0.61592042034094929,100,99.788482600365342]
[null,null,null,null,null,null,null,null,null,null,null,null,null,null,null,null,null,null,null,null,null,null,null,null,null,null,null,null,null,null,null,null,null,null,null,null,null,null,null,null,null,null,null,null,2265,0.61755633115194786,100,99.798612751310884]
[null,null,null,null,null,null,null,null,null,null,null,null,null,null,null,null,null,null,null,null,null,null,null,null,null,null,null,null,null,null,null,null,null,null,null,null,null,null,null,null,null,null,null,null,2270,0.61891959016111331,100,99.806682934644371]
[null,null,null,null,null,null,null,null,null,null,null,null,null,null,null,null,null,null,null,null,null,null,null,null,null,null,null,null,null,null,null,null,null,null,null,null,null,null,null,null,null,null,null,null,2276,0.62055550097211187,100,99.815941421443924]
[null,null,null,null,null,null,null,null,null,null,null,null,null,null,null,null,null,null,null,null,null,null,null,null,null,null,null,null,null,null,null,null,null,null,null,null,null,null,null,null,null,null,null,null,2281,0.62191875998127732,100,99.823317193657473]
[null,null,null,null,null,null,null,null,null,null,null,null,null,null,null,null,null,null,null,null,null,null,null,null,null,null,null,null,null,null,null,null,null,null,null,null,null,null,null,null,null,null,null,null,2286,0.62328201899044278,100,99.830397396839871]
[null,null,null,null,null,null,null,null,null,null,null,null,null,null,null,null,null,null,null,null,null,null,null,null,null,null,null,null,null,null,null,null,null,null,null,null,null,null,null,null,null,null,null,null,2290,0.62437262619777512,100,99.835856725173997]
[null,null,null,null,null,null,null,null,null,null,null,null,null,null,null,null,null,null,null,null,null,null,null,null,null,null,null,null,null,null,null,null,null,null,null,null,null,null,null,null,null,null,null,null,2298,0.62655384061243979,100,99.846253848397907]
[null,null,null,null,null,null,null,null,null,null,null,null,null,null,null,null,null,null,null,null,null,null,null,null,null,null,null,null,null,null,null,null,null,null,null,null,null,null,null,null,null,null,null,null,2299,0.62682649241427291,100,99.847506301103365]
[null,null,null,null,null,null,null,null,null,null,null,null,null,null,null,null,null,null,null,null,null,null,null,null,null,null,null,null,null,null,null,null,null,null,null,null,null,null,null,null,null,null,null,null,2304,{"$f":"$AP$18/$N$7*AS2335","v":0.62818975142343836},100,99.853617175129955]
[null,null,null,null,null,null,null,null,null,null,null,null,null,null,null,null,null,null,null,null,null,null,null,null,null,null,null,null,null,null,null,null,null,null,null,null,null,null,null,null,null,null,null,null,2309,0.62955301043260381,100,99.859483168340915]
[null,null,null,null,null,null,null,null,null,null,null,null,null,null,null,null,null,null,null,null,null,null,null,null,null,null,null,null,null,null,null,null,null,null,null,null,null,null,null,null,null,null,null,null,2316,0.63146157304543549,100,99.867302767970159]
[null,null,null,null,null,null,null,null,null,null,null,null,null,null,null,null,null,null,null,null,null,null,null,null,null,null,null,null,null,null,null,null,null,null,null,null,null,null,null,null,null,null,null,null,2321,0.63282483205460083,100,99.87262033895486]
[null,null,null,null,null,null,null,null,null,null,null,null,null,null,null,null,null,null,null,null,null,null,null,null,null,null,null,null,null,null,null,null,null,null,null,null,null,null,null,null,null,null,null,null,2326,0.63418809106376628,100,99.87772481912566]
[null,null,null,null,null,null,null,null,null,null,null,null,null,null,null,null,null,null,null,null,null,null,null,null,null,null,null,null,null,null,null,null,null,null,null,null,null,null,null,null,null,null,null,null,2332,0.63582400187476484,100,99.883580914374932]
[null,null,null,null,null,null,null,null,null,null,null,null,null,null,null,null,null,null,null,null,null,null,null,null,null,null,null,null,null,null,null,null,null,null,null,null,null,null,null,null,null,null,null,null,2340,0.63800521628942963,100,99.890955103662549]
[null,null,null,null,null,null,null,null,null,null,null,null,null,null,null,null,null,null,null,null,null,null,null,null,null,null,null,null,null,null,null,null,null,null,null,null,null,null,null,null,null,null,null,null,2344,0.63909582349676197,100,99.894465143491971]
[null,null,null,null,null,null,null,null,null,null,null,null,null,null,null,null,null,null,null,null,null,null,null,null,null,null,null,null,null,null,null,null,null,null,null,null,null,null,null,null,null,null,null,null,2349,0.64045908250592742,100,99.898694237665666]
[null,null,null,null,null,null,null,null,null,null,null,null,null,null,null,null,null,null,null,null,null,null,null,null,null,null,null,null,null,null,null,null,null,null,null,null,null,null,null,null,null,null,null,null,2354,0.64182234151509288,100,99.902753859514092]
[null,null,null,null,null,null,null,null,null,null,null,null,null,null,null,null,null,null,null,null,null,null,null,null,null,null,null,null,null,null,null,null,null,null,null,null,null,null,null,null,null,null,null,null,2360,0.64345825232609133,100,99.907411245070477]
[null,null,null,null,null,null,null,null,null,null,null,null,null,null,null,null,null,null,null,null,null,null,null,null,null,null,null,null,null,null,null,null,null,null,null,null,null,null,null,null,null,null,null,null,2365,0.64482151133525678,100,99.911121550622411]
[null,null,null,null,null,null,null,null,null,null,null,null,null,null,null,null,null,null,null,null,null,null,null,null,null,null,null,null,null,null,null,null,null,null,null,null,null,null,null,null,null,null,null,null,2367,0.64536681493892301,100,99.91256370250332]
[null,null,null,null,null,null,null,null,null,null,null,null,null,null,null,null,null,null,null,null,null,null,null,null,null,null,null,null,null,null,null,null,null,null,null,null,null,null,null,null,null,null,null,null,2372,0.64673007394808846,100,99.916067533830201]
[null,null,null,null,null,null,null,null,null,null,null,null,null,null,null,null,null,null,null,null,null,null,null,null,null,null,null,null,null,null,null,null,null,null,null,null,null,null,null,null,null,null,null,null,2377,0.64809333295725391,100,99.919430956261479]
[null,null,null,null,null,null,null,null,null,null,null,null,null,null,null,null,null,null,null,null,null,null,null,null,null,null,null,null,null,null,null,null,null,null,null,null,null,null,null,null,null,null,null,null,2382,0.64945659196641936,100,99.922659596397324]
[null,null,null,null,null,null,null,null,null,null,null,null,null,null,null,null,null,null,null,null,null,null,null,null,null,null,null,null,null,null,null,null,null,null,null,null,null,null,null,null,null,null,null,null,2389,0.65136515457925093,100,99.926963500664144]
[null,null,null,null,null,null,null,null,null,null,null,null,null,null,null,null,null,null,null,null,null,null,null,null,null,null,null,null,null,null,null,null,null,null,null,null,null,null,null,null,null,null,null,null,2394,0.65272841358841638,100,99.929890289442994]
[null,null,null,null,null,null,null,null,null,null,null,null,null,null,null,null,null,null,null,null,null,null,null,null,null,null,null,null,null,null,null,null,null,null,null,null,null,null,null,null,null,null,null,null,2400,0.65436432439941494,100,99.933248036616078]
[null,null,null,null,null,null,null,null,null,null,null,null,null,null,null,null,null,null,null,null,null,null,null,null,null,null,null,null,null,null,null,null,null,null,null,null,null,null,null,null,null,null,null,null,2405,0.65572758340858039,100,99.935922985431731]
[null,null,null,null,null,null,null,null,null,null,null,null,null,null,null,null,null,null,null,null,null,null,null,null,null,null,null,null,null,null,null,null,null,null,null,null,null,null,null,null,null,null,null,null,2413,0.65790879782324507,100,99.939981736038376]
[null,null,null,null,null,null,null,null,null,null,null,null,null,null,null,null,null,null,null,null,null,null,null,null,null,null,null,null,null,null,null,null,null,null,null,null,null,null,null,null,null,null,null,null,2417,0.65899940503057752,100,99.941913660448151]
[null,null,null,null,null,null,null,null,null,null,null,null,null,null,null,null,null,null,null,null,null,null,null,null,null,null,null,null,null,null,null,null,null,null,null,null,null,null,null,null,null,null,null,null,2422,0.66036266403974297,100,99.944241352059208]
[null,null,null,null,null,null,null,null,null,null,null,null,null,null,null,null,null,null,null,null,null,null,null,null,null,null,null,null,null,null,null,null,null,null,null,null,null,null,null,null,null,null,null,null,2428,0.66199857485074143,100,99.946911787310057]
[null,null,null,null,null,null,null,null,null,null,null,null,null,null,null,null,null,null,null,null,null,null,null,null,null,null,null,null,null,null,null,null,null,null,null,null,null,null,null,null,null,null,null,null,{"$f":"AS2463+1","v":2433},0.66336183385990688,{"$f":"IF(($N$4*AT2464^2/2)<=$AP$13,($N$4*AT2464^2/2), IF(($AP$13+$N$6*(AT2464-$AP$12))<=$AP$17, ($AP$13+$N$6*(AT2464-$AP$12)), IF(AU2463<$D$14, ($AP$17+($N$6-$N$5*(AT2464-$AP$16)/2)*(AT2464-$AP$16)), $D$14)))","v":100},99.949039189179032]
[null,null,null,null,null,null,null,null,null,null,null,null,null,null,null,null,null,null,null,null,null,null,null,null,null,null,null,null,null,null,null,null,null,null,null,null,null,null,null,null,null,null,null,null,2438,0.66472509286907233,100,99.951081339756215]
[null,null,null,null,null,null,null,null,null,null,null,null,null,null,null,null,null,null,null,null,null,null,null,null,null,null,null,null,null,null,null,null,null,null,null,null,null,null,null,null,null,null,null,null,2440,0.66527039647273856,100,99.951875099530099]
[null,null,null,null,null,null,null,null,null,null,null,null,null,null,null,null,null,null,null,null,null,null,null,null,null,null,null,null,null,null,null,null,null,null,null,null,null,null,null,null,null,null,null,null,2445,0.66663365548190401,100,99.953803606782756]
[null,null,null,null,null,null,null,null,null,null,null,null,null,null,null,null,null,null,null,null,null,null,null,null,null,null,null,null,null,null,null,null,null,null,null,null,null,null,null,null,null,null,null,null,2451,0.66826956629290257,100,99.956016079313329]
[null,null,null,null,null,null,null,null,null,null,null,null,null,null,null,null,null,null,null,null,null,null,null,null,null,null,null,null,null,null,null,null,null,null,null,null,null,null,null,null,null,null,null,null,2456,0.66963282530206802,100,99.957778645245256]
[null,null,null,null,null,null,null,null,null,null,null,null,null,null,null,null,null,null,null,null,null,null,null,null,null,null,null,null,null,null,null,null,null,null,null,null,null,null,null,null,null,null,null,null,2465,0.67208669151856582,100,99.960775179087875]
[null,null,null,null,null,null,null,null,null,null,null,null,null,null,null,null,null,null,null,null,null,null,null,null,null,null,null,null,null,null,null,null,null,null,null,null,null,null,null,null,null,null,null,null,2468,0.67290464692406504,100,99.961725995426818]
[null,null,null,null,null,null,null,null,null,null,null,null,null,null,null,null,null,null,null,null,null,null,null,null,null,null,null,null,null,null,null,null,null,null,null,null,null,null,null,null,null,null,null,null,2473,0.67426790593323049,100,99.963259748113856]
[null,null,null,null,null,null,null,null,null,null,null,null,null,null,null,null,null,null,null,null,null,null,null,null,null,null,null,null,null,null,null,null,null,null,null,null,null,null,null,null,null,null,null,null,2479,0.67590381674422906,100,99.965019339986739]
[null,null,null,null,null,null,null,null,null,null,null,null,null,null,null,null,null,null,null,null,null,null,null,null,null,null,null,null,null,null,null,null,null,null,null,null,null,null,null,null,null,null,null,null,2482,0.67672177214972828,100,99.965867277142692]
[null,null,null,null,null,null,null,null,null,null,null,null,null,null,null,null,null,null,null,null,null,null,null,null,null,null,null,null,null,null,null,null,null,null,null,null,null,null,null,null,null,null,null,null,2490,0.67890298656439296,100,99.968029303737381]
[null,null,null,null,null,null,null,null,null,null,null,null,null,null,null,null,null,null,null,null,null,null,null,null,null,null,null,null,null,null,null,null,null,null,null,null,null,null,null,null,null,null,null,null,2496,{"$f":"$AP$18/$N$7*AS2527","v":0.68053889737539153},100,99.969560468452514]
[null,null,null,null,null,null,null,null,null,null,null,null,null,null,null,null,null,null,null,null,null,null,null,null,null,null,null,null,null,null,null,null,null,null,null,null,null,null,null,null,null,null,null,null,2501,0.68190215638455698,100,99.970780270608643]
[null,null,null,null,null,null,null,null,null,null,null,null,null,null,null,null,null,null,null,null,null,null,null,null,null,null,null,null,null,null,null,null,null,null,null,null,null,null,null,null,null,null,null,null,2506,0.68326541539372243,100,99.971951191680716]
[null,null,null,null,null,null,null,null,null,null,null,null,null,null,null,null,null,null,null,null,null,null,null,null,null,null,null,null,null,null,null,null,null,null,null,null,null,null,null,null,null,null,null,null,2507,0.68353806719555554,100,99.97217968394213]
[null,null,null,null,null,null,null,null,null,null,null,null,null,null,null,null,null,null,null,null,null,null,null,null,null,null,null,null,null,null,null,null,null,null,null,null,null,null,null,null,null,null,null,null,2513,0.68517397800655411,100,99.973512075516041]
[null,null,null,null,null,null,null,null,null,null,null,null,null,null,null,null,null,null,null,null,null,null,null,null,null,null,null,null,null,null,null,null,null,null,null,null,null,null,null,null,null,null,null,null,2519,0.68680988881755256,100,99.974780655187061]
[null,null,null,null,null,null,null,null,null,null,null,null,null,null,null,null,null,null,null,null,null,null,null,null,null,null,null,null,null,null,null,null,null,null,null,null,null,null,null,null,null,null,null,null,2524,0.68817314782671801,100,99.975791269004517]
[null,null,null,null,null,null,null,null,null,null,null,null,null,null,null,null,null,null,null,null,null,null,null,null,null,null,null,null,null,null,null,null,null,null,null,null,null,null,null,null,null,null,null,null,2529,0.68953640683588346,100,99.976761384534029]
[null,null,null,null,null,null,null,null,null,null,null,null,null,null,null,null,null,null,null,null,null,null,null,null,null,null,null,null,null,null,null,null,null,null,null,null,null,null,null,null,null,null,null,null,2538,0.69199027305238137,100,99.978410675469917]
[null,null,null,null,null,null,null,null,null,null,null,null,null,null,null,null,null,null,null,null,null,null,null,null,null,null,null,null,null,null,null,null,null,null,null,null,null,null,null,null,null,null,null,null,2541,0.69280822845788059,100,99.978934004373215]
[null,null,null,null,null,null,null,null,null,null,null,null,null,null,null,null,null,null,null,null,null,null,null,null,null,null,null,null,null,null,null,null,null,null,null,null,null,null,null,null,null,null,null,null,2547,0.69444413926887916,100,99.979942912935272]
[null,null,null,null,null,null,null,null,null,null,null,null,null,null,null,null,null,null,null,null,null,null,null,null,null,null,null,null,null,null,null,null,null,null,null,null,null,null,null,null,null,null,null,null,2552,0.69580739827804461,100,99.980746659800062]
[null,null,null,null,null,null,null,null,null,null,null,null,null,null,null,null,null,null,null,null,null,null,null,null,null,null,null,null,null,null,null,null,null,null,null,null,null,null,null,null,null,null,null,null,2557,0.69717065728721006,100,99.98151819814818]
[null,null,null,null,null,null,null,null,null,null,null,null,null,null,null,null,null,null,null,null,null,null,null,null,null,null,null,null,null,null,null,null,null,null,null,null,null,null,null,null,null,null,null,null,2564,0.69907921990004163,100,99.982546689106883]
[null,null,null,null,null,null,null,null,null,null,null,null,null,null,null,null,null,null,null,null,null,null,null,null,null,null,null,null,null,null,null,null,null,null,null,null,null,null,null,null,null,null,null,null,2569,0.70044247890920708,100,99.983246094951085]
[null,null,null,null,null,null,null,null,null,null,null,null,null,null,null,null,null,null,null,null,null,null,null,null,null,null,null,null,null,null,null,null,null,null,null,null,null,null,null,null,null,null,null,null,2574,0.70180573791837253,100,99.98391747353223]
[null,null,null,null,null,null,null,null,null,null,null,null,null,null,null,null,null,null,null,null,null,null,null,null,null,null,null,null,null,null,null,null,null,null,null,null,null,null,null,null,null,null,null,null,2575,0.70207838972020564,100,99.984048485616597]
[null,null,null,null,null,null,null,null,null,null,null,null,null,null,null,null,null,null,null,null,null,null,null,null,null,null,null,null,null,null,null,null,null,null,null,null,null,null,null,null,null,null,null,null,2582,0.70398695233303721,100,99.984936168995745]
[null,null,null,null,null,null,null,null,null,null,null,null,null,null,null,null,null,null,null,null,null,null,null,null,null,null,null,null,null,null,null,null,null,null,null,null,null,null,null,null,null,null,null,null,2587,0.70535021134220266,100,99.985539821305863]
[null,null,null,null,null,null,null,null,null,null,null,null,null,null,null,null,null,null,null,null,null,null,null,null,null,null,null,null,null,null,null,null,null,null,null,null,null,null,null,null,null,null,null,null,2592,0.70671347035136811,100,99.986119283480605]
[null,null,null,null,null,null,null,null,null,null,null,null,null,null,null,null,null,null,null,null,null,null,null,null,null,null,null,null,null,null,null,null,null,null,null,null,null,null,null,null,null,null,null,null,2597,0.70807672936053356,100,99.986675524890302]
[null,null,null,null,null,null,null,null,null,null,null,null,null,null,null,null,null,null,null,null,null,null,null,null,null,null,null,null,null,null,null,null,null,null,null,null,null,null,null,null,null,null,null,null,2603,0.70971264017153213,100,99.987313670708829]
[null,null,null,null,null,null,null,null,null,null,null,null,null,null,null,null,null,null,null,null,null,null,null,null,null,null,null,null,null,null,null,null,null,null,null,null,null,null,null,null,null,null,null,null,2607,0.71080324737886447,100,99.987722030224901]
[null,null,null,null,null,null,null,null,null,null,null,null,null,null,null,null,null,null,null,null,null,null,null,null,null,null,null,null,null,null,null,null,null,null,null,null,null,null,null,null,null,null,null,null,2614,0.71271180999169614,100,99.988405285083132]
[null,null,null,null,null,null,null,null,null,null,null,null,null,null,null,null,null,null,null,null,null,null,null,null,null,null,null,null,null,null,null,null,null,null,null,null,null,null,null,null,null,null,null,null,2620,0.71434772080269471,100,99.988960587920943]
[null,null,null,null,null,null,null,null,null,null,null,null,null,null,null,null,null,null,null,null,null,null,null,null,null,null,null,null,null,null,null,null,null,null,null,null,null,null,null,null,null,null,null,null,{"$f":"AS2655+1","v":2625},0.71571097981186016,{"$f":"IF(($N$4*AT2656^2/2)<=$AP$13,($N$4*AT2656^2/2), IF(($AP$13+$N$6*(AT2656-$AP$12))<=$AP$17, ($AP$13+$N$6*(AT2656-$AP$12)), IF(AU2655<$D$14, ($AP$17+($N$6-$N$5*(AT2656-$AP$16)/2)*(AT2656-$AP$16)), $D$14)))","v":100},99.989402969848996]
[null,null,null,null,null,null,null,null,null,null,null,null,null,null,null,null,null,null,null,null,null,null,null,null,null,null,null,null,null,null,null,null,null,null,null,null,null,null,null,null,null,null,null,null,2631,0.71734689062285861,100,99.989910490815035]
[null,null,null,null,null,null,null,null,null,null,null,null,null,null,null,null,null,null,null,null,null,null,null,null,null,null,null,null,null,null,null,null,null,null,null,null,null,null,null,null,null,null,null,null,2632,0.71761954242469173,100,99.989992682355719]
[null,null,null,null,null,null,null,null,null,null,null,null,null,null,null,null,null,null,null,null,null,null,null,null,null,null,null,null,null,null,null,null,null,null,null,null,null,null,null,null,null,null,null,null,2642,0.72034606044302263,100,99.990778657879147]
[null,null,null,null,null,null,null,null,null,null,null,null,null,null,null,null,null,null,null,null,null,null,null,null,null,null,null,null,null,null,null,null,null,null,null,null,null,null,null,null,null,null,null,null,2643,0.72061871224485574,100,99.990853777124514]
[null,null,null,null,null,null,null,null,null,null,null,null,null,null,null,null,null,null,null,null,null,null,null,null,null,null,null,null,null,null,null,null,null,null,null,null,null,null,null,null,null,null,null,null,2648,0.72198197125402119,100,99.991220293355767]
[null,null,null,null,null,null,null,null,null,null,null,null,null,null,null,null,null,null,null,null,null,null,null,null,null,null,null,null,null,null,null,null,null,null,null,null,null,null,null,null,null,null,null,null,2655,0.72389053386685276,100,99.991708873905182]
[null,null,null,null,null,null,null,null,null,null,null,null,null,null,null,null,null,null,null,null,null,null,null,null,null,null,null,null,null,null,null,null,null,null,null,null,null,null,null,null,null,null,null,null,2660,0.72525379287601821,100,99.992041123876575]
[null,null,null,null,null,null,null,null,null,null,null,null,null,null,null,null,null,null,null,null,null,null,null,null,null,null,null,null,null,null,null,null,null,null,null,null,null,null,null,null,null,null,null,null,2665,0.72661705188518366,100,99.992360059607876]
[null,null,null,null,null,null,null,null,null,null,null,null,null,null,null,null,null,null,null,null,null,null,null,null,null,null,null,null,null,null,null,null,null,null,null,null,null,null,null,null,null,null,null,null,2671,0.72825296269618223,100,99.992725957399301]
[null,null,null,null,null,null,null,null,null,null,null,null,null,null,null,null,null,null,null,null,null,null,null,null,null,null,null,null,null,null,null,null,null,null,null,null,null,null,null,null,null,null,null,null,2676,0.72961622170534768,100,99.993017449823654]
[null,null,null,null,null,null,null,null,null,null,null,null,null,null,null,null,null,null,null,null,null,null,null,null,null,null,null,null,null,null,null,null,null,null,null,null,null,null,null,null,null,null,null,null,2682,0.73125213251634624,100,99.993351863386678]
[null,null,null,null,null,null,null,null,null,null,null,null,null,null,null,null,null,null,null,null,null,null,null,null,null,null,null,null,null,null,null,null,null,null,null,null,null,null,null,null,null,null,null,null,2688,{"$f":"$AP$18/$N$7*AS2719","v":0.73288804332734481},100,99.993670260962986]
[null,null,null,null,null,null,null,null,null,null,null,null,null,null,null,null,null,null,null,null,null,null,null,null,null,null,null,null,null,null,null,null,null,null,null,null,null,null,null,null,null,null,null,null,2693,0.73425130233651015,100,99.993923912347583]
[null,null,null,null,null,null,null,null,null,null,null,null,null,null,null,null,null,null,null,null,null,null,null,null,null,null,null,null,null,null,null,null,null,null,null,null,null,null,null,null,null,null,null,null,2699,0.73588721314750871,100,99.994214912923283]
[null,null,null,null,null,null,null,null,null,null,null,null,null,null,null,null,null,null,null,null,null,null,null,null,null,null,null,null,null,null,null,null,null,null,null,null,null,null,null,null,null,null,null,null,2704,0.73725047215667416,100,99.994446738491234]
[null,null,null,null,null,null,null,null,null,null,null,null,null,null,null,null,null,null,null,null,null,null,null,null,null,null,null,null,null,null,null,null,null,null,null,null,null,null,null,null,null,null,null,null,2707,0.7380684275621735,100,99.994581350495892]
[null,null,null,null,null,null,null,null,null,null,null,null,null,null,null,null,null,null,null,null,null,null,null,null,null,null,null,null,null,null,null,null,null,null,null,null,null,null,null,null,null,null,null,null,2711,0.73915903476950584,100,99.994755771089771]
[null,null,null,null,null,null,null,null,null,null,null,null,null,null,null,null,null,null,null,null,null,null,null,null,null,null,null,null,null,null,null,null,null,null,null,null,null,null,null,null,null,null,null,null,2716,0.74052229377867129,100,99.994965922869568]
[null,null,null,null,null,null,null,null,null,null,null,null,null,null,null,null,null,null,null,null,null,null,null,null,null,null,null,null,null,null,null,null,null,null,null,null,null,null,null,null,null,null,null,null,2722,0.74215820458966975,100,99.995207018690891]
[null,null,null,null,null,null,null,null,null,null,null,null,null,null,null,null,null,null,null,null,null,null,null,null,null,null,null,null,null,null,null,null,null,null,null,null,null,null,null,null,null,null,null,null,2730,0.74433941900433453,100,99.995510614542212]
[null,null,null,null,null,null,null,null,null,null,null,null,null,null,null,null,null,null,null,null,null,null,null,null,null,null,null,null,null,null,null,null,null,null,null,null,null,null,null,null,null,null,null,null,2733,0.74515737440983376,100,99.995619438010209]
[null,null,null,null,null,null,null,null,null,null,null,null,null,null,null,null,null,null,null,null,null,null,null,null,null,null,null,null,null,null,null,null,null,null,null,null,null,null,null,null,null,null,null,null,2739,0.74679328522083233,100,99.995829235191195]
[null,null,null,null,null,null,null,null,null,null,null,null,null,null,null,null,null,null,null,null,null,null,null,null,null,null,null,null,null,null,null,null,null,null,null,null,null,null,null,null,null,null,null,null,2744,0.74815654422999778,100,99.995996370086075]
[null,null,null,null,null,null,null,null,null,null,null,null,null,null,null,null,null,null,null,null,null,null,null,null,null,null,null,null,null,null,null,null,null,null,null,null,null,null,null,null,null,null,null,null,2749,0.74951980323916323,100,99.996156807390875]
[null,null,null,null,null,null,null,null,null,null,null,null,null,null,null,null,null,null,null,null,null,null,null,null,null,null,null,null,null,null,null,null,null,null,null,null,null,null,null,null,null,null,null,null,2755,0.75115571405016179,100,99.996340868471904]
[null,null,null,null,null,null,null,null,null,null,null,null,null,null,null,null,null,null,null,null,null,null,null,null,null,null,null,null,null,null,null,null,null,null,null,null,null,null,null,null,null,null,null,null,2761,0.75279162486116025,100,99.996516114360745]
[null,null,null,null,null,null,null,null,null,null,null,null,null,null,null,null,null,null,null,null,null,null,null,null,null,null,null,null,null,null,null,null,null,null,null,null,null,null,null,null,null,null,null,null,2767,0.75442753567215881,100,99.996682967241185]
[null,null,null,null,null,null,null,null,null,null,null,null,null,null,null,null,null,null,null,null,null,null,null,null,null,null,null,null,null,null,null,null,null,null,null,null,null,null,null,null,null,null,null,null,2772,0.75579079468132426,100,99.99681589056506]
[null,null,null,null,null,null,null,null,null,null,null,null,null,null,null,null,null,null,null,null,null,null,null,null,null,null,null,null,null,null,null,null,null,null,null,null,null,null,null,null,null,null,null,null,2777,0.75715405369048971,100,99.996943487257738]
[null,null,null,null,null,null,null,null,null,null,null,null,null,null,null,null,null,null,null,null,null,null,null,null,null,null,null,null,null,null,null,null,null,null,null,null,null,null,null,null,null,null,null,null,2780,0.75797200909598894,100,99.997017577647128]
[null,null,null,null,null,null,null,null,null,null,null,null,null,null,null,null,null,null,null,null,null,null,null,null,null,null,null,null,null,null,null,null,null,null,null,null,null,null,null,null,null,null,null,null,2784,0.75906261630332139,100,99.997113578666841]
[null,null,null,null,null,null,null,null,null,null,null,null,null,null,null,null,null,null,null,null,null,null,null,null,null,null,null,null,null,null,null,null,null,null,null,null,null,null,null,null,null,null,null,null,2789,0.76042587531248684,100,99.997229246115921]
[null,null,null,null,null,null,null,null,null,null,null,null,null,null,null,null,null,null,null,null,null,null,null,null,null,null,null,null,null,null,null,null,null,null,null,null,null,null,null,null,null,null,null,null,2795,0.7620617861234853,100,99.997361945152107]
[null,null,null,null,null,null,null,null,null,null,null,null,null,null,null,null,null,null,null,null,null,null,null,null,null,null,null,null,null,null,null,null,null,null,null,null,null,null,null,null,null,null,null,null,2800,0.76342504513265075,100,99.997467659820742]
[null,null,null,null,null,null,null,null,null,null,null,null,null,null,null,null,null,null,null,null,null,null,null,null,null,null,null,null,null,null,null,null,null,null,null,null,null,null,null,null,null,null,null,null,2805,0.7647883041418162,100,99.997569138189576]
[null,null,null,null,null,null,null,null,null,null,null,null,null,null,null,null,null,null,null,null,null,null,null,null,null,null,null,null,null,null,null,null,null,null,null,null,null,null,null,null,null,null,null,null,2812,0.76669686675464788,100,99.997704412845849]
[null,null,null,null,null,null,null,null,null,null,null,null,null,null,null,null,null,null,null,null,null,null,null,null,null,null,null,null,null,null,null,null,null,null,null,null,null,null,null,null,null,null,null,null,{"$f":"AS2847+1","v":2817},0.76806012576381333,{"$f":"IF(($N$4*AT2848^2/2)<=$AP$13,($N$4*AT2848^2/2), IF(($AP$13+$N$6*(AT2848-$AP$12))<=$AP$17, ($AP$13+$N$6*(AT2848-$AP$12)), IF(AU2847<$D$14, ($AP$17+($N$6-$N$5*(AT2848-$AP$16)/2)*(AT2848-$AP$16)), $D$14)))","v":100},99.997796403819976]
[null,null,null,null,null,null,null,null,null,null,null,null,null,null,null,null,null,null,null,null,null,null,null,null,null,null,null,null,null,null,null,null,null,null,null,null,null,null,null,null,null,null,null,null,2823,0.76969603657481189,100,99.997901940111333]
[null,null,null,null,null,null,null,null,null,null,null,null,null,null,null,null,null,null,null,null,null,null,null,null,null,null,null,null,null,null,null,null,null,null,null,null,null,null,null,null,null,null,null,null,2830,0.77160459918764346,100,99.998018694724479]
[null,null,null,null,null,null,null,null,null,null,null,null,null,null,null,null,null,null,null,null,null,null,null,null,null,null,null,null,null,null,null,null,null,null,null,null,null,null,null,null,null,null,null,null,2835,0.77296785819680891,100,99.998098091493233]
[null,null,null,null,null,null,null,null,null,null,null,null,null,null,null,null,null,null,null,null,null,null,null,null,null,null,null,null,null,null,null,null,null,null,null,null,null,null,null,null,null,null,null,null,2840,0.77433111720597436,100,99.99817430659833]
[null,null,null,null,null,null,null,null,null,null,null,null,null,null,null,null,null,null,null,null,null,null,null,null,null,null,null,null,null,null,null,null,null,null,null,null,null,null,null,null,null,null,null,null,2845,0.77569437621513981,100,99.998247467538533]
[null,null,null,null,null,null,null,null,null,null,null,null,null,null,null,null,null,null,null,null,null,null,null,null,null,null,null,null,null,null,null,null,null,null,null,null,null,null,null,null,null,null,null,null,2846,0.77596702801697293,100,99.99826174408463]
[null,null,null,null,null,null,null,null,null,null,null,null,null,null,null,null,null,null,null,null,null,null,null,null,null,null,null,null,null,null,null,null,null,null,null,null,null,null,null,null,null,null,null,null,2855,0.77842089423347072,100,99.998385111577335]
[null,null,null,null,null,null,null,null,null,null,null,null,null,null,null,null,null,null,null,null,null,null,null,null,null,null,null,null,null,null,null,null,null,null,null,null,null,null,null,null,null,null,null,null,2857,0.77896619783713694,100,99.998411314941492]
[null,null,null,null,null,null,null,null,null,null,null,null,null,null,null,null,null,null,null,null,null,null,null,null,null,null,null,null,null,null,null,null,null,null,null,null,null,null,null,null,null,null,null,null,2863,0.7806021086481354,100,99.998487401445331]
[null,null,null,null,null,null,null,null,null,null,null,null,null,null,null,null,null,null,null,null,null,null,null,null,null,null,null,null,null,null,null,null,null,null,null,null,null,null,null,null,null,null,null,null,2868,0.78196536765730085,100,99.998548015747929]
[null,null,null,null,null,null,null,null,null,null,null,null,null,null,null,null,null,null,null,null,null,null,null,null,null,null,null,null,null,null,null,null,null,null,null,null,null,null,null,null,null,null,null,null,2874,0.78360127846829941,100,99.998617555273569]
[null,null,null,null,null,null,null,null,null,null,null,null,null,null,null,null,null,null,null,null,null,null,null,null,null,null,null,null,null,null,null,null,null,null,null,null,null,null,null,null,null,null,null,null,2880,{"$f":"$AP$18/$N$7*AS2911","v":0.78523718927929798},100,99.998683764359726]
[null,null,null,null,null,null,null,null,null,null,null,null,null,null,null,null,null,null,null,null,null,null,null,null,null,null,null,null,null,null,null,null,null,null,null,null,null,null,null,null,null,null,null,null,2885,0.78660044828846343,100,99.998736509818968]
[null,null,null,null,null,null,null,null,null,null,null,null,null,null,null,null,null,null,null,null,null,null,null,null,null,null,null,null,null,null,null,null,null,null,null,null,null,null,null,null,null,null,null,null,2891,0.78823635909946188,100,99.998797021844283]
[null,null,null,null,null,null,null,null,null,null,null,null,null,null,null,null,null,null,null,null,null,null,null,null,null,null,null,null,null,null,null,null,null,null,null,null,null,null,null,null,null,null,null,null,2896,0.78959961810862733,100,99.998845228740805]
[null,null,null,null,null,null,null,null,null,null,null,null,null,null,null,null,null,null,null,null,null,null,null,null,null,null,null,null,null,null,null,null,null,null,null,null,null,null,null,null,null,null,null,null,2899,0.79041757351412667,100,99.998873220592756]
[null,null,null,null,null,null,null,null,null,null,null,null,null,null,null,null,null,null,null,null,null,null,null,null,null,null,null,null,null,null,null,null,null,null,null,null,null,null,null,null,null,null,null,null,2908,0.79287143973062446,100,99.998953190376881]
[null,null,null,null,null,null,null,null,null,null,null,null,null,null,null,null,null,null,null,null,null,null,null,null,null,null,null,null,null,null,null,null,null,null,null,null,null,null,null,null,null,null,null,null,2913,0.79423469873978991,100,99.998995139137904]
[null,null,null,null,null,null,null,null,null,null,null,null,null,null,null,null,null,null,null,null,null,null,null,null,null,null,null,null,null,null,null,null,null,null,null,null,null,null,null,null,null,null,null,null,2914,0.79450735054162303,100,99.999003324973387]
[null,null,null,null,null,null,null,null,null,null,null,null,null,null,null,null,null,null,null,null,null,null,null,null,null,null,null,null,null,null,null,null,null,null,null,null,null,null,null,null,null,null,null,null,2919,0.79587060955078848,100,99.999043264692673]
[null,null,null,null,null,null,null,null,null,null,null,null,null,null,null,null,null,null,null,null,null,null,null,null,null,null,null,null,null,null,null,null,null,null,null,null,null,null,null,null,null,null,null,null,2924,0.79723386855995393,100,99.99908160390919]
[null,null,null,null,null,null,null,null,null,null,null,null,null,null,null,null,null,null,null,null,null,null,null,null,null,null,null,null,null,null,null,null,null,null,null,null,null,null,null,null,null,null,null,null,2931,0.79914243117278549,100,99.999132711592409]
[null,null,null,null,null,null,null,null,null,null,null,null,null,null,null,null,null,null,null,null,null,null,null,null,null,null,null,null,null,null,null,null,null,null,null,null,null,null,null,null,null,null,null,null,2936,0.80050569018195095,100,99.999167466406774]
[null,null,null,null,null,null,null,null,null,null,null,null,null,null,null,null,null,null,null,null,null,null,null,null,null,null,null,null,null,null,null,null,null,null,null,null,null,null,null,null,null,null,null,null,2942,0.80214160099294951,100,99.999207338733896]
[null,null,null,null,null,null,null,null,null,null,null,null,null,null,null,null,null,null,null,null,null,null,null,null,null,null,null,null,null,null,null,null,null,null,null,null,null,null,null,null,null,null,null,null,2947,0.80350486000211496,100,99.999239103017757]
[null,null,null,null,null,null,null,null,null,null,null,null,null,null,null,null,null,null,null,null,null,null,null,null,null,null,null,null,null,null,null,null,null,null,null,null,null,null,null,null,null,null,null,null,2955,0.80568607441677964,100,99.999287299568522]
[null,null,null,null,null,null,null,null,null,null,null,null,null,null,null,null,null,null,null,null,null,null,null,null,null,null,null,null,null,null,null,null,null,null,null,null,null,null,null,null,null,null,null,null,2959,0.80677668162411198,100,99.99931024064125]
[null,null,null,null,null,null,null,null,null,null,null,null,null,null,null,null,null,null,null,null,null,null,null,null,null,null,null,null,null,null,null,null,null,null,null,null,null,null,null,null,null,null,null,null,2964,0.80813994063327743,100,99.999337881340978]
[null,null,null,null,null,null,null,null,null,null,null,null,null,null,null,null,null,null,null,null,null,null,null,null,null,null,null,null,null,null,null,null,null,null,null,null,null,null,null,null,null,null,null,null,2969,0.80950319964244288,100,99.999364414396055]
[null,null,null,null,null,null,null,null,null,null,null,null,null,null,null,null,null,null,null,null,null,null,null,null,null,null,null,null,null,null,null,null,null,null,null,null,null,null,null,null,null,null,null,null,2975,0.81113911045344145,100,99.999394854341432]
[null,null,null,null,null,null,null,null,null,null,null,null,null,null,null,null,null,null,null,null,null,null,null,null,null,null,null,null,null,null,null,null,null,null,null,null,null,null,null,null,null,null,null,null,2980,0.8125023694626069,100,99.999419104319685]
[null,null,null,null,null,null,null,null,null,null,null,null,null,null,null,null,null,null,null,null,null,null,null,null,null,null,null,null,null,null,null,null,null,null,null,null,null,null,null,null,null,null,null,null,2982,0.81304767306627312,100,99.999428529999392]
[null,null,null,null,null,null,null,null,null,null,null,null,null,null,null,null,null,null,null,null,null,null,null,null,null,null,null,null,null,null,null,null,null,null,null,null,null,null,null,null,null,null,null,null,2987,0.81441093207543858,100,99.99945143049429]
[null,null,null,null,null,null,null,null,null,null,null,null,null,null,null,null,null,null,null,null,null,null,null,null,null,null,null,null,null,null,null,null,null,null,null,null,null,null,null,null,null,null,null,null,2992,0.81577419108460403,100,99.99947341329856]
[null,null,null,null,null,null,null,null,null,null,null,null,null,null,null,null,null,null,null,null,null,null,null,null,null,null,null,null,null,null,null,null,null,null,null,null,null,null,null,null,null,null,null,null,2997,0.81713745009376948,100,99.999494515186797]
[null,null,null,null,null,null,null,null,null,null,null,null,null,null,null,null,null,null,null,null,null,null,null,null,null,null,null,null,null,null,null,null,null,null,null,null,null,null,null,null,null,null,null,null,3004,0.81904601270660105,100,99.999522644833633]
[null,null,null,null,null,null,null,null,null,null,null,null,null,null,null,null,null,null,null,null,null,null,null,null,null,null,null,null,null,null,null,null,null,null,null,null,null,null,null,null,null,null,null,null,3010,0.82068192351759961,100,{"$f":"( $AP$6*AU3041 + $AP$7*AU3040 + $AP$9*AV3040 )/$AP$8","v":99.999545506687454}]
[null,null,null,null,null,null,null,null,null,null,null,null,null,null,null,null,null,null,null,null,null,null,null,null,null,null,null,null,null,null,null,null,null,null,null,null,null,null,null,null,null,null,null,null,3015,0.82204518252676506,100,99.999563719580124]
[null,null,null,null,null,null,null,null,null,null,null,null,null,null,null,null,null,null,null,null,null,null,null,null,null,null,null,null,null,null,null,null,null,null,null,null,null,null,null,null,null,null,null,null,3020,0.82340844153593051,100,99.999581202628264]
[null,null,null,null,null,null,null,null,null,null,null,null,null,null,null,null,null,null,null,null,null,null,null,null,null,null,null,null,null,null,null,null,null,null,null,null,null,null,null,null,null,null,null,null,3028,0.82558965595059519,100,99.999607729989023]
[null,null,null,null,null,null,null,null,null,null,null,null,null,null,null,null,null,null,null,null,null,null,null,null,null,null,null,null,null,null,null,null,null,null,null,null,null,null,null,null,null,null,null,null,3032,0.82668026315792753,100,99.999620356745581]
[null,null,null,null,null,null,null,null,null,null,null,null,null,null,null,null,null,null,null,null,null,null,null,null,null,null,null,null,null,null,null,null,null,null,null,null,null,null,null,null,null,null,null,null,3037,0.82804352216709298,100,99.999635570174803]
[null,null,null,null,null,null,null,null,null,null,null,null,null,null,null,null,null,null,null,null,null,null,null,null,null,null,null,null,null,null,null,null,null,null,null,null,null,null,null,null,null,null,null,null,3043,0.82967943297809155,100,99.999653023722971]
[null,null,null,null,null,null,null,null,null,null,null,null,null,null,null,null,null,null,null,null,null,null,null,null,null,null,null,null,null,null,null,null,null,null,null,null,null,null,null,null,null,null,null,null,3048,0.831042691987257,100,99.999666928089695]
[null,null,null,null,null,null,null,null,null,null,null,null,null,null,null,null,null,null,null,null,null,null,null,null,null,null,null,null,null,null,null,null,null,null,null,null,null,null,null,null,null,null,null,null,3053,0.83240595099642245,100,99.999680275267266]
[null,null,null,null,null,null,null,null,null,null,null,null,null,null,null,null,null,null,null,null,null,null,null,null,null,null,null,null,null,null,null,null,null,null,null,null,null,null,null,null,null,null,null,null,3055,0.83295125460008868,100,99.99968546315732]
[null,null,null,null,null,null,null,null,null,null,null,null,null,null,null,null,null,null,null,null,null,null,null,null,null,null,null,null,null,null,null,null,null,null,null,null,null,null,null,null,null,null,null,null,3060,0.83431451360925402,100,99.999698067579885]
[null,null,null,null,null,null,null,null,null,null,null,null,null,null,null,null,null,null,null,null,null,null,null,null,null,null,null,null,null,null,null,null,null,null,null,null,null,null,null,null,null,null,null,null,3066,0.83595042442025258,100,99.999712527955168]
[null,null,null,null,null,null,null,null,null,null,null,null,null,null,null,null,null,null,null,null,null,null,null,null,null,null,null,null,null,null,null,null,null,null,null,null,null,null,null,null,null,null,null,null,3072,{"$f":"$AP$18/$N$7*AS3103","v":0.83758633523125114},100,99.999726295783233]
[null,null,null,null,null,null,null,null,null,null,null,null,null,null,null,null,null,null,null,null,null,null,null,null,null,null,null,null,null,null,null,null,null,null,null,null,null,null,null,null,null,null,null,null,3076,0.83867694243858348,100,99.99973510603229]
[null,null,null,null,null,null,null,null,null,null,null,null,null,null,null,null,null,null,null,null,null,null,null,null,null,null,null,null,null,null,null,null,null,null,null,null,null,null,null,null,null,null,null,null,3077,0.8389495942404166,100,99.999737263921517]
[null,null,null,null,null,null,null,null,null,null,null,null,null,null,null,null,null,null,null,null,null,null,null,null,null,null,null,null,null,null,null,null,null,null,null,null,null,null,null,null,null,null,null,null,3078,0.83922224604224971,100,99.999739404232074]
[null,null,null,null,null,null,null,null,null,null,null,null,null,null,null,null,null,null,null,null,null,null,null,null,null,null,null,null,null,null,null,null,null,null,null,null,null,null,null,null,null,null,null,null,3079,0.83949489784408282,100,99.999741527107147]
[null,null,null,null,null,null,null,null,null,null,null,null,null,null,null,null,null,null,null,null,null,null,null,null,null,null,null,null,null,null,null,null,null,null,null,null,null,null,null,null,null,null,null,null,3080,0.83976754964591582,100,99.999743632688777]
[null,null,null,null,null,null,null,null,null,null,null,null,null,null,null,null,null,null,null,null,null,null,null,null,null,null,null,null,null,null,null,null,null,null,null,null,null,null,null,null,null,null,null,null,3081,0.84004020144774894,100,99.999745721117847]
[null,null,null,null,null,null,null,null,null,null,null,null,null,null,null,null,null,null,null,null,null,null,null,null,null,null,null,null,null,null,null,null,null,null,null,null,null,null,null,null,null,null,null,null,3082,0.84031285324958205,100,99.99974779253408]
[null,null,null,null,null,null,null,null,null,null,null,null,null,null,null,null,null,null,null,null,null,null,null,null,null,null,null,null,null,null,null,null,null,null,null,null,null,null,null,null,null,null,null,null,3083,0.84058550505141516,100,99.99974984707606]
[null,null,null,null,null,null,null,null,null,null,null,null,null,null,null,null,null,null,null,null,null,null,null,null,null,null,null,null,null,null,null,null,null,null,null,null,null,null,null,null,null,null,null,null,3084,0.84085815685324827,100,99.999751884881249]
[null,null,null,null,null,null,null,null,null,null,null,null,null,null,null,null,null,null,null,null,null,null,null,null,null,null,null,null,null,null,null,null,null,null,null,null,null,null,null,null,null,null,null,null,3085,0.84113080865508127,100,99.999753906085985]
[null,null,null,null,null,null,null,null,null,null,null,null,null,null,null,null,null,null,null,null,null,null,null,null,null,null,null,null,null,null,null,null,null,null,null,null,null,null,null,null,null,null,null,null,3086,0.84140346045691439,100,99.999755910825499]
[null,null,null,null,null,null,null,null,null,null,null,null,null,null,null,null,null,null,null,null,null,null,null,null,null,null,null,null,null,null,null,null,null,null,null,null,null,null,null,null,null,null,null,null,3087,0.8416761122587475,100,99.999757899233927]
[null,null,null,null,null,null,null,null,null,null,null,null,null,null,null,null,null,null,null,null,null,null,null,null,null,null,null,null,null,null,null,null,null,null,null,null,null,null,null,null,null,null,null,null,3088,0.84194876406058061,100,99.999759871444311]
[null,null,null,null,null,null,null,null,null,null,null,null,null,null,null,null,null,null,null,null,null,null,null,null,null,null,null,null,null,null,null,null,null,null,null,null,null,null,null,null,null,null,null,null,3089,0.84222141586241361,100,99.999761827588614]
[null,null,null,null,null,null,null,null,null,null,null,null,null,null,null,null,null,null,null,null,null,null,null,null,null,null,null,null,null,null,null,null,null,null,null,null,null,null,null,null,null,null,null,null,3090,0.84249406766424673,100,99.999763767797702]
[null,null,null,null,null,null,null,null,null,null,null,null,null,null,null,null,null,null,null,null,null,null,null,null,null,null,null,null,null,null,null,null,null,null,null,null,null,null,null,null,null,null,null,null,3091,0.84276671946607984,100,99.999765692201379]
[null,null,null,null,null,null,null,null,null,null,null,null,null,null,null,null,null,null,null,null,null,null,null,null,null,null,null,null,null,null,null,null,null,null,null,null,null,null,null,null,null,null,null,null,3092,0.84303937126791295,100,99.999767600928408]
[null,null,null,null,null,null,null,null,null,null,null,null,null,null,null,null,null,null,null,null,null,null,null,null,null,null,null,null,null,null,null,null,null,null,null,null,null,null,null,null,null,null,null,null,3093,0.84331202306974606,100,99.999769494106488]
[null,null,null,null,null,null,null,null,null,null,null,null,null,null,null,null,null,null,null,null,null,null,null,null,null,null,null,null,null,null,null,null,null,null,null,null,null,null,null,null,null,null,null,null,3094,0.84358467487157907,100,99.99977137186228]
[null,null,null,null,null,null,null,null,null,null,null,null,null,null,null,null,null,null,null,null,null,null,null,null,null,null,null,null,null,null,null,null,null,null,null,null,null,null,null,null,null,null,null,null,3095,0.84385732667341218,100,99.999773234321438]
[null,null,null,null,null,null,null,null,null,null,null,null,null,null,null,null,null,null,null,null,null,null,null,null,null,null,null,null,null,null,null,null,null,null,null,null,null,null,null,null,null,null,null,null,3096,0.84412997847524529,100,99.999775081608561]
[null,null,null,null,null,null,null,null,null,null,null,null,null,null,null,null,null,null,null,null,null,null,null,null,null,null,null,null,null,null,null,null,null,null,null,null,null,null,null,null,null,null,null,null,3097,0.8444026302770784,100,99.999776913847242]
[null,null,null,null,null,null,null,null,null,null,null,null,null,null,null,null,null,null,null,null,null,null,null,null,null,null,null,null,null,null,null,null,null,null,null,null,null,null,null,null,null,null,null,null,3098,0.84467528207891152,100,99.999778731160077]
[null,null,null,null,null,null,null,null,null,null,null,null,null,null,null,null,null,null,null,null,null,null,null,null,null,null,null,null,null,null,null,null,null,null,null,null,null,null,null,null,null,null,null,null,3099,0.84494793388074452,100,99.999780533668655]
[null,null,null,null,null,null,null,null,null,null,null,null,null,null,null,null,null,null,null,null,null,null,null,null,null,null,null,null,null,null,null,null,null,null,null,null,null,null,null,null,null,null,null,null,3100,0.84522058568257763,100,99.999782321493569]
[null,null,null,null,null,null,null,null,null,null,null,null,null,null,null,null,null,null,null,null,null,null,null,null,null,null,null,null,null,null,null,null,null,null,null,null,null,null,null,null,null,null,null,null,3101,0.84549323748441074,100,99.999784094754432]
[null,null,null,null,null,null,null,null,null,null,null,null,null,null,null,null,null,null,null,null,null,null,null,null,null,null,null,null,null,null,null,null,null,null,null,null,null,null,null,null,null,null,null,null,3102,0.84576588928624385,100,99.99978585356989]
[null,null,null,null,null,null,null,null,null,null,null,null,null,null,null,null,null,null,null,null,null,null,null,null,null,null,null,null,null,null,null,null,null,null,null,null,null,null,null,null,null,null,null,null,3103,0.84603854108807697,100,99.999787598057623]
[null,null,null,null,null,null,null,null,null,null,null,null,null,null,null,null,null,null,null,null,null,null,null,null,null,null,null,null,null,null,null,null,null,null,null,null,null,null,null,null,null,null,null,null,3104,0.84631119288990997,100,99.999789328334344]
[null,null,null,null,null,null,null,null,null,null,null,null,null,null,null,null,null,null,null,null,null,null,null,null,null,null,null,null,null,null,null,null,null,null,null,null,null,null,null,null,null,null,null,null,3105,0.84658384469174308,100,99.999791044515817]
[null,null,null,null,null,null,null,null,null,null,null,null,null,null,null,null,null,null,null,null,null,null,null,null,null,null,null,null,null,null,null,null,null,null,null,null,null,null,null,null,null,null,null,null,3106,0.84685649649357619,100,99.999792746716864]
[null,null,null,null,null,null,null,null,null,null,null,null,null,null,null,null,null,null,null,null,null,null,null,null,null,null,null,null,null,null,null,null,null,null,null,null,null,null,null,null,null,null,null,null,3107,0.84712914829540931,100,99.999794435051371]
[null,null,null,null,null,null,null,null,null,null,null,null,null,null,null,null,null,null,null,null,null,null,null,null,null,null,null,null,null,null,null,null,null,null,null,null,null,null,null,null,null,null,null,null,3108,0.84740180009724242,100,99.9997961096323]
[null,null,null,null,null,null,null,null,null,null,null,null,null,null,null,null,null,null,null,null,null,null,null,null,null,null,null,null,null,null,null,null,null,null,null,null,null,null,null,null,null,null,null,null,3109,0.84767445189907542,100,99.999797770571703]
[null,null,null,null,null,null,null,null,null,null,null,null,null,null,null,null,null,null,null,null,null,null,null,null,null,null,null,null,null,null,null,null,null,null,null,null,null,null,null,null,null,null,null,null,3110,0.84794710370090853,100,99.999799417980711]
[null,null,null,null,null,null,null,null,null,null,null,null,null,null,null,null,null,null,null,null,null,null,null,null,null,null,null,null,null,null,null,null,null,null,null,null,null,null,null,null,null,null,null,null,3111,0.84821975550274165,100,99.999801051969527]
[null,null,null,null,null,null,null,null,null,null,null,null,null,null,null,null,null,null,null,null,null,null,null,null,null,null,null,null,null,null,null,null,null,null,null,null,null,null,null,null,null,null,null,null,3112,0.84849240730457476,100,99.999802672647476]
[null,null,null,null,null,null,null,null,null,null,null,null,null,null,null,null,null,null,null,null,null,null,null,null,null,null,null,null,null,null,null,null,null,null,null,null,null,null,null,null,null,null,null,null,3113,0.84876505910640787,100,99.999804280123001]
[null,null,null,null,null,null,null,null,null,null,null,null,null,null,null,null,null,null,null,null,null,null,null,null,null,null,null,null,null,null,null,null,null,null,null,null,null,null,null,null,null,null,null,null,3114,0.84903771090824087,100,99.99980587450365]
[null,null,null,null,null,null,null,null,null,null,null,null,null,null,null,null,null,null,null,null,null,null,null,null,null,null,null,null,null,null,null,null,null,null,null,null,null,null,null,null,null,null,null,null,3115,0.84931036271007398,100,99.999807455896089]
[null,null,null,null,null,null,null,null,null,null,null,null,null,null,null,null,null,null,null,null,null,null,null,null,null,null,null,null,null,null,null,null,null,null,null,null,null,null,null,null,null,null,null,null,3116,0.8495830145119071,100,99.999809024406133]
[null,null,null,null,null,null,null,null,null,null,null,null,null,null,null,null,null,null,null,null,null,null,null,null,null,null,null,null,null,null,null,null,null,null,null,null,null,null,null,null,null,null,null,null,3117,0.84985566631374021,100,99.999810580138728]
[null,null,null,null,null,null,null,null,null,null,null,null,null,null,null,null,null,null,null,null,null,null,null,null,null,null,null,null,null,null,null,null,null,null,null,null,null,null,null,null,null,null,null,null,3118,0.85012831811557321,100,99.999812123197955]
[null,null,null,null,null,null,null,null,null,null,null,null,null,null,null,null,null,null,null,null,null,null,null,null,null,null,null,null,null,null,null,null,null,null,null,null,null,null,null,null,null,null,null,null,3119,0.85040096991740632,100,99.999813653687042]
[null,null,null,null,null,null,null,null,null,null,null,null,null,null,null,null,null,null,null,null,null,null,null,null,null,null,null,null,null,null,null,null,null,null,null,null,null,null,null,null,null,null,null,null,3120,0.85067362171923944,100,99.999815171708406]
[null,null,null,null,null,null,null,null,null,null,null,null,null,null,null,null,null,null,null,null,null,null,null,null,null,null,null,null,null,null,null,null,null,null,null,null,null,null,null,null,null,null,null,null,3121,0.85094627352107255,100,99.999816677363597]
[null,null,null,null,null,null,null,null,null,null,null,null,null,null,null,null,null,null,null,null,null,null,null,null,null,null,null,null,null,null,null,null,null,null,null,null,null,null,null,null,null,null,null,null,3122,0.85121892532290566,100,99.999818170753372]
[null,null,null,null,null,null,null,null,null,null,null,null,null,null,null,null,null,null,null,null,null,null,null,null,null,null,null,null,null,null,null,null,null,null,null,null,null,null,null,null,null,null,null,null,3123,0.85149157712473866,100,99.999819651977646]
[null,null,null,null,null,null,null,null,null,null,null,null,null,null,null,null,null,null,null,null,null,null,null,null,null,null,null,null,null,null,null,null,null,null,null,null,null,null,null,null,null,null,null,null,3124,0.85176422892657178,100,99.999821121135511]
[null,null,null,null,null,null,null,null,null,null,null,null,null,null,null,null,null,null,null,null,null,null,null,null,null,null,null,null,null,null,null,null,null,null,null,null,null,null,null,null,null,null,null,null,3125,0.85203688072840489,100,99.999822578325265]
[null,null,null,null,null,null,null,null,null,null,null,null,null,null,null,null,null,null,null,null,null,null,null,null,null,null,null,null,null,null,null,null,null,null,null,null,null,null,null,null,null,null,null,null,3126,0.852309532530238,100,99.999824023644408]
[null,null,null,null,null,null,null,null,null,null,null,null,null,null,null,null,null,null,null,null,null,null,null,null,null,null,null,null,null,null,null,null,null,null,null,null,null,null,null,null,null,null,null,null,3127,0.85258218433207111,100,99.99982545718963]
[null,null,null,null,null,null,null,null,null,null,null,null,null,null,null,null,null,null,null,null,null,null,null,null,null,null,null,null,null,null,null,null,null,null,null,null,null,null,null,null,null,null,null,null,3128,0.85285483613390412,100,99.999826879056855]
[null,null,null,null,null,null,null,null,null,null,null,null,null,null,null,null,null,null,null,null,null,null,null,null,null,null,null,null,null,null,null,null,null,null,null,null,null,null,null,null,null,null,null,null,3129,0.85312748793573723,100,99.99982828934121]
[null,null,null,null,null,null,null,null,null,null,null,null,null,null,null,null,null,null,null,null,null,null,null,null,null,null,null,null,null,null,null,null,null,null,null,null,null,null,null,null,null,null,null,null,3130,0.85340013973757034,100,99.999829688137041]
[null,null,null,null,null,null,null,null,null,null,null,null,null,null,null,null,null,null,null,null,null,null,null,null,null,null,null,null,null,null,null,null,null,null,null,null,null,null,null,null,null,null,null,null,3131,0.85367279153940345,100,99.999831075537955]
[null,null,null,null,null,null,null,null,null,null,null,null,null,null,null,null,null,null,null,null,null,null,null,null,null,null,null,null,null,null,null,null,null,null,null,null,null,null,null,null,null,null,null,null,3132,0.85394544334123657,100,99.999832451636777]
[null,null,null,null,null,null,null,null,null,null,null,null,null,null,null,null,null,null,null,null,null,null,null,null,null,null,null,null,null,null,null,null,null,null,null,null,null,null,null,null,null,null,null,null,3133,0.85421809514306957,100,99.999833816525566]
[null,null,null,null,null,null,null,null,null,null,null,null,null,null,null,null,null,null,null,null,null,null,null,null,null,null,null,null,null,null,null,null,null,null,null,null,null,null,null,null,null,null,null,null,3134,0.85449074694490268,100,99.99983517029564]
[null,null,null,null,null,null,null,null,null,null,null,null,null,null,null,null,null,null,null,null,null,null,null,null,null,null,null,null,null,null,null,null,null,null,null,null,null,null,null,null,null,null,null,null,3135,0.85476339874673579,100,99.999836513037579]
[null,null,null,null,null,null,null,null,null,null,null,null,null,null,null,null,null,null,null,null,null,null,null,null,null,null,null,null,null,null,null,null,null,null,null,null,null,null,null,null,null,null,null,null,3136,{"$f":"$AP$18/$N$7*AS3167","v":0.8550360505485689},100,99.999837844841224]
[null,null,null,null,null,null,null,null,null,null,null,null,null,null,null,null,null,null,null,null,null,null,null,null,null,null,null,null,null,null,null,null,null,null,null,null,null,null,null,null,null,null,null,null,{"$f":"AS3167+1","v":3137},0.85530870235040202,{"$f":"IF(($N$4*AT3168^2/2)<=$AP$13,($N$4*AT3168^2/2), IF(($AP$13+$N$6*(AT3168-$AP$12))<=$AP$17, ($AP$13+$N$6*(AT3168-$AP$12)), IF(AU3167<$D$14, ($AP$17+($N$6-$N$5*(AT3168-$AP$16)/2)*(AT3168-$AP$16)), $D$14)))","v":100},99.999839165795692]
[null,null,null,null,null,null,null,null,null,null,null,null,null,null,null,null,null,null,null,null,null,null,null,null,null,null,null,null,null,null,null,null,null,null,null,null,null,null,null,null,null,null,null,null,3138,0.85558135415223502,100,{"$f":"( $AP$6*AU3169 + $AP$7*AU3168 + $AP$9*AV3168 )/$AP$8","v":99.999840475989359}]
[null,null,null,null,null,null,null,null,null,null,null,null,null,null,null,null,null,null,null,null,null,null,null,null,null,null,null,null,null,null,null,null,null,null,null,null,null,null,null,null,null,null,null,null,3139,0.85585400595406813,100,99.999841775509879]
[null,null,null,null,null,null,null,null,null,null,null,null,null,null,null,null,null,null,null,null,null,null,null,null,null,null,null,null,null,null,null,null,null,null,null,null,null,null,null,null,null,null,null,null,3140,0.85612665775590124,100,99.999843064444192]
[null,null,null,null,null,null,null,null,null,null,null,null,null,null,null,null,null,null,null,null,null,null,null,null,null,null,null,null,null,null,null,null,null,null,null,null,null,null,null,null,null,null,null,null,3141,0.85639930955773436,100,99.999844342878532]
[null,null,null,null,null,null,null,null,null,null,null,null,null,null,null,null,null,null,null,null,null,null,null,null,null,null,null,null,null,null,null,null,null,null,null,null,null,null,null,null,null,null,null,null,3142,0.85667196135956747,100,99.999845610898447]
[null,null,null,null,null,null,null,null,null,null,null,null,null,null,null,null,null,null,null,null,null,null,null,null,null,null,null,null,null,null,null,null,null,null,null,null,null,null,null,null,null,null,null,null,3143,0.85694461316140047,100,99.999846868588776]
[null,null,null,null,null,null,null,null,null,null,null,null,null,null,null,null,null,null,null,null,null,null,null,null,null,null,null,null,null,null,null,null,null,null,null,null,null,null,null,null,null,null,null,null,3144,0.85721726496323358,100,99.999848116033661]
[null,null,null,null,null,null,null,null,null,null,null,null,null,null,null,null,null,null,null,null,null,null,null,null,null,null,null,null,null,null,null,null,null,null,null,null,null,null,null,null,null,null,null,null,3145,0.8574899167650667,100,99.999849353316563]
[null,null,null,null,null,null,null,null,null,null,null,null,null,null,null,null,null,null,null,null,null,null,null,null,null,null,null,null,null,null,null,null,null,null,null,null,null,null,null,null,null,null,null,null,3146,0.85776256856689981,100,99.99985058052026]
[null,null,null,null,null,null,null,null,null,null,null,null,null,null,null,null,null,null,null,null,null,null,null,null,null,null,null,null,null,null,null,null,null,null,null,null,null,null,null,null,null,null,null,null,3147,0.85803522036873281,100,99.999851797726862]
[null,null,null,null,null,null,null,null,null,null,null,null,null,null,null,null,null,null,null,null,null,null,null,null,null,null,null,null,null,null,null,null,null,null,null,null,null,null,null,null,null,null,null,null,3148,0.85830787217056592,100,99.999853005017812]
[null,null,null,null,null,null,null,null,null,null,null,null,null,null,null,null,null,null,null,null,null,null,null,null,null,null,null,null,null,null,null,null,null,null,null,null,null,null,null,null,null,null,null,null,3149,0.85858052397239903,100,99.999854202473884]
[null,null,null,null,null,null,null,null,null,null,null,null,null,null,null,null,null,null,null,null,null,null,null,null,null,null,null,null,null,null,null,null,null,null,null,null,null,null,null,null,null,null,null,null,3150,0.85885317577423215,100,99.999855390175185]
[null,null,null,null,null,null,null,null,null,null,null,null,null,null,null,null,null,null,null,null,null,null,null,null,null,null,null,null,null,null,null,null,null,null,null,null,null,null,null,null,null,null,null,null,3151,0.85912582757606526,100,99.999856568201182]
[null,null,null,null,null,null,null,null,null,null,null,null,null,null,null,null,null,null,null,null,null,null,null,null,null,null,null,null,null,null,null,null,null,null,null,null,null,null,null,null,null,null,null,null,3152,0.85939847937789826,100,99.999857736630702]
[null,null,null,null,null,null,null,null,null,null,null,null,null,null,null,null,null,null,null,null,null,null,null,null,null,null,null,null,null,null,null,null,null,null,null,null,null,null,null,null,null,null,null,null,3153,0.85967113117973137,100,99.999858895541919]
[null,null,null,null,null,null,null,null,null,null,null,null,null,null,null,null,null,null,null,null,null,null,null,null,null,null,null,null,null,null,null,null,null,null,null,null,null,null,null,null,null,null,null,null,3154,0.85994378298156449,100,99.999860045012369]
[null,null,null,null,null,null,null,null,null,null,null,null,null,null,null,null,null,null,null,null,null,null,null,null,null,null,null,null,null,null,null,null,null,null,null,null,null,null,null,null,null,null,null,null,3155,0.8602164347833976,100,99.999861185118959]
[null,null,null,null,null,null,null,null,null,null,null,null,null,null,null,null,null,null,null,null,null,null,null,null,null,null,null,null,null,null,null,null,null,null,null,null,null,null,null,null,null,null,null,null,3156,0.86048908658523071,100,99.999862315937975]
[null,null,null,null,null,null,null,null,null,null,null,null,null,null,null,null,null,null,null,null,null,null,null,null,null,null,null,null,null,null,null,null,null,null,null,null,null,null,null,null,null,null,null,null,3157,0.86076173838706371,100,99.999863437545073]
[null,null,null,null,null,null,null,null,null,null,null,null,null,null,null,null,null,null,null,null,null,null,null,null,null,null,null,null,null,null,null,null,null,null,null,null,null,null,null,null,null,null,null,null,3158,0.86103439018889683,100,99.999864550015289]
[null,null,null,null,null,null,null,null,null,null,null,null,null,null,null,null,null,null,null,null,null,null,null,null,null,null,null,null,null,null,null,null,null,null,null,null,null,null,null,null,null,null,null,null,3159,0.86130704199072994,100,99.999865653423058]
[null,null,null,null,null,null,null,null,null,null,null,null,null,null,null,null,null,null,null,null,null,null,null,null,null,null,null,null,null,null,null,null,null,null,null,null,null,null,null,null,null,null,null,null,3160,0.86157969379256305,100,99.999866747842205]
[null,null,null,null,null,null,null,null,null,null,null,null,null,null,null,null,null,null,null,null,null,null,null,null,null,null,null,null,null,null,null,null,null,null,null,null,null,null,null,null,null,null,null,null,3161,0.86185234559439616,100,99.999867833345945]
[null,null,null,null,null,null,null,null,null,null,null,null,null,null,null,null,null,null,null,null,null,null,null,null,null,null,null,null,null,null,null,null,null,null,null,null,null,null,null,null,null,null,null,null,3162,0.86212499739622916,100,99.999868910006924]
[null,null,null,null,null,null,null,null,null,null,null,null,null,null,null,null,null,null,null,null,null,null,null,null,null,null,null,null,null,null,null,null,null,null,null,null,null,null,null,null,null,null,null,null,3163,0.86239764919806228,100,99.999869977897177]
[null,null,null,null,null,null,null,null,null,null,null,null,null,null,null,null,null,null,null,null,null,null,null,null,null,null,null,null,null,null,null,null,null,null,null,null,null,null,null,null,null,null,null,null,3164,0.86267030099989539,100,99.999871037088141]
[null,null,null,null,null,null,null,null,null,null,null,null,null,null,null,null,null,null,null,null,null,null,null,null,null,null,null,null,null,null,null,null,null,null,null,null,null,null,null,null,null,null,null,null,3165,0.8629429528017285,100,99.999872087650687]
[null,null,null,null,null,null,null,null,null,null,null,null,null,null,null,null,null,null,null,null,null,null,null,null,null,null,null,null,null,null,null,null,null,null,null,null,null,null,null,null,null,null,null,null,3166,0.86321560460356161,100,99.9998731296551]
[null,null,null,null,null,null,null,null,null,null,null,null,null,null,null,null,null,null,null,null,null,null,null,null,null,null,null,null,null,null,null,null,null,null,null,null,null,null,null,null,null,null,null,null,3167,0.86348825640539462,100,99.999874163171086]
[null,null,null,null,null,null,null,null,null,null,null,null,null,null,null,null,null,null,null,null,null,null,null,null,null,null,null,null,null,null,null,null,null,null,null,null,null,null,null,null,null,null,null,null,3168,0.86376090820722773,100,99.999875188267794]
[null,null,null,null,null,null,null,null,null,null,null,null,null,null,null,null,null,null,null,null,null,null,null,null,null,null,null,null,null,null,null,null,null,null,null,null,null,null,null,null,null,null,null,null,3169,0.86403356000906084,100,99.99987620501382]
[null,null,null,null,null,null,null,null,null,null,null,null,null,null,null,null,null,null,null,null,null,null,null,null,null,null,null,null,null,null,null,null,null,null,null,null,null,null,null,null,null,null,null,null,3170,0.86430621181089395,100,99.999877213477191]
[null,null,null,null,null,null,null,null,null,null,null,null,null,null,null,null,null,null,null,null,null,null,null,null,null,null,null,null,null,null,null,null,null,null,null,null,null,null,null,null,null,null,null,null,3171,0.86457886361272707,100,99.999878213725381]
[null,null,null,null,null,null,null,null,null,null,null,null,null,null,null,null,null,null,null,null,null,null,null,null,null,null,null,null,null,null,null,null,null,null,null,null,null,null,null,null,null,null,null,null,3172,0.86485151541456007,100,99.999879205825309]
[null,null,null,null,null,null,null,null,null,null,null,null,null,null,null,null,null,null,null,null,null,null,null,null,null,null,null,null,null,null,null,null,null,null,null,null,null,null,null,null,null,null,null,null,3173,0.86512416721639318,100,99.999880189843367]
[null,null,null,null,null,null,null,null,null,null,null,null,null,null,null,null,null,null,null,null,null,null,null,null,null,null,null,null,null,null,null,null,null,null,null,null,null,null,null,null,null,null,null,null,3174,0.86539681901822629,100,99.99988116584538]
[null,null,null,null,null,null,null,null,null,null,null,null,null,null,null,null,null,null,null,null,null,null,null,null,null,null,null,null,null,null,null,null,null,null,null,null,null,null,null,null,null,null,null,null,3175,0.86566947082005941,100,99.999882133896648]
[null,null,null,null,null,null,null,null,null,null,null,null,null,null,null,null,null,null,null,null,null,null,null,null,null,null,null,null,null,null,null,null,null,null,null,null,null,null,null,null,null,null,null,null,3176,0.86594212262189241,100,99.999883094061943]
[null,null,null,null,null,null,null,null,null,null,null,null,null,null,null,null,null,null,null,null,null,null,null,null,null,null,null,null,null,null,null,null,null,null,null,null,null,null,null,null,null,null,null,null,3177,0.86621477442372552,100,99.999884046405498]
[null,null,null,null,null,null,null,null,null,null,null,null,null,null,null,null,null,null,null,null,null,null,null,null,null,null,null,null,null,null,null,null,null,null,null,null,null,null,null,null,null,null,null,null,3178,0.86648742622555863,100,99.999884990991035]
[null,null,null,null,null,null,null,null,null,null,null,null,null,null,null,null,null,null,null,null,null,null,null,null,null,null,null,null,null,null,null,null,null,null,null,null,null,null,null,null,null,null,null,null,3179,0.86676007802739174,100,99.999885927881749]
[null,null,null,null,null,null,null,null,null,null,null,null,null,null,null,null,null,null,null,null,null,null,null,null,null,null,null,null,null,null,null,null,null,null,null,null,null,null,null,null,null,null,null,null,3180,0.86703272982922486,100,99.999886857140339]
[null,null,null,null,null,null,null,null,null,null,null,null,null,null,null,null,null,null,null,null,null,null,null,null,null,null,null,null,null,null,null,null,null,null,null,null,null,null,null,null,null,null,null,null,3181,0.86730538163105786,100,99.999887778828978]
[null,null,null,null,null,null,null,null,null,null,null,null,null,null,null,null,null,null,null,null,null,null,null,null,null,null,null,null,null,null,null,null,null,null,null,null,null,null,null,null,null,null,null,null,3182,0.86757803343289097,100,99.999888693009311]
[null,null,null,null,null,null,null,null,null,null,null,null,null,null,null,null,null,null,null,null,null,null,null,null,null,null,null,null,null,null,null,null,null,null,null,null,null,null,null,null,null,null,null,null,3183,0.86785068523472408,100,99.999889599742502]
[null,null,null,null,null,null,null,null,null,null,null,null,null,null,null,null,null,null,null,null,null,null,null,null,null,null,null,null,null,null,null,null,null,null,null,null,null,null,null,null,null,null,null,null,3184,0.8681233370365572,100,99.999890499089233]
[null,null,null,null,null,null,null,null,null,null,null,null,null,null,null,null,null,null,null,null,null,null,null,null,null,null,null,null,null,null,null,null,null,null,null,null,null,null,null,null,null,null,null,null,3185,0.86839598883839031,100,99.999891391109671]
[null,null,null,null,null,null,null,null,null,null,null,null,null,null,null,null,null,null,null,null,null,null,null,null,null,null,null,null,null,null,null,null,null,null,null,null,null,null,null,null,null,null,null,null,3186,0.86866864064022331,100,99.999892275863502]
[null,null,null,null,null,null,null,null,null,null,null,null,null,null,null,null,null,null,null,null,null,null,null,null,null,null,null,null,null,null,null,null,null,null,null,null,null,null,null,null,null,null,null,null,3187,0.86894129244205642,100,99.999893153409928]
[null,null,null,null,null,null,null,null,null,null,null,null,null,null,null,null,null,null,null,null,null,null,null,null,null,null,null,null,null,null,null,null,null,null,null,null,null,null,null,null,null,null,null,null,3188,0.86921394424388954,100,99.999894023807656]
[null,null,null,null,null,null,null,null,null,null,null,null,null,null,null,null,null,null,null,null,null,null,null,null,null,null,null,null,null,null,null,null,null,null,null,null,null,null,null,null,null,null,null,null,3189,0.86948659604572265,100,99.999894887114905]
[null,null,null,null,null,null,null,null,null,null,null,null,null,null,null,null,null,null,null,null,null,null,null,null,null,null,null,null,null,null,null,null,null,null,null,null,null,null,null,null,null,null,null,null,3190,0.86975924784755576,100,99.999895743389445]
[null,null,null,null,null,null,null,null,null,null,null,null,null,null,null,null,null,null,null,null,null,null,null,null,null,null,null,null,null,null,null,null,null,null,null,null,null,null,null,null,null,null,null,null,3191,0.87003189964938876,100,99.999896592688572]
[null,null,null,null,null,null,null,null,null,null,null,null,null,null,null,null,null,null,null,null,null,null,null,null,null,null,null,null,null,null,null,null,null,null,null,null,null,null,null,null,null,null,null,null,3192,0.87030455145122187,100,99.999897435069101]
[null,null,null,null,null,null,null,null,null,null,null,null,null,null,null,null,null,null,null,null,null,null,null,null,null,null,null,null,null,null,null,null,null,null,null,null,null,null,null,null,null,null,null,null,3193,0.87057720325305499,100,99.999898270587394]
[null,null,null,null,null,null,null,null,null,null,null,null,null,null,null,null,null,null,null,null,null,null,null,null,null,null,null,null,null,null,null,null,null,null,null,null,null,null,null,null,null,null,null,null,3194,0.8708498550548881,100,99.999899099299355]
[null,null,null,null,null,null,null,null,null,null,null,null,null,null,null,null,null,null,null,null,null,null,null,null,null,null,null,null,null,null,null,null,null,null,null,null,null,null,null,null,null,null,null,null,3195,0.87112250685672121,100,99.999899921260436]
[null,null,null,null,null,null,null,null,null,null,null,null,null,null,null,null,null,null,null,null,null,null,null,null,null,null,null,null,null,null,null,null,null,null,null,null,null,null,null,null,null,null,null,null,3196,0.87139515865855421,100,99.999900736525632]
[null,null,null,null,null,null,null,null,null,null,null,null,null,null,null,null,null,null,null,null,null,null,null,null,null,null,null,null,null,null,null,null,null,null,null,null,null,null,null,null,null,null,null,null,3197,0.87166781046038733,100,99.999901545149484]
[null,null,null,null,null,null,null,null,null,null,null,null,null,null,null,null,null,null,null,null,null,null,null,null,null,null,null,null,null,null,null,null,null,null,null,null,null,null,null,null,null,null,null,null,3198,0.87194046226222044,100,99.999902347186094]
[null,null,null,null,null,null,null,null,null,null,null,null,null,null,null,null,null,null,null,null,null,null,null,null,null,null,null,null,null,null,null,null,null,null,null,null,null,null,null,null,null,null,null,null,3199,0.87221311406405355,100,99.999903142689121]
[null,null,null,null,null,null,null,null,null,null,null,null,null,null,null,null,null,null,null,null,null,null,null,null,null,null,null,null,null,null,null,null,null,null,null,null,null,null,null,null,null,null,null,null,3200,{"$f":"$AP$18/$N$7*AS3231","v":0.87248576586588666},100,99.999903931711785]

{"sheet":"DataSerch","index":1,"n_rows":338,"n_cols":20,"rows_kept":338,"cut":false,"hidden":true,"merged":[[124,17,124,18],[23,1,23,2],[57,1,57,2],[23,3,23,4],[112,14,112,18]]}
["選択型式","メカ機種データレコード",null,null,null,null,null,null,null,null,null,null,"$232","：「メカ機種データ」範囲検索",null,null,null,"$232","➡➡➡","$232"]
[{"$f":"CycleTime!C6","v":"ISB-SXM-60"},"№",{"$f":"ModelData!$B$2","v":"ｱｸﾁｭｴｰﾀ型式"},null,null,null,null,{"$f":"ModelData!$C$2","v":"最小ｽﾄﾛｰｸ"},{"$f":"ModelData!$D$2","v":"最大ｽﾄﾛｰｸ"},{"$f":"ModelData!$E$2","v":"動作種別"},null,null,null,"：「モータ機種データ」範囲検索",null,null,null,null,"➡➡➡"]
[null,{"$f":"MATCH(A2,ModelData!$B$4:$B$232,0)","v":1},{"$f":"LOOKUP(B3,ModelData!$A$4:$A$232,ModelData!$B$4:$B$232)","v":"ISB-SXM-60"},null,null,null,null,{"$f":"LOOKUP(B3,ModelData!$A$4:$A$232,ModelData!$C$4:$C$232)","v":100},{"$f":"LOOKUP(B3,ModelData!$A$4:$A$232,ModelData!$D$4:$D$232)","v":900},{"$f":"LOOKUP(B3,ModelData!$A$4:$A$232,ModelData!$E$4:$E$232)","v":0},null,null,"$558","：「リードデータ」範囲検索",null,null,null,"$558","➡➡➡","$558"]
["リード",null,null,null,"[kg]","[mm]","[mm]","[mm]","[mm]","0/1","[K]",null,"$3798","：「ストロークデータ」範囲検索",null,null,null,"$3798","➡➡➡","$3798"]
[{"$f":"CycleTime!C8","v":4},null,null,null,null,null,null,{"$f":"H3","v":100},{"$f":"I3","v":900},{"$f":"J3","v":0},null,null,"$3649","：「搬送負荷データ」範囲検索",null,null,null,"$3649","➡➡➡","$3649"]
[null,null,null,null,null,null,null,null,null,null,null,null,"$3751","：「加減速・速度データ」範囲検索",null,null,null,"$3751","➡➡➡","$3751"]
["ストローク","モータ機種レコード"]
[{"$f":"CycleTime!C10","v":100}]
[]
["設置姿勢",null,null,"[Nm/A]","[A]","[kgm^2]","[Nm]","[Nm]","[rad/s]","[rad/s]","[rad/s]","[Nm/(rad/s)]","[K]","[K]","[s]"]
[{"$f":"IF(CycleTime!C12=CycleTime!AE20,0,1)","v":0}]
[]
["搬送負荷質量","リレーション",null,null,null,"リードデータレコード",null,null,{"$f":"LOOKUP(C15,LeadData!$A$4:$A$558,LeadData!$J$4:$J$558)","v":0.1}]
[{"$f":"CycleTime!B31","v":30},null,"ﾘｰﾄﾞ№","ｽﾄﾛｰｸ№","負荷№",{"$f":"LeadData!$B$2","v":"ﾘｰﾄﾞ長"},null,{"$f":"LeadData!$C$2","v":"水平定格加速度"},{"$f":"LeadData!$D$2","v":"垂直定格加速度"},{"$f":"LeadData!$E$2","v":"水平最大加速度"},{"$f":"LeadData!$F$2","v":"垂直最大加速度"},null,null,null,{"$f":"LeadData!$G$2","v":"ｷﾞｱ比分子"},{"$f":"LeadData!$H$2","v":"ｷﾞｱ比分母"},null,{"$f":"LeadData!$I$2","v":"ｽﾄﾛｰｸ刻み"},{"$f":"LeadData!$J$2","v":"位置決め幅\n初期値"}]
[null,{"$f":"ModelData!$F$2","v":"リンク[0]"},{"$f":"LOOKUP(B3,ModelData!$A$4:$A$232,ModelData!$F$4:$F$232)","v":1},{"$f":"LOOKUP(B3,ModelData!$A$4:$A$232,ModelData!$G$4:$G$232)","v":1},{"$f":"LOOKUP(B3,ModelData!$A$4:$A$232,ModelData!$H$4:$H$232)","v":1},{"$f":"LOOKUP(C15,LeadData!$A$4:$A$558,LeadData!$B$4:$B$558)","v":4000},null,{"$f":"LOOKUP(C15,LeadData!$A$4:$A$558,LeadData!$C$4:$C$558)","v":1961330},{"$f":"LOOKUP(C15,LeadData!$A$4:$A$558,LeadData!$D$4:$D$558)","v":1961330},{"$f":"LOOKUP(C15,LeadData!$A$4:$A$558,LeadData!$E$4:$E$558)","v":4903325},{"$f":"LOOKUP(C15,LeadData!$A$4:$A$558,LeadData!$F$4:$F$558)","v":3922660},null,null,null,{"$f":"LOOKUP(C15,LeadData!$A$4:$A$558,LeadData!$G$4:$G$558)","v":1},{"$f":"LOOKUP(C15,LeadData!$A$4:$A$558,LeadData!$H$4:$H$558)","v":1},null,{"$f":"LOOKUP(C15,LeadData!$A$4:$A$558,LeadData!$I$4:$I$558)","v":50},{"$f":"LOOKUP(C15,LeadData!$A$4:$A$558,LeadData!$J$4:$J$558)","v":0.1}]
[null,{"$f":"ModelData!$I$2","v":"リンク[1]"},{"$f":"LOOKUP(B3,ModelData!$A$4:$A$232,ModelData!$I$4:$I$232)","v":2},{"$f":"LOOKUP(B3,ModelData!$A$4:$A$232,ModelData!$J$4:$J$232)","v":5},{"$f":"LOOKUP(B3,ModelData!$A$4:$A$232,ModelData!$K$4:$K$232)","v":8},{"$f":"LOOKUP(C16,LeadData!$A$4:$A$558,LeadData!$B$4:$B$558)","v":8000},null,{"$f":"LOOKUP(C16,LeadData!$A$4:$A$558,LeadData!$C$4:$C$558)","v":3922660},{"$f":"LOOKUP(C16,LeadData!$A$4:$A$558,LeadData!$D$4:$D$558)","v":3922660},{"$f":"LOOKUP(C16,LeadData!$A$4:$A$558,LeadData!$E$4:$E$558)","v":6864654.9999999991},{"$f":"LOOKUP(C16,LeadData!$A$4:$A$558,LeadData!$F$4:$F$558)","v":5883990},null,null,null,{"$f":"LOOKUP(C16,LeadData!$A$4:$A$558,LeadData!$G$4:$G$558)","v":1},{"$f":"LOOKUP(C16,LeadData!$A$4:$A$558,LeadData!$H$4:$H$558)","v":1},null,{"$f":"LOOKUP(C16,LeadData!$A$4:$A$558,LeadData!$I$4:$I$558)","v":50},{"$f":"LOOKUP(C16,LeadData!$A$4:$A$558,LeadData!$J$4:$J$558)","v":0.1}]
[null,{"$f":"ModelData!$L$2","v":"リンク[2]"},{"$f":"LOOKUP(B3,ModelData!$A$4:$A$232,ModelData!$L$4:$L$232)","v":3},{"$f":"LOOKUP(B3,ModelData!$A$4:$A$232,ModelData!$M$4:$M$232)","v":9},{"$f":"LOOKUP(B3,ModelData!$A$4:$A$232,ModelData!$N$4:$N$232)","v":15},{"$f":"LOOKUP(C17,LeadData!$A$4:$A$558,LeadData!$B$4:$B$558)","v":16000},null,{"$f":"LOOKUP(C17,LeadData!$A$4:$A$558,LeadData!$C$4:$C$558)","v":3922660},{"$f":"LOOKUP(C17,LeadData!$A$4:$A$558,LeadData!$D$4:$D$558)","v":3922660},{"$f":"LOOKUP(C17,LeadData!$A$4:$A$558,LeadData!$E$4:$E$558)","v":11767980},{"$f":"LOOKUP(C17,LeadData!$A$4:$A$558,LeadData!$F$4:$F$558)","v":7845320},null,null,null,{"$f":"LOOKUP(C17,LeadData!$A$4:$A$558,LeadData!$G$4:$G$558)","v":1},{"$f":"LOOKUP(C17,LeadData!$A$4:$A$558,LeadData!$H$4:$H$558)","v":1},null,{"$f":"LOOKUP(C17,LeadData!$A$4:$A$558,LeadData!$I$4:$I$558)","v":50},{"$f":"LOOKUP(C17,LeadData!$A$4:$A$558,LeadData!$J$4:$J$558)","v":0.1}]
[null,{"$f":"ModelData!$O$2","v":"リンク[3]"},{"$f":"LOOKUP(B3,ModelData!$A$4:$A$232,ModelData!$O$4:$O$232)","v":-1},{"$f":"LOOKUP(B3,ModelData!$A$4:$A$232,ModelData!$P$4:$P$232)","v":-1},{"$f":"LOOKUP(B3,ModelData!$A$4:$A$232,ModelData!$Q$4:$Q$232)","v":-1},{"$f":"LOOKUP(C18,LeadData!$A$4:$A$558,LeadData!$B$4:$B$558)","v":{"$error":"#N/A"}},null,{"$f":"LOOKUP(C18,LeadData!$A$4:$A$558,LeadData!$C$4:$C$558)","v":{"$error":"#N/A"}},{"$f":"LOOKUP(C18,LeadData!$A$4:$A$558,LeadData!$D$4:$D$558)","v":{"$error":"#N/A"}},{"$f":"LOOKUP(C18,LeadData!$A$4:$A$558,LeadData!$E$4:$E$558)","v":{"$error":"#N/A"}},{"$f":"LOOKUP(C18,LeadData!$A$4:$A$558,LeadData!$F$4:$F$558)","v":{"$error":"#N/A"}},null,null,null,{"$f":"LOOKUP(C18,LeadData!$A$4:$A$558,LeadData!$G$4:$G$558)","v":{"$error":"#N/A"}},{"$f":"LOOKUP(C18,LeadData!$A$4:$A$558,LeadData!$H$4:$H$558)","v":{"$error":"#N/A"}},null,{"$f":"LOOKUP(C18,LeadData!$A$4:$A$558,LeadData!$I$4:$I$558)","v":{"$error":"#N/A"}},{"$f":"LOOKUP(C18,LeadData!$A$4:$A$558,LeadData!$J$4:$J$558)","v":{"$error":"#N/A"}}]
[null,{"$f":"ModelData!$R$2","v":"リンク[4]"},{"$f":"LOOKUP(B3,ModelData!$A$4:$A$232,ModelData!$R$4:$R$232)","v":-1},{"$f":"LOOKUP(B3,ModelData!$A$4:$A$232,ModelData!$S$4:$S$232)","v":-1},{"$f":"LOOKUP(B3,ModelData!$A$4:$A$232,ModelData!$T$4:$T$232)","v":-1},{"$f":"LOOKUP(C19,LeadData!$A$4:$A$558,LeadData!$B$4:$B$558)","v":{"$error":"#N/A"}},null,{"$f":"LOOKUP(C19,LeadData!$A$4:$A$558,LeadData!$C$4:$C$558)","v":{"$error":"#N/A"}},{"$f":"LOOKUP(C19,LeadData!$A$4:$A$558,LeadData!$D$4:$D$558)","v":{"$error":"#N/A"}},{"$f":"LOOKUP(C19,LeadData!$A$4:$A$558,LeadData!$E$4:$E$558)","v":{"$error":"#N/A"}},{"$f":"LOOKUP(C19,LeadData!$A$4:$A$558,LeadData!$F$4:$F$558)","v":{"$error":"#N/A"}},null,null,null,{"$f":"LOOKUP(C19,LeadData!$A$4:$A$558,LeadData!$G$4:$G$558)","v":{"$error":"#N/A"}},{"$f":"LOOKUP(C19,LeadData!$A$4:$A$558,LeadData!$H$4:$H$558)","v":{"$error":"#N/A"}},null,{"$f":"LOOKUP(C19,LeadData!$A$4:$A$558,LeadData!$I$4:$I$558)","v":{"$error":"#N/A"}},{"$f":"LOOKUP(C19,LeadData!$A$4:$A$558,LeadData!$J$4:$J$558)","v":{"$error":"#N/A"}}]
[null,{"$f":"ModelData!$U$2","v":"リンク[5]"},{"$f":"LOOKUP(B3,ModelData!$A$4:$A$232,ModelData!$U$4:$U$232)","v":-1},{"$f":"LOOKUP(B3,ModelData!$A$4:$A$232,ModelData!$V$4:$V$232)","v":-1},{"$f":"LOOKUP(B3,ModelData!$A$4:$A$232,ModelData!$W$4:$W$232)","v":-1},{"$f":"LOOKUP(C20,LeadData!$A$4:$A$558,LeadData!$B$4:$B$558)","v":{"$error":"#N/A"}},null,{"$f":"LOOKUP(C20,LeadData!$A$4:$A$558,LeadData!$C$4:$C$558)","v":{"$error":"#N/A"}},{"$f":"LOOKUP(C20,LeadData!$A$4:$A$558,LeadData!$D$4:$D$558)","v":{"$error":"#N/A"}},{"$f":"LOOKUP(C20,LeadData!$A$4:$A$558,LeadData!$E$4:$E$558)","v":{"$error":"#N/A"}},{"$f":"LOOKUP(C20,LeadData!$A$4:$A$558,LeadData!$F$4:$F$558)","v":{"$error":"#N/A"}},null,null,null,{"$f":"LOOKUP(C20,LeadData!$A$4:$A$558,LeadData!$G$4:$G$558)","v":{"$error":"#N/A"}},{"$f":"LOOKUP(C20,LeadData!$A$4:$A$558,LeadData!$H$4:$H$558)","v":{"$error":"#N/A"}},null,{"$f":"LOOKUP(C20,LeadData!$A$4:$A$558,LeadData!$I$4:$I$558)","v":{"$error":"#N/A"}},{"$f":"LOOKUP(C20,LeadData!$A$4:$A$558,LeadData!$J$4:$J$558)","v":{"$error":"#N/A"}}]
[null,{"$f":"ModelData!$X$2","v":"リンク[6]"},{"$f":"LOOKUP(B3,ModelData!$A$4:$A$232,ModelData!$X$4:$X$232)","v":-1},{"$f":"LOOKUP(B3,ModelData!$A$4:$A$232,ModelData!$Y$4:$Y$232)","v":-1},{"$f":"LOOKUP(B3,ModelData!$A$4:$A$232,ModelData!$Z$4:$Z$232)","v":-1},{"$f":"LOOKUP(C21,LeadData!$A$4:$A$558,LeadData!$B$4:$B$558)","v":{"$error":"#N/A"}},null,{"$f":"LOOKUP(C21,LeadData!$A$4:$A$558,LeadData!$C$4:$C$558)","v":{"$error":"#N/A"}},{"$f":"LOOKUP(C21,LeadData!$A$4:$A$558,LeadData!$D$4:$D$558)","v":{"$error":"#N/A"}},{"$f":"LOOKUP(C21,LeadData!$A$4:$A$558,LeadData!$E$4:$E$558)","v":{"$error":"#N/A"}},{"$f":"LOOKUP(C21,LeadData!$A$4:$A$558,LeadData!$F$4:$F$558)","v":{"$error":"#N/A"}},null,null,null,{"$f":"LOOKUP(C21,LeadData!$A$4:$A$558,LeadData!$G$4:$G$558)","v":{"$error":"#N/A"}},{"$f":"LOOKUP(C21,LeadData!$A$4:$A$558,LeadData!$H$4:$H$558)","v":{"$error":"#N/A"}},null,{"$f":"LOOKUP(C21,LeadData!$A$4:$A$558,LeadData!$I$4:$I$558)","v":{"$error":"#N/A"}},{"$f":"LOOKUP(C21,LeadData!$A$4:$A$558,LeadData!$J$4:$J$558)","v":{"$error":"#N/A"}}]
[null,{"$f":"ModelData!$AA$2","v":"リンク[7]"},{"$f":"LOOKUP(B3,ModelData!$A$4:$A$232,ModelData!$AA$4:$AA$232)","v":-1},{"$f":"LOOKUP(B3,ModelData!$A$4:$A$232,ModelData!$AB$4:$AB$232)","v":-1},{"$f":"LOOKUP(B3,ModelData!$A$4:$A$232,ModelData!$AC$4:$AC$232)","v":-1},{"$f":"LOOKUP(C22,LeadData!$A$4:$A$558,LeadData!$B$4:$B$558)","v":{"$error":"#N/A"}},null,{"$f":"LOOKUP(C22,LeadData!$A$4:$A$558,LeadData!$C$4:$C$558)","v":{"$error":"#N/A"}},{"$f":"LOOKUP(C22,LeadData!$A$4:$A$558,LeadData!$D$4:$D$558)","v":{"$error":"#N/A"}},{"$f":"LOOKUP(C22,LeadData!$A$4:$A$558,LeadData!$E$4:$E$558)","v":{"$error":"#N/A"}},{"$f":"LOOKUP(C22,LeadData!$A$4:$A$558,LeadData!$F$4:$F$558)","v":{"$error":"#N/A"}},null,null,null,{"$f":"LOOKUP(C22,LeadData!$A$4:$A$558,LeadData!$G$4:$G$558)","v":{"$error":"#N/A"}},{"$f":"LOOKUP(C22,LeadData!$A$4:$A$558,LeadData!$H$4:$H$558)","v":{"$error":"#N/A"}},null,{"$f":"LOOKUP(C22,LeadData!$A$4:$A$558,LeadData!$I$4:$I$558)","v":{"$error":"#N/A"}},{"$f":"LOOKUP(C22,LeadData!$A$4:$A$558,LeadData!$J$4:$J$558)","v":{"$error":"#N/A"}}]
[null,"リードリストとリレーション",null,null,null,"リードデータレコードの物理量変換"]
[null,"ﾘｰﾄﾞﾘｽﾄ",null,"リンク",null,{"$f":"LeadData!$B$2","v":"ﾘｰﾄﾞ長"},null,{"$f":"LeadData!$C$2","v":"水平定格加速度"},{"$f":"LeadData!$D$2","v":"垂直定格加速度"},{"$f":"LeadData!$E$2","v":"水平最大加速度"},{"$f":"LeadData!$F$2","v":"垂直最大加速度"},null,null,null,{"$f":"LeadData!$G$2","v":"ｷﾞｱ比分子"},{"$f":"LeadData!$H$2","v":"ｷﾞｱ比分母"},null,{"$f":"LeadData!$I$2","v":"ｽﾄﾛｰｸ刻み"},{"$f":"LeadData!$J$2","v":"位置決め幅\n初期値"}]
[null,"№","ﾃﾞｰﾀ",{"$f":"D14","v":"ｽﾄﾛｰｸ№"},{"$f":"E14","v":"負荷№"},"[mm]","[kgm^2]","[m/s^2]","[m/s^2]","[m/s^2]","[m/s^2]","[Nm]","[Nms]","[Nm]",null,null,null,"[mm]","[mm]"]
[null,1,{"$f":"IF(C15=-1,\"- - -\",IF(F26<=0,P26/O26,F26))","v":4},{"$f":"D15","v":1},1,{"$f":"F15/1000","v":4},null,{"$f":"H15*0.000001","v":1.96133},1.96133,4.9033249999999997,3.92266,null,null,null,{"$f":"O15","v":1},{"$f":"P15","v":1},null,{"$f":"R15","v":50},{"$f":"S15","v":0.1}]
[null,{"$f":"B26+1","v":2},8,5,8,8,null,3.92266,3.92266,6.8646549999999991,5.8839899999999998,null,null,null,{"$f":"O16","v":1},1,null,{"$f":"R16","v":50},0.1]
[null,{"$f":"B27+1","v":3},16,9,15,16,null,3.92266,3.92266,11.76798,7.8453200000000001,null,null,null,1,1,null,50,0.1]
[null,4,"- - -",-1,-1,{"$error":"#N/A"},null,{"$error":"#N/A"},{"$error":"#N/A"},{"$error":"#N/A"},{"$error":"#N/A"},null,null,null,{"$error":"#N/A"},{"$error":"#N/A"},null,{"$error":"#N/A"},{"$error":"#N/A"}]
[null,5,"- - -",-1,-1,{"$error":"#N/A"},null,{"$error":"#N/A"},{"$error":"#N/A"},{"$error":"#N/A"},{"$error":"#N/A"},null,null,null,{"$error":"#N/A"},{"$error":"#N/A"},null,{"$error":"#N/A"},{"$error":"#N/A"}]
[null,6,"- - -",-1,-1,{"$error":"#N/A"},null,{"$error":"#N/A"},{"$error":"#N/A"},{"$error":"#N/A"},{"$error":"#N/A"},null,null,null,{"$error":"#N/A"},{"$error":"#N/A"},null,{"$error":"#N/A"},{"$error":"#N/A"}]
[null,7,"- - -",-1,-1,{"$error":"#N/A"},null,{"$error":"#N/A"},{"$error":"#N/A"},{"$error":"#N/A"},{"$error":"#N/A"},null,null,null,{"$error":"#N/A"},{"$error":"#N/A"},null,{"$error":"#N/A"},{"$error":"#N/A"}]
[null,8,{"$f":"IF(C22=-1,\"- - -\",IF(F33<=0,P33/O33,F33))","v":"- - -"},-1,-1,{"$error":"#N/A"},null,{"$error":"#N/A"},{"$error":"#N/A"},{"$error":"#N/A"},{"$error":"#N/A"},null,null,null,{"$error":"#N/A"},{"$error":"#N/A"},null,{"$error":"#N/A"},{"$error":"#N/A"}]
[]
[null,"リードリスト選択№",null,{"$f":"MATCH(A5,C26:C33,0)","v":1},"ストロークデータレコード",null,null,{"$f":"LOOKUP(C37,StrokeData!$A$4:$A$3798,StrokeData!$M$4:$M$3798)","v":"ISB-SXM-60-4"}]
[null,"№","stﾚｺｰﾄﾞ№",{"$f":"StrokeData!$B$2","v":"ｽﾄﾛｰｸ長"},{"$f":"StrokeData!$C$2","v":"有効ｽﾄﾛｰｸ補正"},null,{"$f":"StrokeData!$D$2","v":"基準ｹﾞｲﾝ用搬送質量"},{"$f":"StrokeData!$E$2","v":"水平可搬質量"},{"$f":"StrokeData!$F$2","v":"垂直可搬質量"},{"$f":"StrokeData!$G$2","v":"最大速度"},{"$f":"StrokeData!$H$2","v":"位置ｹﾞｲﾝ"},{"$f":"StrokeData!$I$2","v":"FFｹﾞｲﾝ"},{"$f":"StrokeData!$J$2","v":"速度制御帯域"},null,null,null,null,null,{"$f":"StrokeData!$K$2","v":"前ﾃﾞｰﾀ№"},{"$f":"StrokeData!$L$2","v":"次ﾃﾞｰﾀ№"}]
[null,1,{"$f":"LOOKUP(D35,B26:B33,D26:D33)","v":1},{"$f":"LOOKUP(C37,StrokeData!$A$4:$A$3798,StrokeData!$B$4:$B$3798)","v":600},{"$f":"LOOKUP(C37,StrokeData!$A$4:$A$3798,StrokeData!$C$4:$C$3798)","v":0},null,{"$f":"LOOKUP(C37,StrokeData!$A$4:$A$3798,StrokeData!$D$4:$D$3798)","v":55000},{"$f":"LOOKUP(C37,StrokeData!$A$4:$A$3798,StrokeData!$E$4:$E$3798)","v":55000},{"$f":"LOOKUP(C37,StrokeData!$A$4:$A$3798,StrokeData!$F$4:$F$3798)","v":14000},{"$f":"LOOKUP(C37,StrokeData!$A$4:$A$3798,StrokeData!$G$4:$G$3798)","v":240},{"$f":"LOOKUP(C37,StrokeData!$A$4:$A$3798,StrokeData!$H$4:$H$3798)","v":30},{"$f":"LOOKUP(C37,StrokeData!$A$4:$A$3798,StrokeData!$I$4:$I$3798)","v":0},{"$f":"LOOKUP(C37,StrokeData!$A$4:$A$3798,StrokeData!$J$4:$J$3798)","v":120},null,null,null,null,null,{"$f":"LOOKUP(C37,StrokeData!$A$4:$A$3798,StrokeData!$K$4:$K$3798)","v":-1},{"$f":"LOOKUP(C37,StrokeData!$A$4:$A$3798,StrokeData!$L$4:$L$3798)","v":2}]
[null,{"$f":"B37+1","v":2},{"$f":"IF(C37=-1,-1,LOOKUP(C37,StrokeData!$A$4:$A$3798,StrokeData!$L$4:$L$3798))","v":2},{"$f":"LOOKUP(C38,StrokeData!$A$4:$A$3798,StrokeData!$B$4:$B$3798)","v":700},{"$f":"LOOKUP(C38,StrokeData!$A$4:$A$3798,StrokeData!$C$4:$C$3798)","v":0},null,{"$f":"LOOKUP(C38,StrokeData!$A$4:$A$3798,StrokeData!$D$4:$D$3798)","v":55000},{"$f":"LOOKUP(C38,StrokeData!$A$4:$A$3798,StrokeData!$E$4:$E$3798)","v":55000},{"$f":"LOOKUP(C38,StrokeData!$A$4:$A$3798,StrokeData!$F$4:$F$3798)","v":14000},{"$f":"LOOKUP(C38,StrokeData!$A$4:$A$3798,StrokeData!$G$4:$G$3798)","v":165},{"$f":"LOOKUP(C38,StrokeData!$A$4:$A$3798,StrokeData!$H$4:$H$3798)","v":30},{"$f":"LOOKUP(C38,StrokeData!$A$4:$A$3798,StrokeData!$I$4:$I$3798)","v":0},{"$f":"LOOKUP(C38,StrokeData!$A$4:$A$3798,StrokeData!$J$4:$J$3798)","v":120},null,null,null,null,null,{"$f":"LOOKUP(C38,StrokeData!$A$4:$A$3798,StrokeData!$K$4:$K$3798)","v":1},{"$f":"LOOKUP(C38,StrokeData!$A$4:$A$3798,StrokeData!$L$4:$L$3798)","v":3}]
[null,{"$f":"B38+1","v":3},{"$f":"IF(C38=-1,-1,LOOKUP(C38,StrokeData!$A$4:$A$3798,StrokeData!$L$4:$L$3798))","v":3},{"$f":"LOOKUP(C39,StrokeData!$A$4:$A$3798,StrokeData!$B$4:$B$3798)","v":800},{"$f":"LOOKUP(C39,StrokeData!$A$4:$A$3798,StrokeData!$C$4:$C$3798)","v":0},null,{"$f":"LOOKUP(C39,StrokeData!$A$4:$A$3798,StrokeData!$D$4:$D$3798)","v":55000},{"$f":"LOOKUP(C39,StrokeData!$A$4:$A$3798,StrokeData!$E$4:$E$3798)","v":55000},{"$f":"LOOKUP(C39,StrokeData!$A$4:$A$3798,StrokeData!$F$4:$F$3798)","v":14000},{"$f":"LOOKUP(C39,StrokeData!$A$4:$A$3798,StrokeData!$G$4:$G$3798)","v":130},{"$f":"LOOKUP(C39,StrokeData!$A$4:$A$3798,StrokeData!$H$4:$H$3798)","v":30},{"$f":"LOOKUP(C39,StrokeData!$A$4:$A$3798,StrokeData!$I$4:$I$3798)","v":0},{"$f":"LOOKUP(C39,StrokeData!$A$4:$A$3798,StrokeData!$J$4:$J$3798)","v":120},null,null,null,null,null,{"$f":"LOOKUP(C39,StrokeData!$A$4:$A$3798,StrokeData!$K$4:$K$3798)","v":2},{"$f":"LOOKUP(C39,StrokeData!$A$4:$A$3798,StrokeData!$L$4:$L$3798)","v":4}]
[null,4,{"$f":"IF(C39=-1,-1,LOOKUP(C39,StrokeData!$A$4:$A$3798,StrokeData!$L$4:$L$3798))","v":4},{"$f":"LOOKUP(C40,StrokeData!$A$4:$A$3798,StrokeData!$B$4:$B$3798)","v":900},{"$f":"LOOKUP(C40,StrokeData!$A$4:$A$3798,StrokeData!$C$4:$C$3798)","v":0},null,{"$f":"LOOKUP(C40,StrokeData!$A$4:$A$3798,StrokeData!$D$4:$D$3798)","v":55000},{"$f":"LOOKUP(C40,StrokeData!$A$4:$A$3798,StrokeData!$E$4:$E$3798)","v":55000},{"$f":"LOOKUP(C40,StrokeData!$A$4:$A$3798,StrokeData!$F$4:$F$3798)","v":14000},{"$f":"LOOKUP(C40,StrokeData!$A$4:$A$3798,StrokeData!$G$4:$G$3798)","v":100},{"$f":"LOOKUP(C40,StrokeData!$A$4:$A$3798,StrokeData!$H$4:$H$3798)","v":30},{"$f":"LOOKUP(C40,StrokeData!$A$4:$A$3798,StrokeData!$I$4:$I$3798)","v":0},{"$f":"LOOKUP(C40,StrokeData!$A$4:$A$3798,StrokeData!$J$4:$J$3798)","v":120},null,null,null,null,null,{"$f":"LOOKUP(C40,StrokeData!$A$4:$A$3798,StrokeData!$K$4:$K$3798)","v":3},{"$f":"LOOKUP(C40,StrokeData!$A$4:$A$3798,StrokeData!$L$4:$L$3798)","v":-1}]
[null,5,{"$f":"IF(C40=-1,-1,LOOKUP(C40,StrokeData!$A$4:$A$3798,StrokeData!$L$4:$L$3798))","v":-1},{"$f":"LOOKUP(C41,StrokeData!$A$4:$A$3798,StrokeData!$B$4:$B$3798)","v":{"$error":"#N/A"}},{"$f":"LOOKUP(C41,StrokeData!$A$4:$A$3798,StrokeData!$C$4:$C$3798)","v":{"$error":"#N/A"}},null,{"$f":"LOOKUP(C41,StrokeData!$A$4:$A$3798,StrokeData!$D$4:$D$3798)","v":{"$error":"#N/A"}},{"$f":"LOOKUP(C41,StrokeData!$A$4:$A$3798,StrokeData!$E$4:$E$3798)","v":{"$error":"#N/A"}},{"$f":"LOOKUP(C41,StrokeData!$A$4:$A$3798,StrokeData!$F$4:$F$3798)","v":{"$error":"#N/A"}},{"$f":"LOOKUP(C41,StrokeData!$A$4:$A$3798,StrokeData!$G$4:$G$3798)","v":{"$error":"#N/A"}},{"$f":"LOOKUP(C41,StrokeData!$A$4:$A$3798,StrokeData!$H$4:$H$3798)","v":{"$error":"#N/A"}},{"$f":"LOOKUP(C41,StrokeData!$A$4:$A$3798,StrokeData!$I$4:$I$3798)","v":{"$error":"#N/A"}},{"$f":"LOOKUP(C41,StrokeData!$A$4:$A$3798,StrokeData!$J$4:$J$3798)","v":{"$error":"#N/A"}},null,null,null,null,null,{"$f":"LOOKUP(C41,StrokeData!$A$4:$A$3798,StrokeData!$K$4:$K$3798)","v":{"$error":"#N/A"}},{"$f":"LOOKUP(C41,StrokeData!$A$4:$A$3798,StrokeData!$L$4:$L$3798)","v":{"$error":"#N/A"}}]
[null,6,{"$f":"IF(C41=-1,-1,LOOKUP(C41,StrokeData!$A$4:$A$3798,StrokeData!$L$4:$L$3798))","v":-1},{"$f":"LOOKUP(C42,StrokeData!$A$4:$A$3798,StrokeData!$B$4:$B$3798)","v":{"$error":"#N/A"}},{"$f":"LOOKUP(C42,StrokeData!$A$4:$A$3798,StrokeData!$C$4:$C$3798)","v":{"$error":"#N/A"}},null,{"$f":"LOOKUP(C42,StrokeData!$A$4:$A$3798,StrokeData!$D$4:$D$3798)","v":{"$error":"#N/A"}},{"$f":"LOOKUP(C42,StrokeData!$A$4:$A$3798,StrokeData!$E$4:$E$3798)","v":{"$error":"#N/A"}},{"$f":"LOOKUP(C42,StrokeData!$A$4:$A$3798,StrokeData!$F$4:$F$3798)","v":{"$error":"#N/A"}},{"$f":"LOOKUP(C42,StrokeData!$A$4:$A$3798,StrokeData!$G$4:$G$3798)","v":{"$error":"#N/A"}},{"$f":"LOOKUP(C42,StrokeData!$A$4:$A$3798,StrokeData!$H$4:$H$3798)","v":{"$error":"#N/A"}},{"$f":"LOOKUP(C42,StrokeData!$A$4:$A$3798,StrokeData!$I$4:$I$3798)","v":{"$error":"#N/A"}},{"$f":"LOOKUP(C42,StrokeData!$A$4:$A$3798,StrokeData!$J$4:$J$3798)","v":{"$error":"#N/A"}},null,null,null,null,null,{"$f":"LOOKUP(C42,StrokeData!$A$4:$A$3798,StrokeData!$K$4:$K$3798)","v":{"$error":"#N/A"}},{"$f":"LOOKUP(C42,StrokeData!$A$4:$A$3798,StrokeData!$L$4:$L$3798)","v":{"$error":"#N/A"}}]
[null,7,{"$f":"IF(C42=-1,-1,LOOKUP(C42,StrokeData!$A$4:$A$3798,StrokeData!$L$4:$L$3798))","v":-1},{"$f":"LOOKUP(C43,StrokeData!$A$4:$A$3798,StrokeData!$B$4:$B$3798)","v":{"$error":"#N/A"}},{"$f":"LOOKUP(C43,StrokeData!$A$4:$A$3798,StrokeData!$C$4:$C$3798)","v":{"$error":"#N/A"}},null,{"$f":"LOOKUP(C43,StrokeData!$A$4:$A$3798,StrokeData!$D$4:$D$3798)","v":{"$error":"#N/A"}},{"$f":"LOOKUP(C43,StrokeData!$A$4:$A$3798,StrokeData!$E$4:$E$3798)","v":{"$error":"#N/A"}},{"$f":"LOOKUP(C43,StrokeData!$A$4:$A$3798,StrokeData!$F$4:$F$3798)","v":{"$error":"#N/A"}},{"$f":"LOOKUP(C43,StrokeData!$A$4:$A$3798,StrokeData!$G$4:$G$3798)","v":{"$error":"#N/A"}},{"$f":"LOOKUP(C43,StrokeData!$A$4:$A$3798,StrokeData!$H$4:$H$3798)","v":{"$error":"#N/A"}},{"$f":"LOOKUP(C43,StrokeData!$A$4:$A$3798,StrokeData!$I$4:$I$3798)","v":{"$error":"#N/A"}},{"$f":"LOOKUP(C43,StrokeData!$A$4:$A$3798,StrokeData!$J$4:$J$3798)","v":{"$error":"#N/A"}},null,null,null,null,null,{"$f":"LOOKUP(C43,StrokeData!$A$4:$A$3798,StrokeData!$K$4:$K$3798)","v":{"$error":"#N/A"}},{"$f":"LOOKUP(C43,StrokeData!$A$4:$A$3798,StrokeData!$L$4:$L$3798)","v":{"$error":"#N/A"}}]
[null,8,{"$f":"IF(C43=-1,-1,LOOKUP(C43,StrokeData!$A$4:$A$3798,StrokeData!$L$4:$L$3798))","v":-1},{"$f":"LOOKUP(C44,StrokeData!$A$4:$A$3798,StrokeData!$B$4:$B$3798)","v":{"$error":"#N/A"}},{"$f":"LOOKUP(C44,StrokeData!$A$4:$A$3798,StrokeData!$C$4:$C$3798)","v":{"$error":"#N/A"}},null,{"$f":"LOOKUP(C44,StrokeData!$A$4:$A$3798,StrokeData!$D$4:$D$3798)","v":{"$error":"#N/A"}},{"$f":"LOOKUP(C44,StrokeData!$A$4:$A$3798,StrokeData!$E$4:$E$3798)","v":{"$error":"#N/A"}},{"$f":"LOOKUP(C44,StrokeData!$A$4:$A$3798,StrokeData!$F$4:$F$3798)","v":{"$error":"#N/A"}},{"$f":"LOOKUP(C44,StrokeData!$A$4:$A$3798,StrokeData!$G$4:$G$3798)","v":{"$error":"#N/A"}},{"$f":"LOOKUP(C44,StrokeData!$A$4:$A$3798,StrokeData!$H$4:$H$3798)","v":{"$error":"#N/A"}},{"$f":"LOOKUP(C44,StrokeData!$A$4:$A$3798,StrokeData!$I$4:$I$3798)","v":{"$error":"#N/A"}},{"$f":"LOOKUP(C44,StrokeData!$A$4:$A$3798,StrokeData!$J$4:$J$3798)","v":{"$error":"#N/A"}},null,null,null,null,null,{"$f":"LOOKUP(C44,StrokeData!$A$4:$A$3798,StrokeData!$K$4:$K$3798)","v":{"$error":"#N/A"}},{"$f":"LOOKUP(C44,StrokeData!$A$4:$A$3798,StrokeData!$L$4:$L$3798)","v":{"$error":"#N/A"}}]
[null,9,{"$f":"IF(C44=-1,-1,LOOKUP(C44,StrokeData!$A$4:$A$3798,StrokeData!$L$4:$L$3798))","v":-1},{"$f":"LOOKUP(C45,StrokeData!$A$4:$A$3798,StrokeData!$B$4:$B$3798)","v":{"$error":"#N/A"}},{"$f":"LOOKUP(C45,StrokeData!$A$4:$A$3798,StrokeData!$C$4:$C$3798)","v":{"$error":"#N/A"}},null,{"$f":"LOOKUP(C45,StrokeData!$A$4:$A$3798,StrokeData!$D$4:$D$3798)","v":{"$error":"#N/A"}},{"$f":"LOOKUP(C45,StrokeData!$A$4:$A$3798,StrokeData!$E$4:$E$3798)","v":{"$error":"#N/A"}},{"$f":"LOOKUP(C45,StrokeData!$A$4:$A$3798,StrokeData!$F$4:$F$3798)","v":{"$error":"#N/A"}},{"$f":"LOOKUP(C45,StrokeData!$A$4:$A$3798,StrokeData!$G$4:$G$3798)","v":{"$error":"#N/A"}},{"$f":"LOOKUP(C45,StrokeData!$A$4:$A$3798,StrokeData!$H$4:$H$3798)","v":{"$error":"#N/A"}},{"$f":"LOOKUP(C45,StrokeData!$A$4:$A$3798,StrokeData!$I$4:$I$3798)","v":{"$error":"#N/A"}},{"$f":"LOOKUP(C45,StrokeData!$A$4:$A$3798,StrokeData!$J$4:$J$3798)","v":{"$error":"#N/A"}},null,null,null,null,null,{"$f":"LOOKUP(C45,StrokeData!$A$4:$A$3798,StrokeData!$K$4:$K$3798)","v":{"$error":"#N/A"}},{"$f":"LOOKUP(C45,StrokeData!$A$4:$A$3798,StrokeData!$L$4:$L$3798)","v":{"$error":"#N/A"}}]
[null,10,{"$f":"IF(C45=-1,-1,LOOKUP(C45,StrokeData!$A$4:$A$3798,StrokeData!$L$4:$L$3798))","v":-1},{"$f":"LOOKUP(C46,StrokeData!$A$4:$A$3798,StrokeData!$B$4:$B$3798)","v":{"$error":"#N/A"}},{"$f":"LOOKUP(C46,StrokeData!$A$4:$A$3798,StrokeData!$C$4:$C$3798)","v":{"$error":"#N/A"}},null,{"$f":"LOOKUP(C46,StrokeData!$A$4:$A$3798,StrokeData!$D$4:$D$3798)","v":{"$error":"#N/A"}},{"$f":"LOOKUP(C46,StrokeData!$A$4:$A$3798,StrokeData!$E$4:$E$3798)","v":{"$error":"#N/A"}},{"$f":"LOOKUP(C46,StrokeData!$A$4:$A$3798,StrokeData!$F$4:$F$3798)","v":{"$error":"#N/A"}},{"$f":"LOOKUP(C46,StrokeData!$A$4:$A$3798,StrokeData!$G$4:$G$3798)","v":{"$error":"#N/A"}},{"$f":"LOOKUP(C46,StrokeData!$A$4:$A$3798,StrokeData!$H$4:$H$3798)","v":{"$error":"#N/A"}},{"$f":"LOOKUP(C46,StrokeData!$A$4:$A$3798,StrokeData!$I$4:$I$3798)","v":{"$error":"#N/A"}},{"$f":"LOOKUP(C46,StrokeData!$A$4:$A$3798,StrokeData!$J$4:$J$3798)","v":{"$error":"#N/A"}},null,null,null,null,null,{"$f":"LOOKUP(C46,StrokeData!$A$4:$A$3798,StrokeData!$K$4:$K$3798)","v":{"$error":"#N/A"}},{"$f":"LOOKUP(C46,StrokeData!$A$4:$A$3798,StrokeData!$L$4:$L$3798)","v":{"$error":"#N/A"}}]
[null,11,{"$f":"IF(C46=-1,-1,LOOKUP(C46,StrokeData!$A$4:$A$3798,StrokeData!$L$4:$L$3798))","v":-1},{"$f":"LOOKUP(C47,StrokeData!$A$4:$A$3798,StrokeData!$B$4:$B$3798)","v":{"$error":"#N/A"}},{"$f":"LOOKUP(C47,StrokeData!$A$4:$A$3798,StrokeData!$C$4:$C$3798)","v":{"$error":"#N/A"}},null,{"$f":"LOOKUP(C47,StrokeData!$A$4:$A$3798,StrokeData!$D$4:$D$3798)","v":{"$error":"#N/A"}},{"$f":"LOOKUP(C47,StrokeData!$A$4:$A$3798,StrokeData!$E$4:$E$3798)","v":{"$error":"#N/A"}},{"$f":"LOOKUP(C47,StrokeData!$A$4:$A$3798,StrokeData!$F$4:$F$3798)","v":{"$error":"#N/A"}},{"$f":"LOOKUP(C47,StrokeData!$A$4:$A$3798,StrokeData!$G$4:$G$3798)","v":{"$error":"#N/A"}},{"$f":"LOOKUP(C47,StrokeData!$A$4:$A$3798,StrokeData!$H$4:$H$3798)","v":{"$error":"#N/A"}},{"$f":"LOOKUP(C47,StrokeData!$A$4:$A$3798,StrokeData!$I$4:$I$3798)","v":{"$error":"#N/A"}},{"$f":"LOOKUP(C47,StrokeData!$A$4:$A$3798,StrokeData!$J$4:$J$3798)","v":{"$error":"#N/A"}},null,null,null,null,null,{"$f":"LOOKUP(C47,StrokeData!$A$4:$A$3798,StrokeData!$K$4:$K$3798)","v":{"$error":"#N/A"}},{"$f":"LOOKUP(C47,StrokeData!$A$4:$A$3798,StrokeData!$L$4:$L$3798)","v":{"$error":"#N/A"}}]
[null,12,{"$f":"IF(C47=-1,-1,LOOKUP(C47,StrokeData!$A$4:$A$3798,StrokeData!$L$4:$L$3798))","v":-1},{"$f":"LOOKUP(C48,StrokeData!$A$4:$A$3798,StrokeData!$B$4:$B$3798)","v":{"$error":"#N/A"}},{"$f":"LOOKUP(C48,StrokeData!$A$4:$A$3798,StrokeData!$C$4:$C$3798)","v":{"$error":"#N/A"}},null,{"$f":"LOOKUP(C48,StrokeData!$A$4:$A$3798,StrokeData!$D$4:$D$3798)","v":{"$error":"#N/A"}},{"$f":"LOOKUP(C48,StrokeData!$A$4:$A$3798,StrokeData!$E$4:$E$3798)","v":{"$error":"#N/A"}},{"$f":"LOOKUP(C48,StrokeData!$A$4:$A$3798,StrokeData!$F$4:$F$3798)","v":{"$error":"#N/A"}},{"$f":"LOOKUP(C48,StrokeData!$A$4:$A$3798,StrokeData!$G$4:$G$3798)","v":{"$error":"#N/A"}},{"$f":"LOOKUP(C48,StrokeData!$A$4:$A$3798,StrokeData!$H$4:$H$3798)","v":{"$error":"#N/A"}},{"$f":"LOOKUP(C48,StrokeData!$A$4:$A$3798,StrokeData!$I$4:$I$3798)","v":{"$error":"#N/A"}},{"$f":"LOOKUP(C48,StrokeData!$A$4:$A$3798,StrokeData!$J$4:$J$3798)","v":{"$error":"#N/A"}},null,null,null,null,null,{"$f":"LOOKUP(C48,StrokeData!$A$4:$A$3798,StrokeData!$K$4:$K$3798)","v":{"$error":"#N/A"}},{"$f":"LOOKUP(C48,StrokeData!$A$4:$A$3798,StrokeData!$L$4:$L$3798)","v":{"$error":"#N/A"}}]
[null,13,{"$f":"IF(C48=-1,-1,LOOKUP(C48,StrokeData!$A$4:$A$3798,StrokeData!$L$4:$L$3798))","v":-1},{"$f":"LOOKUP(C49,StrokeData!$A$4:$A$3798,StrokeData!$B$4:$B$3798)","v":{"$error":"#N/A"}},{"$f":"LOOKUP(C49,StrokeData!$A$4:$A$3798,StrokeData!$C$4:$C$3798)","v":{"$error":"#N/A"}},null,{"$f":"LOOKUP(C49,StrokeData!$A$4:$A$3798,StrokeData!$D$4:$D$3798)","v":{"$error":"#N/A"}},{"$f":"LOOKUP(C49,StrokeData!$A$4:$A$3798,StrokeData!$E$4:$E$3798)","v":{"$error":"#N/A"}},{"$f":"LOOKUP(C49,StrokeData!$A$4:$A$3798,StrokeData!$F$4:$F$3798)","v":{"$error":"#N/A"}},{"$f":"LOOKUP(C49,StrokeData!$A$4:$A$3798,StrokeData!$G$4:$G$3798)","v":{"$error":"#N/A"}},{"$f":"LOOKUP(C49,StrokeData!$A$4:$A$3798,StrokeData!$H$4:$H$3798)","v":{"$error":"#N/A"}},{"$f":"LOOKUP(C49,StrokeData!$A$4:$A$3798,StrokeData!$I$4:$I$3798)","v":{"$error":"#N/A"}},{"$f":"LOOKUP(C49,StrokeData!$A$4:$A$3798,StrokeData!$J$4:$J$3798)","v":{"$error":"#N/A"}},null,null,null,null,null,{"$f":"LOOKUP(C49,StrokeData!$A$4:$A$3798,StrokeData!$K$4:$K$3798)","v":{"$error":"#N/A"}},{"$f":"LOOKUP(C49,StrokeData!$A$4:$A$3798,StrokeData!$L$4:$L$3798)","v":{"$error":"#N/A"}}]
[null,14,{"$f":"IF(C49=-1,-1,LOOKUP(C49,StrokeData!$A$4:$A$3798,StrokeData!$L$4:$L$3798))","v":-1},{"$f":"LOOKUP(C50,StrokeData!$A$4:$A$3798,StrokeData!$B$4:$B$3798)","v":{"$error":"#N/A"}},{"$f":"LOOKUP(C50,StrokeData!$A$4:$A$3798,StrokeData!$C$4:$C$3798)","v":{"$error":"#N/A"}},null,{"$f":"LOOKUP(C50,StrokeData!$A$4:$A$3798,StrokeData!$D$4:$D$3798)","v":{"$error":"#N/A"}},{"$f":"LOOKUP(C50,StrokeData!$A$4:$A$3798,StrokeData!$E$4:$E$3798)","v":{"$error":"#N/A"}},{"$f":"LOOKUP(C50,StrokeData!$A$4:$A$3798,StrokeData!$F$4:$F$3798)","v":{"$error":"#N/A"}},{"$f":"LOOKUP(C50,StrokeData!$A$4:$A$3798,StrokeData!$G$4:$G$3798)","v":{"$error":"#N/A"}},{"$f":"LOOKUP(C50,StrokeData!$A$4:$A$3798,StrokeData!$H$4:$H$3798)","v":{"$error":"#N/A"}},{"$f":"LOOKUP(C50,StrokeData!$A$4:$A$3798,StrokeData!$I$4:$I$3798)","v":{"$error":"#N/A"}},{"$f":"LOOKUP(C50,StrokeData!$A$4:$A$3798,StrokeData!$J$4:$J$3798)","v":{"$error":"#N/A"}},null,null,null,null,null,{"$f":"LOOKUP(C50,StrokeData!$A$4:$A$3798,StrokeData!$K$4:$K$3798)","v":{"$error":"#N/A"}},{"$f":"LOOKUP(C50,StrokeData!$A$4:$A$3798,StrokeData!$L$4:$L$3798)","v":{"$error":"#N/A"}}]
[null,15,{"$f":"IF(C50=-1,-1,LOOKUP(C50,StrokeData!$A$4:$A$3798,StrokeData!$L$4:$L$3798))","v":-1},{"$f":"LOOKUP(C51,StrokeData!$A$4:$A$3798,StrokeData!$B$4:$B$3798)","v":{"$error":"#N/A"}},{"$f":"LOOKUP(C51,StrokeData!$A$4:$A$3798,StrokeData!$C$4:$C$3798)","v":{"$error":"#N/A"}},null,{"$f":"LOOKUP(C51,StrokeData!$A$4:$A$3798,StrokeData!$D$4:$D$3798)","v":{"$error":"#N/A"}},{"$f":"LOOKUP(C51,StrokeData!$A$4:$A$3798,StrokeData!$E$4:$E$3798)","v":{"$error":"#N/A"}},{"$f":"LOOKUP(C51,StrokeData!$A$4:$A$3798,StrokeData!$F$4:$F$3798)","v":{"$error":"#N/A"}},{"$f":"LOOKUP(C51,StrokeData!$A$4:$A$3798,StrokeData!$G$4:$G$3798)","v":{"$error":"#N/A"}},{"$f":"LOOKUP(C51,StrokeData!$A$4:$A$3798,StrokeData!$H$4:$H$3798)","v":{"$error":"#N/A"}},{"$f":"LOOKUP(C51,StrokeData!$A$4:$A$3798,StrokeData!$I$4:$I$3798)","v":{"$error":"#N/A"}},{"$f":"LOOKUP(C51,StrokeData!$A$4:$A$3798,StrokeData!$J$4:$J$3798)","v":{"$error":"#N/A"}},null,null,null,null,null,{"$f":"LOOKUP(C51,StrokeData!$A$4:$A$3798,StrokeData!$K$4:$K$3798)","v":{"$error":"#N/A"}},{"$f":"LOOKUP(C51,StrokeData!$A$4:$A$3798,StrokeData!$L$4:$L$3798)","v":{"$error":"#N/A"}}]
[null,16,{"$f":"IF(C51=-1,-1,LOOKUP(C51,StrokeData!$A$4:$A$3798,StrokeData!$L$4:$L$3798))","v":-1},{"$f":"LOOKUP(C52,StrokeData!$A$4:$A$3798,StrokeData!$B$4:$B$3798)","v":{"$error":"#N/A"}},{"$f":"LOOKUP(C52,StrokeData!$A$4:$A$3798,StrokeData!$C$4:$C$3798)","v":{"$error":"#N/A"}},null,{"$f":"LOOKUP(C52,StrokeData!$A$4:$A$3798,StrokeData!$D$4:$D$3798)","v":{"$error":"#N/A"}},{"$f":"LOOKUP(C52,StrokeData!$A$4:$A$3798,StrokeData!$E$4:$E$3798)","v":{"$error":"#N/A"}},{"$f":"LOOKUP(C52,StrokeData!$A$4:$A$3798,StrokeData!$F$4:$F$3798)","v":{"$error":"#N/A"}},{"$f":"LOOKUP(C52,StrokeData!$A$4:$A$3798,StrokeData!$G$4:$G$3798)","v":{"$error":"#N/A"}},{"$f":"LOOKUP(C52,StrokeData!$A$4:$A$3798,StrokeData!$H$4:$H$3798)","v":{"$error":"#N/A"}},{"$f":"LOOKUP(C52,StrokeData!$A$4:$A$3798,StrokeData!$I$4:$I$3798)","v":{"$error":"#N/A"}},{"$f":"LOOKUP(C52,StrokeData!$A$4:$A$3798,StrokeData!$J$4:$J$3798)","v":{"$error":"#N/A"}},null,null,null,null,null,{"$f":"LOOKUP(C52,StrokeData!$A$4:$A$3798,StrokeData!$K$4:$K$3798)","v":{"$error":"#N/A"}},{"$f":"LOOKUP(C52,StrokeData!$A$4:$A$3798,StrokeData!$L$4:$L$3798)","v":{"$error":"#N/A"}}]
[null,17,{"$f":"IF(C52=-1,-1,LOOKUP(C52,StrokeData!$A$4:$A$3798,StrokeData!$L$4:$L$3798))","v":-1},{"$f":"LOOKUP(C53,StrokeData!$A$4:$A$3798,StrokeData!$B$4:$B$3798)","v":{"$error":"#N/A"}},{"$f":"LOOKUP(C53,StrokeData!$A$4:$A$3798,StrokeData!$C$4:$C$3798)","v":{"$error":"#N/A"}},null,{"$f":"LOOKUP(C53,StrokeData!$A$4:$A$3798,StrokeData!$D$4:$D$3798)","v":{"$error":"#N/A"}},{"$f":"LOOKUP(C53,StrokeData!$A$4:$A$3798,StrokeData!$E$4:$E$3798)","v":{"$error":"#N/A"}},{"$f":"LOOKUP(C53,StrokeData!$A$4:$A$3798,StrokeData!$F$4:$F$3798)","v":{"$error":"#N/A"}},{"$f":"LOOKUP(C53,StrokeData!$A$4:$A$3798,StrokeData!$G$4:$G$3798)","v":{"$error":"#N/A"}},{"$f":"LOOKUP(C53,StrokeData!$A$4:$A$3798,StrokeData!$H$4:$H$3798)","v":{"$error":"#N/A"}},{"$f":"LOOKUP(C53,StrokeData!$A$4:$A$3798,StrokeData!$I$4:$I$3798)","v":{"$error":"#N/A"}},{"$f":"LOOKUP(C53,StrokeData!$A$4:$A$3798,StrokeData!$J$4:$J$3798)","v":{"$error":"#N/A"}},null,null,null,null,null,{"$f":"LOOKUP(C53,StrokeData!$A$4:$A$3798,StrokeData!$K$4:$K$3798)","v":{"$error":"#N/A"}},{"$f":"LOOKUP(C53,StrokeData!$A$4:$A$3798,StrokeData!$L$4:$L$3798)","v":{"$error":"#N/A"}}]
[null,18,{"$f":"IF(C53=-1,-1,LOOKUP(C53,StrokeData!$A$4:$A$3798,StrokeData!$L$4:$L$3798))","v":-1},{"$f":"LOOKUP(C54,StrokeData!$A$4:$A$3798,StrokeData!$B$4:$B$3798)","v":{"$error":"#N/A"}},{"$f":"LOOKUP(C54,StrokeData!$A$4:$A$3798,StrokeData!$C$4:$C$3798)","v":{"$error":"#N/A"}},null,{"$f":"LOOKUP(C54,StrokeData!$A$4:$A$3798,StrokeData!$D$4:$D$3798)","v":{"$error":"#N/A"}},{"$f":"LOOKUP(C54,StrokeData!$A$4:$A$3798,StrokeData!$E$4:$E$3798)","v":{"$error":"#N/A"}},{"$f":"LOOKUP(C54,StrokeData!$A$4:$A$3798,StrokeData!$F$4:$F$3798)","v":{"$error":"#N/A"}},{"$f":"LOOKUP(C54,StrokeData!$A$4:$A$3798,StrokeData!$G$4:$G$3798)","v":{"$error":"#N/A"}},{"$f":"LOOKUP(C54,StrokeData!$A$4:$A$3798,StrokeData!$H$4:$H$3798)","v":{"$error":"#N/A"}},{"$f":"LOOKUP(C54,StrokeData!$A$4:$A$3798,StrokeData!$I$4:$I$3798)","v":{"$error":"#N/A"}},{"$f":"LOOKUP(C54,StrokeData!$A$4:$A$3798,StrokeData!$J$4:$J$3798)","v":{"$error":"#N/A"}},null,null,null,null,null,{"$f":"LOOKUP(C54,StrokeData!$A$4:$A$3798,StrokeData!$K$4:$K$3798)","v":{"$error":"#N/A"}},{"$f":"LOOKUP(C54,StrokeData!$A$4:$A$3798,StrokeData!$L$4:$L$3798)","v":{"$error":"#N/A"}}]
[null,19,{"$f":"IF(C54=-1,-1,LOOKUP(C54,StrokeData!$A$4:$A$3798,StrokeData!$L$4:$L$3798))","v":-1},{"$f":"LOOKUP(C55,StrokeData!$A$4:$A$3798,StrokeData!$B$4:$B$3798)","v":{"$error":"#N/A"}},{"$f":"LOOKUP(C55,StrokeData!$A$4:$A$3798,StrokeData!$C$4:$C$3798)","v":{"$error":"#N/A"}},null,{"$f":"LOOKUP(C55,StrokeData!$A$4:$A$3798,StrokeData!$D$4:$D$3798)","v":{"$error":"#N/A"}},{"$f":"LOOKUP(C55,StrokeData!$A$4:$A$3798,StrokeData!$E$4:$E$3798)","v":{"$error":"#N/A"}},{"$f":"LOOKUP(C55,StrokeData!$A$4:$A$3798,StrokeData!$F$4:$F$3798)","v":{"$error":"#N/A"}},{"$f":"LOOKUP(C55,StrokeData!$A$4:$A$3798,StrokeData!$G$4:$G$3798)","v":{"$error":"#N/A"}},{"$f":"LOOKUP(C55,StrokeData!$A$4:$A$3798,StrokeData!$H$4:$H$3798)","v":{"$error":"#N/A"}},{"$f":"LOOKUP(C55,StrokeData!$A$4:$A$3798,StrokeData!$I$4:$I$3798)","v":{"$error":"#N/A"}},{"$f":"LOOKUP(C55,StrokeData!$A$4:$A$3798,StrokeData!$J$4:$J$3798)","v":{"$error":"#N/A"}},null,null,null,null,null,{"$f":"LOOKUP(C55,StrokeData!$A$4:$A$3798,StrokeData!$K$4:$K$3798)","v":{"$error":"#N/A"}},{"$f":"LOOKUP(C55,StrokeData!$A$4:$A$3798,StrokeData!$L$4:$L$3798)","v":{"$error":"#N/A"}}]
[null,20,{"$f":"IF(C55=-1,-1,LOOKUP(C55,StrokeData!$A$4:$A$3798,StrokeData!$L$4:$L$3798))","v":-1},{"$f":"LOOKUP(C56,StrokeData!$A$4:$A$3798,StrokeData!$B$4:$B$3798)","v":{"$error":"#N/A"}},{"$f":"LOOKUP(C56,StrokeData!$A$4:$A$3798,StrokeData!$C$4:$C$3798)","v":{"$error":"#N/A"}},null,{"$f":"LOOKUP(C56,StrokeData!$A$4:$A$3798,StrokeData!$D$4:$D$3798)","v":{"$error":"#N/A"}},{"$f":"LOOKUP(C56,StrokeData!$A$4:$A$3798,StrokeData!$E$4:$E$3798)","v":{"$error":"#N/A"}},{"$f":"LOOKUP(C56,StrokeData!$A$4:$A$3798,StrokeData!$F$4:$F$3798)","v":{"$error":"#N/A"}},{"$f":"LOOKUP(C56,StrokeData!$A$4:$A$3798,StrokeData!$G$4:$G$3798)","v":{"$error":"#N/A"}},{"$f":"LOOKUP(C56,StrokeData!$A$4:$A$3798,StrokeData!$H$4:$H$3798)","v":{"$error":"#N/A"}},{"$f":"LOOKUP(C56,StrokeData!$A$4:$A$3798,StrokeData!$I$4:$I$3798)","v":{"$error":"#N/A"}},{"$f":"LOOKUP(C56,StrokeData!$A$4:$A$3798,StrokeData!$J$4:$J$3798)","v":{"$error":"#N/A"}},null,null,null,null,null,{"$f":"LOOKUP(C56,StrokeData!$A$4:$A$3798,StrokeData!$K$4:$K$3798)","v":{"$error":"#N/A"}},{"$f":"LOOKUP(C56,StrokeData!$A$4:$A$3798,StrokeData!$L$4:$L$3798)","v":{"$error":"#N/A"}}]
[null,null,null,"ストローク",{"$f":"H5","v":100},"mm","～",{"$f":"I5","v":900},"mm",null,"刻み",{"$f":"LOOKUP(D35,B26:B33,R26:R33)","v":50},"mm",null,"慣性係数",{"$f":"IF($J$5=1,0.000001,0.001)","v":1E-3},"有効桁数",{"$f":"IF($J$5=1,6,3)","v":3}]
[null,"stﾘｽﾄ検索用(降順)",null,"№",{"$f":"StrokeData!$B$2","v":"ｽﾄﾛｰｸ長"},"stﾘｽﾄ№",{"$f":"StrokeData!$C$2","v":"有効ｽﾄﾛｰｸ補正"},null,{"$f":"StrokeData!$D$2","v":"基準ｹﾞｲﾝ用搬送質量"},{"$f":"StrokeData!$E$2","v":"水平可搬質量"},{"$f":"StrokeData!$F$2","v":"垂直可搬質量"},{"$f":"StrokeData!$G$2","v":"最大速度"},{"$f":"StrokeData!$H$2","v":"位置ｹﾞｲﾝ"},{"$f":"StrokeData!$I$2","v":"FFｹﾞｲﾝ"},{"$f":"StrokeData!$J$2","v":"速度制御帯域"}]
[null,{"$f":"B36","v":"№"},{"$f":"D36","v":"ｽﾄﾛｰｸ長"},0,{"$f":"H4","v":"[mm]"},null,"[mm]","[kg/mm]",{"$f":"IF(J5=1,\"[kgm^2]\",\"[kg]\")","v":"[kg]"},{"$f":"IF(J5=1,\"[kgm^2]\",\"[kg]\")","v":"[kg]"},{"$f":"IF(J5=1,\"[kgm^2]\",\"[kg]\")","v":"[kg]"},"[mm/s]","[1/s]","[%]","[rad/s]",null,"[s]",null,null,"[Nm/rad]"]
[null,{"$f":"B56","v":20},{"$f":"D56","v":{"$error":"#N/A"}},1,{"$f":"IF( (E57+L57*D59)<=H57,(E57+L57*D59),\"- - -\")","v":100},{"$f":"(B60+1)-MATCH(E60,C60:C79,-1)","v":1},{"$f":"LOOKUP(F60,B37:B56,E37:E56)","v":0},null,{"$f":"LOOKUP(F60,B37:B56,G37:G56)*$P$57","v":55},{"$f":"LOOKUP(F60,B37:B56,H37:H56)*$P$57","v":55},{"$f":"LOOKUP(F60,B37:B56,I37:I56)*$P$57","v":14},{"$f":"LOOKUP(F60,B37:B56,J37:J56)","v":240},{"$f":"LOOKUP(F60,B37:B56,K37:K56)","v":30},{"$f":"LOOKUP(F60,B37:B56,L37:L56)","v":0},{"$f":"LOOKUP(F60,B37:B56,M37:M56)","v":120}]
[null,{"$f":"B55","v":19},{"$f":"D55","v":{"$error":"#N/A"}},{"$f":"D60+1","v":2},{"$f":"IF( (E57+L57*D60)<=H57,(E57+L57*D60),\"- - -\")","v":150},{"$f":"(B60+1)-MATCH(E61,C60:C79,-1)","v":1},{"$f":"LOOKUP(F61,B37:B56,E37:E56)","v":0},null,{"$f":"LOOKUP(F61,B37:B56,G37:G56)*$P$57","v":55},{"$f":"LOOKUP(F61,B37:B56,H37:H56)*$P$57","v":55},{"$f":"LOOKUP(F61,B37:B56,I37:I56)*$P$57","v":14},{"$f":"LOOKUP(F61,B37:B56,J37:J56)","v":240},{"$f":"LOOKUP(F61,B37:B56,K37:K56)","v":30},{"$f":"LOOKUP(F61,B37:B56,L37:L56)","v":0},{"$f":"LOOKUP(F61,B37:B56,M37:M56)","v":120}]
[null,{"$f":"B54","v":18},{"$f":"D54","v":{"$error":"#N/A"}},{"$f":"D61+1","v":3},{"$f":"IF( (E57+L57*D61)<=H57,(E57+L57*D61),\"- - -\")","v":200},{"$f":"(B60+1)-MATCH(E62,C60:C79,-1)","v":1},{"$f":"LOOKUP(F62,B37:B56,E37:E56)","v":0},null,{"$f":"LOOKUP(F62,B37:B56,G37:G56)*$P$57","v":55},{"$f":"LOOKUP(F62,B37:B56,H37:H56)*$P$57","v":55},{"$f":"LOOKUP(F62,B37:B56,I37:I56)*$P$57","v":14},{"$f":"LOOKUP(F62,B37:B56,J37:J56)","v":240},{"$f":"LOOKUP(F62,B37:B56,K37:K56)","v":30},{"$f":"LOOKUP(F62,B37:B56,L37:L56)","v":0},{"$f":"LOOKUP(F62,B37:B56,M37:M56)","v":120}]
[null,{"$f":"B53","v":17},{"$f":"D53","v":{"$error":"#N/A"}},4,{"$f":"IF( (E57+L57*D62)<=H57,(E57+L57*D62),\"- - -\")","v":250},{"$f":"(B60+1)-MATCH(E63,C60:C79,-1)","v":1},{"$f":"LOOKUP(F63,B37:B56,E37:E56)","v":0},null,{"$f":"LOOKUP(F63,B37:B56,G37:G56)*$P$57","v":55},{"$f":"LOOKUP(F63,B37:B56,H37:H56)*$P$57","v":55},{"$f":"LOOKUP(F63,B37:B56,I37:I56)*$P$57","v":14},{"$f":"LOOKUP(F63,B37:B56,J37:J56)","v":240},{"$f":"LOOKUP(F63,B37:B56,K37:K56)","v":30},{"$f":"LOOKUP(F63,B37:B56,L37:L56)","v":0},{"$f":"LOOKUP(F63,B37:B56,M37:M56)","v":120}]
[null,{"$f":"B52","v":16},{"$f":"D52","v":{"$error":"#N/A"}},5,{"$f":"IF( (E57+L57*D63)<=H57,(E57+L57*D63),\"- - -\")","v":300},{"$f":"(B60+1)-MATCH(E64,C60:C79,-1)","v":1},{"$f":"LOOKUP(F64,B37:B56,E37:E56)","v":0},null,{"$f":"LOOKUP(F64,B37:B56,G37:G56)*$P$57","v":55},{"$f":"LOOKUP(F64,B37:B56,H37:H56)*$P$57","v":55},{"$f":"LOOKUP(F64,B37:B56,I37:I56)*$P$57","v":14},{"$f":"LOOKUP(F64,B37:B56,J37:J56)","v":240},{"$f":"LOOKUP(F64,B37:B56,K37:K56)","v":30},{"$f":"LOOKUP(F64,B37:B56,L37:L56)","v":0},{"$f":"LOOKUP(F64,B37:B56,M37:M56)","v":120}]
[null,{"$f":"B51","v":15},{"$f":"D51","v":{"$error":"#N/A"}},6,{"$f":"IF( (E57+L57*D64)<=H57,(E57+L57*D64),\"- - -\")","v":350},{"$f":"(B60+1)-MATCH(E65,C60:C79,-1)","v":1},{"$f":"LOOKUP(F65,B37:B56,E37:E56)","v":0},null,{"$f":"LOOKUP(F65,B37:B56,G37:G56)*$P$57","v":55},{"$f":"LOOKUP(F65,B37:B56,H37:H56)*$P$57","v":55},{"$f":"LOOKUP(F65,B37:B56,I37:I56)*$P$57","v":14},{"$f":"LOOKUP(F65,B37:B56,J37:J56)","v":240},{"$f":"LOOKUP(F65,B37:B56,K37:K56)","v":30},{"$f":"LOOKUP(F65,B37:B56,L37:L56)","v":0},{"$f":"LOOKUP(F65,B37:B56,M37:M56)","v":120}]
[null,{"$f":"B50","v":14},{"$f":"D50","v":{"$error":"#N/A"}},7,{"$f":"IF( (E57+L57*D65)<=H57,(E57+L57*D65),\"- - -\")","v":400},{"$f":"(B60+1)-MATCH(E66,C60:C79,-1)","v":1},{"$f":"LOOKUP(F66,B37:B56,E37:E56)","v":0},null,{"$f":"LOOKUP(F66,B37:B56,G37:G56)*$P$57","v":55},{"$f":"LOOKUP(F66,B37:B56,H37:H56)*$P$57","v":55},{"$f":"LOOKUP(F66,B37:B56,I37:I56)*$P$57","v":14},{"$f":"LOOKUP(F66,B37:B56,J37:J56)","v":240},{"$f":"LOOKUP(F66,B37:B56,K37:K56)","v":30},{"$f":"LOOKUP(F66,B37:B56,L37:L56)","v":0},{"$f":"LOOKUP(F66,B37:B56,M37:M56)","v":120}]
[null,{"$f":"B49","v":13},{"$f":"D49","v":{"$error":"#N/A"}},8,{"$f":"IF( (E57+L57*D66)<=H57,(E57+L57*D66),\"- - -\")","v":450},{"$f":"(B60+1)-MATCH(E67,C60:C79,-1)","v":1},{"$f":"LOOKUP(F67,B37:B56,E37:E56)","v":0},null,{"$f":"LOOKUP(F67,B37:B56,G37:G56)*$P$57","v":55},{"$f":"LOOKUP(F67,B37:B56,H37:H56)*$P$57","v":55},{"$f":"LOOKUP(F67,B37:B56,I37:I56)*$P$57","v":14},{"$f":"LOOKUP(F67,B37:B56,J37:J56)","v":240},{"$f":"LOOKUP(F67,B37:B56,K37:K56)","v":30},{"$f":"LOOKUP(F67,B37:B56,L37:L56)","v":0},{"$f":"LOOKUP(F67,B37:B56,M37:M56)","v":120}]
[null,{"$f":"B48","v":12},{"$f":"D48","v":{"$error":"#N/A"}},9,{"$f":"IF( (E57+L57*D67)<=H57,(E57+L57*D67),\"- - -\")","v":500},{"$f":"(B60+1)-MATCH(E68,C60:C79,-1)","v":1},{"$f":"LOOKUP(F68,B37:B56,E37:E56)","v":0},null,{"$f":"LOOKUP(F68,B37:B56,G37:G56)*$P$57","v":55},{"$f":"LOOKUP(F68,B37:B56,H37:H56)*$P$57","v":55},{"$f":"LOOKUP(F68,B37:B56,I37:I56)*$P$57","v":14},{"$f":"LOOKUP(F68,B37:B56,J37:J56)","v":240},{"$f":"LOOKUP(F68,B37:B56,K37:K56)","v":30},{"$f":"LOOKUP(F68,B37:B56,L37:L56)","v":0},{"$f":"LOOKUP(F68,B37:B56,M37:M56)","v":120}]
[null,{"$f":"B47","v":11},{"$f":"D47","v":{"$error":"#N/A"}},10,{"$f":"IF( (E57+L57*D68)<=H57,(E57+L57*D68),\"- - -\")","v":550},{"$f":"(B60+1)-MATCH(E69,C60:C79,-1)","v":1},{"$f":"LOOKUP(F69,B37:B56,E37:E56)","v":0},null,{"$f":"LOOKUP(F69,B37:B56,G37:G56)*$P$57","v":55},{"$f":"LOOKUP(F69,B37:B56,H37:H56)*$P$57","v":55},{"$f":"LOOKUP(F69,B37:B56,I37:I56)*$P$57","v":14},{"$f":"LOOKUP(F69,B37:B56,J37:J56)","v":240},{"$f":"LOOKUP(F69,B37:B56,K37:K56)","v":30},{"$f":"LOOKUP(F69,B37:B56,L37:L56)","v":0},{"$f":"LOOKUP(F69,B37:B56,M37:M56)","v":120}]
[null,{"$f":"B46","v":10},{"$f":"D46","v":{"$error":"#N/A"}},11,{"$f":"IF( (E57+L57*D69)<=H57,(E57+L57*D69),\"- - -\")","v":600},{"$f":"(B60+1)-MATCH(E70,C60:C79,-1)","v":1},{"$f":"LOOKUP(F70,B37:B56,E37:E56)","v":0},null,{"$f":"LOOKUP(F70,B37:B56,G37:G56)*$P$57","v":55},{"$f":"LOOKUP(F70,B37:B56,H37:H56)*$P$57","v":55},{"$f":"LOOKUP(F70,B37:B56,I37:I56)*$P$57","v":14},{"$f":"LOOKUP(F70,B37:B56,J37:J56)","v":240},{"$f":"LOOKUP(F70,B37:B56,K37:K56)","v":30},{"$f":"LOOKUP(F70,B37:B56,L37:L56)","v":0},{"$f":"LOOKUP(F70,B37:B56,M37:M56)","v":120}]
[null,{"$f":"B45","v":9},{"$f":"D45","v":{"$error":"#N/A"}},12,{"$f":"IF( (E57+L57*D70)<=H57,(E57+L57*D70),\"- - -\")","v":650},{"$f":"(B60+1)-MATCH(E71,C60:C79,-1)","v":2},{"$f":"LOOKUP(F71,B37:B56,E37:E56)","v":0},null,{"$f":"LOOKUP(F71,B37:B56,G37:G56)*$P$57","v":55},{"$f":"LOOKUP(F71,B37:B56,H37:H56)*$P$57","v":55},{"$f":"LOOKUP(F71,B37:B56,I37:I56)*$P$57","v":14},{"$f":"LOOKUP(F71,B37:B56,J37:J56)","v":165},{"$f":"LOOKUP(F71,B37:B56,K37:K56)","v":30},{"$f":"LOOKUP(F71,B37:B56,L37:L56)","v":0},{"$f":"LOOKUP(F71,B37:B56,M37:M56)","v":120}]
[null,{"$f":"B44","v":8},{"$f":"D44","v":{"$error":"#N/A"}},13,{"$f":"IF( (E57+L57*D71)<=H57,(E57+L57*D71),\"- - -\")","v":700},{"$f":"(B60+1)-MATCH(E72,C60:C79,-1)","v":2},{"$f":"LOOKUP(F72,B37:B56,E37:E56)","v":0},null,{"$f":"LOOKUP(F72,B37:B56,G37:G56)*$P$57","v":55},{"$f":"LOOKUP(F72,B37:B56,H37:H56)*$P$57","v":55},{"$f":"LOOKUP(F72,B37:B56,I37:I56)*$P$57","v":14},{"$f":"LOOKUP(F72,B37:B56,J37:J56)","v":165},{"$f":"LOOKUP(F72,B37:B56,K37:K56)","v":30},{"$f":"LOOKUP(F72,B37:B56,L37:L56)","v":0},{"$f":"LOOKUP(F72,B37:B56,M37:M56)","v":120}]
[null,{"$f":"B43","v":7},{"$f":"D43","v":{"$error":"#N/A"}},14,{"$f":"IF( (E57+L57*D72)<=H57,(E57+L57*D72),\"- - -\")","v":750},{"$f":"(B60+1)-MATCH(E73,C60:C79,-1)","v":3},{"$f":"LOOKUP(F73,B37:B56,E37:E56)","v":0},null,{"$f":"LOOKUP(F73,B37:B56,G37:G56)*$P$57","v":55},{"$f":"LOOKUP(F73,B37:B56,H37:H56)*$P$57","v":55},{"$f":"LOOKUP(F73,B37:B56,I37:I56)*$P$57","v":14},{"$f":"LOOKUP(F73,B37:B56,J37:J56)","v":130},{"$f":"LOOKUP(F73,B37:B56,K37:K56)","v":30},{"$f":"LOOKUP(F73,B37:B56,L37:L56)","v":0},{"$f":"LOOKUP(F73,B37:B56,M37:M56)","v":120}]
[null,{"$f":"B42","v":6},{"$f":"D42","v":{"$error":"#N/A"}},15,{"$f":"IF( (E57+L57*D73)<=H57,(E57+L57*D73),\"- - -\")","v":800},{"$f":"(B60+1)-MATCH(E74,C60:C79,-1)","v":3},{"$f":"LOOKUP(F74,B37:B56,E37:E56)","v":0},null,{"$f":"LOOKUP(F74,B37:B56,G37:G56)*$P$57","v":55},{"$f":"LOOKUP(F74,B37:B56,H37:H56)*$P$57","v":55},{"$f":"LOOKUP(F74,B37:B56,I37:I56)*$P$57","v":14},{"$f":"LOOKUP(F74,B37:B56,J37:J56)","v":130},{"$f":"LOOKUP(F74,B37:B56,K37:K56)","v":30},{"$f":"LOOKUP(F74,B37:B56,L37:L56)","v":0},{"$f":"LOOKUP(F74,B37:B56,M37:M56)","v":120}]
[null,{"$f":"B41","v":5},{"$f":"D41","v":{"$error":"#N/A"}},16,{"$f":"IF( (E57+L57*D74)<=H57,(E57+L57*D74),\"- - -\")","v":850},{"$f":"(B60+1)-MATCH(E75,C60:C79,-1)","v":4},{"$f":"LOOKUP(F75,B37:B56,E37:E56)","v":0},null,{"$f":"LOOKUP(F75,B37:B56,G37:G56)*$P$57","v":55},{"$f":"LOOKUP(F75,B37:B56,H37:H56)*$P$57","v":55},{"$f":"LOOKUP(F75,B37:B56,I37:I56)*$P$57","v":14},{"$f":"LOOKUP(F75,B37:B56,J37:J56)","v":100},{"$f":"LOOKUP(F75,B37:B56,K37:K56)","v":30},{"$f":"LOOKUP(F75,B37:B56,L37:L56)","v":0},{"$f":"LOOKUP(F75,B37:B56,M37:M56)","v":120}]
[null,{"$f":"B40","v":4},{"$f":"D40","v":900},17,{"$f":"IF( (E57+L57*D75)<=H57,(E57+L57*D75),\"- - -\")","v":900},{"$f":"(B60+1)-MATCH(E76,C60:C79,-1)","v":4},{"$f":"LOOKUP(F76,B37:B56,E37:E56)","v":0},null,{"$f":"LOOKUP(F76,B37:B56,G37:G56)*$P$57","v":55},{"$f":"LOOKUP(F76,B37:B56,H37:H56)*$P$57","v":55},{"$f":"LOOKUP(F76,B37:B56,I37:I56)*$P$57","v":14},{"$f":"LOOKUP(F76,B37:B56,J37:J56)","v":100},{"$f":"LOOKUP(F76,B37:B56,K37:K56)","v":30},{"$f":"LOOKUP(F76,B37:B56,L37:L56)","v":0},{"$f":"LOOKUP(F76,B37:B56,M37:M56)","v":120}]
[null,{"$f":"B39","v":3},{"$f":"D39","v":800},18,{"$f":"IF( (E57+L57*D76)<=H57,(E57+L57*D76),\"- - -\")","v":"- - -"},{"$f":"(B60+1)-MATCH(E77,C60:C79,-1)","v":{"$error":"#N/A"}},{"$f":"LOOKUP(F77,B37:B56,E37:E56)","v":{"$error":"#N/A"}},null,{"$f":"LOOKUP(F77,B37:B56,G37:G56)*$P$57","v":{"$error":"#N/A"}},{"$f":"LOOKUP(F77,B37:B56,H37:H56)*$P$57","v":{"$error":"#N/A"}},{"$f":"LOOKUP(F77,B37:B56,I37:I56)*$P$57","v":{"$error":"#N/A"}},{"$f":"LOOKUP(F77,B37:B56,J37:J56)","v":{"$error":"#N/A"}},{"$f":"LOOKUP(F77,B37:B56,K37:K56)","v":{"$error":"#N/A"}},{"$f":"LOOKUP(F77,B37:B56,L37:L56)","v":{"$error":"#N/A"}},{"$f":"LOOKUP(F77,B37:B56,M37:M56)","v":{"$error":"#N/A"}}]
[null,{"$f":"B38","v":2},{"$f":"D38","v":700},19,{"$f":"IF( (E57+L57*D77)<=H57,(E57+L57*D77),\"- - -\")","v":"- - -"},{"$f":"(B60+1)-MATCH(E78,C60:C79,-1)","v":{"$error":"#N/A"}},{"$f":"LOOKUP(F78,B37:B56,E37:E56)","v":{"$error":"#N/A"}},null,{"$f":"LOOKUP(F78,B37:B56,G37:G56)*$P$57","v":{"$error":"#N/A"}},{"$f":"LOOKUP(F78,B37:B56,H37:H56)*$P$57","v":{"$error":"#N/A"}},{"$f":"LOOKUP(F78,B37:B56,I37:I56)*$P$57","v":{"$error":"#N/A"}},{"$f":"LOOKUP(F78,B37:B56,J37:J56)","v":{"$error":"#N/A"}},{"$f":"LOOKUP(F78,B37:B56,K37:K56)","v":{"$error":"#N/A"}},{"$f":"LOOKUP(F78,B37:B56,L37:L56)","v":{"$error":"#N/A"}},{"$f":"LOOKUP(F78,B37:B56,M37:M56)","v":{"$error":"#N/A"}}]
[null,{"$f":"B37","v":1},{"$f":"D37","v":600},20,{"$f":"IF( (E57+L57*D78)<=H57,(E57+L57*D78),\"- - -\")","v":"- - -"},{"$f":"(B60+1)-MATCH(E79,C60:C79,-1)","v":{"$error":"#N/A"}},{"$f":"LOOKUP(F79,B37:B56,E37:E56)","v":{"$error":"#N/A"}},null,{"$f":"LOOKUP(F79,B37:B56,G37:G56)*$P$57","v":{"$error":"#N/A"}},{"$f":"LOOKUP(F79,B37:B56,H37:H56)*$P$57","v":{"$error":"#N/A"}},{"$f":"LOOKUP(F79,B37:B56,I37:I56)*$P$57","v":{"$error":"#N/A"}},{"$f":"LOOKUP(F79,B37:B56,J37:J56)","v":{"$error":"#N/A"}},{"$f":"LOOKUP(F79,B37:B56,K37:K56)","v":{"$error":"#N/A"}},{"$f":"LOOKUP(F79,B37:B56,L37:L56)","v":{"$error":"#N/A"}},{"$f":"LOOKUP(F79,B37:B56,M37:M56)","v":{"$error":"#N/A"}}]
[null,null,null,21,{"$f":"IF( (E57+L57*D79)<=H57,(E57+L57*D79),\"- - -\")","v":"- - -"},{"$f":"(B60+1)-MATCH(E80,C60:C79,-1)","v":{"$error":"#N/A"}},{"$f":"LOOKUP(F80,B37:B56,E37:E56)","v":{"$error":"#N/A"}},null,{"$f":"LOOKUP(F80,B37:B56,G37:G56)*$P$57","v":{"$error":"#N/A"}},{"$f":"LOOKUP(F80,B37:B56,H37:H56)*$P$57","v":{"$error":"#N/A"}},{"$f":"LOOKUP(F80,B37:B56,I37:I56)*$P$57","v":{"$error":"#N/A"}},{"$f":"LOOKUP(F80,B37:B56,J37:J56)","v":{"$error":"#N/A"}},{"$f":"LOOKUP(F80,B37:B56,K37:K56)","v":{"$error":"#N/A"}},{"$f":"LOOKUP(F80,B37:B56,L37:L56)","v":{"$error":"#N/A"}},{"$f":"LOOKUP(F80,B37:B56,M37:M56)","v":{"$error":"#N/A"}}]
[null,null,null,22,{"$f":"IF( (E57+L57*D80)<=H57,(E57+L57*D80),\"- - -\")","v":"- - -"},{"$f":"(B60+1)-MATCH(E81,C60:C79,-1)","v":{"$error":"#N/A"}},{"$f":"LOOKUP(F81,B37:B56,E37:E56)","v":{"$error":"#N/A"}},null,{"$f":"LOOKUP(F81,B37:B56,G37:G56)*$P$57","v":{"$error":"#N/A"}},{"$f":"LOOKUP(F81,B37:B56,H37:H56)*$P$57","v":{"$error":"#N/A"}},{"$f":"LOOKUP(F81,B37:B56,I37:I56)*$P$57","v":{"$error":"#N/A"}},{"$f":"LOOKUP(F81,B37:B56,J37:J56)","v":{"$error":"#N/A"}},{"$f":"LOOKUP(F81,B37:B56,K37:K56)","v":{"$error":"#N/A"}},{"$f":"LOOKUP(F81,B37:B56,L37:L56)","v":{"$error":"#N/A"}},{"$f":"LOOKUP(F81,B37:B56,M37:M56)","v":{"$error":"#N/A"}}]
[null,null,null,23,{"$f":"IF( (E57+L57*D81)<=H57,(E57+L57*D81),\"- - -\")","v":"- - -"},{"$f":"(B60+1)-MATCH(E82,C60:C79,-1)","v":{"$error":"#N/A"}},{"$f":"LOOKUP(F82,B37:B56,E37:E56)","v":{"$error":"#N/A"}},null,{"$f":"LOOKUP(F82,B37:B56,G37:G56)*$P$57","v":{"$error":"#N/A"}},{"$f":"LOOKUP(F82,B37:B56,H37:H56)*$P$57","v":{"$error":"#N/A"}},{"$f":"LOOKUP(F82,B37:B56,I37:I56)*$P$57","v":{"$error":"#N/A"}},{"$f":"LOOKUP(F82,B37:B56,J37:J56)","v":{"$error":"#N/A"}},{"$f":"LOOKUP(F82,B37:B56,K37:K56)","v":{"$error":"#N/A"}},{"$f":"LOOKUP(F82,B37:B56,L37:L56)","v":{"$error":"#N/A"}},{"$f":"LOOKUP(F82,B37:B56,M37:M56)","v":{"$error":"#N/A"}}]
[null,null,null,24,{"$f":"IF( (E57+L57*D82)<=H57,(E57+L57*D82),\"- - -\")","v":"- - -"},{"$f":"(B60+1)-MATCH(E83,C60:C79,-1)","v":{"$error":"#N/A"}},{"$f":"LOOKUP(F83,B37:B56,E37:E56)","v":{"$error":"#N/A"}},null,{"$f":"LOOKUP(F83,B37:B56,G37:G56)*$P$57","v":{"$error":"#N/A"}},{"$f":"LOOKUP(F83,B37:B56,H37:H56)*$P$57","v":{"$error":"#N/A"}},{"$f":"LOOKUP(F83,B37:B56,I37:I56)*$P$57","v":{"$error":"#N/A"}},{"$f":"LOOKUP(F83,B37:B56,J37:J56)","v":{"$error":"#N/A"}},{"$f":"LOOKUP(F83,B37:B56,K37:K56)","v":{"$error":"#N/A"}},{"$f":"LOOKUP(F83,B37:B56,L37:L56)","v":{"$error":"#N/A"}},{"$f":"LOOKUP(F83,B37:B56,M37:M56)","v":{"$error":"#N/A"}}]
[null,null,null,25,{"$f":"IF( (E57+L57*D83)<=H57,(E57+L57*D83),\"- - -\")","v":"- - -"},{"$f":"(B60+1)-MATCH(E84,C60:C79,-1)","v":{"$error":"#N/A"}},{"$f":"LOOKUP(F84,B37:B56,E37:E56)","v":{"$error":"#N/A"}},null,{"$f":"LOOKUP(F84,B37:B56,G37:G56)*$P$57","v":{"$error":"#N/A"}},{"$f":"LOOKUP(F84,B37:B56,H37:H56)*$P$57","v":{"$error":"#N/A"}},{"$f":"LOOKUP(F84,B37:B56,I37:I56)*$P$57","v":{"$error":"#N/A"}},{"$f":"LOOKUP(F84,B37:B56,J37:J56)","v":{"$error":"#N/A"}},{"$f":"LOOKUP(F84,B37:B56,K37:K56)","v":{"$error":"#N/A"}},{"$f":"LOOKUP(F84,B37:B56,L37:L56)","v":{"$error":"#N/A"}},{"$f":"LOOKUP(F84,B37:B56,M37:M56)","v":{"$error":"#N/A"}}]
[null,null,null,26,{"$f":"IF( (E57+L57*D84)<=H57,(E57+L57*D84),\"- - -\")","v":"- - -"},{"$f":"(B60+1)-MATCH(E85,C60:C79,-1)","v":{"$error":"#N/A"}},{"$f":"LOOKUP(F85,B37:B56,E37:E56)","v":{"$error":"#N/A"}},null,{"$f":"LOOKUP(F85,B37:B56,G37:G56)*$P$57","v":{"$error":"#N/A"}},{"$f":"LOOKUP(F85,B37:B56,H37:H56)*$P$57","v":{"$error":"#N/A"}},{"$f":"LOOKUP(F85,B37:B56,I37:I56)*$P$57","v":{"$error":"#N/A"}},{"$f":"LOOKUP(F85,B37:B56,J37:J56)","v":{"$error":"#N/A"}},{"$f":"LOOKUP(F85,B37:B56,K37:K56)","v":{"$error":"#N/A"}},{"$f":"LOOKUP(F85,B37:B56,L37:L56)","v":{"$error":"#N/A"}},{"$f":"LOOKUP(F85,B37:B56,M37:M56)","v":{"$error":"#N/A"}}]
[null,null,null,27,{"$f":"IF( (E57+L57*D85)<=H57,(E57+L57*D85),\"- - -\")","v":"- - -"},{"$f":"(B60+1)-MATCH(E86,C60:C79,-1)","v":{"$error":"#N/A"}},{"$f":"LOOKUP(F86,B37:B56,E37:E56)","v":{"$error":"#N/A"}},null,{"$f":"LOOKUP(F86,B37:B56,G37:G56)*$P$57","v":{"$error":"#N/A"}},{"$f":"LOOKUP(F86,B37:B56,H37:H56)*$P$57","v":{"$error":"#N/A"}},{"$f":"LOOKUP(F86,B37:B56,I37:I56)*$P$57","v":{"$error":"#N/A"}},{"$f":"LOOKUP(F86,B37:B56,J37:J56)","v":{"$error":"#N/A"}},{"$f":"LOOKUP(F86,B37:B56,K37:K56)","v":{"$error":"#N/A"}},{"$f":"LOOKUP(F86,B37:B56,L37:L56)","v":{"$error":"#N/A"}},{"$f":"LOOKUP(F86,B37:B56,M37:M56)","v":{"$error":"#N/A"}}]
[null,null,null,28,{"$f":"IF( (E57+L57*D86)<=H57,(E57+L57*D86),\"- - -\")","v":"- - -"},{"$f":"(B60+1)-MATCH(E87,C60:C79,-1)","v":{"$error":"#N/A"}},{"$f":"LOOKUP(F87,B37:B56,E37:E56)","v":{"$error":"#N/A"}},null,{"$f":"LOOKUP(F87,B37:B56,G37:G56)*$P$57","v":{"$error":"#N/A"}},{"$f":"LOOKUP(F87,B37:B56,H37:H56)*$P$57","v":{"$error":"#N/A"}},{"$f":"LOOKUP(F87,B37:B56,I37:I56)*$P$57","v":{"$error":"#N/A"}},{"$f":"LOOKUP(F87,B37:B56,J37:J56)","v":{"$error":"#N/A"}},{"$f":"LOOKUP(F87,B37:B56,K37:K56)","v":{"$error":"#N/A"}},{"$f":"LOOKUP(F87,B37:B56,L37:L56)","v":{"$error":"#N/A"}},{"$f":"LOOKUP(F87,B37:B56,M37:M56)","v":{"$error":"#N/A"}}]
[null,null,null,29,{"$f":"IF( (E57+L57*D87)<=H57,(E57+L57*D87),\"- - -\")","v":"- - -"},{"$f":"(B60+1)-MATCH(E88,C60:C79,-1)","v":{"$error":"#N/A"}},{"$f":"LOOKUP(F88,B37:B56,E37:E56)","v":{"$error":"#N/A"}},null,{"$f":"LOOKUP(F88,B37:B56,G37:G56)*$P$57","v":{"$error":"#N/A"}},{"$f":"LOOKUP(F88,B37:B56,H37:H56)*$P$57","v":{"$error":"#N/A"}},{"$f":"LOOKUP(F88,B37:B56,I37:I56)*$P$57","v":{"$error":"#N/A"}},{"$f":"LOOKUP(F88,B37:B56,J37:J56)","v":{"$error":"#N/A"}},{"$f":"LOOKUP(F88,B37:B56,K37:K56)","v":{"$error":"#N/A"}},{"$f":"LOOKUP(F88,B37:B56,L37:L56)","v":{"$error":"#N/A"}},{"$f":"LOOKUP(F88,B37:B56,M37:M56)","v":{"$error":"#N/A"}}]
[null,null,null,30,{"$f":"IF( (E57+L57*D88)<=H57,(E57+L57*D88),\"- - -\")","v":"- - -"},{"$f":"(B60+1)-MATCH(E89,C60:C79,-1)","v":{"$error":"#N/A"}},{"$f":"LOOKUP(F89,B37:B56,E37:E56)","v":{"$error":"#N/A"}},null,{"$f":"LOOKUP(F89,B37:B56,G37:G56)*$P$57","v":{"$error":"#N/A"}},{"$f":"LOOKUP(F89,B37:B56,H37:H56)*$P$57","v":{"$error":"#N/A"}},{"$f":"LOOKUP(F89,B37:B56,I37:I56)*$P$57","v":{"$error":"#N/A"}},{"$f":"LOOKUP(F89,B37:B56,J37:J56)","v":{"$error":"#N/A"}},{"$f":"LOOKUP(F89,B37:B56,K37:K56)","v":{"$error":"#N/A"}},{"$f":"LOOKUP(F89,B37:B56,L37:L56)","v":{"$error":"#N/A"}},{"$f":"LOOKUP(F89,B37:B56,M37:M56)","v":{"$error":"#N/A"}}]
[null,null,null,{"$f":"D89+1","v":31},{"$f":"IF( (E57+L57*D89)<=H57,(E57+L57*D89),\"- - -\")","v":"- - -"},{"$f":"(B60+1)-MATCH(E90,C60:C79,-1)","v":{"$error":"#N/A"}},{"$f":"LOOKUP(F90,B37:B56,E37:E56)","v":{"$error":"#N/A"}},null,{"$f":"LOOKUP(F90,B37:B56,G37:G56)*$P$57","v":{"$error":"#N/A"}},{"$f":"LOOKUP(F90,B37:B56,H37:H56)*$P$57","v":{"$error":"#N/A"}},{"$f":"LOOKUP(F90,B37:B56,I37:I56)*$P$57","v":{"$error":"#N/A"}},{"$f":"LOOKUP(F90,B37:B56,J37:J56)","v":{"$error":"#N/A"}},{"$f":"LOOKUP(F90,B37:B56,K37:K56)","v":{"$error":"#N/A"}},{"$f":"LOOKUP(F90,B37:B56,L37:L56)","v":{"$error":"#N/A"}},{"$f":"LOOKUP(F90,B37:B56,M37:M56)","v":{"$error":"#N/A"}}]
[null,null,null,32,{"$f":"IF( (E57+L57*D90)<=H57,(E57+L57*D90),\"- - -\")","v":"- - -"},{"$f":"(B60+1)-MATCH(E91,C60:C79,-1)","v":{"$error":"#N/A"}},{"$f":"LOOKUP(F91,B37:B56,E37:E56)","v":{"$error":"#N/A"}},null,{"$f":"LOOKUP(F91,B37:B56,G37:G56)*$P$57","v":{"$error":"#N/A"}},{"$f":"LOOKUP(F91,B37:B56,H37:H56)*$P$57","v":{"$error":"#N/A"}},{"$f":"LOOKUP(F91,B37:B56,I37:I56)*$P$57","v":{"$error":"#N/A"}},{"$f":"LOOKUP(F91,B37:B56,J37:J56)","v":{"$error":"#N/A"}},{"$f":"LOOKUP(F91,B37:B56,K37:K56)","v":{"$error":"#N/A"}},{"$f":"LOOKUP(F91,B37:B56,L37:L56)","v":{"$error":"#N/A"}},{"$f":"LOOKUP(F91,B37:B56,M37:M56)","v":{"$error":"#N/A"}}]
[null,null,null,33,{"$f":"IF( (E57+L57*D91)<=H57,(E57+L57*D91),\"- - -\")","v":"- - -"},{"$f":"(B60+1)-MATCH(E92,C60:C79,-1)","v":{"$error":"#N/A"}},{"$f":"LOOKUP(F92,B37:B56,E37:E56)","v":{"$error":"#N/A"}},null,{"$f":"LOOKUP(F92,B37:B56,G37:G56)*$P$57","v":{"$error":"#N/A"}},{"$f":"LOOKUP(F92,B37:B56,H37:H56)*$P$57","v":{"$error":"#N/A"}},{"$f":"LOOKUP(F92,B37:B56,I37:I56)*$P$57","v":{"$error":"#N/A"}},{"$f":"LOOKUP(F92,B37:B56,J37:J56)","v":{"$error":"#N/A"}},{"$f":"LOOKUP(F92,B37:B56,K37:K56)","v":{"$error":"#N/A"}},{"$f":"LOOKUP(F92,B37:B56,L37:L56)","v":{"$error":"#N/A"}},{"$f":"LOOKUP(F92,B37:B56,M37:M56)","v":{"$error":"#N/A"}}]
[null,null,null,34,{"$f":"IF( (E57+L57*D92)<=H57,(E57+L57*D92),\"- - -\")","v":"- - -"},{"$f":"(B60+1)-MATCH(E93,C60:C79,-1)","v":{"$error":"#N/A"}},{"$f":"LOOKUP(F93,B37:B56,E37:E56)","v":{"$error":"#N/A"}},null,{"$f":"LOOKUP(F93,B37:B56,G37:G56)*$P$57","v":{"$error":"#N/A"}},{"$f":"LOOKUP(F93,B37:B56,H37:H56)*$P$57","v":{"$error":"#N/A"}},{"$f":"LOOKUP(F93,B37:B56,I37:I56)*$P$57","v":{"$error":"#N/A"}},{"$f":"LOOKUP(F93,B37:B56,J37:J56)","v":{"$error":"#N/A"}},{"$f":"LOOKUP(F93,B37:B56,K37:K56)","v":{"$error":"#N/A"}},{"$f":"LOOKUP(F93,B37:B56,L37:L56)","v":{"$error":"#N/A"}},{"$f":"LOOKUP(F93,B37:B56,M37:M56)","v":{"$error":"#N/A"}}]
[null,null,null,35,{"$f":"IF( (E57+L57*D93)<=H57,(E57+L57*D93),\"- - -\")","v":"- - -"},{"$f":"(B60+1)-MATCH(E94,C60:C79,-1)","v":{"$error":"#N/A"}},{"$f":"LOOKUP(F94,B37:B56,E37:E56)","v":{"$error":"#N/A"}},null,{"$f":"LOOKUP(F94,B37:B56,G37:G56)*$P$57","v":{"$error":"#N/A"}},{"$f":"LOOKUP(F94,B37:B56,H37:H56)*$P$57","v":{"$error":"#N/A"}},{"$f":"LOOKUP(F94,B37:B56,I37:I56)*$P$57","v":{"$error":"#N/A"}},{"$f":"LOOKUP(F94,B37:B56,J37:J56)","v":{"$error":"#N/A"}},{"$f":"LOOKUP(F94,B37:B56,K37:K56)","v":{"$error":"#N/A"}},{"$f":"LOOKUP(F94,B37:B56,L37:L56)","v":{"$error":"#N/A"}},{"$f":"LOOKUP(F94,B37:B56,M37:M56)","v":{"$error":"#N/A"}}]
[null,null,null,36,{"$f":"IF( (E57+L57*D94)<=H57,(E57+L57*D94),\"- - -\")","v":"- - -"},{"$f":"(B60+1)-MATCH(E95,C60:C79,-1)","v":{"$error":"#N/A"}},{"$f":"LOOKUP(F95,B37:B56,E37:E56)","v":{"$error":"#N/A"}},null,{"$f":"LOOKUP(F95,B37:B56,G37:G56)*$P$57","v":{"$error":"#N/A"}},{"$f":"LOOKUP(F95,B37:B56,H37:H56)*$P$57","v":{"$error":"#N/A"}},{"$f":"LOOKUP(F95,B37:B56,I37:I56)*$P$57","v":{"$error":"#N/A"}},{"$f":"LOOKUP(F95,B37:B56,J37:J56)","v":{"$error":"#N/A"}},{"$f":"LOOKUP(F95,B37:B56,K37:K56)","v":{"$error":"#N/A"}},{"$f":"LOOKUP(F95,B37:B56,L37:L56)","v":{"$error":"#N/A"}},{"$f":"LOOKUP(F95,B37:B56,M37:M56)","v":{"$error":"#N/A"}}]
[null,null,null,37,{"$f":"IF( (E57+L57*D95)<=H57,(E57+L57*D95),\"- - -\")","v":"- - -"},{"$f":"(B60+1)-MATCH(E96,C60:C79,-1)","v":{"$error":"#N/A"}},{"$f":"LOOKUP(F96,B37:B56,E37:E56)","v":{"$error":"#N/A"}},null,{"$f":"LOOKUP(F96,B37:B56,G37:G56)*$P$57","v":{"$error":"#N/A"}},{"$f":"LOOKUP(F96,B37:B56,H37:H56)*$P$57","v":{"$error":"#N/A"}},{"$f":"LOOKUP(F96,B37:B56,I37:I56)*$P$57","v":{"$error":"#N/A"}},{"$f":"LOOKUP(F96,B37:B56,J37:J56)","v":{"$error":"#N/A"}},{"$f":"LOOKUP(F96,B37:B56,K37:K56)","v":{"$error":"#N/A"}},{"$f":"LOOKUP(F96,B37:B56,L37:L56)","v":{"$error":"#N/A"}},{"$f":"LOOKUP(F96,B37:B56,M37:M56)","v":{"$error":"#N/A"}}]
[null,null,null,38,{"$f":"IF( (E57+L57*D96)<=H57,(E57+L57*D96),\"- - -\")","v":"- - -"},{"$f":"(B60+1)-MATCH(E97,C60:C79,-1)","v":{"$error":"#N/A"}},{"$f":"LOOKUP(F97,B37:B56,E37:E56)","v":{"$error":"#N/A"}},null,{"$f":"LOOKUP(F97,B37:B56,G37:G56)*$P$57","v":{"$error":"#N/A"}},{"$f":"LOOKUP(F97,B37:B56,H37:H56)*$P$57","v":{"$error":"#N/A"}},{"$f":"LOOKUP(F97,B37:B56,I37:I56)*$P$57","v":{"$error":"#N/A"}},{"$f":"LOOKUP(F97,B37:B56,J37:J56)","v":{"$error":"#N/A"}},{"$f":"LOOKUP(F97,B37:B56,K37:K56)","v":{"$error":"#N/A"}},{"$f":"LOOKUP(F97,B37:B56,L37:L56)","v":{"$error":"#N/A"}},{"$f":"LOOKUP(F97,B37:B56,M37:M56)","v":{"$error":"#N/A"}}]
[null,null,null,39,{"$f":"IF( (E57+L57*D97)<=H57,(E57+L57*D97),\"- - -\")","v":"- - -"},{"$f":"(B60+1)-MATCH(E98,C60:C79,-1)","v":{"$error":"#N/A"}},{"$f":"LOOKUP(F98,B37:B56,E37:E56)","v":{"$error":"#N/A"}},null,{"$f":"LOOKUP(F98,B37:B56,G37:G56)*$P$57","v":{"$error":"#N/A"}},{"$f":"LOOKUP(F98,B37:B56,H37:H56)*$P$57","v":{"$error":"#N/A"}},{"$f":"LOOKUP(F98,B37:B56,I37:I56)*$P$57","v":{"$error":"#N/A"}},{"$f":"LOOKUP(F98,B37:B56,J37:J56)","v":{"$error":"#N/A"}},{"$f":"LOOKUP(F98,B37:B56,K37:K56)","v":{"$error":"#N/A"}},{"$f":"LOOKUP(F98,B37:B56,L37:L56)","v":{"$error":"#N/A"}},{"$f":"LOOKUP(F98,B37:B56,M37:M56)","v":{"$error":"#N/A"}}]
[null,null,null,40,{"$f":"IF( (E57+L57*D98)<=H57,(E57+L57*D98),\"- - -\")","v":"- - -"},{"$f":"(B60+1)-MATCH(E99,C60:C79,-1)","v":{"$error":"#N/A"}},{"$f":"LOOKUP(F99,B37:B56,E37:E56)","v":{"$error":"#N/A"}},null,{"$f":"LOOKUP(F99,B37:B56,G37:G56)*$P$57","v":{"$error":"#N/A"}},{"$f":"LOOKUP(F99,B37:B56,H37:H56)*$P$57","v":{"$error":"#N/A"}},{"$f":"LOOKUP(F99,B37:B56,I37:I56)*$P$57","v":{"$error":"#N/A"}},{"$f":"LOOKUP(F99,B37:B56,J37:J56)","v":{"$error":"#N/A"}},{"$f":"LOOKUP(F99,B37:B56,K37:K56)","v":{"$error":"#N/A"}},{"$f":"LOOKUP(F99,B37:B56,L37:L56)","v":{"$error":"#N/A"}},{"$f":"LOOKUP(F99,B37:B56,M37:M56)","v":{"$error":"#N/A"}}]
[null,null,null,41,{"$f":"IF( (E57+L57*D99)<=H57,(E57+L57*D99),\"- - -\")","v":"- - -"},{"$f":"(B60+1)-MATCH(E100,C60:C79,-1)","v":{"$error":"#N/A"}},{"$f":"LOOKUP(F100,B37:B56,E37:E56)","v":{"$error":"#N/A"}},null,{"$f":"LOOKUP(F100,B37:B56,G37:G56)*$P$57","v":{"$error":"#N/A"}},{"$f":"LOOKUP(F100,B37:B56,H37:H56)*$P$57","v":{"$error":"#N/A"}},{"$f":"LOOKUP(F100,B37:B56,I37:I56)*$P$57","v":{"$error":"#N/A"}},{"$f":"LOOKUP(F100,B37:B56,J37:J56)","v":{"$error":"#N/A"}},{"$f":"LOOKUP(F100,B37:B56,K37:K56)","v":{"$error":"#N/A"}},{"$f":"LOOKUP(F100,B37:B56,L37:L56)","v":{"$error":"#N/A"}},{"$f":"LOOKUP(F100,B37:B56,M37:M56)","v":{"$error":"#N/A"}}]
[null,null,null,42,{"$f":"IF( (E57+L57*D100)<=H57,(E57+L57*D100),\"- - -\")","v":"- - -"},{"$f":"(B60+1)-MATCH(E101,C60:C79,-1)","v":{"$error":"#N/A"}},{"$f":"LOOKUP(F101,B37:B56,E37:E56)","v":{"$error":"#N/A"}},null,{"$f":"LOOKUP(F101,B37:B56,G37:G56)*$P$57","v":{"$error":"#N/A"}},{"$f":"LOOKUP(F101,B37:B56,H37:H56)*$P$57","v":{"$error":"#N/A"}},{"$f":"LOOKUP(F101,B37:B56,I37:I56)*$P$57","v":{"$error":"#N/A"}},{"$f":"LOOKUP(F101,B37:B56,J37:J56)","v":{"$error":"#N/A"}},{"$f":"LOOKUP(F101,B37:B56,K37:K56)","v":{"$error":"#N/A"}},{"$f":"LOOKUP(F101,B37:B56,L37:L56)","v":{"$error":"#N/A"}},{"$f":"LOOKUP(F101,B37:B56,M37:M56)","v":{"$error":"#N/A"}}]
[null,null,null,43,{"$f":"IF( (E57+L57*D101)<=H57,(E57+L57*D101),\"- - -\")","v":"- - -"},{"$f":"(B60+1)-MATCH(E102,C60:C79,-1)","v":{"$error":"#N/A"}},{"$f":"LOOKUP(F102,B37:B56,E37:E56)","v":{"$error":"#N/A"}},null,{"$f":"LOOKUP(F102,B37:B56,G37:G56)*$P$57","v":{"$error":"#N/A"}},{"$f":"LOOKUP(F102,B37:B56,H37:H56)*$P$57","v":{"$error":"#N/A"}},{"$f":"LOOKUP(F102,B37:B56,I37:I56)*$P$57","v":{"$error":"#N/A"}},{"$f":"LOOKUP(F102,B37:B56,J37:J56)","v":{"$error":"#N/A"}},{"$f":"LOOKUP(F102,B37:B56,K37:K56)","v":{"$error":"#N/A"}},{"$f":"LOOKUP(F102,B37:B56,L37:L56)","v":{"$error":"#N/A"}},{"$f":"LOOKUP(F102,B37:B56,M37:M56)","v":{"$error":"#N/A"}}]
[null,null,null,44,{"$f":"IF( (E57+L57*D102)<=H57,(E57+L57*D102),\"- - -\")","v":"- - -"},{"$f":"(B60+1)-MATCH(E103,C60:C79,-1)","v":{"$error":"#N/A"}},{"$f":"LOOKUP(F103,B37:B56,E37:E56)","v":{"$error":"#N/A"}},null,{"$f":"LOOKUP(F103,B37:B56,G37:G56)*$P$57","v":{"$error":"#N/A"}},{"$f":"LOOKUP(F103,B37:B56,H37:H56)*$P$57","v":{"$error":"#N/A"}},{"$f":"LOOKUP(F103,B37:B56,I37:I56)*$P$57","v":{"$error":"#N/A"}},{"$f":"LOOKUP(F103,B37:B56,J37:J56)","v":{"$error":"#N/A"}},{"$f":"LOOKUP(F103,B37:B56,K37:K56)","v":{"$error":"#N/A"}},{"$f":"LOOKUP(F103,B37:B56,L37:L56)","v":{"$error":"#N/A"}},{"$f":"LOOKUP(F103,B37:B56,M37:M56)","v":{"$error":"#N/A"}}]
[null,null,null,45,{"$f":"IF( (E57+L57*D103)<=H57,(E57+L57*D103),\"- - -\")","v":"- - -"},{"$f":"(B60+1)-MATCH(E104,C60:C79,-1)","v":{"$error":"#N/A"}},{"$f":"LOOKUP(F104,B37:B56,E37:E56)","v":{"$error":"#N/A"}},null,{"$f":"LOOKUP(F104,B37:B56,G37:G56)*$P$57","v":{"$error":"#N/A"}},{"$f":"LOOKUP(F104,B37:B56,H37:H56)*$P$57","v":{"$error":"#N/A"}},{"$f":"LOOKUP(F104,B37:B56,I37:I56)*$P$57","v":{"$error":"#N/A"}},{"$f":"LOOKUP(F104,B37:B56,J37:J56)","v":{"$error":"#N/A"}},{"$f":"LOOKUP(F104,B37:B56,K37:K56)","v":{"$error":"#N/A"}},{"$f":"LOOKUP(F104,B37:B56,L37:L56)","v":{"$error":"#N/A"}},{"$f":"LOOKUP(F104,B37:B56,M37:M56)","v":{"$error":"#N/A"}}]
[null,null,null,46,{"$f":"IF( (E57+L57*D104)<=H57,(E57+L57*D104),\"- - -\")","v":"- - -"},{"$f":"(B60+1)-MATCH(E105,C60:C79,-1)","v":{"$error":"#N/A"}},{"$f":"LOOKUP(F105,B37:B56,E37:E56)","v":{"$error":"#N/A"}},null,{"$f":"LOOKUP(F105,B37:B56,G37:G56)*$P$57","v":{"$error":"#N/A"}},{"$f":"LOOKUP(F105,B37:B56,H37:H56)*$P$57","v":{"$error":"#N/A"}},{"$f":"LOOKUP(F105,B37:B56,I37:I56)*$P$57","v":{"$error":"#N/A"}},{"$f":"LOOKUP(F105,B37:B56,J37:J56)","v":{"$error":"#N/A"}},{"$f":"LOOKUP(F105,B37:B56,K37:K56)","v":{"$error":"#N/A"}},{"$f":"LOOKUP(F105,B37:B56,L37:L56)","v":{"$error":"#N/A"}},{"$f":"LOOKUP(F105,B37:B56,M37:M56)","v":{"$error":"#N/A"}}]
[null,null,null,47,{"$f":"IF( (E57+L57*D105)<=H57,(E57+L57*D105),\"- - -\")","v":"- - -"},{"$f":"(B60+1)-MATCH(E106,C60:C79,-1)","v":{"$error":"#N/A"}},{"$f":"LOOKUP(F106,B37:B56,E37:E56)","v":{"$error":"#N/A"}},null,{"$f":"LOOKUP(F106,B37:B56,G37:G56)*$P$57","v":{"$error":"#N/A"}},{"$f":"LOOKUP(F106,B37:B56,H37:H56)*$P$57","v":{"$error":"#N/A"}},{"$f":"LOOKUP(F106,B37:B56,I37:I56)*$P$57","v":{"$error":"#N/A"}},{"$f":"LOOKUP(F106,B37:B56,J37:J56)","v":{"$error":"#N/A"}},{"$f":"LOOKUP(F106,B37:B56,K37:K56)","v":{"$error":"#N/A"}},{"$f":"LOOKUP(F106,B37:B56,L37:L56)","v":{"$error":"#N/A"}},{"$f":"LOOKUP(F106,B37:B56,M37:M56)","v":{"$error":"#N/A"}}]
[null,null,null,48,{"$f":"IF( (E57+L57*D106)<=H57,(E57+L57*D106),\"- - -\")","v":"- - -"},{"$f":"(B60+1)-MATCH(E107,C60:C79,-1)","v":{"$error":"#N/A"}},{"$f":"LOOKUP(F107,B37:B56,E37:E56)","v":{"$error":"#N/A"}},null,{"$f":"LOOKUP(F107,B37:B56,G37:G56)*$P$57","v":{"$error":"#N/A"}},{"$f":"LOOKUP(F107,B37:B56,H37:H56)*$P$57","v":{"$error":"#N/A"}},{"$f":"LOOKUP(F107,B37:B56,I37:I56)*$P$57","v":{"$error":"#N/A"}},{"$f":"LOOKUP(F107,B37:B56,J37:J56)","v":{"$error":"#N/A"}},{"$f":"LOOKUP(F107,B37:B56,K37:K56)","v":{"$error":"#N/A"}},{"$f":"LOOKUP(F107,B37:B56,L37:L56)","v":{"$error":"#N/A"}},{"$f":"LOOKUP(F107,B37:B56,M37:M56)","v":{"$error":"#N/A"}}]
[null,null,null,49,{"$f":"IF( (E57+L57*D107)<=H57,(E57+L57*D107),\"- - -\")","v":"- - -"},{"$f":"(B60+1)-MATCH(E108,C60:C79,-1)","v":{"$error":"#N/A"}},{"$f":"LOOKUP(F108,B37:B56,E37:E56)","v":{"$error":"#N/A"}},null,{"$f":"LOOKUP(F108,B37:B56,G37:G56)*$P$57","v":{"$error":"#N/A"}},{"$f":"LOOKUP(F108,B37:B56,H37:H56)*$P$57","v":{"$error":"#N/A"}},{"$f":"LOOKUP(F108,B37:B56,I37:I56)*$P$57","v":{"$error":"#N/A"}},{"$f":"LOOKUP(F108,B37:B56,J37:J56)","v":{"$error":"#N/A"}},{"$f":"LOOKUP(F108,B37:B56,K37:K56)","v":{"$error":"#N/A"}},{"$f":"LOOKUP(F108,B37:B56,L37:L56)","v":{"$error":"#N/A"}},{"$f":"LOOKUP(F108,B37:B56,M37:M56)","v":{"$error":"#N/A"}}]
[null,null,null,50,{"$f":"IF( (E57+L57*D108)<=H57,(E57+L57*D108),\"- - -\")","v":"- - -"},{"$f":"(B60+1)-MATCH(E109,C60:C79,-1)","v":{"$error":"#N/A"}},{"$f":"LOOKUP(F109,B37:B56,E37:E56)","v":{"$error":"#N/A"}},null,{"$f":"LOOKUP(F109,B37:B56,G37:G56)*$P$57","v":{"$error":"#N/A"}},{"$f":"LOOKUP(F109,B37:B56,H37:H56)*$P$57","v":{"$error":"#N/A"}},{"$f":"LOOKUP(F109,B37:B56,I37:I56)*$P$57","v":{"$error":"#N/A"}},{"$f":"LOOKUP(F109,B37:B56,J37:J56)","v":{"$error":"#N/A"}},{"$f":"LOOKUP(F109,B37:B56,K37:K56)","v":{"$error":"#N/A"}},{"$f":"LOOKUP(F109,B37:B56,L37:L56)","v":{"$error":"#N/A"}},{"$f":"LOOKUP(F109,B37:B56,M37:M56)","v":{"$error":"#N/A"}}]
[]
[]
[null,"搬送負荷データレコード",null,null,{"$f":"LOOKUP(C114,MassDataLink!$A$4:$A$3649,MassDataLink!$G$4:$G$3649)","v":"ISB-SXM-60-4-水平"},null,null,null,null,"設置姿勢で絞込み",null,"- - -",null,"加減速・速度データレコード"]
[null,"№","Ldﾚｺｰﾄﾞ№",{"$f":"MassDataLink!B2","v":"ｱｸﾁｭｴｰﾀ姿勢"},{"$f":"MassDataLink!C2","v":"搬送負荷質量"},{"$f":"MassDataLink!D2","v":"加減速・速度ﾃﾞｰﾀ"},{"$f":"MassDataLink!E2","v":"前ﾃﾞｰﾀ№"},{"$f":"MassDataLink!F2","v":"次ﾃﾞｰﾀ№"},null,"№","搬送負荷質量","avﾚｺｰﾄﾞ№",null,"備考",{"$f":"LOOKUP(O115,AccVelDataLink!$A$4:$A$3751,AccVelDataLink!$F$4:$F$3751)","v":"ISB-SXM-60-4-水平"}]
[null,1,{"$f":"LOOKUP(D35,B26:B33,E26:E33)","v":1},{"$f":"LOOKUP(C114,MassDataLink!$A$4:$A$3649,MassDataLink!$B$4:$B$3649)","v":0},{"$f":"LOOKUP(C114,MassDataLink!$A$4:$A$3649,MassDataLink!$C$4:$C$3649)","v":30000},{"$f":"LOOKUP(C114,MassDataLink!$A$4:$A$3649,MassDataLink!$D$4:$D$3649)","v":1},{"$f":"LOOKUP(C114,MassDataLink!$A$4:$A$3649,MassDataLink!$E$4:$E$3649)","v":-1},{"$f":"LOOKUP(C114,MassDataLink!$A$4:$A$3649,MassDataLink!$F$4:$F$3649)","v":2},null,1,{"$f":"IF(C114=-1,$L$112,IF($A$11=D114,ROUND((E114*$P$57),$R$57),$L$112))","v":30},{"$f":"IF(K114=$L$112,$L$112,F114)","v":1},null,"№","avﾚｺｰﾄﾞ№","加速度","速度","前ﾃﾞｰﾀ","次ﾃﾞｰﾀ"]
[null,{"$f":"B114+1","v":2},{"$f":"IF(C114=-1,-1,H114)","v":2},{"$f":"LOOKUP(C115,MassDataLink!$A$4:$A$3649,MassDataLink!$B$4:$B$3649)","v":0},{"$f":"LOOKUP(C115,MassDataLink!$A$4:$A$3649,MassDataLink!$C$4:$C$3649)","v":38000},{"$f":"LOOKUP(C115,MassDataLink!$A$4:$A$3649,MassDataLink!$D$4:$D$3649)","v":2},{"$f":"LOOKUP(C115,MassDataLink!$A$4:$A$3649,MassDataLink!$E$4:$E$3649)","v":1},{"$f":"LOOKUP(C115,MassDataLink!$A$4:$A$3649,MassDataLink!$F$4:$F$3649)","v":3},null,{"$f":"J114+1","v":2},{"$f":"IF(C115=-1,$L$112,IF($A$11=D115,ROUND((E115*$P$57),$R$57),$L$112))","v":38},{"$f":"IF(K115=$L$112,$L$112,F115)","v":2},null,1,{"$f":"LOOKUP(A14,K114:K163,L114:L163)","v":1},{"$f":"LOOKUP(O115,AccVelDataLink!$A$4:$A$3751,AccVelDataLink!$B$4:$B$3751)","v":4903325},{"$f":"LOOKUP(O115,AccVelDataLink!$A$4:$A$3751,AccVelDataLink!$C$4:$C$3751)","v":240},{"$f":"LOOKUP(O115,AccVelDataLink!$A$4:$A$3751,AccVelDataLink!$D$4:$D$3751)","v":-1},{"$f":"LOOKUP(O115,AccVelDataLink!$A$4:$A$3751,AccVelDataLink!$E$4:$E$3751)","v":-1}]
[null,{"$f":"B115+1","v":3},{"$f":"IF(C115=-1,-1,H115)","v":3},{"$f":"LOOKUP(C116,MassDataLink!$A$4:$A$3649,MassDataLink!$B$4:$B$3649)","v":0},{"$f":"LOOKUP(C116,MassDataLink!$A$4:$A$3649,MassDataLink!$C$4:$C$3649)","v":50000},{"$f":"LOOKUP(C116,MassDataLink!$A$4:$A$3649,MassDataLink!$D$4:$D$3649)","v":3},{"$f":"LOOKUP(C116,MassDataLink!$A$4:$A$3649,MassDataLink!$E$4:$E$3649)","v":2},{"$f":"LOOKUP(C116,MassDataLink!$A$4:$A$3649,MassDataLink!$F$4:$F$3649)","v":4},null,{"$f":"J115+1","v":3},50,3,null,{"$f":"N115+1","v":2},{"$f":"IF(O115=-1,-1,S115)","v":-1},{"$f":"LOOKUP(O116,AccVelDataLink!$A$4:$A$3751,AccVelDataLink!$B$4:$B$3751)","v":{"$error":"#N/A"}},{"$f":"LOOKUP(O116,AccVelDataLink!$A$4:$A$3751,AccVelDataLink!$C$4:$C$3751)","v":{"$error":"#N/A"}},{"$f":"LOOKUP(O116,AccVelDataLink!$A$4:$A$3751,AccVelDataLink!$D$4:$D$3751)","v":{"$error":"#N/A"}},{"$f":"LOOKUP(O116,AccVelDataLink!$A$4:$A$3751,AccVelDataLink!$E$4:$E$3751)","v":{"$error":"#N/A"}}]
[null,{"$f":"B116+1","v":4},{"$f":"IF(C116=-1,-1,H116)","v":4},{"$f":"LOOKUP(C117,MassDataLink!$A$4:$A$3649,MassDataLink!$B$4:$B$3649)","v":0},{"$f":"LOOKUP(C117,MassDataLink!$A$4:$A$3649,MassDataLink!$C$4:$C$3649)","v":55000},{"$f":"LOOKUP(C117,MassDataLink!$A$4:$A$3649,MassDataLink!$D$4:$D$3649)","v":4},{"$f":"LOOKUP(C117,MassDataLink!$A$4:$A$3649,MassDataLink!$E$4:$E$3649)","v":3},{"$f":"LOOKUP(C117,MassDataLink!$A$4:$A$3649,MassDataLink!$F$4:$F$3649)","v":5},null,{"$f":"J116+1","v":4},55,4,null,3,{"$f":"IF(O116=-1,-1,S116)","v":-1},{"$f":"LOOKUP(O117,AccVelDataLink!$A$4:$A$3751,AccVelDataLink!$B$4:$B$3751)","v":{"$error":"#N/A"}},{"$f":"LOOKUP(O117,AccVelDataLink!$A$4:$A$3751,AccVelDataLink!$C$4:$C$3751)","v":{"$error":"#N/A"}},{"$f":"LOOKUP(O117,AccVelDataLink!$A$4:$A$3751,AccVelDataLink!$D$4:$D$3751)","v":{"$error":"#N/A"}},{"$f":"LOOKUP(O117,AccVelDataLink!$A$4:$A$3751,AccVelDataLink!$E$4:$E$3751)","v":{"$error":"#N/A"}}]
[null,{"$f":"B117+1","v":5},{"$f":"IF(C117=-1,-1,H117)","v":5},{"$f":"LOOKUP(C118,MassDataLink!$A$4:$A$3649,MassDataLink!$B$4:$B$3649)","v":1},{"$f":"LOOKUP(C118,MassDataLink!$A$4:$A$3649,MassDataLink!$C$4:$C$3649)","v":12000},{"$f":"LOOKUP(C118,MassDataLink!$A$4:$A$3649,MassDataLink!$D$4:$D$3649)","v":5},{"$f":"LOOKUP(C118,MassDataLink!$A$4:$A$3649,MassDataLink!$E$4:$E$3649)","v":4},{"$f":"LOOKUP(C118,MassDataLink!$A$4:$A$3649,MassDataLink!$F$4:$F$3649)","v":6},null,{"$f":"J117+1","v":5},"- - -","- - -",null,4,-1,{"$f":"LOOKUP(O118,AccVelDataLink!$A$4:$A$3751,AccVelDataLink!$B$4:$B$3751)","v":{"$error":"#N/A"}},{"$f":"LOOKUP(O118,AccVelDataLink!$A$4:$A$3751,AccVelDataLink!$C$4:$C$3751)","v":{"$error":"#N/A"}},{"$f":"LOOKUP(O118,AccVelDataLink!$A$4:$A$3751,AccVelDataLink!$D$4:$D$3751)","v":{"$error":"#N/A"}},{"$f":"LOOKUP(O118,AccVelDataLink!$A$4:$A$3751,AccVelDataLink!$E$4:$E$3751)","v":{"$error":"#N/A"}}]
[null,{"$f":"B118+1","v":6},{"$f":"IF(C118=-1,-1,H118)","v":6},{"$f":"LOOKUP(C119,MassDataLink!$A$4:$A$3649,MassDataLink!$B$4:$B$3649)","v":1},{"$f":"LOOKUP(C119,MassDataLink!$A$4:$A$3649,MassDataLink!$C$4:$C$3649)","v":13000},{"$f":"LOOKUP(C119,MassDataLink!$A$4:$A$3649,MassDataLink!$D$4:$D$3649)","v":6},{"$f":"LOOKUP(C119,MassDataLink!$A$4:$A$3649,MassDataLink!$E$4:$E$3649)","v":5},{"$f":"LOOKUP(C119,MassDataLink!$A$4:$A$3649,MassDataLink!$F$4:$F$3649)","v":7},null,{"$f":"J118+1","v":6},"- - -","- - -",null,5,-1,{"$f":"LOOKUP(O119,AccVelDataLink!$A$4:$A$3751,AccVelDataLink!$B$4:$B$3751)","v":{"$error":"#N/A"}},{"$f":"LOOKUP(O119,AccVelDataLink!$A$4:$A$3751,AccVelDataLink!$C$4:$C$3751)","v":{"$error":"#N/A"}},{"$f":"LOOKUP(O119,AccVelDataLink!$A$4:$A$3751,AccVelDataLink!$D$4:$D$3751)","v":{"$error":"#N/A"}},{"$f":"LOOKUP(O119,AccVelDataLink!$A$4:$A$3751,AccVelDataLink!$E$4:$E$3751)","v":{"$error":"#N/A"}}]
[null,7,7,{"$f":"LOOKUP(C120,MassDataLink!$A$4:$A$3649,MassDataLink!$B$4:$B$3649)","v":1},{"$f":"LOOKUP(C120,MassDataLink!$A$4:$A$3649,MassDataLink!$C$4:$C$3649)","v":14000},{"$f":"LOOKUP(C120,MassDataLink!$A$4:$A$3649,MassDataLink!$D$4:$D$3649)","v":7},{"$f":"LOOKUP(C120,MassDataLink!$A$4:$A$3649,MassDataLink!$E$4:$E$3649)","v":6},{"$f":"LOOKUP(C120,MassDataLink!$A$4:$A$3649,MassDataLink!$F$4:$F$3649)","v":-1},null,7,"- - -","- - -",null,6,-1,{"$f":"LOOKUP(O120,AccVelDataLink!$A$4:$A$3751,AccVelDataLink!$B$4:$B$3751)","v":{"$error":"#N/A"}},{"$f":"LOOKUP(O120,AccVelDataLink!$A$4:$A$3751,AccVelDataLink!$C$4:$C$3751)","v":{"$error":"#N/A"}},{"$f":"LOOKUP(O120,AccVelDataLink!$A$4:$A$3751,AccVelDataLink!$D$4:$D$3751)","v":{"$error":"#N/A"}},{"$f":"LOOKUP(O120,AccVelDataLink!$A$4:$A$3751,AccVelDataLink!$E$4:$E$3751)","v":{"$error":"#N/A"}}]
[null,8,-1,{"$f":"LOOKUP(C121,MassDataLink!$A$4:$A$3649,MassDataLink!$B$4:$B$3649)","v":{"$error":"#N/A"}},{"$f":"LOOKUP(C121,MassDataLink!$A$4:$A$3649,MassDataLink!$C$4:$C$3649)","v":{"$error":"#N/A"}},{"$f":"LOOKUP(C121,MassDataLink!$A$4:$A$3649,MassDataLink!$D$4:$D$3649)","v":{"$error":"#N/A"}},{"$f":"LOOKUP(C121,MassDataLink!$A$4:$A$3649,MassDataLink!$E$4:$E$3649)","v":{"$error":"#N/A"}},{"$f":"LOOKUP(C121,MassDataLink!$A$4:$A$3649,MassDataLink!$F$4:$F$3649)","v":{"$error":"#N/A"}},null,8,"- - -","- - -",null,7,-1,{"$f":"LOOKUP(O121,AccVelDataLink!$A$4:$A$3751,AccVelDataLink!$B$4:$B$3751)","v":{"$error":"#N/A"}},{"$f":"LOOKUP(O121,AccVelDataLink!$A$4:$A$3751,AccVelDataLink!$C$4:$C$3751)","v":{"$error":"#N/A"}},{"$f":"LOOKUP(O121,AccVelDataLink!$A$4:$A$3751,AccVelDataLink!$D$4:$D$3751)","v":{"$error":"#N/A"}},{"$f":"LOOKUP(O121,AccVelDataLink!$A$4:$A$3751,AccVelDataLink!$E$4:$E$3751)","v":{"$error":"#N/A"}}]
[null,9,-1,{"$f":"LOOKUP(C122,MassDataLink!$A$4:$A$3649,MassDataLink!$B$4:$B$3649)","v":{"$error":"#N/A"}},{"$f":"LOOKUP(C122,MassDataLink!$A$4:$A$3649,MassDataLink!$C$4:$C$3649)","v":{"$error":"#N/A"}},{"$f":"LOOKUP(C122,MassDataLink!$A$4:$A$3649,MassDataLink!$D$4:$D$3649)","v":{"$error":"#N/A"}},{"$f":"LOOKUP(C122,MassDataLink!$A$4:$A$3649,MassDataLink!$E$4:$E$3649)","v":{"$error":"#N/A"}},{"$f":"LOOKUP(C122,MassDataLink!$A$4:$A$3649,MassDataLink!$F$4:$F$3649)","v":{"$error":"#N/A"}},null,9,"- - -","- - -",null,8,-1,{"$f":"LOOKUP(O122,AccVelDataLink!$A$4:$A$3751,AccVelDataLink!$B$4:$B$3751)","v":{"$error":"#N/A"}},{"$f":"LOOKUP(O122,AccVelDataLink!$A$4:$A$3751,AccVelDataLink!$C$4:$C$3751)","v":{"$error":"#N/A"}},{"$f":"LOOKUP(O122,AccVelDataLink!$A$4:$A$3751,AccVelDataLink!$D$4:$D$3751)","v":{"$error":"#N/A"}},{"$f":"LOOKUP(O122,AccVelDataLink!$A$4:$A$3751,AccVelDataLink!$E$4:$E$3751)","v":{"$error":"#N/A"}}]
[null,10,-1,{"$f":"LOOKUP(C123,MassDataLink!$A$4:$A$3649,MassDataLink!$B$4:$B$3649)","v":{"$error":"#N/A"}},{"$f":"LOOKUP(C123,MassDataLink!$A$4:$A$3649,MassDataLink!$C$4:$C$3649)","v":{"$error":"#N/A"}},{"$f":"LOOKUP(C123,MassDataLink!$A$4:$A$3649,MassDataLink!$D$4:$D$3649)","v":{"$error":"#N/A"}},{"$f":"LOOKUP(C123,MassDataLink!$A$4:$A$3649,MassDataLink!$E$4:$E$3649)","v":{"$error":"#N/A"}},{"$f":"LOOKUP(C123,MassDataLink!$A$4:$A$3649,MassDataLink!$F$4:$F$3649)","v":{"$error":"#N/A"}},null,10,"- - -","- - -",null,9,-1,{"$f":"LOOKUP(O123,AccVelDataLink!$A$4:$A$3751,AccVelDataLink!$B$4:$B$3751)","v":{"$error":"#N/A"}},{"$f":"LOOKUP(O123,AccVelDataLink!$A$4:$A$3751,AccVelDataLink!$C$4:$C$3751)","v":{"$error":"#N/A"}},{"$f":"LOOKUP(O123,AccVelDataLink!$A$4:$A$3751,AccVelDataLink!$D$4:$D$3751)","v":{"$error":"#N/A"}},{"$f":"LOOKUP(O123,AccVelDataLink!$A$4:$A$3751,AccVelDataLink!$E$4:$E$3751)","v":{"$error":"#N/A"}}]
[null,11,-1,{"$f":"LOOKUP(C124,MassDataLink!$A$4:$A$3649,MassDataLink!$B$4:$B$3649)","v":{"$error":"#N/A"}},{"$f":"LOOKUP(C124,MassDataLink!$A$4:$A$3649,MassDataLink!$C$4:$C$3649)","v":{"$error":"#N/A"}},{"$f":"LOOKUP(C124,MassDataLink!$A$4:$A$3649,MassDataLink!$D$4:$D$3649)","v":{"$error":"#N/A"}},{"$f":"LOOKUP(C124,MassDataLink!$A$4:$A$3649,MassDataLink!$E$4:$E$3649)","v":{"$error":"#N/A"}},{"$f":"LOOKUP(C124,MassDataLink!$A$4:$A$3649,MassDataLink!$F$4:$F$3649)","v":{"$error":"#N/A"}},null,11,"- - -","- - -",null,10,-1,{"$f":"LOOKUP(O124,AccVelDataLink!$A$4:$A$3751,AccVelDataLink!$B$4:$B$3751)","v":{"$error":"#N/A"}},{"$f":"LOOKUP(O124,AccVelDataLink!$A$4:$A$3751,AccVelDataLink!$C$4:$C$3751)","v":{"$error":"#N/A"}},{"$f":"LOOKUP(O124,AccVelDataLink!$A$4:$A$3751,AccVelDataLink!$D$4:$D$3751)","v":{"$error":"#N/A"}},{"$f":"LOOKUP(O124,AccVelDataLink!$A$4:$A$3751,AccVelDataLink!$E$4:$E$3751)","v":{"$error":"#N/A"}}]
[null,12,-1,{"$f":"LOOKUP(C125,MassDataLink!$A$4:$A$3649,MassDataLink!$B$4:$B$3649)","v":{"$error":"#N/A"}},{"$f":"LOOKUP(C125,MassDataLink!$A$4:$A$3649,MassDataLink!$C$4:$C$3649)","v":{"$error":"#N/A"}},{"$f":"LOOKUP(C125,MassDataLink!$A$4:$A$3649,MassDataLink!$D$4:$D$3649)","v":{"$error":"#N/A"}},{"$f":"LOOKUP(C125,MassDataLink!$A$4:$A$3649,MassDataLink!$E$4:$E$3649)","v":{"$error":"#N/A"}},{"$f":"LOOKUP(C125,MassDataLink!$A$4:$A$3649,MassDataLink!$F$4:$F$3649)","v":{"$error":"#N/A"}},null,12,"- - -","- - -",null,null,"加速度系数",9.9999999999999995E-7]
[null,13,-1,{"$f":"LOOKUP(C126,MassDataLink!$A$4:$A$3649,MassDataLink!$B$4:$B$3649)","v":{"$error":"#N/A"}},{"$f":"LOOKUP(C126,MassDataLink!$A$4:$A$3649,MassDataLink!$C$4:$C$3649)","v":{"$error":"#N/A"}},{"$f":"LOOKUP(C126,MassDataLink!$A$4:$A$3649,MassDataLink!$D$4:$D$3649)","v":{"$error":"#N/A"}},{"$f":"LOOKUP(C126,MassDataLink!$A$4:$A$3649,MassDataLink!$E$4:$E$3649)","v":{"$error":"#N/A"}},{"$f":"LOOKUP(C126,MassDataLink!$A$4:$A$3649,MassDataLink!$F$4:$F$3649)","v":{"$error":"#N/A"}},null,13,"- - -","- - -",null,"G","№","加速度","速度"]
[null,14,-1,{"$f":"LOOKUP(C127,MassDataLink!$A$4:$A$3649,MassDataLink!$B$4:$B$3649)","v":{"$error":"#N/A"}},{"$f":"LOOKUP(C127,MassDataLink!$A$4:$A$3649,MassDataLink!$C$4:$C$3649)","v":{"$error":"#N/A"}},{"$f":"LOOKUP(C127,MassDataLink!$A$4:$A$3649,MassDataLink!$D$4:$D$3649)","v":{"$error":"#N/A"}},{"$f":"LOOKUP(C127,MassDataLink!$A$4:$A$3649,MassDataLink!$E$4:$E$3649)","v":{"$error":"#N/A"}},{"$f":"LOOKUP(C127,MassDataLink!$A$4:$A$3649,MassDataLink!$F$4:$F$3649)","v":{"$error":"#N/A"}},null,14,"- - -","- - -",null,{"$f":"LeadData!A1","v":9.8066499999999994},1,{"$f":"IF(O115=-1,$L$112,(P115/$N$127)*$P$125)","v":0.5},{"$f":"IF(O115=-1,$L$112,Q115)","v":240}]
[null,15,-1,{"$f":"LOOKUP(C128,MassDataLink!$A$4:$A$3649,MassDataLink!$B$4:$B$3649)","v":{"$error":"#N/A"}},{"$f":"LOOKUP(C128,MassDataLink!$A$4:$A$3649,MassDataLink!$C$4:$C$3649)","v":{"$error":"#N/A"}},{"$f":"LOOKUP(C128,MassDataLink!$A$4:$A$3649,MassDataLink!$D$4:$D$3649)","v":{"$error":"#N/A"}},{"$f":"LOOKUP(C128,MassDataLink!$A$4:$A$3649,MassDataLink!$E$4:$E$3649)","v":{"$error":"#N/A"}},{"$f":"LOOKUP(C128,MassDataLink!$A$4:$A$3649,MassDataLink!$F$4:$F$3649)","v":{"$error":"#N/A"}},null,15,"- - -","- - -",null,null,{"$f":"O127+1","v":2},{"$f":"IF(O116=-1,$L$112,(P116/$N$127)*$P$125)","v":"- - -"},{"$f":"IF(O116=-1,$L$112,Q116)","v":"- - -"}]
[null,16,-1,{"$f":"LOOKUP(C129,MassDataLink!$A$4:$A$3649,MassDataLink!$B$4:$B$3649)","v":{"$error":"#N/A"}},{"$f":"LOOKUP(C129,MassDataLink!$A$4:$A$3649,MassDataLink!$C$4:$C$3649)","v":{"$error":"#N/A"}},{"$f":"LOOKUP(C129,MassDataLink!$A$4:$A$3649,MassDataLink!$D$4:$D$3649)","v":{"$error":"#N/A"}},{"$f":"LOOKUP(C129,MassDataLink!$A$4:$A$3649,MassDataLink!$E$4:$E$3649)","v":{"$error":"#N/A"}},{"$f":"LOOKUP(C129,MassDataLink!$A$4:$A$3649,MassDataLink!$F$4:$F$3649)","v":{"$error":"#N/A"}},null,16,"- - -","- - -",null,null,3,"- - -","- - -"]
[null,17,-1,{"$f":"LOOKUP(C130,MassDataLink!$A$4:$A$3649,MassDataLink!$B$4:$B$3649)","v":{"$error":"#N/A"}},{"$f":"LOOKUP(C130,MassDataLink!$A$4:$A$3649,MassDataLink!$C$4:$C$3649)","v":{"$error":"#N/A"}},{"$f":"LOOKUP(C130,MassDataLink!$A$4:$A$3649,MassDataLink!$D$4:$D$3649)","v":{"$error":"#N/A"}},{"$f":"LOOKUP(C130,MassDataLink!$A$4:$A$3649,MassDataLink!$E$4:$E$3649)","v":{"$error":"#N/A"}},{"$f":"LOOKUP(C130,MassDataLink!$A$4:$A$3649,MassDataLink!$F$4:$F$3649)","v":{"$error":"#N/A"}},null,17,"- - -","- - -",null,null,4,"- - -","- - -"]
[null,18,-1,{"$f":"LOOKUP(C131,MassDataLink!$A$4:$A$3649,MassDataLink!$B$4:$B$3649)","v":{"$error":"#N/A"}},{"$f":"LOOKUP(C131,MassDataLink!$A$4:$A$3649,MassDataLink!$C$4:$C$3649)","v":{"$error":"#N/A"}},{"$f":"LOOKUP(C131,MassDataLink!$A$4:$A$3649,MassDataLink!$D$4:$D$3649)","v":{"$error":"#N/A"}},{"$f":"LOOKUP(C131,MassDataLink!$A$4:$A$3649,MassDataLink!$E$4:$E$3649)","v":{"$error":"#N/A"}},{"$f":"LOOKUP(C131,MassDataLink!$A$4:$A$3649,MassDataLink!$F$4:$F$3649)","v":{"$error":"#N/A"}},null,18,"- - -","- - -",null,null,5,"- - -","- - -"]
[null,19,-1,{"$f":"LOOKUP(C132,MassDataLink!$A$4:$A$3649,MassDataLink!$B$4:$B$3649)","v":{"$error":"#N/A"}},{"$f":"LOOKUP(C132,MassDataLink!$A$4:$A$3649,MassDataLink!$C$4:$C$3649)","v":{"$error":"#N/A"}},{"$f":"LOOKUP(C132,MassDataLink!$A$4:$A$3649,MassDataLink!$D$4:$D$3649)","v":{"$error":"#N/A"}},{"$f":"LOOKUP(C132,MassDataLink!$A$4:$A$3649,MassDataLink!$E$4:$E$3649)","v":{"$error":"#N/A"}},{"$f":"LOOKUP(C132,MassDataLink!$A$4:$A$3649,MassDataLink!$F$4:$F$3649)","v":{"$error":"#N/A"}},null,19,"- - -","- - -",null,null,6,"- - -","- - -"]
[null,20,-1,{"$f":"LOOKUP(C133,MassDataLink!$A$4:$A$3649,MassDataLink!$B$4:$B$3649)","v":{"$error":"#N/A"}},{"$f":"LOOKUP(C133,MassDataLink!$A$4:$A$3649,MassDataLink!$C$4:$C$3649)","v":{"$error":"#N/A"}},{"$f":"LOOKUP(C133,MassDataLink!$A$4:$A$3649,MassDataLink!$D$4:$D$3649)","v":{"$error":"#N/A"}},{"$f":"LOOKUP(C133,MassDataLink!$A$4:$A$3649,MassDataLink!$E$4:$E$3649)","v":{"$error":"#N/A"}},{"$f":"LOOKUP(C133,MassDataLink!$A$4:$A$3649,MassDataLink!$F$4:$F$3649)","v":{"$error":"#N/A"}},null,20,"- - -","- - -",null,null,7,"- - -","- - -"]
[null,21,-1,{"$f":"LOOKUP(C134,MassDataLink!$A$4:$A$3649,MassDataLink!$B$4:$B$3649)","v":{"$error":"#N/A"}},{"$f":"LOOKUP(C134,MassDataLink!$A$4:$A$3649,MassDataLink!$C$4:$C$3649)","v":{"$error":"#N/A"}},{"$f":"LOOKUP(C134,MassDataLink!$A$4:$A$3649,MassDataLink!$D$4:$D$3649)","v":{"$error":"#N/A"}},{"$f":"LOOKUP(C134,MassDataLink!$A$4:$A$3649,MassDataLink!$E$4:$E$3649)","v":{"$error":"#N/A"}},{"$f":"LOOKUP(C134,MassDataLink!$A$4:$A$3649,MassDataLink!$F$4:$F$3649)","v":{"$error":"#N/A"}},null,21,"- - -","- - -",null,null,8,"- - -","- - -"]
[null,22,-1,{"$f":"LOOKUP(C135,MassDataLink!$A$4:$A$3649,MassDataLink!$B$4:$B$3649)","v":{"$error":"#N/A"}},{"$f":"LOOKUP(C135,MassDataLink!$A$4:$A$3649,MassDataLink!$C$4:$C$3649)","v":{"$error":"#N/A"}},{"$f":"LOOKUP(C135,MassDataLink!$A$4:$A$3649,MassDataLink!$D$4:$D$3649)","v":{"$error":"#N/A"}},{"$f":"LOOKUP(C135,MassDataLink!$A$4:$A$3649,MassDataLink!$E$4:$E$3649)","v":{"$error":"#N/A"}},{"$f":"LOOKUP(C135,MassDataLink!$A$4:$A$3649,MassDataLink!$F$4:$F$3649)","v":{"$error":"#N/A"}},null,22,"- - -","- - -",null,null,9,"- - -","- - -"]
[null,23,-1,{"$f":"LOOKUP(C136,MassDataLink!$A$4:$A$3649,MassDataLink!$B$4:$B$3649)","v":{"$error":"#N/A"}},{"$f":"LOOKUP(C136,MassDataLink!$A$4:$A$3649,MassDataLink!$C$4:$C$3649)","v":{"$error":"#N/A"}},{"$f":"LOOKUP(C136,MassDataLink!$A$4:$A$3649,MassDataLink!$D$4:$D$3649)","v":{"$error":"#N/A"}},{"$f":"LOOKUP(C136,MassDataLink!$A$4:$A$3649,MassDataLink!$E$4:$E$3649)","v":{"$error":"#N/A"}},{"$f":"LOOKUP(C136,MassDataLink!$A$4:$A$3649,MassDataLink!$F$4:$F$3649)","v":{"$error":"#N/A"}},null,23,"- - -","- - -",null,null,10,"- - -","- - -"]
[null,{"$f":"B136+1","v":24},{"$f":"IF(C136=-1,-1,H136)","v":-1},{"$f":"LOOKUP(C137,MassDataLink!$A$4:$A$3649,MassDataLink!$B$4:$B$3649)","v":{"$error":"#N/A"}},{"$f":"LOOKUP(C137,MassDataLink!$A$4:$A$3649,MassDataLink!$C$4:$C$3649)","v":{"$error":"#N/A"}},{"$f":"LOOKUP(C137,MassDataLink!$A$4:$A$3649,MassDataLink!$D$4:$D$3649)","v":{"$error":"#N/A"}},{"$f":"LOOKUP(C137,MassDataLink!$A$4:$A$3649,MassDataLink!$E$4:$E$3649)","v":{"$error":"#N/A"}},{"$f":"LOOKUP(C137,MassDataLink!$A$4:$A$3649,MassDataLink!$F$4:$F$3649)","v":{"$error":"#N/A"}},null,24,"- - -","- - -"]
[null,25,-1,{"$f":"LOOKUP(C138,MassDataLink!$A$4:$A$3649,MassDataLink!$B$4:$B$3649)","v":{"$error":"#N/A"}},{"$f":"LOOKUP(C138,MassDataLink!$A$4:$A$3649,MassDataLink!$C$4:$C$3649)","v":{"$error":"#N/A"}},{"$f":"LOOKUP(C138,MassDataLink!$A$4:$A$3649,MassDataLink!$D$4:$D$3649)","v":{"$error":"#N/A"}},{"$f":"LOOKUP(C138,MassDataLink!$A$4:$A$3649,MassDataLink!$E$4:$E$3649)","v":{"$error":"#N/A"}},{"$f":"LOOKUP(C138,MassDataLink!$A$4:$A$3649,MassDataLink!$F$4:$F$3649)","v":{"$error":"#N/A"}},null,25,"- - -","- - -"]
[null,26,-1,{"$f":"LOOKUP(C139,MassDataLink!$A$4:$A$3649,MassDataLink!$B$4:$B$3649)","v":{"$error":"#N/A"}},{"$f":"LOOKUP(C139,MassDataLink!$A$4:$A$3649,MassDataLink!$C$4:$C$3649)","v":{"$error":"#N/A"}},{"$f":"LOOKUP(C139,MassDataLink!$A$4:$A$3649,MassDataLink!$D$4:$D$3649)","v":{"$error":"#N/A"}},{"$f":"LOOKUP(C139,MassDataLink!$A$4:$A$3649,MassDataLink!$E$4:$E$3649)","v":{"$error":"#N/A"}},{"$f":"LOOKUP(C139,MassDataLink!$A$4:$A$3649,MassDataLink!$F$4:$F$3649)","v":{"$error":"#N/A"}},null,26,"- - -","- - -"]
[null,27,-1,{"$f":"LOOKUP(C140,MassDataLink!$A$4:$A$3649,MassDataLink!$B$4:$B$3649)","v":{"$error":"#N/A"}},{"$f":"LOOKUP(C140,MassDataLink!$A$4:$A$3649,MassDataLink!$C$4:$C$3649)","v":{"$error":"#N/A"}},{"$f":"LOOKUP(C140,MassDataLink!$A$4:$A$3649,MassDataLink!$D$4:$D$3649)","v":{"$error":"#N/A"}},{"$f":"LOOKUP(C140,MassDataLink!$A$4:$A$3649,MassDataLink!$E$4:$E$3649)","v":{"$error":"#N/A"}},{"$f":"LOOKUP(C140,MassDataLink!$A$4:$A$3649,MassDataLink!$F$4:$F$3649)","v":{"$error":"#N/A"}},null,27,"- - -","- - -"]
[null,28,-1,{"$f":"LOOKUP(C141,MassDataLink!$A$4:$A$3649,MassDataLink!$B$4:$B$3649)","v":{"$error":"#N/A"}},{"$f":"LOOKUP(C141,MassDataLink!$A$4:$A$3649,MassDataLink!$C$4:$C$3649)","v":{"$error":"#N/A"}},{"$f":"LOOKUP(C141,MassDataLink!$A$4:$A$3649,MassDataLink!$D$4:$D$3649)","v":{"$error":"#N/A"}},{"$f":"LOOKUP(C141,MassDataLink!$A$4:$A$3649,MassDataLink!$E$4:$E$3649)","v":{"$error":"#N/A"}},{"$f":"LOOKUP(C141,MassDataLink!$A$4:$A$3649,MassDataLink!$F$4:$F$3649)","v":{"$error":"#N/A"}},null,28,"- - -","- - -"]
[null,29,-1,{"$f":"LOOKUP(C142,MassDataLink!$A$4:$A$3649,MassDataLink!$B$4:$B$3649)","v":{"$error":"#N/A"}},{"$f":"LOOKUP(C142,MassDataLink!$A$4:$A$3649,MassDataLink!$C$4:$C$3649)","v":{"$error":"#N/A"}},{"$f":"LOOKUP(C142,MassDataLink!$A$4:$A$3649,MassDataLink!$D$4:$D$3649)","v":{"$error":"#N/A"}},{"$f":"LOOKUP(C142,MassDataLink!$A$4:$A$3649,MassDataLink!$E$4:$E$3649)","v":{"$error":"#N/A"}},{"$f":"LOOKUP(C142,MassDataLink!$A$4:$A$3649,MassDataLink!$F$4:$F$3649)","v":{"$error":"#N/A"}},null,29,"- - -","- - -"]
[null,30,-1,{"$f":"LOOKUP(C143,MassDataLink!$A$4:$A$3649,MassDataLink!$B$4:$B$3649)","v":{"$error":"#N/A"}},{"$f":"LOOKUP(C143,MassDataLink!$A$4:$A$3649,MassDataLink!$C$4:$C$3649)","v":{"$error":"#N/A"}},{"$f":"LOOKUP(C143,MassDataLink!$A$4:$A$3649,MassDataLink!$D$4:$D$3649)","v":{"$error":"#N/A"}},{"$f":"LOOKUP(C143,MassDataLink!$A$4:$A$3649,MassDataLink!$E$4:$E$3649)","v":{"$error":"#N/A"}},{"$f":"LOOKUP(C143,MassDataLink!$A$4:$A$3649,MassDataLink!$F$4:$F$3649)","v":{"$error":"#N/A"}},null,30,"- - -","- - -"]
[null,{"$f":"B143+1","v":31},{"$f":"IF(C143=-1,-1,H143)","v":-1},{"$f":"LOOKUP(C144,MassDataLink!$A$4:$A$3649,MassDataLink!$B$4:$B$3649)","v":{"$error":"#N/A"}},{"$f":"LOOKUP(C144,MassDataLink!$A$4:$A$3649,MassDataLink!$C$4:$C$3649)","v":{"$error":"#N/A"}},{"$f":"LOOKUP(C144,MassDataLink!$A$4:$A$3649,MassDataLink!$D$4:$D$3649)","v":{"$error":"#N/A"}},{"$f":"LOOKUP(C144,MassDataLink!$A$4:$A$3649,MassDataLink!$E$4:$E$3649)","v":{"$error":"#N/A"}},{"$f":"LOOKUP(C144,MassDataLink!$A$4:$A$3649,MassDataLink!$F$4:$F$3649)","v":{"$error":"#N/A"}},null,31,"- - -","- - -"]
[null,32,-1,{"$f":"LOOKUP(C145,MassDataLink!$A$4:$A$3649,MassDataLink!$B$4:$B$3649)","v":{"$error":"#N/A"}},{"$f":"LOOKUP(C145,MassDataLink!$A$4:$A$3649,MassDataLink!$C$4:$C$3649)","v":{"$error":"#N/A"}},{"$f":"LOOKUP(C145,MassDataLink!$A$4:$A$3649,MassDataLink!$D$4:$D$3649)","v":{"$error":"#N/A"}},{"$f":"LOOKUP(C145,MassDataLink!$A$4:$A$3649,MassDataLink!$E$4:$E$3649)","v":{"$error":"#N/A"}},{"$f":"LOOKUP(C145,MassDataLink!$A$4:$A$3649,MassDataLink!$F$4:$F$3649)","v":{"$error":"#N/A"}},null,32,"- - -","- - -"]
[null,33,-1,{"$f":"LOOKUP(C146,MassDataLink!$A$4:$A$3649,MassDataLink!$B$4:$B$3649)","v":{"$error":"#N/A"}},{"$f":"LOOKUP(C146,MassDataLink!$A$4:$A$3649,MassDataLink!$C$4:$C$3649)","v":{"$error":"#N/A"}},{"$f":"LOOKUP(C146,MassDataLink!$A$4:$A$3649,MassDataLink!$D$4:$D$3649)","v":{"$error":"#N/A"}},{"$f":"LOOKUP(C146,MassDataLink!$A$4:$A$3649,MassDataLink!$E$4:$E$3649)","v":{"$error":"#N/A"}},{"$f":"LOOKUP(C146,MassDataLink!$A$4:$A$3649,MassDataLink!$F$4:$F$3649)","v":{"$error":"#N/A"}},null,33,"- - -","- - -"]
[null,34,-1,{"$f":"LOOKUP(C147,MassDataLink!$A$4:$A$3649,MassDataLink!$B$4:$B$3649)","v":{"$error":"#N/A"}},{"$f":"LOOKUP(C147,MassDataLink!$A$4:$A$3649,MassDataLink!$C$4:$C$3649)","v":{"$error":"#N/A"}},{"$f":"LOOKUP(C147,MassDataLink!$A$4:$A$3649,MassDataLink!$D$4:$D$3649)","v":{"$error":"#N/A"}},{"$f":"LOOKUP(C147,MassDataLink!$A$4:$A$3649,MassDataLink!$E$4:$E$3649)","v":{"$error":"#N/A"}},{"$f":"LOOKUP(C147,MassDataLink!$A$4:$A$3649,MassDataLink!$F$4:$F$3649)","v":{"$error":"#N/A"}},null,34,"- - -","- - -"]
[null,35,-1,{"$f":"LOOKUP(C148,MassDataLink!$A$4:$A$3649,MassDataLink!$B$4:$B$3649)","v":{"$error":"#N/A"}},{"$f":"LOOKUP(C148,MassDataLink!$A$4:$A$3649,MassDataLink!$C$4:$C$3649)","v":{"$error":"#N/A"}},{"$f":"LOOKUP(C148,MassDataLink!$A$4:$A$3649,MassDataLink!$D$4:$D$3649)","v":{"$error":"#N/A"}},{"$f":"LOOKUP(C148,MassDataLink!$A$4:$A$3649,MassDataLink!$E$4:$E$3649)","v":{"$error":"#N/A"}},{"$f":"LOOKUP(C148,MassDataLink!$A$4:$A$3649,MassDataLink!$F$4:$F$3649)","v":{"$error":"#N/A"}},null,35,"- - -","- - -"]
[null,36,-1,{"$f":"LOOKUP(C149,MassDataLink!$A$4:$A$3649,MassDataLink!$B$4:$B$3649)","v":{"$error":"#N/A"}},{"$f":"LOOKUP(C149,MassDataLink!$A$4:$A$3649,MassDataLink!$C$4:$C$3649)","v":{"$error":"#N/A"}},{"$f":"LOOKUP(C149,MassDataLink!$A$4:$A$3649,MassDataLink!$D$4:$D$3649)","v":{"$error":"#N/A"}},{"$f":"LOOKUP(C149,MassDataLink!$A$4:$A$3649,MassDataLink!$E$4:$E$3649)","v":{"$error":"#N/A"}},{"$f":"LOOKUP(C149,MassDataLink!$A$4:$A$3649,MassDataLink!$F$4:$F$3649)","v":{"$error":"#N/A"}},null,36,"- - -","- - -"]
[null,37,-1,{"$f":"LOOKUP(C150,MassDataLink!$A$4:$A$3649,MassDataLink!$B$4:$B$3649)","v":{"$error":"#N/A"}},{"$f":"LOOKUP(C150,MassDataLink!$A$4:$A$3649,MassDataLink!$C$4:$C$3649)","v":{"$error":"#N/A"}},{"$f":"LOOKUP(C150,MassDataLink!$A$4:$A$3649,MassDataLink!$D$4:$D$3649)","v":{"$error":"#N/A"}},{"$f":"LOOKUP(C150,MassDataLink!$A$4:$A$3649,MassDataLink!$E$4:$E$3649)","v":{"$error":"#N/A"}},{"$f":"LOOKUP(C150,MassDataLink!$A$4:$A$3649,MassDataLink!$F$4:$F$3649)","v":{"$error":"#N/A"}},null,37,"- - -","- - -"]
[null,38,-1,{"$f":"LOOKUP(C151,MassDataLink!$A$4:$A$3649,MassDataLink!$B$4:$B$3649)","v":{"$error":"#N/A"}},{"$f":"LOOKUP(C151,MassDataLink!$A$4:$A$3649,MassDataLink!$C$4:$C$3649)","v":{"$error":"#N/A"}},{"$f":"LOOKUP(C151,MassDataLink!$A$4:$A$3649,MassDataLink!$D$4:$D$3649)","v":{"$error":"#N/A"}},{"$f":"LOOKUP(C151,MassDataLink!$A$4:$A$3649,MassDataLink!$E$4:$E$3649)","v":{"$error":"#N/A"}},{"$f":"LOOKUP(C151,MassDataLink!$A$4:$A$3649,MassDataLink!$F$4:$F$3649)","v":{"$error":"#N/A"}},null,38,"- - -","- - -"]
[null,39,-1,{"$f":"LOOKUP(C152,MassDataLink!$A$4:$A$3649,MassDataLink!$B$4:$B$3649)","v":{"$error":"#N/A"}},{"$f":"LOOKUP(C152,MassDataLink!$A$4:$A$3649,MassDataLink!$C$4:$C$3649)","v":{"$error":"#N/A"}},{"$f":"LOOKUP(C152,MassDataLink!$A$4:$A$3649,MassDataLink!$D$4:$D$3649)","v":{"$error":"#N/A"}},{"$f":"LOOKUP(C152,MassDataLink!$A$4:$A$3649,MassDataLink!$E$4:$E$3649)","v":{"$error":"#N/A"}},{"$f":"LOOKUP(C152,MassDataLink!$A$4:$A$3649,MassDataLink!$F$4:$F$3649)","v":{"$error":"#N/A"}},null,39,"- - -","- - -"]
[null,40,-1,{"$f":"LOOKUP(C153,MassDataLink!$A$4:$A$3649,MassDataLink!$B$4:$B$3649)","v":{"$error":"#N/A"}},{"$f":"LOOKUP(C153,MassDataLink!$A$4:$A$3649,MassDataLink!$C$4:$C$3649)","v":{"$error":"#N/A"}},{"$f":"LOOKUP(C153,MassDataLink!$A$4:$A$3649,MassDataLink!$D$4:$D$3649)","v":{"$error":"#N/A"}},{"$f":"LOOKUP(C153,MassDataLink!$A$4:$A$3649,MassDataLink!$E$4:$E$3649)","v":{"$error":"#N/A"}},{"$f":"LOOKUP(C153,MassDataLink!$A$4:$A$3649,MassDataLink!$F$4:$F$3649)","v":{"$error":"#N/A"}},null,40,"- - -","- - -"]
[null,41,-1,{"$f":"LOOKUP(C154,MassDataLink!$A$4:$A$3649,MassDataLink!$B$4:$B$3649)","v":{"$error":"#N/A"}},{"$f":"LOOKUP(C154,MassDataLink!$A$4:$A$3649,MassDataLink!$C$4:$C$3649)","v":{"$error":"#N/A"}},{"$f":"LOOKUP(C154,MassDataLink!$A$4:$A$3649,MassDataLink!$D$4:$D$3649)","v":{"$error":"#N/A"}},{"$f":"LOOKUP(C154,MassDataLink!$A$4:$A$3649,MassDataLink!$E$4:$E$3649)","v":{"$error":"#N/A"}},{"$f":"LOOKUP(C154,MassDataLink!$A$4:$A$3649,MassDataLink!$F$4:$F$3649)","v":{"$error":"#N/A"}},null,41,"- - -","- - -"]
[null,42,-1,{"$f":"LOOKUP(C155,MassDataLink!$A$4:$A$3649,MassDataLink!$B$4:$B$3649)","v":{"$error":"#N/A"}},{"$f":"LOOKUP(C155,MassDataLink!$A$4:$A$3649,MassDataLink!$C$4:$C$3649)","v":{"$error":"#N/A"}},{"$f":"LOOKUP(C155,MassDataLink!$A$4:$A$3649,MassDataLink!$D$4:$D$3649)","v":{"$error":"#N/A"}},{"$f":"LOOKUP(C155,MassDataLink!$A$4:$A$3649,MassDataLink!$E$4:$E$3649)","v":{"$error":"#N/A"}},{"$f":"LOOKUP(C155,MassDataLink!$A$4:$A$3649,MassDataLink!$F$4:$F$3649)","v":{"$error":"#N/A"}},null,42,"- - -","- - -"]
[null,43,-1,{"$f":"LOOKUP(C156,MassDataLink!$A$4:$A$3649,MassDataLink!$B$4:$B$3649)","v":{"$error":"#N/A"}},{"$f":"LOOKUP(C156,MassDataLink!$A$4:$A$3649,MassDataLink!$C$4:$C$3649)","v":{"$error":"#N/A"}},{"$f":"LOOKUP(C156,MassDataLink!$A$4:$A$3649,MassDataLink!$D$4:$D$3649)","v":{"$error":"#N/A"}},{"$f":"LOOKUP(C156,MassDataLink!$A$4:$A$3649,MassDataLink!$E$4:$E$3649)","v":{"$error":"#N/A"}},{"$f":"LOOKUP(C156,MassDataLink!$A$4:$A$3649,MassDataLink!$F$4:$F$3649)","v":{"$error":"#N/A"}},null,43,"- - -","- - -"]
[null,44,-1,{"$f":"LOOKUP(C157,MassDataLink!$A$4:$A$3649,MassDataLink!$B$4:$B$3649)","v":{"$error":"#N/A"}},{"$f":"LOOKUP(C157,MassDataLink!$A$4:$A$3649,MassDataLink!$C$4:$C$3649)","v":{"$error":"#N/A"}},{"$f":"LOOKUP(C157,MassDataLink!$A$4:$A$3649,MassDataLink!$D$4:$D$3649)","v":{"$error":"#N/A"}},{"$f":"LOOKUP(C157,MassDataLink!$A$4:$A$3649,MassDataLink!$E$4:$E$3649)","v":{"$error":"#N/A"}},{"$f":"LOOKUP(C157,MassDataLink!$A$4:$A$3649,MassDataLink!$F$4:$F$3649)","v":{"$error":"#N/A"}},null,44,"- - -","- - -"]
[null,45,-1,{"$f":"LOOKUP(C158,MassDataLink!$A$4:$A$3649,MassDataLink!$B$4:$B$3649)","v":{"$error":"#N/A"}},{"$f":"LOOKUP(C158,MassDataLink!$A$4:$A$3649,MassDataLink!$C$4:$C$3649)","v":{"$error":"#N/A"}},{"$f":"LOOKUP(C158,MassDataLink!$A$4:$A$3649,MassDataLink!$D$4:$D$3649)","v":{"$error":"#N/A"}},{"$f":"LOOKUP(C158,MassDataLink!$A$4:$A$3649,MassDataLink!$E$4:$E$3649)","v":{"$error":"#N/A"}},{"$f":"LOOKUP(C158,MassDataLink!$A$4:$A$3649,MassDataLink!$F$4:$F$3649)","v":{"$error":"#N/A"}},null,45,"- - -","- - -"]
[null,46,-1,{"$f":"LOOKUP(C159,MassDataLink!$A$4:$A$3649,MassDataLink!$B$4:$B$3649)","v":{"$error":"#N/A"}},{"$f":"LOOKUP(C159,MassDataLink!$A$4:$A$3649,MassDataLink!$C$4:$C$3649)","v":{"$error":"#N/A"}},{"$f":"LOOKUP(C159,MassDataLink!$A$4:$A$3649,MassDataLink!$D$4:$D$3649)","v":{"$error":"#N/A"}},{"$f":"LOOKUP(C159,MassDataLink!$A$4:$A$3649,MassDataLink!$E$4:$E$3649)","v":{"$error":"#N/A"}},{"$f":"LOOKUP(C159,MassDataLink!$A$4:$A$3649,MassDataLink!$F$4:$F$3649)","v":{"$error":"#N/A"}},null,46,"- - -","- - -"]
[null,47,-1,{"$f":"LOOKUP(C160,MassDataLink!$A$4:$A$3649,MassDataLink!$B$4:$B$3649)","v":{"$error":"#N/A"}},{"$f":"LOOKUP(C160,MassDataLink!$A$4:$A$3649,MassDataLink!$C$4:$C$3649)","v":{"$error":"#N/A"}},{"$f":"LOOKUP(C160,MassDataLink!$A$4:$A$3649,MassDataLink!$D$4:$D$3649)","v":{"$error":"#N/A"}},{"$f":"LOOKUP(C160,MassDataLink!$A$4:$A$3649,MassDataLink!$E$4:$E$3649)","v":{"$error":"#N/A"}},{"$f":"LOOKUP(C160,MassDataLink!$A$4:$A$3649,MassDataLink!$F$4:$F$3649)","v":{"$error":"#N/A"}},null,47,"- - -","- - -"]
[null,48,-1,{"$f":"LOOKUP(C161,MassDataLink!$A$4:$A$3649,MassDataLink!$B$4:$B$3649)","v":{"$error":"#N/A"}},{"$f":"LOOKUP(C161,MassDataLink!$A$4:$A$3649,MassDataLink!$C$4:$C$3649)","v":{"$error":"#N/A"}},{"$f":"LOOKUP(C161,MassDataLink!$A$4:$A$3649,MassDataLink!$D$4:$D$3649)","v":{"$error":"#N/A"}},{"$f":"LOOKUP(C161,MassDataLink!$A$4:$A$3649,MassDataLink!$E$4:$E$3649)","v":{"$error":"#N/A"}},{"$f":"LOOKUP(C161,MassDataLink!$A$4:$A$3649,MassDataLink!$F$4:$F$3649)","v":{"$error":"#N/A"}},null,48,"- - -","- - -"]
[null,49,-1,{"$f":"LOOKUP(C162,MassDataLink!$A$4:$A$3649,MassDataLink!$B$4:$B$3649)","v":{"$error":"#N/A"}},{"$f":"LOOKUP(C162,MassDataLink!$A$4:$A$3649,MassDataLink!$C$4:$C$3649)","v":{"$error":"#N/A"}},{"$f":"LOOKUP(C162,MassDataLink!$A$4:$A$3649,MassDataLink!$D$4:$D$3649)","v":{"$error":"#N/A"}},{"$f":"LOOKUP(C162,MassDataLink!$A$4:$A$3649,MassDataLink!$E$4:$E$3649)","v":{"$error":"#N/A"}},{"$f":"LOOKUP(C162,MassDataLink!$A$4:$A$3649,MassDataLink!$F$4:$F$3649)","v":{"$error":"#N/A"}},null,49,"- - -","- - -"]
[null,50,-1,{"$f":"LOOKUP(C163,MassDataLink!$A$4:$A$3649,MassDataLink!$B$4:$B$3649)","v":{"$error":"#N/A"}},{"$f":"LOOKUP(C163,MassDataLink!$A$4:$A$3649,MassDataLink!$C$4:$C$3649)","v":{"$error":"#N/A"}},{"$f":"LOOKUP(C163,MassDataLink!$A$4:$A$3649,MassDataLink!$D$4:$D$3649)","v":{"$error":"#N/A"}},{"$f":"LOOKUP(C163,MassDataLink!$A$4:$A$3649,MassDataLink!$E$4:$E$3649)","v":{"$error":"#N/A"}},{"$f":"LOOKUP(C163,MassDataLink!$A$4:$A$3649,MassDataLink!$F$4:$F$3649)","v":{"$error":"#N/A"}},null,50,"- - -","- - -"]
[null,{"$f":"B163+1","v":51},{"$f":"IF(C163=-1,-1,H163)","v":-1},{"$f":"LOOKUP(C164,MassDataLink!$A$4:$A$3649,MassDataLink!$B$4:$B$3649)","v":{"$error":"#N/A"}},{"$f":"LOOKUP(C164,MassDataLink!$A$4:$A$3649,MassDataLink!$C$4:$C$3649)","v":{"$error":"#N/A"}},{"$f":"LOOKUP(C164,MassDataLink!$A$4:$A$3649,MassDataLink!$D$4:$D$3649)","v":{"$error":"#N/A"}},{"$f":"LOOKUP(C164,MassDataLink!$A$4:$A$3649,MassDataLink!$E$4:$E$3649)","v":{"$error":"#N/A"}},{"$f":"LOOKUP(C164,MassDataLink!$A$4:$A$3649,MassDataLink!$F$4:$F$3649)","v":{"$error":"#N/A"}},null,{"$f":"J163+1","v":51},{"$f":"IF(C164=-1,$L$112,IF($A$11=D164,ROUND((E164*$P$57),$R$57),$L$112))","v":"- - -"},{"$f":"IF(K164=$L$112,$L$112,F164)","v":"- - -"}]
[null,52,-1,{"$f":"LOOKUP(C165,MassDataLink!$A$4:$A$3649,MassDataLink!$B$4:$B$3649)","v":{"$error":"#N/A"}},{"$f":"LOOKUP(C165,MassDataLink!$A$4:$A$3649,MassDataLink!$C$4:$C$3649)","v":{"$error":"#N/A"}},{"$f":"LOOKUP(C165,MassDataLink!$A$4:$A$3649,MassDataLink!$D$4:$D$3649)","v":{"$error":"#N/A"}},{"$f":"LOOKUP(C165,MassDataLink!$A$4:$A$3649,MassDataLink!$E$4:$E$3649)","v":{"$error":"#N/A"}},{"$f":"LOOKUP(C165,MassDataLink!$A$4:$A$3649,MassDataLink!$F$4:$F$3649)","v":{"$error":"#N/A"}},null,52,"- - -","- - -"]
[null,53,-1,{"$f":"LOOKUP(C166,MassDataLink!$A$4:$A$3649,MassDataLink!$B$4:$B$3649)","v":{"$error":"#N/A"}},{"$f":"LOOKUP(C166,MassDataLink!$A$4:$A$3649,MassDataLink!$C$4:$C$3649)","v":{"$error":"#N/A"}},{"$f":"LOOKUP(C166,MassDataLink!$A$4:$A$3649,MassDataLink!$D$4:$D$3649)","v":{"$error":"#N/A"}},{"$f":"LOOKUP(C166,MassDataLink!$A$4:$A$3649,MassDataLink!$E$4:$E$3649)","v":{"$error":"#N/A"}},{"$f":"LOOKUP(C166,MassDataLink!$A$4:$A$3649,MassDataLink!$F$4:$F$3649)","v":{"$error":"#N/A"}},null,53,"- - -","- - -"]
[null,54,-1,{"$f":"LOOKUP(C167,MassDataLink!$A$4:$A$3649,MassDataLink!$B$4:$B$3649)","v":{"$error":"#N/A"}},{"$f":"LOOKUP(C167,MassDataLink!$A$4:$A$3649,MassDataLink!$C$4:$C$3649)","v":{"$error":"#N/A"}},{"$f":"LOOKUP(C167,MassDataLink!$A$4:$A$3649,MassDataLink!$D$4:$D$3649)","v":{"$error":"#N/A"}},{"$f":"LOOKUP(C167,MassDataLink!$A$4:$A$3649,MassDataLink!$E$4:$E$3649)","v":{"$error":"#N/A"}},{"$f":"LOOKUP(C167,MassDataLink!$A$4:$A$3649,MassDataLink!$F$4:$F$3649)","v":{"$error":"#N/A"}},null,54,"- - -","- - -"]
[null,55,-1,{"$f":"LOOKUP(C168,MassDataLink!$A$4:$A$3649,MassDataLink!$B$4:$B$3649)","v":{"$error":"#N/A"}},{"$f":"LOOKUP(C168,MassDataLink!$A$4:$A$3649,MassDataLink!$C$4:$C$3649)","v":{"$error":"#N/A"}},{"$f":"LOOKUP(C168,MassDataLink!$A$4:$A$3649,MassDataLink!$D$4:$D$3649)","v":{"$error":"#N/A"}},{"$f":"LOOKUP(C168,MassDataLink!$A$4:$A$3649,MassDataLink!$E$4:$E$3649)","v":{"$error":"#N/A"}},{"$f":"LOOKUP(C168,MassDataLink!$A$4:$A$3649,MassDataLink!$F$4:$F$3649)","v":{"$error":"#N/A"}},null,55,"- - -","- - -"]
[null,56,-1,{"$f":"LOOKUP(C169,MassDataLink!$A$4:$A$3649,MassDataLink!$B$4:$B$3649)","v":{"$error":"#N/A"}},{"$f":"LOOKUP(C169,MassDataLink!$A$4:$A$3649,MassDataLink!$C$4:$C$3649)","v":{"$error":"#N/A"}},{"$f":"LOOKUP(C169,MassDataLink!$A$4:$A$3649,MassDataLink!$D$4:$D$3649)","v":{"$error":"#N/A"}},{"$f":"LOOKUP(C169,MassDataLink!$A$4:$A$3649,MassDataLink!$E$4:$E$3649)","v":{"$error":"#N/A"}},{"$f":"LOOKUP(C169,MassDataLink!$A$4:$A$3649,MassDataLink!$F$4:$F$3649)","v":{"$error":"#N/A"}},null,56,"- - -","- - -"]
[null,57,-1,{"$f":"LOOKUP(C170,MassDataLink!$A$4:$A$3649,MassDataLink!$B$4:$B$3649)","v":{"$error":"#N/A"}},{"$f":"LOOKUP(C170,MassDataLink!$A$4:$A$3649,MassDataLink!$C$4:$C$3649)","v":{"$error":"#N/A"}},{"$f":"LOOKUP(C170,MassDataLink!$A$4:$A$3649,MassDataLink!$D$4:$D$3649)","v":{"$error":"#N/A"}},{"$f":"LOOKUP(C170,MassDataLink!$A$4:$A$3649,MassDataLink!$E$4:$E$3649)","v":{"$error":"#N/A"}},{"$f":"LOOKUP(C170,MassDataLink!$A$4:$A$3649,MassDataLink!$F$4:$F$3649)","v":{"$error":"#N/A"}},null,57,"- - -","- - -"]
[null,58,-1,{"$f":"LOOKUP(C171,MassDataLink!$A$4:$A$3649,MassDataLink!$B$4:$B$3649)","v":{"$error":"#N/A"}},{"$f":"LOOKUP(C171,MassDataLink!$A$4:$A$3649,MassDataLink!$C$4:$C$3649)","v":{"$error":"#N/A"}},{"$f":"LOOKUP(C171,MassDataLink!$A$4:$A$3649,MassDataLink!$D$4:$D$3649)","v":{"$error":"#N/A"}},{"$f":"LOOKUP(C171,MassDataLink!$A$4:$A$3649,MassDataLink!$E$4:$E$3649)","v":{"$error":"#N/A"}},{"$f":"LOOKUP(C171,MassDataLink!$A$4:$A$3649,MassDataLink!$F$4:$F$3649)","v":{"$error":"#N/A"}},null,58,"- - -","- - -"]
[null,59,-1,{"$f":"LOOKUP(C172,MassDataLink!$A$4:$A$3649,MassDataLink!$B$4:$B$3649)","v":{"$error":"#N/A"}},{"$f":"LOOKUP(C172,MassDataLink!$A$4:$A$3649,MassDataLink!$C$4:$C$3649)","v":{"$error":"#N/A"}},{"$f":"LOOKUP(C172,MassDataLink!$A$4:$A$3649,MassDataLink!$D$4:$D$3649)","v":{"$error":"#N/A"}},{"$f":"LOOKUP(C172,MassDataLink!$A$4:$A$3649,MassDataLink!$E$4:$E$3649)","v":{"$error":"#N/A"}},{"$f":"LOOKUP(C172,MassDataLink!$A$4:$A$3649,MassDataLink!$F$4:$F$3649)","v":{"$error":"#N/A"}},null,59,"- - -","- - -"]
[null,60,-1,{"$f":"LOOKUP(C173,MassDataLink!$A$4:$A$3649,MassDataLink!$B$4:$B$3649)","v":{"$error":"#N/A"}},{"$f":"LOOKUP(C173,MassDataLink!$A$4:$A$3649,MassDataLink!$C$4:$C$3649)","v":{"$error":"#N/A"}},{"$f":"LOOKUP(C173,MassDataLink!$A$4:$A$3649,MassDataLink!$D$4:$D$3649)","v":{"$error":"#N/A"}},{"$f":"LOOKUP(C173,MassDataLink!$A$4:$A$3649,MassDataLink!$E$4:$E$3649)","v":{"$error":"#N/A"}},{"$f":"LOOKUP(C173,MassDataLink!$A$4:$A$3649,MassDataLink!$F$4:$F$3649)","v":{"$error":"#N/A"}},null,60,"- - -","- - -"]
[null,61,-1,{"$f":"LOOKUP(C174,MassDataLink!$A$4:$A$3649,MassDataLink!$B$4:$B$3649)","v":{"$error":"#N/A"}},{"$f":"LOOKUP(C174,MassDataLink!$A$4:$A$3649,MassDataLink!$C$4:$C$3649)","v":{"$error":"#N/A"}},{"$f":"LOOKUP(C174,MassDataLink!$A$4:$A$3649,MassDataLink!$D$4:$D$3649)","v":{"$error":"#N/A"}},{"$f":"LOOKUP(C174,MassDataLink!$A$4:$A$3649,MassDataLink!$E$4:$E$3649)","v":{"$error":"#N/A"}},{"$f":"LOOKUP(C174,MassDataLink!$A$4:$A$3649,MassDataLink!$F$4:$F$3649)","v":{"$error":"#N/A"}},null,61,"- - -","- - -"]
[null,62,-1,{"$f":"LOOKUP(C175,MassDataLink!$A$4:$A$3649,MassDataLink!$B$4:$B$3649)","v":{"$error":"#N/A"}},{"$f":"LOOKUP(C175,MassDataLink!$A$4:$A$3649,MassDataLink!$C$4:$C$3649)","v":{"$error":"#N/A"}},{"$f":"LOOKUP(C175,MassDataLink!$A$4:$A$3649,MassDataLink!$D$4:$D$3649)","v":{"$error":"#N/A"}},{"$f":"LOOKUP(C175,MassDataLink!$A$4:$A$3649,MassDataLink!$E$4:$E$3649)","v":{"$error":"#N/A"}},{"$f":"LOOKUP(C175,MassDataLink!$A$4:$A$3649,MassDataLink!$F$4:$F$3649)","v":{"$error":"#N/A"}},null,62,"- - -","- - -"]
[null,63,-1,{"$f":"LOOKUP(C176,MassDataLink!$A$4:$A$3649,MassDataLink!$B$4:$B$3649)","v":{"$error":"#N/A"}},{"$f":"LOOKUP(C176,MassDataLink!$A$4:$A$3649,MassDataLink!$C$4:$C$3649)","v":{"$error":"#N/A"}},{"$f":"LOOKUP(C176,MassDataLink!$A$4:$A$3649,MassDataLink!$D$4:$D$3649)","v":{"$error":"#N/A"}},{"$f":"LOOKUP(C176,MassDataLink!$A$4:$A$3649,MassDataLink!$E$4:$E$3649)","v":{"$error":"#N/A"}},{"$f":"LOOKUP(C176,MassDataLink!$A$4:$A$3649,MassDataLink!$F$4:$F$3649)","v":{"$error":"#N/A"}},null,63,"- - -","- - -"]
[null,64,-1,{"$f":"LOOKUP(C177,MassDataLink!$A$4:$A$3649,MassDataLink!$B$4:$B$3649)","v":{"$error":"#N/A"}},{"$f":"LOOKUP(C177,MassDataLink!$A$4:$A$3649,MassDataLink!$C$4:$C$3649)","v":{"$error":"#N/A"}},{"$f":"LOOKUP(C177,MassDataLink!$A$4:$A$3649,MassDataLink!$D$4:$D$3649)","v":{"$error":"#N/A"}},{"$f":"LOOKUP(C177,MassDataLink!$A$4:$A$3649,MassDataLink!$E$4:$E$3649)","v":{"$error":"#N/A"}},{"$f":"LOOKUP(C177,MassDataLink!$A$4:$A$3649,MassDataLink!$F$4:$F$3649)","v":{"$error":"#N/A"}},null,64,"- - -","- - -"]
[null,65,-1,{"$f":"LOOKUP(C178,MassDataLink!$A$4:$A$3649,MassDataLink!$B$4:$B$3649)","v":{"$error":"#N/A"}},{"$f":"LOOKUP(C178,MassDataLink!$A$4:$A$3649,MassDataLink!$C$4:$C$3649)","v":{"$error":"#N/A"}},{"$f":"LOOKUP(C178,MassDataLink!$A$4:$A$3649,MassDataLink!$D$4:$D$3649)","v":{"$error":"#N/A"}},{"$f":"LOOKUP(C178,MassDataLink!$A$4:$A$3649,MassDataLink!$E$4:$E$3649)","v":{"$error":"#N/A"}},{"$f":"LOOKUP(C178,MassDataLink!$A$4:$A$3649,MassDataLink!$F$4:$F$3649)","v":{"$error":"#N/A"}},null,65,"- - -","- - -"]
[null,66,-1,{"$f":"LOOKUP(C179,MassDataLink!$A$4:$A$3649,MassDataLink!$B$4:$B$3649)","v":{"$error":"#N/A"}},{"$f":"LOOKUP(C179,MassDataLink!$A$4:$A$3649,MassDataLink!$C$4:$C$3649)","v":{"$error":"#N/A"}},{"$f":"LOOKUP(C179,MassDataLink!$A$4:$A$3649,MassDataLink!$D$4:$D$3649)","v":{"$error":"#N/A"}},{"$f":"LOOKUP(C179,MassDataLink!$A$4:$A$3649,MassDataLink!$E$4:$E$3649)","v":{"$error":"#N/A"}},{"$f":"LOOKUP(C179,MassDataLink!$A$4:$A$3649,MassDataLink!$F$4:$F$3649)","v":{"$error":"#N/A"}},null,66,"- - -","- - -"]
[null,67,-1,{"$f":"LOOKUP(C180,MassDataLink!$A$4:$A$3649,MassDataLink!$B$4:$B$3649)","v":{"$error":"#N/A"}},{"$f":"LOOKUP(C180,MassDataLink!$A$4:$A$3649,MassDataLink!$C$4:$C$3649)","v":{"$error":"#N/A"}},{"$f":"LOOKUP(C180,MassDataLink!$A$4:$A$3649,MassDataLink!$D$4:$D$3649)","v":{"$error":"#N/A"}},{"$f":"LOOKUP(C180,MassDataLink!$A$4:$A$3649,MassDataLink!$E$4:$E$3649)","v":{"$error":"#N/A"}},{"$f":"LOOKUP(C180,MassDataLink!$A$4:$A$3649,MassDataLink!$F$4:$F$3649)","v":{"$error":"#N/A"}},null,67,"- - -","- - -"]
[null,68,-1,{"$f":"LOOKUP(C181,MassDataLink!$A$4:$A$3649,MassDataLink!$B$4:$B$3649)","v":{"$error":"#N/A"}},{"$f":"LOOKUP(C181,MassDataLink!$A$4:$A$3649,MassDataLink!$C$4:$C$3649)","v":{"$error":"#N/A"}},{"$f":"LOOKUP(C181,MassDataLink!$A$4:$A$3649,MassDataLink!$D$4:$D$3649)","v":{"$error":"#N/A"}},{"$f":"LOOKUP(C181,MassDataLink!$A$4:$A$3649,MassDataLink!$E$4:$E$3649)","v":{"$error":"#N/A"}},{"$f":"LOOKUP(C181,MassDataLink!$A$4:$A$3649,MassDataLink!$F$4:$F$3649)","v":{"$error":"#N/A"}},null,68,"- - -","- - -"]
[null,69,-1,{"$f":"LOOKUP(C182,MassDataLink!$A$4:$A$3649,MassDataLink!$B$4:$B$3649)","v":{"$error":"#N/A"}},{"$f":"LOOKUP(C182,MassDataLink!$A$4:$A$3649,MassDataLink!$C$4:$C$3649)","v":{"$error":"#N/A"}},{"$f":"LOOKUP(C182,MassDataLink!$A$4:$A$3649,MassDataLink!$D$4:$D$3649)","v":{"$error":"#N/A"}},{"$f":"LOOKUP(C182,MassDataLink!$A$4:$A$3649,MassDataLink!$E$4:$E$3649)","v":{"$error":"#N/A"}},{"$f":"LOOKUP(C182,MassDataLink!$A$4:$A$3649,MassDataLink!$F$4:$F$3649)","v":{"$error":"#N/A"}},null,69,"- - -","- - -"]
[null,70,-1,{"$f":"LOOKUP(C183,MassDataLink!$A$4:$A$3649,MassDataLink!$B$4:$B$3649)","v":{"$error":"#N/A"}},{"$f":"LOOKUP(C183,MassDataLink!$A$4:$A$3649,MassDataLink!$C$4:$C$3649)","v":{"$error":"#N/A"}},{"$f":"LOOKUP(C183,MassDataLink!$A$4:$A$3649,MassDataLink!$D$4:$D$3649)","v":{"$error":"#N/A"}},{"$f":"LOOKUP(C183,MassDataLink!$A$4:$A$3649,MassDataLink!$E$4:$E$3649)","v":{"$error":"#N/A"}},{"$f":"LOOKUP(C183,MassDataLink!$A$4:$A$3649,MassDataLink!$F$4:$F$3649)","v":{"$error":"#N/A"}},null,70,"- - -","- - -"]
[null,71,-1,{"$f":"LOOKUP(C184,MassDataLink!$A$4:$A$3649,MassDataLink!$B$4:$B$3649)","v":{"$error":"#N/A"}},{"$f":"LOOKUP(C184,MassDataLink!$A$4:$A$3649,MassDataLink!$C$4:$C$3649)","v":{"$error":"#N/A"}},{"$f":"LOOKUP(C184,MassDataLink!$A$4:$A$3649,MassDataLink!$D$4:$D$3649)","v":{"$error":"#N/A"}},{"$f":"LOOKUP(C184,MassDataLink!$A$4:$A$3649,MassDataLink!$E$4:$E$3649)","v":{"$error":"#N/A"}},{"$f":"LOOKUP(C184,MassDataLink!$A$4:$A$3649,MassDataLink!$F$4:$F$3649)","v":{"$error":"#N/A"}},null,71,"- - -","- - -"]
[null,72,-1,{"$f":"LOOKUP(C185,MassDataLink!$A$4:$A$3649,MassDataLink!$B$4:$B$3649)","v":{"$error":"#N/A"}},{"$f":"LOOKUP(C185,MassDataLink!$A$4:$A$3649,MassDataLink!$C$4:$C$3649)","v":{"$error":"#N/A"}},{"$f":"LOOKUP(C185,MassDataLink!$A$4:$A$3649,MassDataLink!$D$4:$D$3649)","v":{"$error":"#N/A"}},{"$f":"LOOKUP(C185,MassDataLink!$A$4:$A$3649,MassDataLink!$E$4:$E$3649)","v":{"$error":"#N/A"}},{"$f":"LOOKUP(C185,MassDataLink!$A$4:$A$3649,MassDataLink!$F$4:$F$3649)","v":{"$error":"#N/A"}},null,72,"- - -","- - -"]
[null,73,-1,{"$f":"LOOKUP(C186,MassDataLink!$A$4:$A$3649,MassDataLink!$B$4:$B$3649)","v":{"$error":"#N/A"}},{"$f":"LOOKUP(C186,MassDataLink!$A$4:$A$3649,MassDataLink!$C$4:$C$3649)","v":{"$error":"#N/A"}},{"$f":"LOOKUP(C186,MassDataLink!$A$4:$A$3649,MassDataLink!$D$4:$D$3649)","v":{"$error":"#N/A"}},{"$f":"LOOKUP(C186,MassDataLink!$A$4:$A$3649,MassDataLink!$E$4:$E$3649)","v":{"$error":"#N/A"}},{"$f":"LOOKUP(C186,MassDataLink!$A$4:$A$3649,MassDataLink!$F$4:$F$3649)","v":{"$error":"#N/A"}},null,73,"- - -","- - -"]
[null,74,-1,{"$f":"LOOKUP(C187,MassDataLink!$A$4:$A$3649,MassDataLink!$B$4:$B$3649)","v":{"$error":"#N/A"}},{"$f":"LOOKUP(C187,MassDataLink!$A$4:$A$3649,MassDataLink!$C$4:$C$3649)","v":{"$error":"#N/A"}},{"$f":"LOOKUP(C187,MassDataLink!$A$4:$A$3649,MassDataLink!$D$4:$D$3649)","v":{"$error":"#N/A"}},{"$f":"LOOKUP(C187,MassDataLink!$A$4:$A$3649,MassDataLink!$E$4:$E$3649)","v":{"$error":"#N/A"}},{"$f":"LOOKUP(C187,MassDataLink!$A$4:$A$3649,MassDataLink!$F$4:$F$3649)","v":{"$error":"#N/A"}},null,74,"- - -","- - -"]
[null,75,-1,{"$f":"LOOKUP(C188,MassDataLink!$A$4:$A$3649,MassDataLink!$B$4:$B$3649)","v":{"$error":"#N/A"}},{"$f":"LOOKUP(C188,MassDataLink!$A$4:$A$3649,MassDataLink!$C$4:$C$3649)","v":{"$error":"#N/A"}},{"$f":"LOOKUP(C188,MassDataLink!$A$4:$A$3649,MassDataLink!$D$4:$D$3649)","v":{"$error":"#N/A"}},{"$f":"LOOKUP(C188,MassDataLink!$A$4:$A$3649,MassDataLink!$E$4:$E$3649)","v":{"$error":"#N/A"}},{"$f":"LOOKUP(C188,MassDataLink!$A$4:$A$3649,MassDataLink!$F$4:$F$3649)","v":{"$error":"#N/A"}},null,75,"- - -","- - -"]
[null,76,-1,{"$f":"LOOKUP(C189,MassDataLink!$A$4:$A$3649,MassDataLink!$B$4:$B$3649)","v":{"$error":"#N/A"}},{"$f":"LOOKUP(C189,MassDataLink!$A$4:$A$3649,MassDataLink!$C$4:$C$3649)","v":{"$error":"#N/A"}},{"$f":"LOOKUP(C189,MassDataLink!$A$4:$A$3649,MassDataLink!$D$4:$D$3649)","v":{"$error":"#N/A"}},{"$f":"LOOKUP(C189,MassDataLink!$A$4:$A$3649,MassDataLink!$E$4:$E$3649)","v":{"$error":"#N/A"}},{"$f":"LOOKUP(C189,MassDataLink!$A$4:$A$3649,MassDataLink!$F$4:$F$3649)","v":{"$error":"#N/A"}},null,76,"- - -","- - -"]
[null,77,-1,{"$f":"LOOKUP(C190,MassDataLink!$A$4:$A$3649,MassDataLink!$B$4:$B$3649)","v":{"$error":"#N/A"}},{"$f":"LOOKUP(C190,MassDataLink!$A$4:$A$3649,MassDataLink!$C$4:$C$3649)","v":{"$error":"#N/A"}},{"$f":"LOOKUP(C190,MassDataLink!$A$4:$A$3649,MassDataLink!$D$4:$D$3649)","v":{"$error":"#N/A"}},{"$f":"LOOKUP(C190,MassDataLink!$A$4:$A$3649,MassDataLink!$E$4:$E$3649)","v":{"$error":"#N/A"}},{"$f":"LOOKUP(C190,MassDataLink!$A$4:$A$3649,MassDataLink!$F$4:$F$3649)","v":{"$error":"#N/A"}},null,77,"- - -","- - -"]
[null,78,-1,{"$f":"LOOKUP(C191,MassDataLink!$A$4:$A$3649,MassDataLink!$B$4:$B$3649)","v":{"$error":"#N/A"}},{"$f":"LOOKUP(C191,MassDataLink!$A$4:$A$3649,MassDataLink!$C$4:$C$3649)","v":{"$error":"#N/A"}},{"$f":"LOOKUP(C191,MassDataLink!$A$4:$A$3649,MassDataLink!$D$4:$D$3649)","v":{"$error":"#N/A"}},{"$f":"LOOKUP(C191,MassDataLink!$A$4:$A$3649,MassDataLink!$E$4:$E$3649)","v":{"$error":"#N/A"}},{"$f":"LOOKUP(C191,MassDataLink!$A$4:$A$3649,MassDataLink!$F$4:$F$3649)","v":{"$error":"#N/A"}},null,78,"- - -","- - -"]
[null,79,-1,{"$f":"LOOKUP(C192,MassDataLink!$A$4:$A$3649,MassDataLink!$B$4:$B$3649)","v":{"$error":"#N/A"}},{"$f":"LOOKUP(C192,MassDataLink!$A$4:$A$3649,MassDataLink!$C$4:$C$3649)","v":{"$error":"#N/A"}},{"$f":"LOOKUP(C192,MassDataLink!$A$4:$A$3649,MassDataLink!$D$4:$D$3649)","v":{"$error":"#N/A"}},{"$f":"LOOKUP(C192,MassDataLink!$A$4:$A$3649,MassDataLink!$E$4:$E$3649)","v":{"$error":"#N/A"}},{"$f":"LOOKUP(C192,MassDataLink!$A$4:$A$3649,MassDataLink!$F$4:$F$3649)","v":{"$error":"#N/A"}},null,79,"- - -","- - -"]
[null,80,-1,{"$f":"LOOKUP(C193,MassDataLink!$A$4:$A$3649,MassDataLink!$B$4:$B$3649)","v":{"$error":"#N/A"}},{"$f":"LOOKUP(C193,MassDataLink!$A$4:$A$3649,MassDataLink!$C$4:$C$3649)","v":{"$error":"#N/A"}},{"$f":"LOOKUP(C193,MassDataLink!$A$4:$A$3649,MassDataLink!$D$4:$D$3649)","v":{"$error":"#N/A"}},{"$f":"LOOKUP(C193,MassDataLink!$A$4:$A$3649,MassDataLink!$E$4:$E$3649)","v":{"$error":"#N/A"}},{"$f":"LOOKUP(C193,MassDataLink!$A$4:$A$3649,MassDataLink!$F$4:$F$3649)","v":{"$error":"#N/A"}},null,80,"- - -","- - -"]
[null,81,-1,{"$f":"LOOKUP(C194,MassDataLink!$A$4:$A$3649,MassDataLink!$B$4:$B$3649)","v":{"$error":"#N/A"}},{"$f":"LOOKUP(C194,MassDataLink!$A$4:$A$3649,MassDataLink!$C$4:$C$3649)","v":{"$error":"#N/A"}},{"$f":"LOOKUP(C194,MassDataLink!$A$4:$A$3649,MassDataLink!$D$4:$D$3649)","v":{"$error":"#N/A"}},{"$f":"LOOKUP(C194,MassDataLink!$A$4:$A$3649,MassDataLink!$E$4:$E$3649)","v":{"$error":"#N/A"}},{"$f":"LOOKUP(C194,MassDataLink!$A$4:$A$3649,MassDataLink!$F$4:$F$3649)","v":{"$error":"#N/A"}},null,81,"- - -","- - -"]
[null,82,-1,{"$f":"LOOKUP(C195,MassDataLink!$A$4:$A$3649,MassDataLink!$B$4:$B$3649)","v":{"$error":"#N/A"}},{"$f":"LOOKUP(C195,MassDataLink!$A$4:$A$3649,MassDataLink!$C$4:$C$3649)","v":{"$error":"#N/A"}},{"$f":"LOOKUP(C195,MassDataLink!$A$4:$A$3649,MassDataLink!$D$4:$D$3649)","v":{"$error":"#N/A"}},{"$f":"LOOKUP(C195,MassDataLink!$A$4:$A$3649,MassDataLink!$E$4:$E$3649)","v":{"$error":"#N/A"}},{"$f":"LOOKUP(C195,MassDataLink!$A$4:$A$3649,MassDataLink!$F$4:$F$3649)","v":{"$error":"#N/A"}},null,82,"- - -","- - -"]
[null,83,-1,{"$f":"LOOKUP(C196,MassDataLink!$A$4:$A$3649,MassDataLink!$B$4:$B$3649)","v":{"$error":"#N/A"}},{"$f":"LOOKUP(C196,MassDataLink!$A$4:$A$3649,MassDataLink!$C$4:$C$3649)","v":{"$error":"#N/A"}},{"$f":"LOOKUP(C196,MassDataLink!$A$4:$A$3649,MassDataLink!$D$4:$D$3649)","v":{"$error":"#N/A"}},{"$f":"LOOKUP(C196,MassDataLink!$A$4:$A$3649,MassDataLink!$E$4:$E$3649)","v":{"$error":"#N/A"}},{"$f":"LOOKUP(C196,MassDataLink!$A$4:$A$3649,MassDataLink!$F$4:$F$3649)","v":{"$error":"#N/A"}},null,83,"- - -","- - -"]
[null,84,-1,{"$f":"LOOKUP(C197,MassDataLink!$A$4:$A$3649,MassDataLink!$B$4:$B$3649)","v":{"$error":"#N/A"}},{"$f":"LOOKUP(C197,MassDataLink!$A$4:$A$3649,MassDataLink!$C$4:$C$3649)","v":{"$error":"#N/A"}},{"$f":"LOOKUP(C197,MassDataLink!$A$4:$A$3649,MassDataLink!$D$4:$D$3649)","v":{"$error":"#N/A"}},{"$f":"LOOKUP(C197,MassDataLink!$A$4:$A$3649,MassDataLink!$E$4:$E$3649)","v":{"$error":"#N/A"}},{"$f":"LOOKUP(C197,MassDataLink!$A$4:$A$3649,MassDataLink!$F$4:$F$3649)","v":{"$error":"#N/A"}},null,84,"- - -","- - -"]
[null,85,-1,{"$f":"LOOKUP(C198,MassDataLink!$A$4:$A$3649,MassDataLink!$B$4:$B$3649)","v":{"$error":"#N/A"}},{"$f":"LOOKUP(C198,MassDataLink!$A$4:$A$3649,MassDataLink!$C$4:$C$3649)","v":{"$error":"#N/A"}},{"$f":"LOOKUP(C198,MassDataLink!$A$4:$A$3649,MassDataLink!$D$4:$D$3649)","v":{"$error":"#N/A"}},{"$f":"LOOKUP(C198,MassDataLink!$A$4:$A$3649,MassDataLink!$E$4:$E$3649)","v":{"$error":"#N/A"}},{"$f":"LOOKUP(C198,MassDataLink!$A$4:$A$3649,MassDataLink!$F$4:$F$3649)","v":{"$error":"#N/A"}},null,85,"- - -","- - -"]
[null,86,-1,{"$f":"LOOKUP(C199,MassDataLink!$A$4:$A$3649,MassDataLink!$B$4:$B$3649)","v":{"$error":"#N/A"}},{"$f":"LOOKUP(C199,MassDataLink!$A$4:$A$3649,MassDataLink!$C$4:$C$3649)","v":{"$error":"#N/A"}},{"$f":"LOOKUP(C199,MassDataLink!$A$4:$A$3649,MassDataLink!$D$4:$D$3649)","v":{"$error":"#N/A"}},{"$f":"LOOKUP(C199,MassDataLink!$A$4:$A$3649,MassDataLink!$E$4:$E$3649)","v":{"$error":"#N/A"}},{"$f":"LOOKUP(C199,MassDataLink!$A$4:$A$3649,MassDataLink!$F$4:$F$3649)","v":{"$error":"#N/A"}},null,86,"- - -","- - -"]
[null,87,-1,{"$f":"LOOKUP(C200,MassDataLink!$A$4:$A$3649,MassDataLink!$B$4:$B$3649)","v":{"$error":"#N/A"}},{"$f":"LOOKUP(C200,MassDataLink!$A$4:$A$3649,MassDataLink!$C$4:$C$3649)","v":{"$error":"#N/A"}},{"$f":"LOOKUP(C200,MassDataLink!$A$4:$A$3649,MassDataLink!$D$4:$D$3649)","v":{"$error":"#N/A"}},{"$f":"LOOKUP(C200,MassDataLink!$A$4:$A$3649,MassDataLink!$E$4:$E$3649)","v":{"$error":"#N/A"}},{"$f":"LOOKUP(C200,MassDataLink!$A$4:$A$3649,MassDataLink!$F$4:$F$3649)","v":{"$error":"#N/A"}},null,87,"- - -","- - -"]
[null,88,-1,{"$f":"LOOKUP(C201,MassDataLink!$A$4:$A$3649,MassDataLink!$B$4:$B$3649)","v":{"$error":"#N/A"}},{"$f":"LOOKUP(C201,MassDataLink!$A$4:$A$3649,MassDataLink!$C$4:$C$3649)","v":{"$error":"#N/A"}},{"$f":"LOOKUP(C201,MassDataLink!$A$4:$A$3649,MassDataLink!$D$4:$D$3649)","v":{"$error":"#N/A"}},{"$f":"LOOKUP(C201,MassDataLink!$A$4:$A$3649,MassDataLink!$E$4:$E$3649)","v":{"$error":"#N/A"}},{"$f":"LOOKUP(C201,MassDataLink!$A$4:$A$3649,MassDataLink!$F$4:$F$3649)","v":{"$error":"#N/A"}},null,88,"- - -","- - -"]
[null,89,-1,{"$f":"LOOKUP(C202,MassDataLink!$A$4:$A$3649,MassDataLink!$B$4:$B$3649)","v":{"$error":"#N/A"}},{"$f":"LOOKUP(C202,MassDataLink!$A$4:$A$3649,MassDataLink!$C$4:$C$3649)","v":{"$error":"#N/A"}},{"$f":"LOOKUP(C202,MassDataLink!$A$4:$A$3649,MassDataLink!$D$4:$D$3649)","v":{"$error":"#N/A"}},{"$f":"LOOKUP(C202,MassDataLink!$A$4:$A$3649,MassDataLink!$E$4:$E$3649)","v":{"$error":"#N/A"}},{"$f":"LOOKUP(C202,MassDataLink!$A$4:$A$3649,MassDataLink!$F$4:$F$3649)","v":{"$error":"#N/A"}},null,89,"- - -","- - -"]
[null,90,-1,{"$f":"LOOKUP(C203,MassDataLink!$A$4:$A$3649,MassDataLink!$B$4:$B$3649)","v":{"$error":"#N/A"}},{"$f":"LOOKUP(C203,MassDataLink!$A$4:$A$3649,MassDataLink!$C$4:$C$3649)","v":{"$error":"#N/A"}},{"$f":"LOOKUP(C203,MassDataLink!$A$4:$A$3649,MassDataLink!$D$4:$D$3649)","v":{"$error":"#N/A"}},{"$f":"LOOKUP(C203,MassDataLink!$A$4:$A$3649,MassDataLink!$E$4:$E$3649)","v":{"$error":"#N/A"}},{"$f":"LOOKUP(C203,MassDataLink!$A$4:$A$3649,MassDataLink!$F$4:$F$3649)","v":{"$error":"#N/A"}},null,90,"- - -","- - -"]
[null,91,-1,{"$f":"LOOKUP(C204,MassDataLink!$A$4:$A$3649,MassDataLink!$B$4:$B$3649)","v":{"$error":"#N/A"}},{"$f":"LOOKUP(C204,MassDataLink!$A$4:$A$3649,MassDataLink!$C$4:$C$3649)","v":{"$error":"#N/A"}},{"$f":"LOOKUP(C204,MassDataLink!$A$4:$A$3649,MassDataLink!$D$4:$D$3649)","v":{"$error":"#N/A"}},{"$f":"LOOKUP(C204,MassDataLink!$A$4:$A$3649,MassDataLink!$E$4:$E$3649)","v":{"$error":"#N/A"}},{"$f":"LOOKUP(C204,MassDataLink!$A$4:$A$3649,MassDataLink!$F$4:$F$3649)","v":{"$error":"#N/A"}},null,91,"- - -","- - -"]
[null,92,-1,{"$f":"LOOKUP(C205,MassDataLink!$A$4:$A$3649,MassDataLink!$B$4:$B$3649)","v":{"$error":"#N/A"}},{"$f":"LOOKUP(C205,MassDataLink!$A$4:$A$3649,MassDataLink!$C$4:$C$3649)","v":{"$error":"#N/A"}},{"$f":"LOOKUP(C205,MassDataLink!$A$4:$A$3649,MassDataLink!$D$4:$D$3649)","v":{"$error":"#N/A"}},{"$f":"LOOKUP(C205,MassDataLink!$A$4:$A$3649,MassDataLink!$E$4:$E$3649)","v":{"$error":"#N/A"}},{"$f":"LOOKUP(C205,MassDataLink!$A$4:$A$3649,MassDataLink!$F$4:$F$3649)","v":{"$error":"#N/A"}},null,92,"- - -","- - -"]
[null,93,-1,{"$f":"LOOKUP(C206,MassDataLink!$A$4:$A$3649,MassDataLink!$B$4:$B$3649)","v":{"$error":"#N/A"}},{"$f":"LOOKUP(C206,MassDataLink!$A$4:$A$3649,MassDataLink!$C$4:$C$3649)","v":{"$error":"#N/A"}},{"$f":"LOOKUP(C206,MassDataLink!$A$4:$A$3649,MassDataLink!$D$4:$D$3649)","v":{"$error":"#N/A"}},{"$f":"LOOKUP(C206,MassDataLink!$A$4:$A$3649,MassDataLink!$E$4:$E$3649)","v":{"$error":"#N/A"}},{"$f":"LOOKUP(C206,MassDataLink!$A$4:$A$3649,MassDataLink!$F$4:$F$3649)","v":{"$error":"#N/A"}},null,93,"- - -","- - -"]
[null,94,-1,{"$f":"LOOKUP(C207,MassDataLink!$A$4:$A$3649,MassDataLink!$B$4:$B$3649)","v":{"$error":"#N/A"}},{"$f":"LOOKUP(C207,MassDataLink!$A$4:$A$3649,MassDataLink!$C$4:$C$3649)","v":{"$error":"#N/A"}},{"$f":"LOOKUP(C207,MassDataLink!$A$4:$A$3649,MassDataLink!$D$4:$D$3649)","v":{"$error":"#N/A"}},{"$f":"LOOKUP(C207,MassDataLink!$A$4:$A$3649,MassDataLink!$E$4:$E$3649)","v":{"$error":"#N/A"}},{"$f":"LOOKUP(C207,MassDataLink!$A$4:$A$3649,MassDataLink!$F$4:$F$3649)","v":{"$error":"#N/A"}},null,94,"- - -","- - -"]
[null,95,-1,{"$f":"LOOKUP(C208,MassDataLink!$A$4:$A$3649,MassDataLink!$B$4:$B$3649)","v":{"$error":"#N/A"}},{"$f":"LOOKUP(C208,MassDataLink!$A$4:$A$3649,MassDataLink!$C$4:$C$3649)","v":{"$error":"#N/A"}},{"$f":"LOOKUP(C208,MassDataLink!$A$4:$A$3649,MassDataLink!$D$4:$D$3649)","v":{"$error":"#N/A"}},{"$f":"LOOKUP(C208,MassDataLink!$A$4:$A$3649,MassDataLink!$E$4:$E$3649)","v":{"$error":"#N/A"}},{"$f":"LOOKUP(C208,MassDataLink!$A$4:$A$3649,MassDataLink!$F$4:$F$3649)","v":{"$error":"#N/A"}},null,95,"- - -","- - -"]
[null,96,-1,{"$f":"LOOKUP(C209,MassDataLink!$A$4:$A$3649,MassDataLink!$B$4:$B$3649)","v":{"$error":"#N/A"}},{"$f":"LOOKUP(C209,MassDataLink!$A$4:$A$3649,MassDataLink!$C$4:$C$3649)","v":{"$error":"#N/A"}},{"$f":"LOOKUP(C209,MassDataLink!$A$4:$A$3649,MassDataLink!$D$4:$D$3649)","v":{"$error":"#N/A"}},{"$f":"LOOKUP(C209,MassDataLink!$A$4:$A$3649,MassDataLink!$E$4:$E$3649)","v":{"$error":"#N/A"}},{"$f":"LOOKUP(C209,MassDataLink!$A$4:$A$3649,MassDataLink!$F$4:$F$3649)","v":{"$error":"#N/A"}},null,96,"- - -","- - -"]
[null,97,-1,{"$f":"LOOKUP(C210,MassDataLink!$A$4:$A$3649,MassDataLink!$B$4:$B$3649)","v":{"$error":"#N/A"}},{"$f":"LOOKUP(C210,MassDataLink!$A$4:$A$3649,MassDataLink!$C$4:$C$3649)","v":{"$error":"#N/A"}},{"$f":"LOOKUP(C210,MassDataLink!$A$4:$A$3649,MassDataLink!$D$4:$D$3649)","v":{"$error":"#N/A"}},{"$f":"LOOKUP(C210,MassDataLink!$A$4:$A$3649,MassDataLink!$E$4:$E$3649)","v":{"$error":"#N/A"}},{"$f":"LOOKUP(C210,MassDataLink!$A$4:$A$3649,MassDataLink!$F$4:$F$3649)","v":{"$error":"#N/A"}},null,97,"- - -","- - -"]
[null,98,-1,{"$f":"LOOKUP(C211,MassDataLink!$A$4:$A$3649,MassDataLink!$B$4:$B$3649)","v":{"$error":"#N/A"}},{"$f":"LOOKUP(C211,MassDataLink!$A$4:$A$3649,MassDataLink!$C$4:$C$3649)","v":{"$error":"#N/A"}},{"$f":"LOOKUP(C211,MassDataLink!$A$4:$A$3649,MassDataLink!$D$4:$D$3649)","v":{"$error":"#N/A"}},{"$f":"LOOKUP(C211,MassDataLink!$A$4:$A$3649,MassDataLink!$E$4:$E$3649)","v":{"$error":"#N/A"}},{"$f":"LOOKUP(C211,MassDataLink!$A$4:$A$3649,MassDataLink!$F$4:$F$3649)","v":{"$error":"#N/A"}},null,98,"- - -","- - -"]
[null,99,-1,{"$f":"LOOKUP(C212,MassDataLink!$A$4:$A$3649,MassDataLink!$B$4:$B$3649)","v":{"$error":"#N/A"}},{"$f":"LOOKUP(C212,MassDataLink!$A$4:$A$3649,MassDataLink!$C$4:$C$3649)","v":{"$error":"#N/A"}},{"$f":"LOOKUP(C212,MassDataLink!$A$4:$A$3649,MassDataLink!$D$4:$D$3649)","v":{"$error":"#N/A"}},{"$f":"LOOKUP(C212,MassDataLink!$A$4:$A$3649,MassDataLink!$E$4:$E$3649)","v":{"$error":"#N/A"}},{"$f":"LOOKUP(C212,MassDataLink!$A$4:$A$3649,MassDataLink!$F$4:$F$3649)","v":{"$error":"#N/A"}},null,99,"- - -","- - -"]
[null,100,-1,{"$f":"LOOKUP(C213,MassDataLink!$A$4:$A$3649,MassDataLink!$B$4:$B$3649)","v":{"$error":"#N/A"}},{"$f":"LOOKUP(C213,MassDataLink!$A$4:$A$3649,MassDataLink!$C$4:$C$3649)","v":{"$error":"#N/A"}},{"$f":"LOOKUP(C213,MassDataLink!$A$4:$A$3649,MassDataLink!$D$4:$D$3649)","v":{"$error":"#N/A"}},{"$f":"LOOKUP(C213,MassDataLink!$A$4:$A$3649,MassDataLink!$E$4:$E$3649)","v":{"$error":"#N/A"}},{"$f":"LOOKUP(C213,MassDataLink!$A$4:$A$3649,MassDataLink!$F$4:$F$3649)","v":{"$error":"#N/A"}},null,100,"- - -","- - -"]
[null,101,-1,{"$f":"LOOKUP(C214,MassDataLink!$A$4:$A$3649,MassDataLink!$B$4:$B$3649)","v":{"$error":"#N/A"}},{"$f":"LOOKUP(C214,MassDataLink!$A$4:$A$3649,MassDataLink!$C$4:$C$3649)","v":{"$error":"#N/A"}},{"$f":"LOOKUP(C214,MassDataLink!$A$4:$A$3649,MassDataLink!$D$4:$D$3649)","v":{"$error":"#N/A"}},{"$f":"LOOKUP(C214,MassDataLink!$A$4:$A$3649,MassDataLink!$E$4:$E$3649)","v":{"$error":"#N/A"}},{"$f":"LOOKUP(C214,MassDataLink!$A$4:$A$3649,MassDataLink!$F$4:$F$3649)","v":{"$error":"#N/A"}},null,101,"- - -","- - -"]
[null,102,-1,{"$f":"LOOKUP(C215,MassDataLink!$A$4:$A$3649,MassDataLink!$B$4:$B$3649)","v":{"$error":"#N/A"}},{"$f":"LOOKUP(C215,MassDataLink!$A$4:$A$3649,MassDataLink!$C$4:$C$3649)","v":{"$error":"#N/A"}},{"$f":"LOOKUP(C215,MassDataLink!$A$4:$A$3649,MassDataLink!$D$4:$D$3649)","v":{"$error":"#N/A"}},{"$f":"LOOKUP(C215,MassDataLink!$A$4:$A$3649,MassDataLink!$E$4:$E$3649)","v":{"$error":"#N/A"}},{"$f":"LOOKUP(C215,MassDataLink!$A$4:$A$3649,MassDataLink!$F$4:$F$3649)","v":{"$error":"#N/A"}},null,102,"- - -","- - -"]
[null,103,-1,{"$f":"LOOKUP(C216,MassDataLink!$A$4:$A$3649,MassDataLink!$B$4:$B$3649)","v":{"$error":"#N/A"}},{"$f":"LOOKUP(C216,MassDataLink!$A$4:$A$3649,MassDataLink!$C$4:$C$3649)","v":{"$error":"#N/A"}},{"$f":"LOOKUP(C216,MassDataLink!$A$4:$A$3649,MassDataLink!$D$4:$D$3649)","v":{"$error":"#N/A"}},{"$f":"LOOKUP(C216,MassDataLink!$A$4:$A$3649,MassDataLink!$E$4:$E$3649)","v":{"$error":"#N/A"}},{"$f":"LOOKUP(C216,MassDataLink!$A$4:$A$3649,MassDataLink!$F$4:$F$3649)","v":{"$error":"#N/A"}},null,103,"- - -","- - -"]
[null,104,-1,{"$f":"LOOKUP(C217,MassDataLink!$A$4:$A$3649,MassDataLink!$B$4:$B$3649)","v":{"$error":"#N/A"}},{"$f":"LOOKUP(C217,MassDataLink!$A$4:$A$3649,MassDataLink!$C$4:$C$3649)","v":{"$error":"#N/A"}},{"$f":"LOOKUP(C217,MassDataLink!$A$4:$A$3649,MassDataLink!$D$4:$D$3649)","v":{"$error":"#N/A"}},{"$f":"LOOKUP(C217,MassDataLink!$A$4:$A$3649,MassDataLink!$E$4:$E$3649)","v":{"$error":"#N/A"}},{"$f":"LOOKUP(C217,MassDataLink!$A$4:$A$3649,MassDataLink!$F$4:$F$3649)","v":{"$error":"#N/A"}},null,104,"- - -","- - -"]
[null,105,-1,{"$f":"LOOKUP(C218,MassDataLink!$A$4:$A$3649,MassDataLink!$B$4:$B$3649)","v":{"$error":"#N/A"}},{"$f":"LOOKUP(C218,MassDataLink!$A$4:$A$3649,MassDataLink!$C$4:$C$3649)","v":{"$error":"#N/A"}},{"$f":"LOOKUP(C218,MassDataLink!$A$4:$A$3649,MassDataLink!$D$4:$D$3649)","v":{"$error":"#N/A"}},{"$f":"LOOKUP(C218,MassDataLink!$A$4:$A$3649,MassDataLink!$E$4:$E$3649)","v":{"$error":"#N/A"}},{"$f":"LOOKUP(C218,MassDataLink!$A$4:$A$3649,MassDataLink!$F$4:$F$3649)","v":{"$error":"#N/A"}},null,105,"- - -","- - -"]
[null,106,-1,{"$f":"LOOKUP(C219,MassDataLink!$A$4:$A$3649,MassDataLink!$B$4:$B$3649)","v":{"$error":"#N/A"}},{"$f":"LOOKUP(C219,MassDataLink!$A$4:$A$3649,MassDataLink!$C$4:$C$3649)","v":{"$error":"#N/A"}},{"$f":"LOOKUP(C219,MassDataLink!$A$4:$A$3649,MassDataLink!$D$4:$D$3649)","v":{"$error":"#N/A"}},{"$f":"LOOKUP(C219,MassDataLink!$A$4:$A$3649,MassDataLink!$E$4:$E$3649)","v":{"$error":"#N/A"}},{"$f":"LOOKUP(C219,MassDataLink!$A$4:$A$3649,MassDataLink!$F$4:$F$3649)","v":{"$error":"#N/A"}},null,106,"- - -","- - -"]
[null,107,-1,{"$f":"LOOKUP(C220,MassDataLink!$A$4:$A$3649,MassDataLink!$B$4:$B$3649)","v":{"$error":"#N/A"}},{"$f":"LOOKUP(C220,MassDataLink!$A$4:$A$3649,MassDataLink!$C$4:$C$3649)","v":{"$error":"#N/A"}},{"$f":"LOOKUP(C220,MassDataLink!$A$4:$A$3649,MassDataLink!$D$4:$D$3649)","v":{"$error":"#N/A"}},{"$f":"LOOKUP(C220,MassDataLink!$A$4:$A$3649,MassDataLink!$E$4:$E$3649)","v":{"$error":"#N/A"}},{"$f":"LOOKUP(C220,MassDataLink!$A$4:$A$3649,MassDataLink!$F$4:$F$3649)","v":{"$error":"#N/A"}},null,107,"- - -","- - -"]
[null,108,-1,{"$f":"LOOKUP(C221,MassDataLink!$A$4:$A$3649,MassDataLink!$B$4:$B$3649)","v":{"$error":"#N/A"}},{"$f":"LOOKUP(C221,MassDataLink!$A$4:$A$3649,MassDataLink!$C$4:$C$3649)","v":{"$error":"#N/A"}},{"$f":"LOOKUP(C221,MassDataLink!$A$4:$A$3649,MassDataLink!$D$4:$D$3649)","v":{"$error":"#N/A"}},{"$f":"LOOKUP(C221,MassDataLink!$A$4:$A$3649,MassDataLink!$E$4:$E$3649)","v":{"$error":"#N/A"}},{"$f":"LOOKUP(C221,MassDataLink!$A$4:$A$3649,MassDataLink!$F$4:$F$3649)","v":{"$error":"#N/A"}},null,108,"- - -","- - -"]
[null,109,-1,{"$f":"LOOKUP(C222,MassDataLink!$A$4:$A$3649,MassDataLink!$B$4:$B$3649)","v":{"$error":"#N/A"}},{"$f":"LOOKUP(C222,MassDataLink!$A$4:$A$3649,MassDataLink!$C$4:$C$3649)","v":{"$error":"#N/A"}},{"$f":"LOOKUP(C222,MassDataLink!$A$4:$A$3649,MassDataLink!$D$4:$D$3649)","v":{"$error":"#N/A"}},{"$f":"LOOKUP(C222,MassDataLink!$A$4:$A$3649,MassDataLink!$E$4:$E$3649)","v":{"$error":"#N/A"}},{"$f":"LOOKUP(C222,MassDataLink!$A$4:$A$3649,MassDataLink!$F$4:$F$3649)","v":{"$error":"#N/A"}},null,109,"- - -","- - -"]
[null,110,-1,{"$f":"LOOKUP(C223,MassDataLink!$A$4:$A$3649,MassDataLink!$B$4:$B$3649)","v":{"$error":"#N/A"}},{"$f":"LOOKUP(C223,MassDataLink!$A$4:$A$3649,MassDataLink!$C$4:$C$3649)","v":{"$error":"#N/A"}},{"$f":"LOOKUP(C223,MassDataLink!$A$4:$A$3649,MassDataLink!$D$4:$D$3649)","v":{"$error":"#N/A"}},{"$f":"LOOKUP(C223,MassDataLink!$A$4:$A$3649,MassDataLink!$E$4:$E$3649)","v":{"$error":"#N/A"}},{"$f":"LOOKUP(C223,MassDataLink!$A$4:$A$3649,MassDataLink!$F$4:$F$3649)","v":{"$error":"#N/A"}},null,110,"- - -","- - -"]
[null,111,-1,{"$f":"LOOKUP(C224,MassDataLink!$A$4:$A$3649,MassDataLink!$B$4:$B$3649)","v":{"$error":"#N/A"}},{"$f":"LOOKUP(C224,MassDataLink!$A$4:$A$3649,MassDataLink!$C$4:$C$3649)","v":{"$error":"#N/A"}},{"$f":"LOOKUP(C224,MassDataLink!$A$4:$A$3649,MassDataLink!$D$4:$D$3649)","v":{"$error":"#N/A"}},{"$f":"LOOKUP(C224,MassDataLink!$A$4:$A$3649,MassDataLink!$E$4:$E$3649)","v":{"$error":"#N/A"}},{"$f":"LOOKUP(C224,MassDataLink!$A$4:$A$3649,MassDataLink!$F$4:$F$3649)","v":{"$error":"#N/A"}},null,111,"- - -","- - -"]
[null,112,-1,{"$f":"LOOKUP(C225,MassDataLink!$A$4:$A$3649,MassDataLink!$B$4:$B$3649)","v":{"$error":"#N/A"}},{"$f":"LOOKUP(C225,MassDataLink!$A$4:$A$3649,MassDataLink!$C$4:$C$3649)","v":{"$error":"#N/A"}},{"$f":"LOOKUP(C225,MassDataLink!$A$4:$A$3649,MassDataLink!$D$4:$D$3649)","v":{"$error":"#N/A"}},{"$f":"LOOKUP(C225,MassDataLink!$A$4:$A$3649,MassDataLink!$E$4:$E$3649)","v":{"$error":"#N/A"}},{"$f":"LOOKUP(C225,MassDataLink!$A$4:$A$3649,MassDataLink!$F$4:$F$3649)","v":{"$error":"#N/A"}},null,112,"- - -","- - -"]
[null,113,-1,{"$f":"LOOKUP(C226,MassDataLink!$A$4:$A$3649,MassDataLink!$B$4:$B$3649)","v":{"$error":"#N/A"}},{"$f":"LOOKUP(C226,MassDataLink!$A$4:$A$3649,MassDataLink!$C$4:$C$3649)","v":{"$error":"#N/A"}},{"$f":"LOOKUP(C226,MassDataLink!$A$4:$A$3649,MassDataLink!$D$4:$D$3649)","v":{"$error":"#N/A"}},{"$f":"LOOKUP(C226,MassDataLink!$A$4:$A$3649,MassDataLink!$E$4:$E$3649)","v":{"$error":"#N/A"}},{"$f":"LOOKUP(C226,MassDataLink!$A$4:$A$3649,MassDataLink!$F$4:$F$3649)","v":{"$error":"#N/A"}},null,113,"- - -","- - -"]
[null,114,-1,{"$f":"LOOKUP(C227,MassDataLink!$A$4:$A$3649,MassDataLink!$B$4:$B$3649)","v":{"$error":"#N/A"}},{"$f":"LOOKUP(C227,MassDataLink!$A$4:$A$3649,MassDataLink!$C$4:$C$3649)","v":{"$error":"#N/A"}},{"$f":"LOOKUP(C227,MassDataLink!$A$4:$A$3649,MassDataLink!$D$4:$D$3649)","v":{"$error":"#N/A"}},{"$f":"LOOKUP(C227,MassDataLink!$A$4:$A$3649,MassDataLink!$E$4:$E$3649)","v":{"$error":"#N/A"}},{"$f":"LOOKUP(C227,MassDataLink!$A$4:$A$3649,MassDataLink!$F$4:$F$3649)","v":{"$error":"#N/A"}},null,114,"- - -","- - -"]
[null,{"$f":"B227+1","v":115},{"$f":"IF(C227=-1,-1,H227)","v":-1},{"$f":"LOOKUP(C228,MassDataLink!$A$4:$A$3649,MassDataLink!$B$4:$B$3649)","v":{"$error":"#N/A"}},{"$f":"LOOKUP(C228,MassDataLink!$A$4:$A$3649,MassDataLink!$C$4:$C$3649)","v":{"$error":"#N/A"}},{"$f":"LOOKUP(C228,MassDataLink!$A$4:$A$3649,MassDataLink!$D$4:$D$3649)","v":{"$error":"#N/A"}},{"$f":"LOOKUP(C228,MassDataLink!$A$4:$A$3649,MassDataLink!$E$4:$E$3649)","v":{"$error":"#N/A"}},{"$f":"LOOKUP(C228,MassDataLink!$A$4:$A$3649,MassDataLink!$F$4:$F$3649)","v":{"$error":"#N/A"}},null,{"$f":"J227+1","v":115},{"$f":"IF(C228=-1,$L$112,IF($A$11=D228,ROUND((E228*$P$57),$R$57),$L$112))","v":"- - -"},{"$f":"IF(K228=$L$112,$L$112,F228)","v":"- - -"}]
[null,116,-1,{"$f":"LOOKUP(C229,MassDataLink!$A$4:$A$3649,MassDataLink!$B$4:$B$3649)","v":{"$error":"#N/A"}},{"$f":"LOOKUP(C229,MassDataLink!$A$4:$A$3649,MassDataLink!$C$4:$C$3649)","v":{"$error":"#N/A"}},{"$f":"LOOKUP(C229,MassDataLink!$A$4:$A$3649,MassDataLink!$D$4:$D$3649)","v":{"$error":"#N/A"}},{"$f":"LOOKUP(C229,MassDataLink!$A$4:$A$3649,MassDataLink!$E$4:$E$3649)","v":{"$error":"#N/A"}},{"$f":"LOOKUP(C229,MassDataLink!$A$4:$A$3649,MassDataLink!$F$4:$F$3649)","v":{"$error":"#N/A"}},null,116,"- - -","- - -"]
[null,117,-1,{"$f":"LOOKUP(C230,MassDataLink!$A$4:$A$3649,MassDataLink!$B$4:$B$3649)","v":{"$error":"#N/A"}},{"$f":"LOOKUP(C230,MassDataLink!$A$4:$A$3649,MassDataLink!$C$4:$C$3649)","v":{"$error":"#N/A"}},{"$f":"LOOKUP(C230,MassDataLink!$A$4:$A$3649,MassDataLink!$D$4:$D$3649)","v":{"$error":"#N/A"}},{"$f":"LOOKUP(C230,MassDataLink!$A$4:$A$3649,MassDataLink!$E$4:$E$3649)","v":{"$error":"#N/A"}},{"$f":"LOOKUP(C230,MassDataLink!$A$4:$A$3649,MassDataLink!$F$4:$F$3649)","v":{"$error":"#N/A"}},null,117,"- - -","- - -"]
[null,118,-1,{"$f":"LOOKUP(C231,MassDataLink!$A$4:$A$3649,MassDataLink!$B$4:$B$3649)","v":{"$error":"#N/A"}},{"$f":"LOOKUP(C231,MassDataLink!$A$4:$A$3649,MassDataLink!$C$4:$C$3649)","v":{"$error":"#N/A"}},{"$f":"LOOKUP(C231,MassDataLink!$A$4:$A$3649,MassDataLink!$D$4:$D$3649)","v":{"$error":"#N/A"}},{"$f":"LOOKUP(C231,MassDataLink!$A$4:$A$3649,MassDataLink!$E$4:$E$3649)","v":{"$error":"#N/A"}},{"$f":"LOOKUP(C231,MassDataLink!$A$4:$A$3649,MassDataLink!$F$4:$F$3649)","v":{"$error":"#N/A"}},null,118,"- - -","- - -"]
[null,119,-1,{"$f":"LOOKUP(C232,MassDataLink!$A$4:$A$3649,MassDataLink!$B$4:$B$3649)","v":{"$error":"#N/A"}},{"$f":"LOOKUP(C232,MassDataLink!$A$4:$A$3649,MassDataLink!$C$4:$C$3649)","v":{"$error":"#N/A"}},{"$f":"LOOKUP(C232,MassDataLink!$A$4:$A$3649,MassDataLink!$D$4:$D$3649)","v":{"$error":"#N/A"}},{"$f":"LOOKUP(C232,MassDataLink!$A$4:$A$3649,MassDataLink!$E$4:$E$3649)","v":{"$error":"#N/A"}},{"$f":"LOOKUP(C232,MassDataLink!$A$4:$A$3649,MassDataLink!$F$4:$F$3649)","v":{"$error":"#N/A"}},null,119,"- - -","- - -"]
[null,120,-1,{"$f":"LOOKUP(C233,MassDataLink!$A$4:$A$3649,MassDataLink!$B$4:$B$3649)","v":{"$error":"#N/A"}},{"$f":"LOOKUP(C233,MassDataLink!$A$4:$A$3649,MassDataLink!$C$4:$C$3649)","v":{"$error":"#N/A"}},{"$f":"LOOKUP(C233,MassDataLink!$A$4:$A$3649,MassDataLink!$D$4:$D$3649)","v":{"$error":"#N/A"}},{"$f":"LOOKUP(C233,MassDataLink!$A$4:$A$3649,MassDataLink!$E$4:$E$3649)","v":{"$error":"#N/A"}},{"$f":"LOOKUP(C233,MassDataLink!$A$4:$A$3649,MassDataLink!$F$4:$F$3649)","v":{"$error":"#N/A"}},null,120,"- - -","- - -"]
[null,121,-1,{"$f":"LOOKUP(C234,MassDataLink!$A$4:$A$3649,MassDataLink!$B$4:$B$3649)","v":{"$error":"#N/A"}},{"$f":"LOOKUP(C234,MassDataLink!$A$4:$A$3649,MassDataLink!$C$4:$C$3649)","v":{"$error":"#N/A"}},{"$f":"LOOKUP(C234,MassDataLink!$A$4:$A$3649,MassDataLink!$D$4:$D$3649)","v":{"$error":"#N/A"}},{"$f":"LOOKUP(C234,MassDataLink!$A$4:$A$3649,MassDataLink!$E$4:$E$3649)","v":{"$error":"#N/A"}},{"$f":"LOOKUP(C234,MassDataLink!$A$4:$A$3649,MassDataLink!$F$4:$F$3649)","v":{"$error":"#N/A"}},null,121,"- - -","- - -"]
[null,122,-1,{"$f":"LOOKUP(C235,MassDataLink!$A$4:$A$3649,MassDataLink!$B$4:$B$3649)","v":{"$error":"#N/A"}},{"$f":"LOOKUP(C235,MassDataLink!$A$4:$A$3649,MassDataLink!$C$4:$C$3649)","v":{"$error":"#N/A"}},{"$f":"LOOKUP(C235,MassDataLink!$A$4:$A$3649,MassDataLink!$D$4:$D$3649)","v":{"$error":"#N/A"}},{"$f":"LOOKUP(C235,MassDataLink!$A$4:$A$3649,MassDataLink!$E$4:$E$3649)","v":{"$error":"#N/A"}},{"$f":"LOOKUP(C235,MassDataLink!$A$4:$A$3649,MassDataLink!$F$4:$F$3649)","v":{"$error":"#N/A"}},null,122,"- - -","- - -"]
[null,123,-1,{"$f":"LOOKUP(C236,MassDataLink!$A$4:$A$3649,MassDataLink!$B$4:$B$3649)","v":{"$error":"#N/A"}},{"$f":"LOOKUP(C236,MassDataLink!$A$4:$A$3649,MassDataLink!$C$4:$C$3649)","v":{"$error":"#N/A"}},{"$f":"LOOKUP(C236,MassDataLink!$A$4:$A$3649,MassDataLink!$D$4:$D$3649)","v":{"$error":"#N/A"}},{"$f":"LOOKUP(C236,MassDataLink!$A$4:$A$3649,MassDataLink!$E$4:$E$3649)","v":{"$error":"#N/A"}},{"$f":"LOOKUP(C236,MassDataLink!$A$4:$A$3649,MassDataLink!$F$4:$F$3649)","v":{"$error":"#N/A"}},null,123,"- - -","- - -"]
[null,124,-1,{"$f":"LOOKUP(C237,MassDataLink!$A$4:$A$3649,MassDataLink!$B$4:$B$3649)","v":{"$error":"#N/A"}},{"$f":"LOOKUP(C237,MassDataLink!$A$4:$A$3649,MassDataLink!$C$4:$C$3649)","v":{"$error":"#N/A"}},{"$f":"LOOKUP(C237,MassDataLink!$A$4:$A$3649,MassDataLink!$D$4:$D$3649)","v":{"$error":"#N/A"}},{"$f":"LOOKUP(C237,MassDataLink!$A$4:$A$3649,MassDataLink!$E$4:$E$3649)","v":{"$error":"#N/A"}},{"$f":"LOOKUP(C237,MassDataLink!$A$4:$A$3649,MassDataLink!$F$4:$F$3649)","v":{"$error":"#N/A"}},null,124,"- - -","- - -"]
[null,125,-1,{"$f":"LOOKUP(C238,MassDataLink!$A$4:$A$3649,MassDataLink!$B$4:$B$3649)","v":{"$error":"#N/A"}},{"$f":"LOOKUP(C238,MassDataLink!$A$4:$A$3649,MassDataLink!$C$4:$C$3649)","v":{"$error":"#N/A"}},{"$f":"LOOKUP(C238,MassDataLink!$A$4:$A$3649,MassDataLink!$D$4:$D$3649)","v":{"$error":"#N/A"}},{"$f":"LOOKUP(C238,MassDataLink!$A$4:$A$3649,MassDataLink!$E$4:$E$3649)","v":{"$error":"#N/A"}},{"$f":"LOOKUP(C238,MassDataLink!$A$4:$A$3649,MassDataLink!$F$4:$F$3649)","v":{"$error":"#N/A"}},null,125,"- - -","- - -"]
[null,126,-1,{"$f":"LOOKUP(C239,MassDataLink!$A$4:$A$3649,MassDataLink!$B$4:$B$3649)","v":{"$error":"#N/A"}},{"$f":"LOOKUP(C239,MassDataLink!$A$4:$A$3649,MassDataLink!$C$4:$C$3649)","v":{"$error":"#N/A"}},{"$f":"LOOKUP(C239,MassDataLink!$A$4:$A$3649,MassDataLink!$D$4:$D$3649)","v":{"$error":"#N/A"}},{"$f":"LOOKUP(C239,MassDataLink!$A$4:$A$3649,MassDataLink!$E$4:$E$3649)","v":{"$error":"#N/A"}},{"$f":"LOOKUP(C239,MassDataLink!$A$4:$A$3649,MassDataLink!$F$4:$F$3649)","v":{"$error":"#N/A"}},null,126,"- - -","- - -"]
[null,127,-1,{"$f":"LOOKUP(C240,MassDataLink!$A$4:$A$3649,MassDataLink!$B$4:$B$3649)","v":{"$error":"#N/A"}},{"$f":"LOOKUP(C240,MassDataLink!$A$4:$A$3649,MassDataLink!$C$4:$C$3649)","v":{"$error":"#N/A"}},{"$f":"LOOKUP(C240,MassDataLink!$A$4:$A$3649,MassDataLink!$D$4:$D$3649)","v":{"$error":"#N/A"}},{"$f":"LOOKUP(C240,MassDataLink!$A$4:$A$3649,MassDataLink!$E$4:$E$3649)","v":{"$error":"#N/A"}},{"$f":"LOOKUP(C240,MassDataLink!$A$4:$A$3649,MassDataLink!$F$4:$F$3649)","v":{"$error":"#N/A"}},null,127,"- - -","- - -"]
[null,128,-1,{"$f":"LOOKUP(C241,MassDataLink!$A$4:$A$3649,MassDataLink!$B$4:$B$3649)","v":{"$error":"#N/A"}},{"$f":"LOOKUP(C241,MassDataLink!$A$4:$A$3649,MassDataLink!$C$4:$C$3649)","v":{"$error":"#N/A"}},{"$f":"LOOKUP(C241,MassDataLink!$A$4:$A$3649,MassDataLink!$D$4:$D$3649)","v":{"$error":"#N/A"}},{"$f":"LOOKUP(C241,MassDataLink!$A$4:$A$3649,MassDataLink!$E$4:$E$3649)","v":{"$error":"#N/A"}},{"$f":"LOOKUP(C241,MassDataLink!$A$4:$A$3649,MassDataLink!$F$4:$F$3649)","v":{"$error":"#N/A"}},null,128,"- - -","- - -"]
[null,129,-1,{"$f":"LOOKUP(C242,MassDataLink!$A$4:$A$3649,MassDataLink!$B$4:$B$3649)","v":{"$error":"#N/A"}},{"$f":"LOOKUP(C242,MassDataLink!$A$4:$A$3649,MassDataLink!$C$4:$C$3649)","v":{"$error":"#N/A"}},{"$f":"LOOKUP(C242,MassDataLink!$A$4:$A$3649,MassDataLink!$D$4:$D$3649)","v":{"$error":"#N/A"}},{"$f":"LOOKUP(C242,MassDataLink!$A$4:$A$3649,MassDataLink!$E$4:$E$3649)","v":{"$error":"#N/A"}},{"$f":"LOOKUP(C242,MassDataLink!$A$4:$A$3649,MassDataLink!$F$4:$F$3649)","v":{"$error":"#N/A"}},null,129,"- - -","- - -"]
[null,130,-1,{"$f":"LOOKUP(C243,MassDataLink!$A$4:$A$3649,MassDataLink!$B$4:$B$3649)","v":{"$error":"#N/A"}},{"$f":"LOOKUP(C243,MassDataLink!$A$4:$A$3649,MassDataLink!$C$4:$C$3649)","v":{"$error":"#N/A"}},{"$f":"LOOKUP(C243,MassDataLink!$A$4:$A$3649,MassDataLink!$D$4:$D$3649)","v":{"$error":"#N/A"}},{"$f":"LOOKUP(C243,MassDataLink!$A$4:$A$3649,MassDataLink!$E$4:$E$3649)","v":{"$error":"#N/A"}},{"$f":"LOOKUP(C243,MassDataLink!$A$4:$A$3649,MassDataLink!$F$4:$F$3649)","v":{"$error":"#N/A"}},null,130,"- - -","- - -"]
[null,131,-1,{"$f":"LOOKUP(C244,MassDataLink!$A$4:$A$3649,MassDataLink!$B$4:$B$3649)","v":{"$error":"#N/A"}},{"$f":"LOOKUP(C244,MassDataLink!$A$4:$A$3649,MassDataLink!$C$4:$C$3649)","v":{"$error":"#N/A"}},{"$f":"LOOKUP(C244,MassDataLink!$A$4:$A$3649,MassDataLink!$D$4:$D$3649)","v":{"$error":"#N/A"}},{"$f":"LOOKUP(C244,MassDataLink!$A$4:$A$3649,MassDataLink!$E$4:$E$3649)","v":{"$error":"#N/A"}},{"$f":"LOOKUP(C244,MassDataLink!$A$4:$A$3649,MassDataLink!$F$4:$F$3649)","v":{"$error":"#N/A"}},null,131,"- - -","- - -"]
[null,132,-1,{"$f":"LOOKUP(C245,MassDataLink!$A$4:$A$3649,MassDataLink!$B$4:$B$3649)","v":{"$error":"#N/A"}},{"$f":"LOOKUP(C245,MassDataLink!$A$4:$A$3649,MassDataLink!$C$4:$C$3649)","v":{"$error":"#N/A"}},{"$f":"LOOKUP(C245,MassDataLink!$A$4:$A$3649,MassDataLink!$D$4:$D$3649)","v":{"$error":"#N/A"}},{"$f":"LOOKUP(C245,MassDataLink!$A$4:$A$3649,MassDataLink!$E$4:$E$3649)","v":{"$error":"#N/A"}},{"$f":"LOOKUP(C245,MassDataLink!$A$4:$A$3649,MassDataLink!$F$4:$F$3649)","v":{"$error":"#N/A"}},null,132,"- - -","- - -"]
[null,133,-1,{"$f":"LOOKUP(C246,MassDataLink!$A$4:$A$3649,MassDataLink!$B$4:$B$3649)","v":{"$error":"#N/A"}},{"$f":"LOOKUP(C246,MassDataLink!$A$4:$A$3649,MassDataLink!$C$4:$C$3649)","v":{"$error":"#N/A"}},{"$f":"LOOKUP(C246,MassDataLink!$A$4:$A$3649,MassDataLink!$D$4:$D$3649)","v":{"$error":"#N/A"}},{"$f":"LOOKUP(C246,MassDataLink!$A$4:$A$3649,MassDataLink!$E$4:$E$3649)","v":{"$error":"#N/A"}},{"$f":"LOOKUP(C246,MassDataLink!$A$4:$A$3649,MassDataLink!$F$4:$F$3649)","v":{"$error":"#N/A"}},null,133,"- - -","- - -"]
[null,134,-1,{"$f":"LOOKUP(C247,MassDataLink!$A$4:$A$3649,MassDataLink!$B$4:$B$3649)","v":{"$error":"#N/A"}},{"$f":"LOOKUP(C247,MassDataLink!$A$4:$A$3649,MassDataLink!$C$4:$C$3649)","v":{"$error":"#N/A"}},{"$f":"LOOKUP(C247,MassDataLink!$A$4:$A$3649,MassDataLink!$D$4:$D$3649)","v":{"$error":"#N/A"}},{"$f":"LOOKUP(C247,MassDataLink!$A$4:$A$3649,MassDataLink!$E$4:$E$3649)","v":{"$error":"#N/A"}},{"$f":"LOOKUP(C247,MassDataLink!$A$4:$A$3649,MassDataLink!$F$4:$F$3649)","v":{"$error":"#N/A"}},null,134,"- - -","- - -"]
[null,135,-1,{"$f":"LOOKUP(C248,MassDataLink!$A$4:$A$3649,MassDataLink!$B$4:$B$3649)","v":{"$error":"#N/A"}},{"$f":"LOOKUP(C248,MassDataLink!$A$4:$A$3649,MassDataLink!$C$4:$C$3649)","v":{"$error":"#N/A"}},{"$f":"LOOKUP(C248,MassDataLink!$A$4:$A$3649,MassDataLink!$D$4:$D$3649)","v":{"$error":"#N/A"}},{"$f":"LOOKUP(C248,MassDataLink!$A$4:$A$3649,MassDataLink!$E$4:$E$3649)","v":{"$error":"#N/A"}},{"$f":"LOOKUP(C248,MassDataLink!$A$4:$A$3649,MassDataLink!$F$4:$F$3649)","v":{"$error":"#N/A"}},null,135,"- - -","- - -"]
[null,136,-1,{"$f":"LOOKUP(C249,MassDataLink!$A$4:$A$3649,MassDataLink!$B$4:$B$3649)","v":{"$error":"#N/A"}},{"$f":"LOOKUP(C249,MassDataLink!$A$4:$A$3649,MassDataLink!$C$4:$C$3649)","v":{"$error":"#N/A"}},{"$f":"LOOKUP(C249,MassDataLink!$A$4:$A$3649,MassDataLink!$D$4:$D$3649)","v":{"$error":"#N/A"}},{"$f":"LOOKUP(C249,MassDataLink!$A$4:$A$3649,MassDataLink!$E$4:$E$3649)","v":{"$error":"#N/A"}},{"$f":"LOOKUP(C249,MassDataLink!$A$4:$A$3649,MassDataLink!$F$4:$F$3649)","v":{"$error":"#N/A"}},null,136,"- - -","- - -"]
[null,137,-1,{"$f":"LOOKUP(C250,MassDataLink!$A$4:$A$3649,MassDataLink!$B$4:$B$3649)","v":{"$error":"#N/A"}},{"$f":"LOOKUP(C250,MassDataLink!$A$4:$A$3649,MassDataLink!$C$4:$C$3649)","v":{"$error":"#N/A"}},{"$f":"LOOKUP(C250,MassDataLink!$A$4:$A$3649,MassDataLink!$D$4:$D$3649)","v":{"$error":"#N/A"}},{"$f":"LOOKUP(C250,MassDataLink!$A$4:$A$3649,MassDataLink!$E$4:$E$3649)","v":{"$error":"#N/A"}},{"$f":"LOOKUP(C250,MassDataLink!$A$4:$A$3649,MassDataLink!$F$4:$F$3649)","v":{"$error":"#N/A"}},null,137,"- - -","- - -"]
[null,138,-1,{"$f":"LOOKUP(C251,MassDataLink!$A$4:$A$3649,MassDataLink!$B$4:$B$3649)","v":{"$error":"#N/A"}},{"$f":"LOOKUP(C251,MassDataLink!$A$4:$A$3649,MassDataLink!$C$4:$C$3649)","v":{"$error":"#N/A"}},{"$f":"LOOKUP(C251,MassDataLink!$A$4:$A$3649,MassDataLink!$D$4:$D$3649)","v":{"$error":"#N/A"}},{"$f":"LOOKUP(C251,MassDataLink!$A$4:$A$3649,MassDataLink!$E$4:$E$3649)","v":{"$error":"#N/A"}},{"$f":"LOOKUP(C251,MassDataLink!$A$4:$A$3649,MassDataLink!$F$4:$F$3649)","v":{"$error":"#N/A"}},null,138,"- - -","- - -"]
[null,139,-1,{"$f":"LOOKUP(C252,MassDataLink!$A$4:$A$3649,MassDataLink!$B$4:$B$3649)","v":{"$error":"#N/A"}},{"$f":"LOOKUP(C252,MassDataLink!$A$4:$A$3649,MassDataLink!$C$4:$C$3649)","v":{"$error":"#N/A"}},{"$f":"LOOKUP(C252,MassDataLink!$A$4:$A$3649,MassDataLink!$D$4:$D$3649)","v":{"$error":"#N/A"}},{"$f":"LOOKUP(C252,MassDataLink!$A$4:$A$3649,MassDataLink!$E$4:$E$3649)","v":{"$error":"#N/A"}},{"$f":"LOOKUP(C252,MassDataLink!$A$4:$A$3649,MassDataLink!$F$4:$F$3649)","v":{"$error":"#N/A"}},null,139,"- - -","- - -"]
[null,140,-1,{"$f":"LOOKUP(C253,MassDataLink!$A$4:$A$3649,MassDataLink!$B$4:$B$3649)","v":{"$error":"#N/A"}},{"$f":"LOOKUP(C253,MassDataLink!$A$4:$A$3649,MassDataLink!$C$4:$C$3649)","v":{"$error":"#N/A"}},{"$f":"LOOKUP(C253,MassDataLink!$A$4:$A$3649,MassDataLink!$D$4:$D$3649)","v":{"$error":"#N/A"}},{"$f":"LOOKUP(C253,MassDataLink!$A$4:$A$3649,MassDataLink!$E$4:$E$3649)","v":{"$error":"#N/A"}},{"$f":"LOOKUP(C253,MassDataLink!$A$4:$A$3649,MassDataLink!$F$4:$F$3649)","v":{"$error":"#N/A"}},null,140,"- - -","- - -"]
[null,141,-1,{"$f":"LOOKUP(C254,MassDataLink!$A$4:$A$3649,MassDataLink!$B$4:$B$3649)","v":{"$error":"#N/A"}},{"$f":"LOOKUP(C254,MassDataLink!$A$4:$A$3649,MassDataLink!$C$4:$C$3649)","v":{"$error":"#N/A"}},{"$f":"LOOKUP(C254,MassDataLink!$A$4:$A$3649,MassDataLink!$D$4:$D$3649)","v":{"$error":"#N/A"}},{"$f":"LOOKUP(C254,MassDataLink!$A$4:$A$3649,MassDataLink!$E$4:$E$3649)","v":{"$error":"#N/A"}},{"$f":"LOOKUP(C254,MassDataLink!$A$4:$A$3649,MassDataLink!$F$4:$F$3649)","v":{"$error":"#N/A"}},null,141,"- - -","- - -"]
[null,142,-1,{"$f":"LOOKUP(C255,MassDataLink!$A$4:$A$3649,MassDataLink!$B$4:$B$3649)","v":{"$error":"#N/A"}},{"$f":"LOOKUP(C255,MassDataLink!$A$4:$A$3649,MassDataLink!$C$4:$C$3649)","v":{"$error":"#N/A"}},{"$f":"LOOKUP(C255,MassDataLink!$A$4:$A$3649,MassDataLink!$D$4:$D$3649)","v":{"$error":"#N/A"}},{"$f":"LOOKUP(C255,MassDataLink!$A$4:$A$3649,MassDataLink!$E$4:$E$3649)","v":{"$error":"#N/A"}},{"$f":"LOOKUP(C255,MassDataLink!$A$4:$A$3649,MassDataLink!$F$4:$F$3649)","v":{"$error":"#N/A"}},null,142,"- - -","- - -"]
[null,143,-1,{"$f":"LOOKUP(C256,MassDataLink!$A$4:$A$3649,MassDataLink!$B$4:$B$3649)","v":{"$error":"#N/A"}},{"$f":"LOOKUP(C256,MassDataLink!$A$4:$A$3649,MassDataLink!$C$4:$C$3649)","v":{"$error":"#N/A"}},{"$f":"LOOKUP(C256,MassDataLink!$A$4:$A$3649,MassDataLink!$D$4:$D$3649)","v":{"$error":"#N/A"}},{"$f":"LOOKUP(C256,MassDataLink!$A$4:$A$3649,MassDataLink!$E$4:$E$3649)","v":{"$error":"#N/A"}},{"$f":"LOOKUP(C256,MassDataLink!$A$4:$A$3649,MassDataLink!$F$4:$F$3649)","v":{"$error":"#N/A"}},null,143,"- - -","- - -"]
[null,144,-1,{"$f":"LOOKUP(C257,MassDataLink!$A$4:$A$3649,MassDataLink!$B$4:$B$3649)","v":{"$error":"#N/A"}},{"$f":"LOOKUP(C257,MassDataLink!$A$4:$A$3649,MassDataLink!$C$4:$C$3649)","v":{"$error":"#N/A"}},{"$f":"LOOKUP(C257,MassDataLink!$A$4:$A$3649,MassDataLink!$D$4:$D$3649)","v":{"$error":"#N/A"}},{"$f":"LOOKUP(C257,MassDataLink!$A$4:$A$3649,MassDataLink!$E$4:$E$3649)","v":{"$error":"#N/A"}},{"$f":"LOOKUP(C257,MassDataLink!$A$4:$A$3649,MassDataLink!$F$4:$F$3649)","v":{"$error":"#N/A"}},null,144,"- - -","- - -"]
[null,145,-1,{"$f":"LOOKUP(C258,MassDataLink!$A$4:$A$3649,MassDataLink!$B$4:$B$3649)","v":{"$error":"#N/A"}},{"$f":"LOOKUP(C258,MassDataLink!$A$4:$A$3649,MassDataLink!$C$4:$C$3649)","v":{"$error":"#N/A"}},{"$f":"LOOKUP(C258,MassDataLink!$A$4:$A$3649,MassDataLink!$D$4:$D$3649)","v":{"$error":"#N/A"}},{"$f":"LOOKUP(C258,MassDataLink!$A$4:$A$3649,MassDataLink!$E$4:$E$3649)","v":{"$error":"#N/A"}},{"$f":"LOOKUP(C258,MassDataLink!$A$4:$A$3649,MassDataLink!$F$4:$F$3649)","v":{"$error":"#N/A"}},null,145,"- - -","- - -"]
[null,146,-1,{"$f":"LOOKUP(C259,MassDataLink!$A$4:$A$3649,MassDataLink!$B$4:$B$3649)","v":{"$error":"#N/A"}},{"$f":"LOOKUP(C259,MassDataLink!$A$4:$A$3649,MassDataLink!$C$4:$C$3649)","v":{"$error":"#N/A"}},{"$f":"LOOKUP(C259,MassDataLink!$A$4:$A$3649,MassDataLink!$D$4:$D$3649)","v":{"$error":"#N/A"}},{"$f":"LOOKUP(C259,MassDataLink!$A$4:$A$3649,MassDataLink!$E$4:$E$3649)","v":{"$error":"#N/A"}},{"$f":"LOOKUP(C259,MassDataLink!$A$4:$A$3649,MassDataLink!$F$4:$F$3649)","v":{"$error":"#N/A"}},null,146,"- - -","- - -"]
[null,147,-1,{"$f":"LOOKUP(C260,MassDataLink!$A$4:$A$3649,MassDataLink!$B$4:$B$3649)","v":{"$error":"#N/A"}},{"$f":"LOOKUP(C260,MassDataLink!$A$4:$A$3649,MassDataLink!$C$4:$C$3649)","v":{"$error":"#N/A"}},{"$f":"LOOKUP(C260,MassDataLink!$A$4:$A$3649,MassDataLink!$D$4:$D$3649)","v":{"$error":"#N/A"}},{"$f":"LOOKUP(C260,MassDataLink!$A$4:$A$3649,MassDataLink!$E$4:$E$3649)","v":{"$error":"#N/A"}},{"$f":"LOOKUP(C260,MassDataLink!$A$4:$A$3649,MassDataLink!$F$4:$F$3649)","v":{"$error":"#N/A"}},null,147,"- - -","- - -"]
[null,148,-1,{"$f":"LOOKUP(C261,MassDataLink!$A$4:$A$3649,MassDataLink!$B$4:$B$3649)","v":{"$error":"#N/A"}},{"$f":"LOOKUP(C261,MassDataLink!$A$4:$A$3649,MassDataLink!$C$4:$C$3649)","v":{"$error":"#N/A"}},{"$f":"LOOKUP(C261,MassDataLink!$A$4:$A$3649,MassDataLink!$D$4:$D$3649)","v":{"$error":"#N/A"}},{"$f":"LOOKUP(C261,MassDataLink!$A$4:$A$3649,MassDataLink!$E$4:$E$3649)","v":{"$error":"#N/A"}},{"$f":"LOOKUP(C261,MassDataLink!$A$4:$A$3649,MassDataLink!$F$4:$F$3649)","v":{"$error":"#N/A"}},null,148,"- - -","- - -"]
[null,149,-1,{"$f":"LOOKUP(C262,MassDataLink!$A$4:$A$3649,MassDataLink!$B$4:$B$3649)","v":{"$error":"#N/A"}},{"$f":"LOOKUP(C262,MassDataLink!$A$4:$A$3649,MassDataLink!$C$4:$C$3649)","v":{"$error":"#N/A"}},{"$f":"LOOKUP(C262,MassDataLink!$A$4:$A$3649,MassDataLink!$D$4:$D$3649)","v":{"$error":"#N/A"}},{"$f":"LOOKUP(C262,MassDataLink!$A$4:$A$3649,MassDataLink!$E$4:$E$3649)","v":{"$error":"#N/A"}},{"$f":"LOOKUP(C262,MassDataLink!$A$4:$A$3649,MassDataLink!$F$4:$F$3649)","v":{"$error":"#N/A"}},null,149,"- - -","- - -"]
[null,150,-1,{"$f":"LOOKUP(C263,MassDataLink!$A$4:$A$3649,MassDataLink!$B$4:$B$3649)","v":{"$error":"#N/A"}},{"$f":"LOOKUP(C263,MassDataLink!$A$4:$A$3649,MassDataLink!$C$4:$C$3649)","v":{"$error":"#N/A"}},{"$f":"LOOKUP(C263,MassDataLink!$A$4:$A$3649,MassDataLink!$D$4:$D$3649)","v":{"$error":"#N/A"}},{"$f":"LOOKUP(C263,MassDataLink!$A$4:$A$3649,MassDataLink!$E$4:$E$3649)","v":{"$error":"#N/A"}},{"$f":"LOOKUP(C263,MassDataLink!$A$4:$A$3649,MassDataLink!$F$4:$F$3649)","v":{"$error":"#N/A"}},null,150,"- - -","- - -"]
[null,151,-1,{"$f":"LOOKUP(C264,MassDataLink!$A$4:$A$3649,MassDataLink!$B$4:$B$3649)","v":{"$error":"#N/A"}},{"$f":"LOOKUP(C264,MassDataLink!$A$4:$A$3649,MassDataLink!$C$4:$C$3649)","v":{"$error":"#N/A"}},{"$f":"LOOKUP(C264,MassDataLink!$A$4:$A$3649,MassDataLink!$D$4:$D$3649)","v":{"$error":"#N/A"}},{"$f":"LOOKUP(C264,MassDataLink!$A$4:$A$3649,MassDataLink!$E$4:$E$3649)","v":{"$error":"#N/A"}},{"$f":"LOOKUP(C264,MassDataLink!$A$4:$A$3649,MassDataLink!$F$4:$F$3649)","v":{"$error":"#N/A"}},null,151,"- - -","- - -"]
[null,152,-1,{"$f":"LOOKUP(C265,MassDataLink!$A$4:$A$3649,MassDataLink!$B$4:$B$3649)","v":{"$error":"#N/A"}},{"$f":"LOOKUP(C265,MassDataLink!$A$4:$A$3649,MassDataLink!$C$4:$C$3649)","v":{"$error":"#N/A"}},{"$f":"LOOKUP(C265,MassDataLink!$A$4:$A$3649,MassDataLink!$D$4:$D$3649)","v":{"$error":"#N/A"}},{"$f":"LOOKUP(C265,MassDataLink!$A$4:$A$3649,MassDataLink!$E$4:$E$3649)","v":{"$error":"#N/A"}},{"$f":"LOOKUP(C265,MassDataLink!$A$4:$A$3649,MassDataLink!$F$4:$F$3649)","v":{"$error":"#N/A"}},null,152,"- - -","- - -"]
[null,153,-1,{"$f":"LOOKUP(C266,MassDataLink!$A$4:$A$3649,MassDataLink!$B$4:$B$3649)","v":{"$error":"#N/A"}},{"$f":"LOOKUP(C266,MassDataLink!$A$4:$A$3649,MassDataLink!$C$4:$C$3649)","v":{"$error":"#N/A"}},{"$f":"LOOKUP(C266,MassDataLink!$A$4:$A$3649,MassDataLink!$D$4:$D$3649)","v":{"$error":"#N/A"}},{"$f":"LOOKUP(C266,MassDataLink!$A$4:$A$3649,MassDataLink!$E$4:$E$3649)","v":{"$error":"#N/A"}},{"$f":"LOOKUP(C266,MassDataLink!$A$4:$A$3649,MassDataLink!$F$4:$F$3649)","v":{"$error":"#N/A"}},null,153,"- - -","- - -"]
[null,154,-1,{"$f":"LOOKUP(C267,MassDataLink!$A$4:$A$3649,MassDataLink!$B$4:$B$3649)","v":{"$error":"#N/A"}},{"$f":"LOOKUP(C267,MassDataLink!$A$4:$A$3649,MassDataLink!$C$4:$C$3649)","v":{"$error":"#N/A"}},{"$f":"LOOKUP(C267,MassDataLink!$A$4:$A$3649,MassDataLink!$D$4:$D$3649)","v":{"$error":"#N/A"}},{"$f":"LOOKUP(C267,MassDataLink!$A$4:$A$3649,MassDataLink!$E$4:$E$3649)","v":{"$error":"#N/A"}},{"$f":"LOOKUP(C267,MassDataLink!$A$4:$A$3649,MassDataLink!$F$4:$F$3649)","v":{"$error":"#N/A"}},null,154,"- - -","- - -"]
[null,155,-1,{"$f":"LOOKUP(C268,MassDataLink!$A$4:$A$3649,MassDataLink!$B$4:$B$3649)","v":{"$error":"#N/A"}},{"$f":"LOOKUP(C268,MassDataLink!$A$4:$A$3649,MassDataLink!$C$4:$C$3649)","v":{"$error":"#N/A"}},{"$f":"LOOKUP(C268,MassDataLink!$A$4:$A$3649,MassDataLink!$D$4:$D$3649)","v":{"$error":"#N/A"}},{"$f":"LOOKUP(C268,MassDataLink!$A$4:$A$3649,MassDataLink!$E$4:$E$3649)","v":{"$error":"#N/A"}},{"$f":"LOOKUP(C268,MassDataLink!$A$4:$A$3649,MassDataLink!$F$4:$F$3649)","v":{"$error":"#N/A"}},null,155,"- - -","- - -"]
[null,156,-1,{"$f":"LOOKUP(C269,MassDataLink!$A$4:$A$3649,MassDataLink!$B$4:$B$3649)","v":{"$error":"#N/A"}},{"$f":"LOOKUP(C269,MassDataLink!$A$4:$A$3649,MassDataLink!$C$4:$C$3649)","v":{"$error":"#N/A"}},{"$f":"LOOKUP(C269,MassDataLink!$A$4:$A$3649,MassDataLink!$D$4:$D$3649)","v":{"$error":"#N/A"}},{"$f":"LOOKUP(C269,MassDataLink!$A$4:$A$3649,MassDataLink!$E$4:$E$3649)","v":{"$error":"#N/A"}},{"$f":"LOOKUP(C269,MassDataLink!$A$4:$A$3649,MassDataLink!$F$4:$F$3649)","v":{"$error":"#N/A"}},null,156,"- - -","- - -"]
[null,157,-1,{"$f":"LOOKUP(C270,MassDataLink!$A$4:$A$3649,MassDataLink!$B$4:$B$3649)","v":{"$error":"#N/A"}},{"$f":"LOOKUP(C270,MassDataLink!$A$4:$A$3649,MassDataLink!$C$4:$C$3649)","v":{"$error":"#N/A"}},{"$f":"LOOKUP(C270,MassDataLink!$A$4:$A$3649,MassDataLink!$D$4:$D$3649)","v":{"$error":"#N/A"}},{"$f":"LOOKUP(C270,MassDataLink!$A$4:$A$3649,MassDataLink!$E$4:$E$3649)","v":{"$error":"#N/A"}},{"$f":"LOOKUP(C270,MassDataLink!$A$4:$A$3649,MassDataLink!$F$4:$F$3649)","v":{"$error":"#N/A"}},null,157,"- - -","- - -"]
[null,158,-1,{"$f":"LOOKUP(C271,MassDataLink!$A$4:$A$3649,MassDataLink!$B$4:$B$3649)","v":{"$error":"#N/A"}},{"$f":"LOOKUP(C271,MassDataLink!$A$4:$A$3649,MassDataLink!$C$4:$C$3649)","v":{"$error":"#N/A"}},{"$f":"LOOKUP(C271,MassDataLink!$A$4:$A$3649,MassDataLink!$D$4:$D$3649)","v":{"$error":"#N/A"}},{"$f":"LOOKUP(C271,MassDataLink!$A$4:$A$3649,MassDataLink!$E$4:$E$3649)","v":{"$error":"#N/A"}},{"$f":"LOOKUP(C271,MassDataLink!$A$4:$A$3649,MassDataLink!$F$4:$F$3649)","v":{"$error":"#N/A"}},null,158,"- - -","- - -"]
[null,159,-1,{"$f":"LOOKUP(C272,MassDataLink!$A$4:$A$3649,MassDataLink!$B$4:$B$3649)","v":{"$error":"#N/A"}},{"$f":"LOOKUP(C272,MassDataLink!$A$4:$A$3649,MassDataLink!$C$4:$C$3649)","v":{"$error":"#N/A"}},{"$f":"LOOKUP(C272,MassDataLink!$A$4:$A$3649,MassDataLink!$D$4:$D$3649)","v":{"$error":"#N/A"}},{"$f":"LOOKUP(C272,MassDataLink!$A$4:$A$3649,MassDataLink!$E$4:$E$3649)","v":{"$error":"#N/A"}},{"$f":"LOOKUP(C272,MassDataLink!$A$4:$A$3649,MassDataLink!$F$4:$F$3649)","v":{"$error":"#N/A"}},null,159,"- - -","- - -"]
[null,160,-1,{"$f":"LOOKUP(C273,MassDataLink!$A$4:$A$3649,MassDataLink!$B$4:$B$3649)","v":{"$error":"#N/A"}},{"$f":"LOOKUP(C273,MassDataLink!$A$4:$A$3649,MassDataLink!$C$4:$C$3649)","v":{"$error":"#N/A"}},{"$f":"LOOKUP(C273,MassDataLink!$A$4:$A$3649,MassDataLink!$D$4:$D$3649)","v":{"$error":"#N/A"}},{"$f":"LOOKUP(C273,MassDataLink!$A$4:$A$3649,MassDataLink!$E$4:$E$3649)","v":{"$error":"#N/A"}},{"$f":"LOOKUP(C273,MassDataLink!$A$4:$A$3649,MassDataLink!$F$4:$F$3649)","v":{"$error":"#N/A"}},null,160,"- - -","- - -"]
[null,161,-1,{"$f":"LOOKUP(C274,MassDataLink!$A$4:$A$3649,MassDataLink!$B$4:$B$3649)","v":{"$error":"#N/A"}},{"$f":"LOOKUP(C274,MassDataLink!$A$4:$A$3649,MassDataLink!$C$4:$C$3649)","v":{"$error":"#N/A"}},{"$f":"LOOKUP(C274,MassDataLink!$A$4:$A$3649,MassDataLink!$D$4:$D$3649)","v":{"$error":"#N/A"}},{"$f":"LOOKUP(C274,MassDataLink!$A$4:$A$3649,MassDataLink!$E$4:$E$3649)","v":{"$error":"#N/A"}},{"$f":"LOOKUP(C274,MassDataLink!$A$4:$A$3649,MassDataLink!$F$4:$F$3649)","v":{"$error":"#N/A"}},null,161,"- - -","- - -"]
[null,162,-1,{"$f":"LOOKUP(C275,MassDataLink!$A$4:$A$3649,MassDataLink!$B$4:$B$3649)","v":{"$error":"#N/A"}},{"$f":"LOOKUP(C275,MassDataLink!$A$4:$A$3649,MassDataLink!$C$4:$C$3649)","v":{"$error":"#N/A"}},{"$f":"LOOKUP(C275,MassDataLink!$A$4:$A$3649,MassDataLink!$D$4:$D$3649)","v":{"$error":"#N/A"}},{"$f":"LOOKUP(C275,MassDataLink!$A$4:$A$3649,MassDataLink!$E$4:$E$3649)","v":{"$error":"#N/A"}},{"$f":"LOOKUP(C275,MassDataLink!$A$4:$A$3649,MassDataLink!$F$4:$F$3649)","v":{"$error":"#N/A"}},null,162,"- - -","- - -"]
[null,163,-1,{"$f":"LOOKUP(C276,MassDataLink!$A$4:$A$3649,MassDataLink!$B$4:$B$3649)","v":{"$error":"#N/A"}},{"$f":"LOOKUP(C276,MassDataLink!$A$4:$A$3649,MassDataLink!$C$4:$C$3649)","v":{"$error":"#N/A"}},{"$f":"LOOKUP(C276,MassDataLink!$A$4:$A$3649,MassDataLink!$D$4:$D$3649)","v":{"$error":"#N/A"}},{"$f":"LOOKUP(C276,MassDataLink!$A$4:$A$3649,MassDataLink!$E$4:$E$3649)","v":{"$error":"#N/A"}},{"$f":"LOOKUP(C276,MassDataLink!$A$4:$A$3649,MassDataLink!$F$4:$F$3649)","v":{"$error":"#N/A"}},null,163,"- - -","- - -"]
[null,164,-1,{"$f":"LOOKUP(C277,MassDataLink!$A$4:$A$3649,MassDataLink!$B$4:$B$3649)","v":{"$error":"#N/A"}},{"$f":"LOOKUP(C277,MassDataLink!$A$4:$A$3649,MassDataLink!$C$4:$C$3649)","v":{"$error":"#N/A"}},{"$f":"LOOKUP(C277,MassDataLink!$A$4:$A$3649,MassDataLink!$D$4:$D$3649)","v":{"$error":"#N/A"}},{"$f":"LOOKUP(C277,MassDataLink!$A$4:$A$3649,MassDataLink!$E$4:$E$3649)","v":{"$error":"#N/A"}},{"$f":"LOOKUP(C277,MassDataLink!$A$4:$A$3649,MassDataLink!$F$4:$F$3649)","v":{"$error":"#N/A"}},null,164,"- - -","- - -"]
[null,165,-1,{"$f":"LOOKUP(C278,MassDataLink!$A$4:$A$3649,MassDataLink!$B$4:$B$3649)","v":{"$error":"#N/A"}},{"$f":"LOOKUP(C278,MassDataLink!$A$4:$A$3649,MassDataLink!$C$4:$C$3649)","v":{"$error":"#N/A"}},{"$f":"LOOKUP(C278,MassDataLink!$A$4:$A$3649,MassDataLink!$D$4:$D$3649)","v":{"$error":"#N/A"}},{"$f":"LOOKUP(C278,MassDataLink!$A$4:$A$3649,MassDataLink!$E$4:$E$3649)","v":{"$error":"#N/A"}},{"$f":"LOOKUP(C278,MassDataLink!$A$4:$A$3649,MassDataLink!$F$4:$F$3649)","v":{"$error":"#N/A"}},null,165,"- - -","- - -"]
[null,166,-1,{"$f":"LOOKUP(C279,MassDataLink!$A$4:$A$3649,MassDataLink!$B$4:$B$3649)","v":{"$error":"#N/A"}},{"$f":"LOOKUP(C279,MassDataLink!$A$4:$A$3649,MassDataLink!$C$4:$C$3649)","v":{"$error":"#N/A"}},{"$f":"LOOKUP(C279,MassDataLink!$A$4:$A$3649,MassDataLink!$D$4:$D$3649)","v":{"$error":"#N/A"}},{"$f":"LOOKUP(C279,MassDataLink!$A$4:$A$3649,MassDataLink!$E$4:$E$3649)","v":{"$error":"#N/A"}},{"$f":"LOOKUP(C279,MassDataLink!$A$4:$A$3649,MassDataLink!$F$4:$F$3649)","v":{"$error":"#N/A"}},null,166,"- - -","- - -"]
[null,167,-1,{"$f":"LOOKUP(C280,MassDataLink!$A$4:$A$3649,MassDataLink!$B$4:$B$3649)","v":{"$error":"#N/A"}},{"$f":"LOOKUP(C280,MassDataLink!$A$4:$A$3649,MassDataLink!$C$4:$C$3649)","v":{"$error":"#N/A"}},{"$f":"LOOKUP(C280,MassDataLink!$A$4:$A$3649,MassDataLink!$D$4:$D$3649)","v":{"$error":"#N/A"}},{"$f":"LOOKUP(C280,MassDataLink!$A$4:$A$3649,MassDataLink!$E$4:$E$3649)","v":{"$error":"#N/A"}},{"$f":"LOOKUP(C280,MassDataLink!$A$4:$A$3649,MassDataLink!$F$4:$F$3649)","v":{"$error":"#N/A"}},null,167,"- - -","- - -"]
[null,168,-1,{"$f":"LOOKUP(C281,MassDataLink!$A$4:$A$3649,MassDataLink!$B$4:$B$3649)","v":{"$error":"#N/A"}},{"$f":"LOOKUP(C281,MassDataLink!$A$4:$A$3649,MassDataLink!$C$4:$C$3649)","v":{"$error":"#N/A"}},{"$f":"LOOKUP(C281,MassDataLink!$A$4:$A$3649,MassDataLink!$D$4:$D$3649)","v":{"$error":"#N/A"}},{"$f":"LOOKUP(C281,MassDataLink!$A$4:$A$3649,MassDataLink!$E$4:$E$3649)","v":{"$error":"#N/A"}},{"$f":"LOOKUP(C281,MassDataLink!$A$4:$A$3649,MassDataLink!$F$4:$F$3649)","v":{"$error":"#N/A"}},null,168,"- - -","- - -"]
[null,169,-1,{"$f":"LOOKUP(C282,MassDataLink!$A$4:$A$3649,MassDataLink!$B$4:$B$3649)","v":{"$error":"#N/A"}},{"$f":"LOOKUP(C282,MassDataLink!$A$4:$A$3649,MassDataLink!$C$4:$C$3649)","v":{"$error":"#N/A"}},{"$f":"LOOKUP(C282,MassDataLink!$A$4:$A$3649,MassDataLink!$D$4:$D$3649)","v":{"$error":"#N/A"}},{"$f":"LOOKUP(C282,MassDataLink!$A$4:$A$3649,MassDataLink!$E$4:$E$3649)","v":{"$error":"#N/A"}},{"$f":"LOOKUP(C282,MassDataLink!$A$4:$A$3649,MassDataLink!$F$4:$F$3649)","v":{"$error":"#N/A"}},null,169,"- - -","- - -"]
[null,170,-1,{"$f":"LOOKUP(C283,MassDataLink!$A$4:$A$3649,MassDataLink!$B$4:$B$3649)","v":{"$error":"#N/A"}},{"$f":"LOOKUP(C283,MassDataLink!$A$4:$A$3649,MassDataLink!$C$4:$C$3649)","v":{"$error":"#N/A"}},{"$f":"LOOKUP(C283,MassDataLink!$A$4:$A$3649,MassDataLink!$D$4:$D$3649)","v":{"$error":"#N/A"}},{"$f":"LOOKUP(C283,MassDataLink!$A$4:$A$3649,MassDataLink!$E$4:$E$3649)","v":{"$error":"#N/A"}},{"$f":"LOOKUP(C283,MassDataLink!$A$4:$A$3649,MassDataLink!$F$4:$F$3649)","v":{"$error":"#N/A"}},null,170,"- - -","- - -"]
[null,171,-1,{"$f":"LOOKUP(C284,MassDataLink!$A$4:$A$3649,MassDataLink!$B$4:$B$3649)","v":{"$error":"#N/A"}},{"$f":"LOOKUP(C284,MassDataLink!$A$4:$A$3649,MassDataLink!$C$4:$C$3649)","v":{"$error":"#N/A"}},{"$f":"LOOKUP(C284,MassDataLink!$A$4:$A$3649,MassDataLink!$D$4:$D$3649)","v":{"$error":"#N/A"}},{"$f":"LOOKUP(C284,MassDataLink!$A$4:$A$3649,MassDataLink!$E$4:$E$3649)","v":{"$error":"#N/A"}},{"$f":"LOOKUP(C284,MassDataLink!$A$4:$A$3649,MassDataLink!$F$4:$F$3649)","v":{"$error":"#N/A"}},null,171,"- - -","- - -"]
[null,172,-1,{"$f":"LOOKUP(C285,MassDataLink!$A$4:$A$3649,MassDataLink!$B$4:$B$3649)","v":{"$error":"#N/A"}},{"$f":"LOOKUP(C285,MassDataLink!$A$4:$A$3649,MassDataLink!$C$4:$C$3649)","v":{"$error":"#N/A"}},{"$f":"LOOKUP(C285,MassDataLink!$A$4:$A$3649,MassDataLink!$D$4:$D$3649)","v":{"$error":"#N/A"}},{"$f":"LOOKUP(C285,MassDataLink!$A$4:$A$3649,MassDataLink!$E$4:$E$3649)","v":{"$error":"#N/A"}},{"$f":"LOOKUP(C285,MassDataLink!$A$4:$A$3649,MassDataLink!$F$4:$F$3649)","v":{"$error":"#N/A"}},null,172,"- - -","- - -"]
[null,173,-1,{"$f":"LOOKUP(C286,MassDataLink!$A$4:$A$3649,MassDataLink!$B$4:$B$3649)","v":{"$error":"#N/A"}},{"$f":"LOOKUP(C286,MassDataLink!$A$4:$A$3649,MassDataLink!$C$4:$C$3649)","v":{"$error":"#N/A"}},{"$f":"LOOKUP(C286,MassDataLink!$A$4:$A$3649,MassDataLink!$D$4:$D$3649)","v":{"$error":"#N/A"}},{"$f":"LOOKUP(C286,MassDataLink!$A$4:$A$3649,MassDataLink!$E$4:$E$3649)","v":{"$error":"#N/A"}},{"$f":"LOOKUP(C286,MassDataLink!$A$4:$A$3649,MassDataLink!$F$4:$F$3649)","v":{"$error":"#N/A"}},null,173,"- - -","- - -"]
[null,174,-1,{"$f":"LOOKUP(C287,MassDataLink!$A$4:$A$3649,MassDataLink!$B$4:$B$3649)","v":{"$error":"#N/A"}},{"$f":"LOOKUP(C287,MassDataLink!$A$4:$A$3649,MassDataLink!$C$4:$C$3649)","v":{"$error":"#N/A"}},{"$f":"LOOKUP(C287,MassDataLink!$A$4:$A$3649,MassDataLink!$D$4:$D$3649)","v":{"$error":"#N/A"}},{"$f":"LOOKUP(C287,MassDataLink!$A$4:$A$3649,MassDataLink!$E$4:$E$3649)","v":{"$error":"#N/A"}},{"$f":"LOOKUP(C287,MassDataLink!$A$4:$A$3649,MassDataLink!$F$4:$F$3649)","v":{"$error":"#N/A"}},null,174,"- - -","- - -"]
[null,175,-1,{"$f":"LOOKUP(C288,MassDataLink!$A$4:$A$3649,MassDataLink!$B$4:$B$3649)","v":{"$error":"#N/A"}},{"$f":"LOOKUP(C288,MassDataLink!$A$4:$A$3649,MassDataLink!$C$4:$C$3649)","v":{"$error":"#N/A"}},{"$f":"LOOKUP(C288,MassDataLink!$A$4:$A$3649,MassDataLink!$D$4:$D$3649)","v":{"$error":"#N/A"}},{"$f":"LOOKUP(C288,MassDataLink!$A$4:$A$3649,MassDataLink!$E$4:$E$3649)","v":{"$error":"#N/A"}},{"$f":"LOOKUP(C288,MassDataLink!$A$4:$A$3649,MassDataLink!$F$4:$F$3649)","v":{"$error":"#N/A"}},null,175,"- - -","- - -"]
[null,176,-1,{"$f":"LOOKUP(C289,MassDataLink!$A$4:$A$3649,MassDataLink!$B$4:$B$3649)","v":{"$error":"#N/A"}},{"$f":"LOOKUP(C289,MassDataLink!$A$4:$A$3649,MassDataLink!$C$4:$C$3649)","v":{"$error":"#N/A"}},{"$f":"LOOKUP(C289,MassDataLink!$A$4:$A$3649,MassDataLink!$D$4:$D$3649)","v":{"$error":"#N/A"}},{"$f":"LOOKUP(C289,MassDataLink!$A$4:$A$3649,MassDataLink!$E$4:$E$3649)","v":{"$error":"#N/A"}},{"$f":"LOOKUP(C289,MassDataLink!$A$4:$A$3649,MassDataLink!$F$4:$F$3649)","v":{"$error":"#N/A"}},null,176,"- - -","- - -"]
[null,177,-1,{"$f":"LOOKUP(C290,MassDataLink!$A$4:$A$3649,MassDataLink!$B$4:$B$3649)","v":{"$error":"#N/A"}},{"$f":"LOOKUP(C290,MassDataLink!$A$4:$A$3649,MassDataLink!$C$4:$C$3649)","v":{"$error":"#N/A"}},{"$f":"LOOKUP(C290,MassDataLink!$A$4:$A$3649,MassDataLink!$D$4:$D$3649)","v":{"$error":"#N/A"}},{"$f":"LOOKUP(C290,MassDataLink!$A$4:$A$3649,MassDataLink!$E$4:$E$3649)","v":{"$error":"#N/A"}},{"$f":"LOOKUP(C290,MassDataLink!$A$4:$A$3649,MassDataLink!$F$4:$F$3649)","v":{"$error":"#N/A"}},null,177,"- - -","- - -"]
[null,178,-1,{"$f":"LOOKUP(C291,MassDataLink!$A$4:$A$3649,MassDataLink!$B$4:$B$3649)","v":{"$error":"#N/A"}},{"$f":"LOOKUP(C291,MassDataLink!$A$4:$A$3649,MassDataLink!$C$4:$C$3649)","v":{"$error":"#N/A"}},{"$f":"LOOKUP(C291,MassDataLink!$A$4:$A$3649,MassDataLink!$D$4:$D$3649)","v":{"$error":"#N/A"}},{"$f":"LOOKUP(C291,MassDataLink!$A$4:$A$3649,MassDataLink!$E$4:$E$3649)","v":{"$error":"#N/A"}},{"$f":"LOOKUP(C291,MassDataLink!$A$4:$A$3649,MassDataLink!$F$4:$F$3649)","v":{"$error":"#N/A"}},null,178,"- - -","- - -"]
[null,{"$f":"B291+1","v":179},{"$f":"IF(C291=-1,-1,H291)","v":-1},{"$f":"LOOKUP(C292,MassDataLink!$A$4:$A$3649,MassDataLink!$B$4:$B$3649)","v":{"$error":"#N/A"}},{"$f":"LOOKUP(C292,MassDataLink!$A$4:$A$3649,MassDataLink!$C$4:$C$3649)","v":{"$error":"#N/A"}},{"$f":"LOOKUP(C292,MassDataLink!$A$4:$A$3649,MassDataLink!$D$4:$D$3649)","v":{"$error":"#N/A"}},{"$f":"LOOKUP(C292,MassDataLink!$A$4:$A$3649,MassDataLink!$E$4:$E$3649)","v":{"$error":"#N/A"}},{"$f":"LOOKUP(C292,MassDataLink!$A$4:$A$3649,MassDataLink!$F$4:$F$3649)","v":{"$error":"#N/A"}},null,{"$f":"J291+1","v":179},{"$f":"IF(C292=-1,$L$112,IF($A$11=D292,ROUND((E292*$P$57),$R$57),$L$112))","v":"- - -"},{"$f":"IF(K292=$L$112,$L$112,F292)","v":"- - -"}]
[null,180,-1,{"$f":"LOOKUP(C293,MassDataLink!$A$4:$A$3649,MassDataLink!$B$4:$B$3649)","v":{"$error":"#N/A"}},{"$f":"LOOKUP(C293,MassDataLink!$A$4:$A$3649,MassDataLink!$C$4:$C$3649)","v":{"$error":"#N/A"}},{"$f":"LOOKUP(C293,MassDataLink!$A$4:$A$3649,MassDataLink!$D$4:$D$3649)","v":{"$error":"#N/A"}},{"$f":"LOOKUP(C293,MassDataLink!$A$4:$A$3649,MassDataLink!$E$4:$E$3649)","v":{"$error":"#N/A"}},{"$f":"LOOKUP(C293,MassDataLink!$A$4:$A$3649,MassDataLink!$F$4:$F$3649)","v":{"$error":"#N/A"}},null,180,"- - -","- - -"]
[null,181,-1,{"$f":"LOOKUP(C294,MassDataLink!$A$4:$A$3649,MassDataLink!$B$4:$B$3649)","v":{"$error":"#N/A"}},{"$f":"LOOKUP(C294,MassDataLink!$A$4:$A$3649,MassDataLink!$C$4:$C$3649)","v":{"$error":"#N/A"}},{"$f":"LOOKUP(C294,MassDataLink!$A$4:$A$3649,MassDataLink!$D$4:$D$3649)","v":{"$error":"#N/A"}},{"$f":"LOOKUP(C294,MassDataLink!$A$4:$A$3649,MassDataLink!$E$4:$E$3649)","v":{"$error":"#N/A"}},{"$f":"LOOKUP(C294,MassDataLink!$A$4:$A$3649,MassDataLink!$F$4:$F$3649)","v":{"$error":"#N/A"}},null,181,"- - -","- - -"]
[null,182,-1,{"$f":"LOOKUP(C295,MassDataLink!$A$4:$A$3649,MassDataLink!$B$4:$B$3649)","v":{"$error":"#N/A"}},{"$f":"LOOKUP(C295,MassDataLink!$A$4:$A$3649,MassDataLink!$C$4:$C$3649)","v":{"$error":"#N/A"}},{"$f":"LOOKUP(C295,MassDataLink!$A$4:$A$3649,MassDataLink!$D$4:$D$3649)","v":{"$error":"#N/A"}},{"$f":"LOOKUP(C295,MassDataLink!$A$4:$A$3649,MassDataLink!$E$4:$E$3649)","v":{"$error":"#N/A"}},{"$f":"LOOKUP(C295,MassDataLink!$A$4:$A$3649,MassDataLink!$F$4:$F$3649)","v":{"$error":"#N/A"}},null,182,"- - -","- - -"]
[null,183,-1,{"$f":"LOOKUP(C296,MassDataLink!$A$4:$A$3649,MassDataLink!$B$4:$B$3649)","v":{"$error":"#N/A"}},{"$f":"LOOKUP(C296,MassDataLink!$A$4:$A$3649,MassDataLink!$C$4:$C$3649)","v":{"$error":"#N/A"}},{"$f":"LOOKUP(C296,MassDataLink!$A$4:$A$3649,MassDataLink!$D$4:$D$3649)","v":{"$error":"#N/A"}},{"$f":"LOOKUP(C296,MassDataLink!$A$4:$A$3649,MassDataLink!$E$4:$E$3649)","v":{"$error":"#N/A"}},{"$f":"LOOKUP(C296,MassDataLink!$A$4:$A$3649,MassDataLink!$F$4:$F$3649)","v":{"$error":"#N/A"}},null,183,"- - -","- - -"]
[null,184,-1,{"$f":"LOOKUP(C297,MassDataLink!$A$4:$A$3649,MassDataLink!$B$4:$B$3649)","v":{"$error":"#N/A"}},{"$f":"LOOKUP(C297,MassDataLink!$A$4:$A$3649,MassDataLink!$C$4:$C$3649)","v":{"$error":"#N/A"}},{"$f":"LOOKUP(C297,MassDataLink!$A$4:$A$3649,MassDataLink!$D$4:$D$3649)","v":{"$error":"#N/A"}},{"$f":"LOOKUP(C297,MassDataLink!$A$4:$A$3649,MassDataLink!$E$4:$E$3649)","v":{"$error":"#N/A"}},{"$f":"LOOKUP(C297,MassDataLink!$A$4:$A$3649,MassDataLink!$F$4:$F$3649)","v":{"$error":"#N/A"}},null,184,"- - -","- - -"]
[null,185,-1,{"$f":"LOOKUP(C298,MassDataLink!$A$4:$A$3649,MassDataLink!$B$4:$B$3649)","v":{"$error":"#N/A"}},{"$f":"LOOKUP(C298,MassDataLink!$A$4:$A$3649,MassDataLink!$C$4:$C$3649)","v":{"$error":"#N/A"}},{"$f":"LOOKUP(C298,MassDataLink!$A$4:$A$3649,MassDataLink!$D$4:$D$3649)","v":{"$error":"#N/A"}},{"$f":"LOOKUP(C298,MassDataLink!$A$4:$A$3649,MassDataLink!$E$4:$E$3649)","v":{"$error":"#N/A"}},{"$f":"LOOKUP(C298,MassDataLink!$A$4:$A$3649,MassDataLink!$F$4:$F$3649)","v":{"$error":"#N/A"}},null,185,"- - -","- - -"]
[null,186,-1,{"$f":"LOOKUP(C299,MassDataLink!$A$4:$A$3649,MassDataLink!$B$4:$B$3649)","v":{"$error":"#N/A"}},{"$f":"LOOKUP(C299,MassDataLink!$A$4:$A$3649,MassDataLink!$C$4:$C$3649)","v":{"$error":"#N/A"}},{"$f":"LOOKUP(C299,MassDataLink!$A$4:$A$3649,MassDataLink!$D$4:$D$3649)","v":{"$error":"#N/A"}},{"$f":"LOOKUP(C299,MassDataLink!$A$4:$A$3649,MassDataLink!$E$4:$E$3649)","v":{"$error":"#N/A"}},{"$f":"LOOKUP(C299,MassDataLink!$A$4:$A$3649,MassDataLink!$F$4:$F$3649)","v":{"$error":"#N/A"}},null,186,"- - -","- - -"]
[null,187,-1,{"$f":"LOOKUP(C300,MassDataLink!$A$4:$A$3649,MassDataLink!$B$4:$B$3649)","v":{"$error":"#N/A"}},{"$f":"LOOKUP(C300,MassDataLink!$A$4:$A$3649,MassDataLink!$C$4:$C$3649)","v":{"$error":"#N/A"}},{"$f":"LOOKUP(C300,MassDataLink!$A$4:$A$3649,MassDataLink!$D$4:$D$3649)","v":{"$error":"#N/A"}},{"$f":"LOOKUP(C300,MassDataLink!$A$4:$A$3649,MassDataLink!$E$4:$E$3649)","v":{"$error":"#N/A"}},{"$f":"LOOKUP(C300,MassDataLink!$A$4:$A$3649,MassDataLink!$F$4:$F$3649)","v":{"$error":"#N/A"}},null,187,"- - -","- - -"]
[null,188,-1,{"$f":"LOOKUP(C301,MassDataLink!$A$4:$A$3649,MassDataLink!$B$4:$B$3649)","v":{"$error":"#N/A"}},{"$f":"LOOKUP(C301,MassDataLink!$A$4:$A$3649,MassDataLink!$C$4:$C$3649)","v":{"$error":"#N/A"}},{"$f":"LOOKUP(C301,MassDataLink!$A$4:$A$3649,MassDataLink!$D$4:$D$3649)","v":{"$error":"#N/A"}},{"$f":"LOOKUP(C301,MassDataLink!$A$4:$A$3649,MassDataLink!$E$4:$E$3649)","v":{"$error":"#N/A"}},{"$f":"LOOKUP(C301,MassDataLink!$A$4:$A$3649,MassDataLink!$F$4:$F$3649)","v":{"$error":"#N/A"}},null,188,"- - -","- - -"]
[null,189,-1,{"$f":"LOOKUP(C302,MassDataLink!$A$4:$A$3649,MassDataLink!$B$4:$B$3649)","v":{"$error":"#N/A"}},{"$f":"LOOKUP(C302,MassDataLink!$A$4:$A$3649,MassDataLink!$C$4:$C$3649)","v":{"$error":"#N/A"}},{"$f":"LOOKUP(C302,MassDataLink!$A$4:$A$3649,MassDataLink!$D$4:$D$3649)","v":{"$error":"#N/A"}},{"$f":"LOOKUP(C302,MassDataLink!$A$4:$A$3649,MassDataLink!$E$4:$E$3649)","v":{"$error":"#N/A"}},{"$f":"LOOKUP(C302,MassDataLink!$A$4:$A$3649,MassDataLink!$F$4:$F$3649)","v":{"$error":"#N/A"}},null,189,"- - -","- - -"]
[null,190,-1,{"$f":"LOOKUP(C303,MassDataLink!$A$4:$A$3649,MassDataLink!$B$4:$B$3649)","v":{"$error":"#N/A"}},{"$f":"LOOKUP(C303,MassDataLink!$A$4:$A$3649,MassDataLink!$C$4:$C$3649)","v":{"$error":"#N/A"}},{"$f":"LOOKUP(C303,MassDataLink!$A$4:$A$3649,MassDataLink!$D$4:$D$3649)","v":{"$error":"#N/A"}},{"$f":"LOOKUP(C303,MassDataLink!$A$4:$A$3649,MassDataLink!$E$4:$E$3649)","v":{"$error":"#N/A"}},{"$f":"LOOKUP(C303,MassDataLink!$A$4:$A$3649,MassDataLink!$F$4:$F$3649)","v":{"$error":"#N/A"}},null,190,"- - -","- - -"]
[null,191,-1,{"$f":"LOOKUP(C304,MassDataLink!$A$4:$A$3649,MassDataLink!$B$4:$B$3649)","v":{"$error":"#N/A"}},{"$f":"LOOKUP(C304,MassDataLink!$A$4:$A$3649,MassDataLink!$C$4:$C$3649)","v":{"$error":"#N/A"}},{"$f":"LOOKUP(C304,MassDataLink!$A$4:$A$3649,MassDataLink!$D$4:$D$3649)","v":{"$error":"#N/A"}},{"$f":"LOOKUP(C304,MassDataLink!$A$4:$A$3649,MassDataLink!$E$4:$E$3649)","v":{"$error":"#N/A"}},{"$f":"LOOKUP(C304,MassDataLink!$A$4:$A$3649,MassDataLink!$F$4:$F$3649)","v":{"$error":"#N/A"}},null,191,"- - -","- - -"]
[null,192,-1,{"$f":"LOOKUP(C305,MassDataLink!$A$4:$A$3649,MassDataLink!$B$4:$B$3649)","v":{"$error":"#N/A"}},{"$f":"LOOKUP(C305,MassDataLink!$A$4:$A$3649,MassDataLink!$C$4:$C$3649)","v":{"$error":"#N/A"}},{"$f":"LOOKUP(C305,MassDataLink!$A$4:$A$3649,MassDataLink!$D$4:$D$3649)","v":{"$error":"#N/A"}},{"$f":"LOOKUP(C305,MassDataLink!$A$4:$A$3649,MassDataLink!$E$4:$E$3649)","v":{"$error":"#N/A"}},{"$f":"LOOKUP(C305,MassDataLink!$A$4:$A$3649,MassDataLink!$F$4:$F$3649)","v":{"$error":"#N/A"}},null,192,"- - -","- - -"]
[null,193,-1,{"$f":"LOOKUP(C306,MassDataLink!$A$4:$A$3649,MassDataLink!$B$4:$B$3649)","v":{"$error":"#N/A"}},{"$f":"LOOKUP(C306,MassDataLink!$A$4:$A$3649,MassDataLink!$C$4:$C$3649)","v":{"$error":"#N/A"}},{"$f":"LOOKUP(C306,MassDataLink!$A$4:$A$3649,MassDataLink!$D$4:$D$3649)","v":{"$error":"#N/A"}},{"$f":"LOOKUP(C306,MassDataLink!$A$4:$A$3649,MassDataLink!$E$4:$E$3649)","v":{"$error":"#N/A"}},{"$f":"LOOKUP(C306,MassDataLink!$A$4:$A$3649,MassDataLink!$F$4:$F$3649)","v":{"$error":"#N/A"}},null,193,"- - -","- - -"]
[null,194,-1,{"$f":"LOOKUP(C307,MassDataLink!$A$4:$A$3649,MassDataLink!$B$4:$B$3649)","v":{"$error":"#N/A"}},{"$f":"LOOKUP(C307,MassDataLink!$A$4:$A$3649,MassDataLink!$C$4:$C$3649)","v":{"$error":"#N/A"}},{"$f":"LOOKUP(C307,MassDataLink!$A$4:$A$3649,MassDataLink!$D$4:$D$3649)","v":{"$error":"#N/A"}},{"$f":"LOOKUP(C307,MassDataLink!$A$4:$A$3649,MassDataLink!$E$4:$E$3649)","v":{"$error":"#N/A"}},{"$f":"LOOKUP(C307,MassDataLink!$A$4:$A$3649,MassDataLink!$F$4:$F$3649)","v":{"$error":"#N/A"}},null,194,"- - -","- - -"]
[null,195,-1,{"$f":"LOOKUP(C308,MassDataLink!$A$4:$A$3649,MassDataLink!$B$4:$B$3649)","v":{"$error":"#N/A"}},{"$f":"LOOKUP(C308,MassDataLink!$A$4:$A$3649,MassDataLink!$C$4:$C$3649)","v":{"$error":"#N/A"}},{"$f":"LOOKUP(C308,MassDataLink!$A$4:$A$3649,MassDataLink!$D$4:$D$3649)","v":{"$error":"#N/A"}},{"$f":"LOOKUP(C308,MassDataLink!$A$4:$A$3649,MassDataLink!$E$4:$E$3649)","v":{"$error":"#N/A"}},{"$f":"LOOKUP(C308,MassDataLink!$A$4:$A$3649,MassDataLink!$F$4:$F$3649)","v":{"$error":"#N/A"}},null,195,"- - -","- - -"]
[null,196,-1,{"$f":"LOOKUP(C309,MassDataLink!$A$4:$A$3649,MassDataLink!$B$4:$B$3649)","v":{"$error":"#N/A"}},{"$f":"LOOKUP(C309,MassDataLink!$A$4:$A$3649,MassDataLink!$C$4:$C$3649)","v":{"$error":"#N/A"}},{"$f":"LOOKUP(C309,MassDataLink!$A$4:$A$3649,MassDataLink!$D$4:$D$3649)","v":{"$error":"#N/A"}},{"$f":"LOOKUP(C309,MassDataLink!$A$4:$A$3649,MassDataLink!$E$4:$E$3649)","v":{"$error":"#N/A"}},{"$f":"LOOKUP(C309,MassDataLink!$A$4:$A$3649,MassDataLink!$F$4:$F$3649)","v":{"$error":"#N/A"}},null,196,"- - -","- - -"]
[null,197,-1,{"$f":"LOOKUP(C310,MassDataLink!$A$4:$A$3649,MassDataLink!$B$4:$B$3649)","v":{"$error":"#N/A"}},{"$f":"LOOKUP(C310,MassDataLink!$A$4:$A$3649,MassDataLink!$C$4:$C$3649)","v":{"$error":"#N/A"}},{"$f":"LOOKUP(C310,MassDataLink!$A$4:$A$3649,MassDataLink!$D$4:$D$3649)","v":{"$error":"#N/A"}},{"$f":"LOOKUP(C310,MassDataLink!$A$4:$A$3649,MassDataLink!$E$4:$E$3649)","v":{"$error":"#N/A"}},{"$f":"LOOKUP(C310,MassDataLink!$A$4:$A$3649,MassDataLink!$F$4:$F$3649)","v":{"$error":"#N/A"}},null,197,"- - -","- - -"]
[null,198,-1,{"$f":"LOOKUP(C311,MassDataLink!$A$4:$A$3649,MassDataLink!$B$4:$B$3649)","v":{"$error":"#N/A"}},{"$f":"LOOKUP(C311,MassDataLink!$A$4:$A$3649,MassDataLink!$C$4:$C$3649)","v":{"$error":"#N/A"}},{"$f":"LOOKUP(C311,MassDataLink!$A$4:$A$3649,MassDataLink!$D$4:$D$3649)","v":{"$error":"#N/A"}},{"$f":"LOOKUP(C311,MassDataLink!$A$4:$A$3649,MassDataLink!$E$4:$E$3649)","v":{"$error":"#N/A"}},{"$f":"LOOKUP(C311,MassDataLink!$A$4:$A$3649,MassDataLink!$F$4:$F$3649)","v":{"$error":"#N/A"}},null,198,"- - -","- - -"]
[null,199,-1,{"$f":"LOOKUP(C312,MassDataLink!$A$4:$A$3649,MassDataLink!$B$4:$B$3649)","v":{"$error":"#N/A"}},{"$f":"LOOKUP(C312,MassDataLink!$A$4:$A$3649,MassDataLink!$C$4:$C$3649)","v":{"$error":"#N/A"}},{"$f":"LOOKUP(C312,MassDataLink!$A$4:$A$3649,MassDataLink!$D$4:$D$3649)","v":{"$error":"#N/A"}},{"$f":"LOOKUP(C312,MassDataLink!$A$4:$A$3649,MassDataLink!$E$4:$E$3649)","v":{"$error":"#N/A"}},{"$f":"LOOKUP(C312,MassDataLink!$A$4:$A$3649,MassDataLink!$F$4:$F$3649)","v":{"$error":"#N/A"}},null,199,"- - -","- - -"]
[null,200,-1,{"$f":"LOOKUP(C313,MassDataLink!$A$4:$A$3649,MassDataLink!$B$4:$B$3649)","v":{"$error":"#N/A"}},{"$f":"LOOKUP(C313,MassDataLink!$A$4:$A$3649,MassDataLink!$C$4:$C$3649)","v":{"$error":"#N/A"}},{"$f":"LOOKUP(C313,MassDataLink!$A$4:$A$3649,MassDataLink!$D$4:$D$3649)","v":{"$error":"#N/A"}},{"$f":"LOOKUP(C313,MassDataLink!$A$4:$A$3649,MassDataLink!$E$4:$E$3649)","v":{"$error":"#N/A"}},{"$f":"LOOKUP(C313,MassDataLink!$A$4:$A$3649,MassDataLink!$F$4:$F$3649)","v":{"$error":"#N/A"}},null,200,"- - -","- - -"]
[null,201,-1,{"$f":"LOOKUP(C314,MassDataLink!$A$4:$A$3649,MassDataLink!$B$4:$B$3649)","v":{"$error":"#N/A"}},{"$f":"LOOKUP(C314,MassDataLink!$A$4:$A$3649,MassDataLink!$C$4:$C$3649)","v":{"$error":"#N/A"}},{"$f":"LOOKUP(C314,MassDataLink!$A$4:$A$3649,MassDataLink!$D$4:$D$3649)","v":{"$error":"#N/A"}},{"$f":"LOOKUP(C314,MassDataLink!$A$4:$A$3649,MassDataLink!$E$4:$E$3649)","v":{"$error":"#N/A"}},{"$f":"LOOKUP(C314,MassDataLink!$A$4:$A$3649,MassDataLink!$F$4:$F$3649)","v":{"$error":"#N/A"}},null,201,"- - -","- - -"]
[null,202,-1,{"$f":"LOOKUP(C315,MassDataLink!$A$4:$A$3649,MassDataLink!$B$4:$B$3649)","v":{"$error":"#N/A"}},{"$f":"LOOKUP(C315,MassDataLink!$A$4:$A$3649,MassDataLink!$C$4:$C$3649)","v":{"$error":"#N/A"}},{"$f":"LOOKUP(C315,MassDataLink!$A$4:$A$3649,MassDataLink!$D$4:$D$3649)","v":{"$error":"#N/A"}},{"$f":"LOOKUP(C315,MassDataLink!$A$4:$A$3649,MassDataLink!$E$4:$E$3649)","v":{"$error":"#N/A"}},{"$f":"LOOKUP(C315,MassDataLink!$A$4:$A$3649,MassDataLink!$F$4:$F$3649)","v":{"$error":"#N/A"}},null,202,"- - -","- - -"]
[null,203,-1,{"$f":"LOOKUP(C316,MassDataLink!$A$4:$A$3649,MassDataLink!$B$4:$B$3649)","v":{"$error":"#N/A"}},{"$f":"LOOKUP(C316,MassDataLink!$A$4:$A$3649,MassDataLink!$C$4:$C$3649)","v":{"$error":"#N/A"}},{"$f":"LOOKUP(C316,MassDataLink!$A$4:$A$3649,MassDataLink!$D$4:$D$3649)","v":{"$error":"#N/A"}},{"$f":"LOOKUP(C316,MassDataLink!$A$4:$A$3649,MassDataLink!$E$4:$E$3649)","v":{"$error":"#N/A"}},{"$f":"LOOKUP(C316,MassDataLink!$A$4:$A$3649,MassDataLink!$F$4:$F$3649)","v":{"$error":"#N/A"}},null,203,"- - -","- - -"]
[null,204,-1,{"$f":"LOOKUP(C317,MassDataLink!$A$4:$A$3649,MassDataLink!$B$4:$B$3649)","v":{"$error":"#N/A"}},{"$f":"LOOKUP(C317,MassDataLink!$A$4:$A$3649,MassDataLink!$C$4:$C$3649)","v":{"$error":"#N/A"}},{"$f":"LOOKUP(C317,MassDataLink!$A$4:$A$3649,MassDataLink!$D$4:$D$3649)","v":{"$error":"#N/A"}},{"$f":"LOOKUP(C317,MassDataLink!$A$4:$A$3649,MassDataLink!$E$4:$E$3649)","v":{"$error":"#N/A"}},{"$f":"LOOKUP(C317,MassDataLink!$A$4:$A$3649,MassDataLink!$F$4:$F$3649)","v":{"$error":"#N/A"}},null,204,"- - -","- - -"]
[null,205,-1,{"$f":"LOOKUP(C318,MassDataLink!$A$4:$A$3649,MassDataLink!$B$4:$B$3649)","v":{"$error":"#N/A"}},{"$f":"LOOKUP(C318,MassDataLink!$A$4:$A$3649,MassDataLink!$C$4:$C$3649)","v":{"$error":"#N/A"}},{"$f":"LOOKUP(C318,MassDataLink!$A$4:$A$3649,MassDataLink!$D$4:$D$3649)","v":{"$error":"#N/A"}},{"$f":"LOOKUP(C318,MassDataLink!$A$4:$A$3649,MassDataLink!$E$4:$E$3649)","v":{"$error":"#N/A"}},{"$f":"LOOKUP(C318,MassDataLink!$A$4:$A$3649,MassDataLink!$F$4:$F$3649)","v":{"$error":"#N/A"}},null,205,"- - -","- - -"]
[null,206,-1,{"$f":"LOOKUP(C319,MassDataLink!$A$4:$A$3649,MassDataLink!$B$4:$B$3649)","v":{"$error":"#N/A"}},{"$f":"LOOKUP(C319,MassDataLink!$A$4:$A$3649,MassDataLink!$C$4:$C$3649)","v":{"$error":"#N/A"}},{"$f":"LOOKUP(C319,MassDataLink!$A$4:$A$3649,MassDataLink!$D$4:$D$3649)","v":{"$error":"#N/A"}},{"$f":"LOOKUP(C319,MassDataLink!$A$4:$A$3649,MassDataLink!$E$4:$E$3649)","v":{"$error":"#N/A"}},{"$f":"LOOKUP(C319,MassDataLink!$A$4:$A$3649,MassDataLink!$F$4:$F$3649)","v":{"$error":"#N/A"}},null,206,"- - -","- - -"]
[null,207,-1,{"$f":"LOOKUP(C320,MassDataLink!$A$4:$A$3649,MassDataLink!$B$4:$B$3649)","v":{"$error":"#N/A"}},{"$f":"LOOKUP(C320,MassDataLink!$A$4:$A$3649,MassDataLink!$C$4:$C$3649)","v":{"$error":"#N/A"}},{"$f":"LOOKUP(C320,MassDataLink!$A$4:$A$3649,MassDataLink!$D$4:$D$3649)","v":{"$error":"#N/A"}},{"$f":"LOOKUP(C320,MassDataLink!$A$4:$A$3649,MassDataLink!$E$4:$E$3649)","v":{"$error":"#N/A"}},{"$f":"LOOKUP(C320,MassDataLink!$A$4:$A$3649,MassDataLink!$F$4:$F$3649)","v":{"$error":"#N/A"}},null,207,"- - -","- - -"]
[null,208,-1,{"$f":"LOOKUP(C321,MassDataLink!$A$4:$A$3649,MassDataLink!$B$4:$B$3649)","v":{"$error":"#N/A"}},{"$f":"LOOKUP(C321,MassDataLink!$A$4:$A$3649,MassDataLink!$C$4:$C$3649)","v":{"$error":"#N/A"}},{"$f":"LOOKUP(C321,MassDataLink!$A$4:$A$3649,MassDataLink!$D$4:$D$3649)","v":{"$error":"#N/A"}},{"$f":"LOOKUP(C321,MassDataLink!$A$4:$A$3649,MassDataLink!$E$4:$E$3649)","v":{"$error":"#N/A"}},{"$f":"LOOKUP(C321,MassDataLink!$A$4:$A$3649,MassDataLink!$F$4:$F$3649)","v":{"$error":"#N/A"}},null,208,"- - -","- - -"]
[null,209,-1,{"$f":"LOOKUP(C322,MassDataLink!$A$4:$A$3649,MassDataLink!$B$4:$B$3649)","v":{"$error":"#N/A"}},{"$f":"LOOKUP(C322,MassDataLink!$A$4:$A$3649,MassDataLink!$C$4:$C$3649)","v":{"$error":"#N/A"}},{"$f":"LOOKUP(C322,MassDataLink!$A$4:$A$3649,MassDataLink!$D$4:$D$3649)","v":{"$error":"#N/A"}},{"$f":"LOOKUP(C322,MassDataLink!$A$4:$A$3649,MassDataLink!$E$4:$E$3649)","v":{"$error":"#N/A"}},{"$f":"LOOKUP(C322,MassDataLink!$A$4:$A$3649,MassDataLink!$F$4:$F$3649)","v":{"$error":"#N/A"}},null,209,"- - -","- - -"]
[null,210,-1,{"$f":"LOOKUP(C323,MassDataLink!$A$4:$A$3649,MassDataLink!$B$4:$B$3649)","v":{"$error":"#N/A"}},{"$f":"LOOKUP(C323,MassDataLink!$A$4:$A$3649,MassDataLink!$C$4:$C$3649)","v":{"$error":"#N/A"}},{"$f":"LOOKUP(C323,MassDataLink!$A$4:$A$3649,MassDataLink!$D$4:$D$3649)","v":{"$error":"#N/A"}},{"$f":"LOOKUP(C323,MassDataLink!$A$4:$A$3649,MassDataLink!$E$4:$E$3649)","v":{"$error":"#N/A"}},{"$f":"LOOKUP(C323,MassDataLink!$A$4:$A$3649,MassDataLink!$F$4:$F$3649)","v":{"$error":"#N/A"}},null,210,"- - -","- - -"]
[null,211,-1,{"$f":"LOOKUP(C324,MassDataLink!$A$4:$A$3649,MassDataLink!$B$4:$B$3649)","v":{"$error":"#N/A"}},{"$f":"LOOKUP(C324,MassDataLink!$A$4:$A$3649,MassDataLink!$C$4:$C$3649)","v":{"$error":"#N/A"}},{"$f":"LOOKUP(C324,MassDataLink!$A$4:$A$3649,MassDataLink!$D$4:$D$3649)","v":{"$error":"#N/A"}},{"$f":"LOOKUP(C324,MassDataLink!$A$4:$A$3649,MassDataLink!$E$4:$E$3649)","v":{"$error":"#N/A"}},{"$f":"LOOKUP(C324,MassDataLink!$A$4:$A$3649,MassDataLink!$F$4:$F$3649)","v":{"$error":"#N/A"}},null,211,"- - -","- - -"]
[null,212,-1,{"$f":"LOOKUP(C325,MassDataLink!$A$4:$A$3649,MassDataLink!$B$4:$B$3649)","v":{"$error":"#N/A"}},{"$f":"LOOKUP(C325,MassDataLink!$A$4:$A$3649,MassDataLink!$C$4:$C$3649)","v":{"$error":"#N/A"}},{"$f":"LOOKUP(C325,MassDataLink!$A$4:$A$3649,MassDataLink!$D$4:$D$3649)","v":{"$error":"#N/A"}},{"$f":"LOOKUP(C325,MassDataLink!$A$4:$A$3649,MassDataLink!$E$4:$E$3649)","v":{"$error":"#N/A"}},{"$f":"LOOKUP(C325,MassDataLink!$A$4:$A$3649,MassDataLink!$F$4:$F$3649)","v":{"$error":"#N/A"}},null,212,"- - -","- - -"]
[null,213,-1,{"$f":"LOOKUP(C326,MassDataLink!$A$4:$A$3649,MassDataLink!$B$4:$B$3649)","v":{"$error":"#N/A"}},{"$f":"LOOKUP(C326,MassDataLink!$A$4:$A$3649,MassDataLink!$C$4:$C$3649)","v":{"$error":"#N/A"}},{"$f":"LOOKUP(C326,MassDataLink!$A$4:$A$3649,MassDataLink!$D$4:$D$3649)","v":{"$error":"#N/A"}},{"$f":"LOOKUP(C326,MassDataLink!$A$4:$A$3649,MassDataLink!$E$4:$E$3649)","v":{"$error":"#N/A"}},{"$f":"LOOKUP(C326,MassDataLink!$A$4:$A$3649,MassDataLink!$F$4:$F$3649)","v":{"$error":"#N/A"}},null,213,"- - -","- - -"]
[null,214,-1,{"$f":"LOOKUP(C327,MassDataLink!$A$4:$A$3649,MassDataLink!$B$4:$B$3649)","v":{"$error":"#N/A"}},{"$f":"LOOKUP(C327,MassDataLink!$A$4:$A$3649,MassDataLink!$C$4:$C$3649)","v":{"$error":"#N/A"}},{"$f":"LOOKUP(C327,MassDataLink!$A$4:$A$3649,MassDataLink!$D$4:$D$3649)","v":{"$error":"#N/A"}},{"$f":"LOOKUP(C327,MassDataLink!$A$4:$A$3649,MassDataLink!$E$4:$E$3649)","v":{"$error":"#N/A"}},{"$f":"LOOKUP(C327,MassDataLink!$A$4:$A$3649,MassDataLink!$F$4:$F$3649)","v":{"$error":"#N/A"}},null,214,"- - -","- - -"]
[null,215,-1,{"$f":"LOOKUP(C328,MassDataLink!$A$4:$A$3649,MassDataLink!$B$4:$B$3649)","v":{"$error":"#N/A"}},{"$f":"LOOKUP(C328,MassDataLink!$A$4:$A$3649,MassDataLink!$C$4:$C$3649)","v":{"$error":"#N/A"}},{"$f":"LOOKUP(C328,MassDataLink!$A$4:$A$3649,MassDataLink!$D$4:$D$3649)","v":{"$error":"#N/A"}},{"$f":"LOOKUP(C328,MassDataLink!$A$4:$A$3649,MassDataLink!$E$4:$E$3649)","v":{"$error":"#N/A"}},{"$f":"LOOKUP(C328,MassDataLink!$A$4:$A$3649,MassDataLink!$F$4:$F$3649)","v":{"$error":"#N/A"}},null,215,"- - -","- - -"]
[null,216,-1,{"$f":"LOOKUP(C329,MassDataLink!$A$4:$A$3649,MassDataLink!$B$4:$B$3649)","v":{"$error":"#N/A"}},{"$f":"LOOKUP(C329,MassDataLink!$A$4:$A$3649,MassDataLink!$C$4:$C$3649)","v":{"$error":"#N/A"}},{"$f":"LOOKUP(C329,MassDataLink!$A$4:$A$3649,MassDataLink!$D$4:$D$3649)","v":{"$error":"#N/A"}},{"$f":"LOOKUP(C329,MassDataLink!$A$4:$A$3649,MassDataLink!$E$4:$E$3649)","v":{"$error":"#N/A"}},{"$f":"LOOKUP(C329,MassDataLink!$A$4:$A$3649,MassDataLink!$F$4:$F$3649)","v":{"$error":"#N/A"}},null,216,"- - -","- - -"]
[null,217,-1,{"$f":"LOOKUP(C330,MassDataLink!$A$4:$A$3649,MassDataLink!$B$4:$B$3649)","v":{"$error":"#N/A"}},{"$f":"LOOKUP(C330,MassDataLink!$A$4:$A$3649,MassDataLink!$C$4:$C$3649)","v":{"$error":"#N/A"}},{"$f":"LOOKUP(C330,MassDataLink!$A$4:$A$3649,MassDataLink!$D$4:$D$3649)","v":{"$error":"#N/A"}},{"$f":"LOOKUP(C330,MassDataLink!$A$4:$A$3649,MassDataLink!$E$4:$E$3649)","v":{"$error":"#N/A"}},{"$f":"LOOKUP(C330,MassDataLink!$A$4:$A$3649,MassDataLink!$F$4:$F$3649)","v":{"$error":"#N/A"}},null,217,"- - -","- - -"]
[null,218,-1,{"$f":"LOOKUP(C331,MassDataLink!$A$4:$A$3649,MassDataLink!$B$4:$B$3649)","v":{"$error":"#N/A"}},{"$f":"LOOKUP(C331,MassDataLink!$A$4:$A$3649,MassDataLink!$C$4:$C$3649)","v":{"$error":"#N/A"}},{"$f":"LOOKUP(C331,MassDataLink!$A$4:$A$3649,MassDataLink!$D$4:$D$3649)","v":{"$error":"#N/A"}},{"$f":"LOOKUP(C331,MassDataLink!$A$4:$A$3649,MassDataLink!$E$4:$E$3649)","v":{"$error":"#N/A"}},{"$f":"LOOKUP(C331,MassDataLink!$A$4:$A$3649,MassDataLink!$F$4:$F$3649)","v":{"$error":"#N/A"}},null,218,"- - -","- - -"]
[null,219,-1,{"$f":"LOOKUP(C332,MassDataLink!$A$4:$A$3649,MassDataLink!$B$4:$B$3649)","v":{"$error":"#N/A"}},{"$f":"LOOKUP(C332,MassDataLink!$A$4:$A$3649,MassDataLink!$C$4:$C$3649)","v":{"$error":"#N/A"}},{"$f":"LOOKUP(C332,MassDataLink!$A$4:$A$3649,MassDataLink!$D$4:$D$3649)","v":{"$error":"#N/A"}},{"$f":"LOOKUP(C332,MassDataLink!$A$4:$A$3649,MassDataLink!$E$4:$E$3649)","v":{"$error":"#N/A"}},{"$f":"LOOKUP(C332,MassDataLink!$A$4:$A$3649,MassDataLink!$F$4:$F$3649)","v":{"$error":"#N/A"}},null,219,"- - -","- - -"]
[null,220,-1,{"$f":"LOOKUP(C333,MassDataLink!$A$4:$A$3649,MassDataLink!$B$4:$B$3649)","v":{"$error":"#N/A"}},{"$f":"LOOKUP(C333,MassDataLink!$A$4:$A$3649,MassDataLink!$C$4:$C$3649)","v":{"$error":"#N/A"}},{"$f":"LOOKUP(C333,MassDataLink!$A$4:$A$3649,MassDataLink!$D$4:$D$3649)","v":{"$error":"#N/A"}},{"$f":"LOOKUP(C333,MassDataLink!$A$4:$A$3649,MassDataLink!$E$4:$E$3649)","v":{"$error":"#N/A"}},{"$f":"LOOKUP(C333,MassDataLink!$A$4:$A$3649,MassDataLink!$F$4:$F$3649)","v":{"$error":"#N/A"}},null,220,"- - -","- - -"]
[null,221,-1,{"$f":"LOOKUP(C334,MassDataLink!$A$4:$A$3649,MassDataLink!$B$4:$B$3649)","v":{"$error":"#N/A"}},{"$f":"LOOKUP(C334,MassDataLink!$A$4:$A$3649,MassDataLink!$C$4:$C$3649)","v":{"$error":"#N/A"}},{"$f":"LOOKUP(C334,MassDataLink!$A$4:$A$3649,MassDataLink!$D$4:$D$3649)","v":{"$error":"#N/A"}},{"$f":"LOOKUP(C334,MassDataLink!$A$4:$A$3649,MassDataLink!$E$4:$E$3649)","v":{"$error":"#N/A"}},{"$f":"LOOKUP(C334,MassDataLink!$A$4:$A$3649,MassDataLink!$F$4:$F$3649)","v":{"$error":"#N/A"}},null,221,"- - -","- - -"]
[null,222,-1,{"$f":"LOOKUP(C335,MassDataLink!$A$4:$A$3649,MassDataLink!$B$4:$B$3649)","v":{"$error":"#N/A"}},{"$f":"LOOKUP(C335,MassDataLink!$A$4:$A$3649,MassDataLink!$C$4:$C$3649)","v":{"$error":"#N/A"}},{"$f":"LOOKUP(C335,MassDataLink!$A$4:$A$3649,MassDataLink!$D$4:$D$3649)","v":{"$error":"#N/A"}},{"$f":"LOOKUP(C335,MassDataLink!$A$4:$A$3649,MassDataLink!$E$4:$E$3649)","v":{"$error":"#N/A"}},{"$f":"LOOKUP(C335,MassDataLink!$A$4:$A$3649,MassDataLink!$F$4:$F$3649)","v":{"$error":"#N/A"}},null,222,"- - -","- - -"]
[null,223,-1,{"$f":"LOOKUP(C336,MassDataLink!$A$4:$A$3649,MassDataLink!$B$4:$B$3649)","v":{"$error":"#N/A"}},{"$f":"LOOKUP(C336,MassDataLink!$A$4:$A$3649,MassDataLink!$C$4:$C$3649)","v":{"$error":"#N/A"}},{"$f":"LOOKUP(C336,MassDataLink!$A$4:$A$3649,MassDataLink!$D$4:$D$3649)","v":{"$error":"#N/A"}},{"$f":"LOOKUP(C336,MassDataLink!$A$4:$A$3649,MassDataLink!$E$4:$E$3649)","v":{"$error":"#N/A"}},{"$f":"LOOKUP(C336,MassDataLink!$A$4:$A$3649,MassDataLink!$F$4:$F$3649)","v":{"$error":"#N/A"}},null,223,"- - -","- - -"]
[null,224,-1,{"$f":"LOOKUP(C337,MassDataLink!$A$4:$A$3649,MassDataLink!$B$4:$B$3649)","v":{"$error":"#N/A"}},{"$f":"LOOKUP(C337,MassDataLink!$A$4:$A$3649,MassDataLink!$C$4:$C$3649)","v":{"$error":"#N/A"}},{"$f":"LOOKUP(C337,MassDataLink!$A$4:$A$3649,MassDataLink!$D$4:$D$3649)","v":{"$error":"#N/A"}},{"$f":"LOOKUP(C337,MassDataLink!$A$4:$A$3649,MassDataLink!$E$4:$E$3649)","v":{"$error":"#N/A"}},{"$f":"LOOKUP(C337,MassDataLink!$A$4:$A$3649,MassDataLink!$F$4:$F$3649)","v":{"$error":"#N/A"}},null,224,"- - -","- - -"]
[null,225,-1,{"$f":"LOOKUP(C338,MassDataLink!$A$4:$A$3649,MassDataLink!$B$4:$B$3649)","v":{"$error":"#N/A"}},{"$f":"LOOKUP(C338,MassDataLink!$A$4:$A$3649,MassDataLink!$C$4:$C$3649)","v":{"$error":"#N/A"}},{"$f":"LOOKUP(C338,MassDataLink!$A$4:$A$3649,MassDataLink!$D$4:$D$3649)","v":{"$error":"#N/A"}},{"$f":"LOOKUP(C338,MassDataLink!$A$4:$A$3649,MassDataLink!$E$4:$E$3649)","v":{"$error":"#N/A"}},{"$f":"LOOKUP(C338,MassDataLink!$A$4:$A$3649,MassDataLink!$F$4:$F$3649)","v":{"$error":"#N/A"}},null,225,"- - -","- - -"]

{"sheet":"ModelData","index":2,"n_rows":233,"n_cols":59,"rows_kept":233,"cut":false,"hidden":true,"merged":[[1,5,1,7],[1,8,1,10],[1,23,1,25],[1,26,1,28],[1,11,1,13],[1,14,1,16],[1,17,1,19],[1,20,1,22]]}
[null,1,6,7,8,10,11,12,13,14,15,16,17,18,19,20,21,22,23,24,25,26,27,28,29,30,31,32,33]
["データ№","ｱｸﾁｭｴｰﾀ型式","最小ｽﾄﾛｰｸ","最大ｽﾄﾛｰｸ","動作種別","リンク[0]",null,null,"リンク[1]",null,null,"リンク[2]",null,null,"リンク[3]",null,null,"リンク[4]",null,null,"リンク[5]",null,null,"リンク[6]",null,null,"リンク[7]"]
[0,null,"㎜","㎜","1/0:回/直","ﾘｰﾄﾞ","ｽﾄﾛｰｸ","搬送負荷","ﾘｰﾄﾞ","ｽﾄﾛｰｸ","搬送負荷","ﾘｰﾄﾞ","ｽﾄﾛｰｸ","搬送負荷","ﾘｰﾄﾞ","ｽﾄﾛｰｸ","搬送負荷","ﾘｰﾄﾞ","ｽﾄﾛｰｸ","搬送負荷","ﾘｰﾄﾞ","ｽﾄﾛｰｸ","搬送負荷","ﾘｰﾄﾞ","ｽﾄﾛｰｸ","搬送負荷","ﾘｰﾄﾞ","ｽﾄﾛｰｸ","搬送負荷"]
[{"$f":"A3+1","v":1},"ISB-SXM-60",100,900,0,{"$f":"LeadData!A4","v":1},{"$f":"StrokeData!A4","v":1},{"$f":"MassDataLink!A4","v":1},{"$f":"LeadData!A5","v":2},{"$f":"StrokeData!A8","v":5},{"$f":"MassDataLink!A11","v":8},{"$f":"LeadData!A6","v":3},{"$f":"StrokeData!A12","v":9},{"$f":"MassDataLink!A18","v":15},-1,-1,-1,-1,-1,-1,-1,-1,-1,-1,-1,-1,-1,-1,-1]
[2,"ISB-MXM-100",100,1100,0,{"$f":"LeadData!A7","v":4},{"$f":"StrokeData!A19","v":16},{"$f":"MassDataLink!A32","v":29},{"$f":"LeadData!A8","v":5},{"$f":"StrokeData!A24","v":21},{"$f":"MassDataLink!A39","v":36},{"$f":"LeadData!A9","v":6},{"$f":"StrokeData!A29","v":26},{"$f":"MassDataLink!A46","v":43},{"$f":"LeadData!A10","v":7},{"$f":"StrokeData!A34","v":31},{"$f":"MassDataLink!A62","v":59},-1,-1,-1,-1,-1,-1,-1,-1,-1,-1,-1,-1]
[3,"ISB-MXM-200",100,1100,0,{"$f":"LeadData!A11","v":8},{"$f":"StrokeData!A44","v":41},{"$f":"MassDataLink!A80","v":77},{"$f":"LeadData!A12","v":9},{"$f":"StrokeData!A49","v":46},{"$f":"MassDataLink!A87","v":84},{"$f":"LeadData!A13","v":10},{"$f":"StrokeData!A58","v":55},{"$f":"MassDataLink!A94","v":91},{"$f":"LeadData!A14","v":11},{"$f":"StrokeData!A63","v":60},{"$f":"MassDataLink!A110","v":107},-1,-1,-1,-1,-1,-1,-1,-1,-1,-1,-1,-1]
[4,"ISB-LXM-200",100,1300,0,{"$f":"LeadData!A15","v":12},{"$f":"StrokeData!A68","v":65},{"$f":"MassDataLink!A128","v":125},{"$f":"LeadData!A16","v":13},{"$f":"StrokeData!A75","v":72},{"$f":"MassDataLink!A135","v":132},{"$f":"LeadData!A17","v":14},{"$f":"StrokeData!A82","v":79},{"$f":"MassDataLink!A151","v":148},-1,-1,-1,-1,-1,-1,-1,-1,-1,-1,-1,-1,-1,-1,-1]
[5,"ISB-LXM-400",100,1300,0,{"$f":"LeadData!A18","v":15},{"$f":"StrokeData!A92","v":89},{"$f":"MassDataLink!A169","v":166},{"$f":"LeadData!A19","v":16},{"$f":"StrokeData!A99","v":96},{"$f":"MassDataLink!A176","v":173},{"$f":"LeadData!A20","v":17},{"$f":"StrokeData!A107","v":104},{"$f":"MassDataLink!A192","v":189},-1,-1,-1,-1,-1,-1,-1,-1,-1,-1,-1,-1,-1,-1,-1]
[6,"ISB-SXL-60",130,880,0,{"$f":"LeadData!A21","v":18},{"$f":"StrokeData!A117","v":114},{"$f":"MassDataLink!A210","v":207},{"$f":"LeadData!A22","v":19},{"$f":"StrokeData!A121","v":118},{"$f":"MassDataLink!A217","v":214},{"$f":"LeadData!A23","v":20},{"$f":"StrokeData!A125","v":122},{"$f":"MassDataLink!A224","v":221},-1,-1,-1,-1,-1,-1,-1,-1,-1,-1,-1,-1,-1,-1,-1]
[7,"ISB-MXL-100",120,1070,0,{"$f":"LeadData!A24","v":21},{"$f":"StrokeData!A132","v":129},{"$f":"MassDataLink!A238","v":235},{"$f":"LeadData!A25","v":22},{"$f":"StrokeData!A137","v":134},{"$f":"MassDataLink!A245","v":242},{"$f":"LeadData!A26","v":23},{"$f":"StrokeData!A142","v":139},{"$f":"MassDataLink!A252","v":249},{"$f":"LeadData!A27","v":24},{"$f":"StrokeData!A147","v":144},{"$f":"MassDataLink!A268","v":265},-1,-1,-1,-1,-1,-1,-1,-1,-1,-1,-1,-1]
[8,"ISB-MXL-200",120,1070,0,{"$f":"LeadData!A28","v":25},{"$f":"StrokeData!A156","v":153},{"$f":"MassDataLink!A286","v":283},{"$f":"LeadData!A29","v":26},{"$f":"StrokeData!A161","v":158},{"$f":"MassDataLink!A293","v":290},{"$f":"LeadData!A30","v":27},{"$f":"StrokeData!A170","v":167},{"$f":"MassDataLink!A300","v":297},{"$f":"LeadData!A31","v":28},{"$f":"StrokeData!A175","v":172},{"$f":"MassDataLink!A316","v":313},-1,-1,-1,-1,-1,-1,-1,-1,-1,-1,-1,-1]
[9,"ISB-LXL-200",120,1270,0,{"$f":"LeadData!A32","v":29},{"$f":"StrokeData!A180","v":177},{"$f":"MassDataLink!A334","v":331},{"$f":"LeadData!A33","v":30},{"$f":"StrokeData!A187","v":184},{"$f":"MassDataLink!A341","v":338},{"$f":"LeadData!A34","v":31},{"$f":"StrokeData!A194","v":191},{"$f":"MassDataLink!A357","v":354},-1,-1,-1,-1,-1,-1,-1,-1,-1,-1,-1,-1,-1,-1,-1]
[10,"ISB-LXL-400",120,1270,0,{"$f":"LeadData!A35","v":32},{"$f":"StrokeData!A203","v":200},{"$f":"MassDataLink!A375","v":372},{"$f":"LeadData!A36","v":33},{"$f":"StrokeData!A210","v":207},{"$f":"MassDataLink!A382","v":379},{"$f":"LeadData!A37","v":34},{"$f":"StrokeData!A218","v":215},{"$f":"MassDataLink!A398","v":395},-1,-1,-1,-1,-1,-1,-1,-1,-1,-1,-1,-1,-1,-1,-1]
[{"$f":"A13+1","v":11},"ISDB-S-60",100,800,0,{"$f":"LeadData!A38","v":35},{"$f":"StrokeData!A227","v":224},{"$f":"MassDataLink!A416","v":413},{"$f":"LeadData!A39","v":36},{"$f":"StrokeData!A234","v":231},{"$f":"MassDataLink!A423","v":420},{"$f":"LeadData!A40","v":37},{"$f":"StrokeData!A241","v":238},{"$f":"MassDataLink!A430","v":427},-1,-1,-1,-1,-1,-1,-1,-1,-1,-1,-1,-1,-1,-1,-1]
[12,"ISDB-M-100",100,1100,0,{"$f":"LeadData!A41","v":38},{"$f":"StrokeData!A248","v":245},{"$f":"MassDataLink!A442","v":439},{"$f":"LeadData!A42","v":39},{"$f":"StrokeData!A259","v":256},{"$f":"MassDataLink!A449","v":446},{"$f":"LeadData!A43","v":40},{"$f":"StrokeData!A270","v":267},{"$f":"MassDataLink!A456","v":453},{"$f":"LeadData!A44","v":41},{"$f":"StrokeData!A281","v":278},{"$f":"MassDataLink!A470","v":467},-1,-1,-1,-1,-1,-1,-1,-1,-1,-1,-1,-1]
[13,"ISDB-M-200",100,1100,0,{"$f":"LeadData!A45","v":42},{"$f":"StrokeData!A292","v":289},{"$f":"MassDataLink!A484","v":481},{"$f":"LeadData!A46","v":43},{"$f":"StrokeData!A303","v":300},{"$f":"MassDataLink!A491","v":488},{"$f":"LeadData!A47","v":44},{"$f":"StrokeData!A314","v":311},{"$f":"MassDataLink!A498","v":495},{"$f":"LeadData!A48","v":45},{"$f":"StrokeData!A325","v":322},{"$f":"MassDataLink!A512","v":509},-1,-1,-1,-1,-1,-1,-1,-1,-1,-1,-1,-1]
[14,"ISDB-L-200",100,1300,0,{"$f":"LeadData!A49","v":46},{"$f":"StrokeData!A339","v":336},{"$f":"MassDataLink!A526","v":523},{"$f":"LeadData!A50","v":47},{"$f":"StrokeData!A353","v":350},{"$f":"MassDataLink!A533","v":530},{"$f":"LeadData!A51","v":48},{"$f":"StrokeData!A367","v":364},{"$f":"MassDataLink!A547","v":544},-1,-1,-1,-1,-1,-1,-1,-1,-1,-1,-1,-1,-1,-1,-1]
[15,"ISDB-L-400",100,1300,0,{"$f":"LeadData!A52","v":49},{"$f":"StrokeData!A378","v":375},{"$f":"MassDataLink!A560","v":557},{"$f":"LeadData!A53","v":50},{"$f":"StrokeData!A392","v":389},{"$f":"MassDataLink!A567","v":564},{"$f":"LeadData!A54","v":51},{"$f":"StrokeData!A406","v":403},{"$f":"MassDataLink!A581","v":578},-1,-1,-1,-1,-1,-1,-1,-1,-1,-1,-1,-1,-1,-1,-1]
[16,"ISDBCR-S-60",100,800,0,{"$f":"LeadData!A55","v":52},{"$f":"StrokeData!A418","v":415},{"$f":"MassDataLink!A595","v":592},{"$f":"LeadData!A56","v":53},{"$f":"StrokeData!A425","v":422},{"$f":"MassDataLink!A602","v":599},{"$f":"LeadData!A57","v":54},{"$f":"StrokeData!A432","v":429},{"$f":"MassDataLink!A609","v":606},-1,-1,-1,-1,-1,-1,-1,-1,-1,-1,-1,-1,-1,-1,-1]
[17,"ISDBCR-M-100",100,1100,0,{"$f":"LeadData!A58","v":55},{"$f":"StrokeData!A439","v":436},{"$f":"MassDataLink!A621","v":618},{"$f":"LeadData!A59","v":56},{"$f":"StrokeData!A450","v":447},{"$f":"MassDataLink!A628","v":625},{"$f":"LeadData!A60","v":57},{"$f":"StrokeData!A461","v":458},{"$f":"MassDataLink!A635","v":632},{"$f":"LeadData!A61","v":58},{"$f":"StrokeData!A472","v":469},{"$f":"MassDataLink!A649","v":646},-1,-1,-1,-1,-1,-1,-1,-1,-1,-1,-1,-1]
[18,"ISDBCR-M-200",100,1100,0,{"$f":"LeadData!A62","v":59},{"$f":"StrokeData!A483","v":480},{"$f":"MassDataLink!A663","v":660},{"$f":"LeadData!A63","v":60},{"$f":"StrokeData!A494","v":491},{"$f":"MassDataLink!A670","v":667},{"$f":"LeadData!A64","v":61},{"$f":"StrokeData!A505","v":502},{"$f":"MassDataLink!A677","v":674},{"$f":"LeadData!A65","v":62},{"$f":"StrokeData!A516","v":513},{"$f":"MassDataLink!A691","v":688},-1,-1,-1,-1,-1,-1,-1,-1,-1,-1,-1,-1]
[{"$f":"A21+1","v":19},"ISDBCR-L-200",100,1300,0,{"$f":"LeadData!A66","v":63},{"$f":"StrokeData!A530","v":527},{"$f":"MassDataLink!A705","v":702},{"$f":"LeadData!A67","v":64},{"$f":"StrokeData!A544","v":541},{"$f":"MassDataLink!A712","v":709},{"$f":"LeadData!A68","v":65},{"$f":"StrokeData!A558","v":555},{"$f":"MassDataLink!A726","v":723},-1,-1,-1,-1,-1,-1,-1,-1,-1,-1,-1,-1,-1,-1,-1]
[20,"ISDBCR-L-400",100,1300,0,{"$f":"LeadData!A69","v":66},{"$f":"StrokeData!A569","v":566},{"$f":"MassDataLink!A739","v":736},{"$f":"LeadData!A70","v":67},{"$f":"StrokeData!A583","v":580},{"$f":"MassDataLink!A746","v":743},{"$f":"LeadData!A71","v":68},{"$f":"StrokeData!A597","v":594},{"$f":"MassDataLink!A760","v":757},-1,-1,-1,-1,-1,-1,-1,-1,-1,-1,-1,-1,-1,-1,-1]
[21,"SSPA-SXM-200",100,1100,0,{"$f":"LeadData!A72","v":69},{"$f":"StrokeData!A609","v":606},{"$f":"MassDataLink!A774","v":771},{"$f":"LeadData!A73","v":70},{"$f":"StrokeData!A620","v":617},{"$f":"MassDataLink!A781","v":778},{"$f":"LeadData!A74","v":71},{"$f":"StrokeData!A631","v":628},{"$f":"MassDataLink!A795","v":792},-1,-1,-1,-1,-1,-1,-1,-1,-1,-1,-1,-1,-1,-1,-1]
[22,"SSPA-MXM-400",100,1300,0,{"$f":"LeadData!A75","v":72},{"$f":"StrokeData!A644","v":641},{"$f":"MassDataLink!A813","v":810},{"$f":"LeadData!A76","v":73},{"$f":"StrokeData!A657","v":654},{"$f":"MassDataLink!A820","v":817},{"$f":"LeadData!A77","v":74},{"$f":"StrokeData!A671","v":668},{"$f":"MassDataLink!A834","v":831},-1,-1,-1,-1,-1,-1,-1,-1,-1,-1,-1,-1,-1,-1,-1]
[23,"SSPA-LXM-750",100,1500,0,{"$f":"LeadData!A78","v":75},{"$f":"StrokeData!A685","v":682},{"$f":"MassDataLink!A852","v":849},{"$f":"LeadData!A79","v":76},{"$f":"StrokeData!A693","v":690},{"$f":"MassDataLink!A870","v":867},-1,-1,-1,-1,-1,-1,-1,-1,-1,-1,-1,-1,-1,-1,-1,-1,-1,-1]
[24,"SSPDACR-S-200",100,1100,0,{"$f":"LeadData!A80","v":77},{"$f":"StrokeData!A701","v":698},{"$f":"MassDataLink!A886","v":883},{"$f":"LeadData!A81","v":78},{"$f":"StrokeData!A713","v":710},{"$f":"MassDataLink!A893","v":890},{"$f":"LeadData!A82","v":79},{"$f":"StrokeData!A725","v":722},{"$f":"MassDataLink!A907","v":904},-1,-1,-1,-1,-1,-1,-1,-1,-1,-1,-1,-1,-1,-1,-1]
[25,"SSPDACR-M-400",100,1300,0,{"$f":"LeadData!A83","v":80},{"$f":"StrokeData!A738","v":735},{"$f":"MassDataLink!A925","v":922},{"$f":"LeadData!A84","v":81},{"$f":"StrokeData!A753","v":750},{"$f":"MassDataLink!A932","v":929},{"$f":"LeadData!A85","v":82},{"$f":"StrokeData!A768","v":765},{"$f":"MassDataLink!A946","v":943},-1,-1,-1,-1,-1,-1,-1,-1,-1,-1,-1,-1,-1,-1,-1]
[26,"SSPDACR-L-750",100,1500,0,{"$f":"LeadData!A86","v":83},{"$f":"StrokeData!A780","v":777},{"$f":"MassDataLink!A964","v":961},{"$f":"LeadData!A87","v":84},{"$f":"StrokeData!A788","v":785},{"$f":"MassDataLink!A982","v":979},-1,-1,-1,-1,-1,-1,-1,-1,-1,-1,-1,-1,-1,-1,-1,-1,-1,-1]
[{"$f":"A29+1","v":27},"RCS3-SA8C-100",50,1100,0,{"$f":"LeadData!A88","v":85},{"$f":"StrokeData!A795","v":792},{"$f":"MassDataLink!A998","v":995},{"$f":"LeadData!A89","v":86},{"$f":"StrokeData!A805","v":802},{"$f":"MassDataLink!A1002","v":999},{"$f":"LeadData!A90","v":87},{"$f":"StrokeData!A815","v":812},{"$f":"MassDataLink!A1008","v":1005},{"$f":"LeadData!A91","v":88},{"$f":"StrokeData!A826","v":823},{"$f":"MassDataLink!A1018","v":1015},-1,-1,-1,-1,-1,-1,-1,-1,-1,-1,-1,-1]
[28,"RCS3-SA8C-150",50,1100,0,{"$f":"LeadData!A92","v":89},{"$f":"StrokeData!A837","v":834},{"$f":"MassDataLink!A1031","v":1028},{"$f":"LeadData!A93","v":90},{"$f":"StrokeData!A847","v":844},{"$f":"MassDataLink!A1037","v":1034},{"$f":"LeadData!A94","v":91},{"$f":"StrokeData!A858","v":855},{"$f":"MassDataLink!A1047","v":1044},-1,-1,-1,-1,-1,-1,-1,-1,-1,-1,-1,-1,-1,-1,-1]
[29,"RCS3-SS8C-100",50,1000,0,{"$f":"LeadData!A95","v":92},{"$f":"StrokeData!A869","v":866},{"$f":"MassDataLink!A1060","v":1057},{"$f":"LeadData!A96","v":93},{"$f":"StrokeData!A878","v":875},{"$f":"MassDataLink!A1064","v":1061},{"$f":"LeadData!A97","v":94},{"$f":"StrokeData!A887","v":884},{"$f":"MassDataLink!A1070","v":1067},{"$f":"LeadData!A98","v":95},{"$f":"StrokeData!A897","v":894},{"$f":"MassDataLink!A1080","v":1077},-1,-1,-1,-1,-1,-1,-1,-1,-1,-1,-1,-1]
[30,"RCS3-SS8C-150",50,1000,0,{"$f":"LeadData!A99","v":96},{"$f":"StrokeData!A907","v":904},{"$f":"MassDataLink!A1093","v":1090},{"$f":"LeadData!A100","v":97},{"$f":"StrokeData!A916","v":913},{"$f":"MassDataLink!A1099","v":1096},{"$f":"LeadData!A101","v":98},{"$f":"StrokeData!A928","v":925},{"$f":"MassDataLink!A1109","v":1106},-1,-1,-1,-1,-1,-1,-1,-1,-1,-1,-1,-1,-1,-1,-1]
[31,"RCS3CR-SA8C-100",50,1100,0,{"$f":"LeadData!A102","v":99},{"$f":"StrokeData!A938","v":935},{"$f":"MassDataLink!A1122","v":1119},{"$f":"LeadData!A103","v":100},{"$f":"StrokeData!A948","v":945},{"$f":"MassDataLink!A1126","v":1123},{"$f":"LeadData!A104","v":101},{"$f":"StrokeData!A958","v":955},{"$f":"MassDataLink!A1132","v":1129},{"$f":"LeadData!A105","v":102},{"$f":"StrokeData!A969","v":966},{"$f":"MassDataLink!A1142","v":1139},-1,-1,-1,-1,-1,-1,-1,-1,-1,-1,-1,-1]
[32,"RCS3CR-SA8C-150",50,1100,0,{"$f":"LeadData!A106","v":103},{"$f":"StrokeData!A979","v":976},{"$f":"MassDataLink!A1155","v":1152},{"$f":"LeadData!A107","v":104},{"$f":"StrokeData!A989","v":986},{"$f":"MassDataLink!A1161","v":1158},{"$f":"LeadData!A108","v":105},{"$f":"StrokeData!A999","v":996},{"$f":"MassDataLink!A1171","v":1168},-1,-1,-1,-1,-1,-1,-1,-1,-1,-1,-1,-1,-1,-1,-1]
[33,"RCS3CR-SS8C-100",50,1000,0,{"$f":"LeadData!A109","v":106},{"$f":"StrokeData!A1010","v":1007},{"$f":"MassDataLink!A1184","v":1181},{"$f":"LeadData!A110","v":107},{"$f":"StrokeData!A1019","v":1016},{"$f":"MassDataLink!A1188","v":1185},{"$f":"LeadData!A111","v":108},{"$f":"StrokeData!A1028","v":1025},{"$f":"MassDataLink!A1194","v":1191},{"$f":"LeadData!A112","v":109},{"$f":"StrokeData!A1037","v":1034},{"$f":"MassDataLink!A1204","v":1201},-1,-1,-1,-1,-1,-1,-1,-1,-1,-1,-1,-1]
[34,"RCS3CR-SS8C-150",50,1000,0,{"$f":"LeadData!A113","v":110},{"$f":"StrokeData!A1046","v":1043},{"$f":"MassDataLink!A1217","v":1214},{"$f":"LeadData!A114","v":111},{"$f":"StrokeData!A1055","v":1052},{"$f":"MassDataLink!A1223","v":1220},{"$f":"LeadData!A115","v":112},{"$f":"StrokeData!A1066","v":1063},{"$f":"MassDataLink!A1233","v":1230},-1,-1,-1,-1,-1,-1,-1,-1,-1,-1,-1,-1,-1,-1,-1]
[35,"RCS3-SA8R-100",50,1100,0,{"$f":"LeadData!A116","v":113},{"$f":"StrokeData!A1075","v":1072},{"$f":"MassDataLink!A1246","v":1243},{"$f":"LeadData!A117","v":114},{"$f":"StrokeData!A1085","v":1082},{"$f":"MassDataLink!A1250","v":1247},{"$f":"LeadData!A118","v":115},{"$f":"StrokeData!A1095","v":1092},{"$f":"MassDataLink!A1256","v":1253},{"$f":"LeadData!A119","v":116},{"$f":"StrokeData!A1106","v":1103},{"$f":"MassDataLink!A1266","v":1263},-1,-1,-1,-1,-1,-1,-1,-1,-1,-1,-1,-1]
[36,"RCS3-SA8R-150",50,1100,0,{"$f":"LeadData!A120","v":117},{"$f":"StrokeData!A1116","v":1113},{"$f":"MassDataLink!A1279","v":1276},{"$f":"LeadData!A121","v":118},{"$f":"StrokeData!A1126","v":1123},{"$f":"MassDataLink!A1285","v":1282},{"$f":"LeadData!A122","v":119},{"$f":"StrokeData!A1136","v":1133},{"$f":"MassDataLink!A1295","v":1292},-1,-1,-1,-1,-1,-1,-1,-1,-1,-1,-1,-1,-1,-1,-1]
[37,"RCS3-SS8R-100",50,1000,0,{"$f":"LeadData!A123","v":120},{"$f":"StrokeData!A1147","v":1144},{"$f":"MassDataLink!A1308","v":1305},{"$f":"LeadData!A124","v":121},{"$f":"StrokeData!A1156","v":1153},{"$f":"MassDataLink!A1312","v":1309},{"$f":"LeadData!A125","v":122},{"$f":"StrokeData!A1165","v":1162},{"$f":"MassDataLink!A1318","v":1315},{"$f":"LeadData!A126","v":123},{"$f":"StrokeData!A1174","v":1171},{"$f":"MassDataLink!A1328","v":1325},-1,-1,-1,-1,-1,-1,-1,-1,-1,-1,-1,-1]
[38,"RCS3-SS8R-150",50,1000,0,{"$f":"LeadData!A127","v":124},{"$f":"StrokeData!A1183","v":1180},{"$f":"MassDataLink!A1341","v":1338},{"$f":"LeadData!A128","v":125},{"$f":"StrokeData!A1192","v":1189},{"$f":"MassDataLink!A1347","v":1344},{"$f":"LeadData!A129","v":126},{"$f":"StrokeData!A1203","v":1200},{"$f":"MassDataLink!A1357","v":1354},-1,-1,-1,-1,-1,-1,-1,-1,-1,-1,-1,-1,-1,-1,-1]
[39,"RCS2-SA4C-20",50,400,0,{"$f":"LeadData!A130","v":127},{"$f":"StrokeData!A1212","v":1209},{"$f":"MassDataLink!A1370","v":1367},{"$f":"LeadData!A131","v":128},{"$f":"StrokeData!A1213","v":1210},{"$f":"MassDataLink!A1372","v":1369},{"$f":"LeadData!A132","v":129},{"$f":"StrokeData!A1214","v":1211},{"$f":"MassDataLink!A1374","v":1371},{"$f":"LeadData!A133","v":130},{"$f":"StrokeData!A1215","v":1212},{"$f":"MassDataLink!A1376","v":1373},-1,-1,-1,-1,-1,-1,-1,-1,-1,-1,-1,-1]
[40,"RCS2-SA5C-20",50,500,0,{"$f":"LeadData!A134","v":131},{"$f":"StrokeData!A1216","v":1213},{"$f":"MassDataLink!A1378","v":1375},{"$f":"LeadData!A135","v":132},{"$f":"StrokeData!A1218","v":1215},{"$f":"MassDataLink!A1380","v":1377},{"$f":"LeadData!A136","v":133},{"$f":"StrokeData!A1220","v":1217},{"$f":"MassDataLink!A1382","v":1379},{"$f":"LeadData!A137","v":134},{"$f":"StrokeData!A1223","v":1220},{"$f":"MassDataLink!A1384","v":1381},-1,-1,-1,-1,-1,-1,-1,-1,-1,-1,-1,-1]
[41,"RCS2-SA6C-30",50,600,0,{"$f":"LeadData!A138","v":135},{"$f":"StrokeData!A1225","v":1222},{"$f":"MassDataLink!A1386","v":1383},{"$f":"LeadData!A139","v":136},{"$f":"StrokeData!A1229","v":1226},{"$f":"MassDataLink!A1388","v":1385},{"$f":"LeadData!A140","v":137},{"$f":"StrokeData!A1233","v":1230},{"$f":"MassDataLink!A1390","v":1387},{"$f":"LeadData!A141","v":138},{"$f":"StrokeData!A1238","v":1235},{"$f":"MassDataLink!A1392","v":1389},-1,-1,-1,-1,-1,-1,-1,-1,-1,-1,-1,-1]
[42,"RCS2-SA7C-60",50,800,0,{"$f":"LeadData!A142","v":139},{"$f":"StrokeData!A1244","v":1241},{"$f":"MassDataLink!A1394","v":1391},{"$f":"LeadData!A143","v":140},{"$f":"StrokeData!A1247","v":1244},{"$f":"MassDataLink!A1396","v":1393},{"$f":"LeadData!A144","v":141},{"$f":"StrokeData!A1250","v":1247},{"$f":"MassDataLink!A1398","v":1395},{"$f":"LeadData!A145","v":142},{"$f":"StrokeData!A1254","v":1251},{"$f":"MassDataLink!A1400","v":1397},-1,-1,-1,-1,-1,-1,-1,-1,-1,-1,-1,-1]
[{"$f":"A45+1","v":43},"RCS2-SS7C-60",50,600,0,{"$f":"LeadData!A146","v":143},{"$f":"StrokeData!A1261","v":1258},{"$f":"MassDataLink!A1402","v":1399},{"$f":"LeadData!A147","v":144},{"$f":"StrokeData!A1263","v":1260},{"$f":"MassDataLink!A1404","v":1401},{"$f":"LeadData!A148","v":145},{"$f":"StrokeData!A1266","v":1263},{"$f":"MassDataLink!A1406","v":1403},-1,-1,-1,-1,-1,-1,-1,-1,-1,-1,-1,-1,-1,-1,-1]
[44,"RCS2CR-SA4C-20",50,400,0,{"$f":"LeadData!A149","v":146},{"$f":"StrokeData!A1271","v":1268},{"$f":"MassDataLink!A1408","v":1405},{"$f":"LeadData!A150","v":147},{"$f":"StrokeData!A1272","v":1269},{"$f":"MassDataLink!A1410","v":1407},{"$f":"LeadData!A151","v":148},{"$f":"StrokeData!A1273","v":1270},{"$f":"MassDataLink!A1412","v":1409},{"$f":"LeadData!A152","v":149},{"$f":"StrokeData!A1274","v":1271},{"$f":"MassDataLink!A1414","v":1411},-1,-1,-1,-1,-1,-1,-1,-1,-1,-1,-1,-1]
[45,"RCS2CR-SA5C-20",50,500,0,{"$f":"LeadData!A153","v":150},{"$f":"StrokeData!A1275","v":1272},{"$f":"MassDataLink!A1416","v":1413},{"$f":"LeadData!A154","v":151},{"$f":"StrokeData!A1277","v":1274},{"$f":"MassDataLink!A1418","v":1415},{"$f":"LeadData!A155","v":152},{"$f":"StrokeData!A1279","v":1276},{"$f":"MassDataLink!A1420","v":1417},{"$f":"LeadData!A156","v":153},{"$f":"StrokeData!A1281","v":1278},{"$f":"MassDataLink!A1422","v":1419},-1,-1,-1,-1,-1,-1,-1,-1,-1,-1,-1,-1]
[46,"RCS2CR-SA6C-30",50,600,0,{"$f":"LeadData!A157","v":154},{"$f":"StrokeData!A1282","v":1279},{"$f":"MassDataLink!A1424","v":1421},{"$f":"LeadData!A158","v":155},{"$f":"StrokeData!A1286","v":1283},{"$f":"MassDataLink!A1426","v":1423},{"$f":"LeadData!A159","v":156},{"$f":"StrokeData!A1290","v":1287},{"$f":"MassDataLink!A1428","v":1425},{"$f":"LeadData!A160","v":157},{"$f":"StrokeData!A1294","v":1291},{"$f":"MassDataLink!A1430","v":1427},-1,-1,-1,-1,-1,-1,-1,-1,-1,-1,-1,-1]
[47,"RCS2CR-SA7C-60",50,800,0,{"$f":"LeadData!A161","v":158},{"$f":"StrokeData!A1299","v":1296},{"$f":"MassDataLink!A1432","v":1429},{"$f":"LeadData!A162","v":159},{"$f":"StrokeData!A1302","v":1299},{"$f":"MassDataLink!A1434","v":1431},{"$f":"LeadData!A163","v":160},{"$f":"StrokeData!A1305","v":1302},{"$f":"MassDataLink!A1436","v":1433},{"$f":"LeadData!A164","v":161},{"$f":"StrokeData!A1308","v":1305},{"$f":"MassDataLink!A1438","v":1435},-1,-1,-1,-1,-1,-1,-1,-1,-1,-1,-1,-1]
[48,"RCS2CR-SS7C-60",50,600,0,{"$f":"LeadData!A165","v":162},{"$f":"StrokeData!A1314","v":1311},{"$f":"MassDataLink!A1440","v":1437},{"$f":"LeadData!A166","v":163},{"$f":"StrokeData!A1316","v":1313},{"$f":"MassDataLink!A1442","v":1439},{"$f":"LeadData!A167","v":164},{"$f":"StrokeData!A1318","v":1315},{"$f":"MassDataLink!A1444","v":1441},-1,-1,-1,-1,-1,-1,-1,-1,-1,-1,-1,-1,-1,-1,-1]
[49,"RCS2-SA4D-20",50,300,0,{"$f":"LeadData!A168","v":165},{"$f":"StrokeData!A1322","v":1319},{"$f":"MassDataLink!A1446","v":1443},{"$f":"LeadData!A169","v":166},{"$f":"StrokeData!A1323","v":1320},{"$f":"MassDataLink!A1448","v":1445},{"$f":"LeadData!A170","v":167},{"$f":"StrokeData!A1324","v":1321},{"$f":"MassDataLink!A1450","v":1447},-1,-1,-1,-1,-1,-1,-1,-1,-1,-1,-1,-1,-1,-1,-1]
[{"$f":"A52+1","v":50},"RCS2-SA5D-20",50,500,0,{"$f":"LeadData!A171","v":168},{"$f":"StrokeData!A1325","v":1322},{"$f":"MassDataLink!A1452","v":1449},{"$f":"LeadData!A172","v":169},{"$f":"StrokeData!A1327","v":1324},{"$f":"MassDataLink!A1454","v":1451},{"$f":"LeadData!A173","v":170},{"$f":"StrokeData!A1329","v":1326},{"$f":"MassDataLink!A1456","v":1453},-1,-1,-1,-1,-1,-1,-1,-1,-1,-1,-1,-1,-1,-1,-1]
[51,"RCS2-SA6D-30",50,600,0,{"$f":"LeadData!A174","v":171},{"$f":"StrokeData!A1331","v":1328},{"$f":"MassDataLink!A1458","v":1455},{"$f":"LeadData!A175","v":172},{"$f":"StrokeData!A1335","v":1332},{"$f":"MassDataLink!A1460","v":1457},{"$f":"LeadData!A176","v":173},{"$f":"StrokeData!A1339","v":1336},{"$f":"MassDataLink!A1462","v":1459},-1,-1,-1,-1,-1,-1,-1,-1,-1,-1,-1,-1,-1,-1,-1]
[52,"RCS2CR-SA5D-20",50,500,0,{"$f":"LeadData!A177","v":174},{"$f":"StrokeData!A1345","v":1342},{"$f":"MassDataLink!A1464","v":1461},{"$f":"LeadData!A178","v":175},{"$f":"StrokeData!A1347","v":1344},{"$f":"MassDataLink!A1466","v":1463},{"$f":"LeadData!A179","v":176},{"$f":"StrokeData!A1349","v":1346},{"$f":"MassDataLink!A1468","v":1465},-1,-1,-1,-1,-1,-1,-1,-1,-1,-1,-1,-1,-1,-1,-1]
[53,"RCS2CR-SA6D-30",50,600,0,{"$f":"LeadData!A180","v":177},{"$f":"StrokeData!A1351","v":1348},{"$f":"MassDataLink!A1470","v":1467},{"$f":"LeadData!A181","v":178},{"$f":"StrokeData!A1355","v":1352},{"$f":"MassDataLink!A1472","v":1469},{"$f":"LeadData!A182","v":179},{"$f":"StrokeData!A1359","v":1356},{"$f":"MassDataLink!A1474","v":1471},-1,-1,-1,-1,-1,-1,-1,-1,-1,-1,-1,-1,-1,-1,-1]
[54,"RCS2-SA4R-20",50,400,0,{"$f":"LeadData!A183","v":180},{"$f":"StrokeData!A1365","v":1362},{"$f":"MassDataLink!A1476","v":1473},{"$f":"LeadData!A184","v":181},{"$f":"StrokeData!A1366","v":1363},{"$f":"MassDataLink!A1478","v":1475},{"$f":"LeadData!A185","v":182},{"$f":"StrokeData!A1367","v":1364},{"$f":"MassDataLink!A1480","v":1477},-1,-1,-1,-1,-1,-1,-1,-1,-1,-1,-1,-1,-1,-1,-1]
[55,"RCS2-SA5R-20",50,500,0,{"$f":"LeadData!A186","v":183},{"$f":"StrokeData!A1368","v":1365},{"$f":"MassDataLink!A1482","v":1479},{"$f":"LeadData!A187","v":184},{"$f":"StrokeData!A1370","v":1367},{"$f":"MassDataLink!A1484","v":1481},{"$f":"LeadData!A188","v":185},{"$f":"StrokeData!A1372","v":1369},{"$f":"MassDataLink!A1486","v":1483},-1,-1,-1,-1,-1,-1,-1,-1,-1,-1,-1,-1,-1,-1,-1]
[56,"RCS2-SA6R-30",50,600,0,{"$f":"LeadData!A189","v":186},{"$f":"StrokeData!A1374","v":1371},{"$f":"MassDataLink!A1488","v":1485},{"$f":"LeadData!A190","v":187},{"$f":"StrokeData!A1378","v":1375},{"$f":"MassDataLink!A1490","v":1487},{"$f":"LeadData!A191","v":188},{"$f":"StrokeData!A1382","v":1379},{"$f":"MassDataLink!A1492","v":1489},-1,-1,-1,-1,-1,-1,-1,-1,-1,-1,-1,-1,-1,-1,-1]
[57,"RCS2-SA7R-60",50,800,0,{"$f":"LeadData!A192","v":189},{"$f":"StrokeData!A1388","v":1385},{"$f":"MassDataLink!A1494","v":1491},{"$f":"LeadData!A193","v":190},{"$f":"StrokeData!A1391","v":1388},{"$f":"MassDataLink!A1496","v":1493},{"$f":"LeadData!A194","v":191},{"$f":"StrokeData!A1394","v":1391},{"$f":"MassDataLink!A1498","v":1495},-1,-1,-1,-1,-1,-1,-1,-1,-1,-1,-1,-1,-1,-1,-1]
[58,"RCS2-SS7R-60",50,600,0,{"$f":"LeadData!A195","v":192},{"$f":"StrokeData!A1397","v":1394},{"$f":"MassDataLink!A1500","v":1497},{"$f":"LeadData!A196","v":193},{"$f":"StrokeData!A1399","v":1396},{"$f":"MassDataLink!A1502","v":1499},-1,-1,-1,-1,-1,-1,-1,-1,-1,-1,-1,-1,-1,-1,-1,-1,-1,-1]
[59,"RCS2-RA4C-20",50,300,0,{"$f":"LeadData!A197","v":194},{"$f":"StrokeData!A1401","v":1398},{"$f":"MassDataLink!A1504","v":1501},{"$f":"LeadData!A198","v":195},{"$f":"StrokeData!A1402","v":1399},{"$f":"MassDataLink!A1506","v":1503},{"$f":"LeadData!A199","v":196},{"$f":"StrokeData!A1403","v":1400},{"$f":"MassDataLink!A1508","v":1505},-1,-1,-1,-1,-1,-1,-1,-1,-1,-1,-1,-1,-1,-1,-1]
[60,"RCS2-RA4C-30",50,300,0,{"$f":"LeadData!A200","v":197},{"$f":"StrokeData!A1404","v":1401},{"$f":"MassDataLink!A1510","v":1507},{"$f":"LeadData!A201","v":198},{"$f":"StrokeData!A1405","v":1402},{"$f":"MassDataLink!A1512","v":1509},{"$f":"LeadData!A202","v":199},{"$f":"StrokeData!A1406","v":1403},{"$f":"MassDataLink!A1514","v":1511},-1,-1,-1,-1,-1,-1,-1,-1,-1,-1,-1,-1,-1,-1,-1]
[61,"RCS2-RA5C-60",50,300,0,{"$f":"LeadData!A203","v":200},{"$f":"StrokeData!A1407","v":1404},{"$f":"MassDataLink!A1516","v":1513},{"$f":"LeadData!A204","v":201},{"$f":"StrokeData!A1409","v":1406},{"$f":"MassDataLink!A1518","v":1515},{"$f":"LeadData!A205","v":202},{"$f":"StrokeData!A1411","v":1408},{"$f":"MassDataLink!A1520","v":1517},-1,-1,-1,-1,-1,-1,-1,-1,-1,-1,-1,-1,-1,-1,-1]
[62,"RCS2-RA5C-100",50,300,0,{"$f":"LeadData!A206","v":203},{"$f":"StrokeData!A1413","v":1410},{"$f":"MassDataLink!A1522","v":1519},{"$f":"LeadData!A207","v":204},{"$f":"StrokeData!A1415","v":1412},{"$f":"MassDataLink!A1524","v":1521},{"$f":"LeadData!A208","v":205},{"$f":"StrokeData!A1419","v":1416},{"$f":"MassDataLink!A1526","v":1523},-1,-1,-1,-1,-1,-1,-1,-1,-1,-1,-1,-1,-1,-1,-1]
[{"$f":"A65+1","v":63},"ISB-MXMX-200",800,2000,0,{"$f":"LeadData!A209","v":206},{"$f":"StrokeData!A1421","v":1418},{"$f":"MassDataLink!A1528","v":1525},{"$f":"LeadData!A210","v":207},{"$f":"StrokeData!A1431","v":1428},{"$f":"MassDataLink!A1529","v":1526},-1,-1,-1,-1,-1,-1,-1,-1,-1,-1,-1,-1,-1,-1,-1,-1,-1,-1]
[64,"ISB-LXMX-200",1000,2500,0,{"$f":"LeadData!A211","v":208},{"$f":"StrokeData!A1441","v":1438},{"$f":"MassDataLink!A1530","v":1527},-1,-1,-1,-1,-1,-1,-1,-1,-1,-1,-1,-1,-1,-1,-1,-1,-1,-1,-1,-1,-1]
[65,"ISB-LXMX-400",1000,2500,0,{"$f":"LeadData!A212","v":209},{"$f":"StrokeData!A1455","v":1452},{"$f":"MassDataLink!A1531","v":1528},{"$f":"LeadData!A213","v":210},{"$f":"StrokeData!A1469","v":1466},{"$f":"MassDataLink!A1532","v":1529},-1,-1,-1,-1,-1,-1,-1,-1,-1,-1,-1,-1,-1,-1,-1,-1,-1,-1]
[66,"ISB-LXUWX-200",1000,2500,0,{"$f":"LeadData!A214","v":211},{"$f":"StrokeData!A1483","v":1480},{"$f":"MassDataLink!A1533","v":1530},-1,-1,-1,-1,-1,-1,-1,-1,-1,-1,-1,-1,-1,-1,-1,-1,-1,-1,-1,-1,-1]
[67,"ISB-LXUWX-400",1000,2500,0,{"$f":"LeadData!A215","v":212},{"$f":"StrokeData!A1497","v":1494},{"$f":"MassDataLink!A1534","v":1531},{"$f":"LeadData!A216","v":213},{"$f":"StrokeData!A1511","v":1508},{"$f":"MassDataLink!A1535","v":1532},-1,-1,-1,-1,-1,-1,-1,-1,-1,-1,-1,-1,-1,-1,-1,-1,-1,-1]
[68,"ISDB-MX-200",800,1600,0,{"$f":"LeadData!A217","v":214},{"$f":"StrokeData!A1525","v":1522},{"$f":"MassDataLink!A1536","v":1533},{"$f":"LeadData!A218","v":215},{"$f":"StrokeData!A1531","v":1528},{"$f":"MassDataLink!A1537","v":1534},-1,-1,-1,-1,-1,-1,-1,-1,-1,-1,-1,-1,-1,-1,-1,-1,-1,-1]
[69,"ISDB-LX-200",1000,1600,0,{"$f":"LeadData!A219","v":216},{"$f":"StrokeData!A1537","v":1534},{"$f":"MassDataLink!A1538","v":1535},{"$f":"LeadData!A220","v":217},{"$f":"StrokeData!A1542","v":1539},{"$f":"MassDataLink!A1539","v":1536},-1,-1,-1,-1,-1,-1,-1,-1,-1,-1,-1,-1,-1,-1,-1,-1,-1,-1]
[70,"ISDB-LX-400",1000,1600,0,{"$f":"LeadData!A221","v":218},{"$f":"StrokeData!A1544","v":1541},{"$f":"MassDataLink!A1540","v":1537},{"$f":"LeadData!A222","v":219},{"$f":"StrokeData!A1549","v":1546},{"$f":"MassDataLink!A1541","v":1538},-1,-1,-1,-1,-1,-1,-1,-1,-1,-1,-1,-1,-1,-1,-1,-1,-1,-1]
[71,"ISDBCR-MX-200",800,2000,0,{"$f":"LeadData!A223","v":220},{"$f":"StrokeData!A1551","v":1548},{"$f":"MassDataLink!A1542","v":1539},{"$f":"LeadData!A224","v":221},{"$f":"StrokeData!A1561","v":1558},{"$f":"MassDataLink!A1543","v":1540},-1,-1,-1,-1,-1,-1,-1,-1,-1,-1,-1,-1,-1,-1,-1,-1,-1,-1]
[72,"ISDBCR-LX-200",1000,2500,0,{"$f":"LeadData!A225","v":222},{"$f":"StrokeData!A1571","v":1568},{"$f":"MassDataLink!A1544","v":1541},{"$f":"LeadData!A226","v":223},{"$f":"StrokeData!A1585","v":1582},{"$f":"MassDataLink!A1545","v":1542},-1,-1,-1,-1,-1,-1,-1,-1,-1,-1,-1,-1,-1,-1,-1,-1,-1,-1]
[73,"ISDBCR-LX-400",1000,2500,0,{"$f":"LeadData!A227","v":224},{"$f":"StrokeData!A1596","v":1593},{"$f":"MassDataLink!A1546","v":1543},{"$f":"LeadData!A228","v":225},{"$f":"StrokeData!A1610","v":1607},{"$f":"MassDataLink!A1547","v":1544},-1,-1,-1,-1,-1,-1,-1,-1,-1,-1,-1,-1,-1,-1,-1,-1,-1,-1]
[74,"ISB-SXM-100",100,1100,0,{"$f":"LeadData!A229","v":226},{"$f":"StrokeData!A1621","v":1618},{"$f":"MassDataLink!A1548","v":1545},-1,-1,-1,-1,-1,-1,-1,-1,-1,-1,-1,-1,-1,-1,-1,-1,-1,-1,-1,-1,-1]
[75,"ISB-MXM-400",100,1300,0,{"$f":"LeadData!A230","v":227},{"$f":"StrokeData!A1633","v":1630},{"$f":"MassDataLink!A1566","v":1563},-1,-1,-1,-1,-1,-1,-1,-1,-1,-1,-1,-1,-1,-1,-1,-1,-1,-1,-1,-1,-1]
[76,"ISB-SXL-100",130,1080,0,{"$f":"LeadData!A231","v":228},{"$f":"StrokeData!A1646","v":1643},{"$f":"MassDataLink!A1584","v":1581},-1,-1,-1,-1,-1,-1,-1,-1,-1,-1,-1,-1,-1,-1,-1,-1,-1,-1,-1,-1,-1]
[77,"ISB-MXL-400",120,1270,0,{"$f":"LeadData!A232","v":229},{"$f":"StrokeData!A1658","v":1655},{"$f":"MassDataLink!A1602","v":1599},-1,-1,-1,-1,-1,-1,-1,-1,-1,-1,-1,-1,-1,-1,-1,-1,-1,-1,-1,-1,-1]
[78,"ISDB-S-100",100,800,0,{"$f":"LeadData!A233","v":230},{"$f":"StrokeData!A1671","v":1668},{"$f":"MassDataLink!A1620","v":1617},-1,-1,-1,-1,-1,-1,-1,-1,-1,-1,-1,-1,-1,-1,-1,-1,-1,-1,-1,-1,-1]
[79,"ISDB-M-400",100,1100,0,{"$f":"LeadData!A234","v":231},{"$f":"StrokeData!A1677","v":1674},{"$f":"MassDataLink!A1636","v":1633},-1,-1,-1,-1,-1,-1,-1,-1,-1,-1,-1,-1,-1,-1,-1,-1,-1,-1,-1,-1,-1]
[80,"ISB-MXMX-400",800,2000,0,{"$f":"LeadData!A235","v":232},{"$f":"StrokeData!A1686","v":1683},{"$f":"MassDataLink!A1652","v":1649},-1,-1,-1,-1,-1,-1,-1,-1,-1,-1,-1,-1,-1,-1,-1,-1,-1,-1,-1,-1,-1]
[81,"ISDB-MX-400",800,1600,0,{"$f":"LeadData!A236","v":233},{"$f":"StrokeData!A1701","v":1698},{"$f":"MassDataLink!A1653","v":1650},-1,-1,-1,-1,-1,-1,-1,-1,-1,-1,-1,-1,-1,-1,-1,-1,-1,-1,-1,-1,-1]
[82,"RCS4-RA4C-60",50,200,0,{"$f":"LeadData!A237","v":234},{"$f":"+StrokeData!A1708","v":1705},{"$f":"MassDataLink!A1654","v":1651},{"$f":"LeadData!A238","v":235},{"$f":"+StrokeData!A1709","v":1706},{"$f":"+MassDataLink!A1657","v":1654},{"$f":"LeadData!A239","v":236},{"$f":"+StrokeData!A1710","v":1707},{"$f":"+MassDataLink!A1661","v":1658},{"$f":"LeadData!A240","v":237},{"$f":"+StrokeData!A1711","v":1708},{"$f":"+MassDataLink!A1667","v":1664},-1,-1,-1,-1,-1,-1,-1,-1,-1,-1,-1,-1]
[83,"RCS4-RA6C-100",50,300,0,{"$f":"LeadData!A241","v":238},{"$f":"+StrokeData!A1712","v":1709},{"$f":"MassDataLink!A1673","v":1670},{"$f":"LeadData!A242","v":239},{"$f":"+StrokeData!A1713","v":1710},{"$f":"MassDataLink!A1677","v":1674},{"$f":"LeadData!A243","v":240},{"$f":"+StrokeData!A1714","v":1711},{"$f":"MassDataLink!A1684","v":1681},{"$f":"LeadData!A244","v":241},{"$f":"+StrokeData!A1715","v":1712},{"$f":"MassDataLink!A1690","v":1687},-1,-1,-1,-1,-1,-1,-1,-1,-1,-1,-1,-1]
[84,"RCS4-RA7C-200",50,300,0,{"$f":"LeadData!A245","v":242},{"$f":"+StrokeData!A1716","v":1713},{"$f":"MassDataLink!A1698","v":1695},{"$f":"LeadData!A246","v":243},{"$f":"+StrokeData!A1717","v":1714},{"$f":"MassDataLink!A1703","v":1700},{"$f":"LeadData!A247","v":244},{"$f":"+StrokeData!A1718","v":1715},{"$f":"MassDataLink!A1708","v":1705},{"$f":"LeadData!A248","v":245},{"$f":"+StrokeData!A1719","v":1716},{"$f":"MassDataLink!A1716","v":1713},-1,-1,-1,-1,-1,-1,-1,-1,-1,-1,-1,-1]
[85,"RCS4-RA8C-400",50,300,0,{"$f":"LeadData!A249","v":246},{"$f":"+StrokeData!A1720","v":1717},{"$f":"MassDataLink!A1722","v":1719},{"$f":"LeadData!A250","v":247},{"$f":"+StrokeData!A1721","v":1718},{"$f":"MassDataLink!A1729","v":1726},{"$f":"LeadData!A251","v":248},{"$f":"+StrokeData!A1722","v":1719},{"$f":"MassDataLink!A1735","v":1732},-1,-1,-1,-1,-1,-1,-1,-1,-1,-1,-1,-1,-1,-1,-1]
[86,"RCS4-SA4C-60",50,500,0,{"$f":"LeadData!A252","v":249},{"$f":"+StrokeData!A1723","v":1720},{"$f":"MassDataLink!A1743","v":1740},{"$f":"LeadData!A253","v":250},{"$f":"+StrokeData!A1725","v":1722},{"$f":"MassDataLink!A1746","v":1743},{"$f":"LeadData!A254","v":251},{"$f":"+StrokeData!A1727","v":1724},{"$f":"MassDataLink!A1750","v":1747},{"$f":"LeadData!A255","v":252},{"$f":"+StrokeData!A1729","v":1726},{"$f":"MassDataLink!A1757","v":1754},-1,-1,-1,-1,-1,-1,-1,-1,-1,-1,-1,-1]
[87,"RCS4-SA6C-100",50,800,0,{"$f":"LeadData!A256","v":253},{"$f":"+StrokeData!A1731","v":1728},{"$f":"MassDataLink!A1764","v":1761},{"$f":"LeadData!A257","v":254},{"$f":"+StrokeData!A1738","v":1735},{"$f":"MassDataLink!A1770","v":1767},{"$f":"LeadData!A258","v":255},{"$f":"+StrokeData!A1745","v":1742},{"$f":"MassDataLink!A1774","v":1771},{"$f":"LeadData!A259","v":256},{"$f":"+StrokeData!A1752","v":1749},{"$f":"MassDataLink!A1781","v":1778},{"$f":"LeadData!A260","v":257},{"$f":"+StrokeData!A1759","v":1756},{"$f":"MassDataLink!A1790","v":1787},-1,-1,-1,-1,-1,-1,-1,-1,-1]
[88,"RCS4-SA7C-200",50,800,0,{"$f":"LeadData!A261","v":258},{"$f":"+StrokeData!A1765","v":1762},{"$f":"MassDataLink!A1797","v":1794},{"$f":"LeadData!A262","v":259},{"$f":"+StrokeData!A1772","v":1769},{"$f":"MassDataLink!A1801","v":1798},{"$f":"LeadData!A263","v":260},{"$f":"+StrokeData!A1779","v":1776},{"$f":"MassDataLink!A1806","v":1803},{"$f":"LeadData!A264","v":261},{"$f":"+StrokeData!A1786","v":1783},{"$f":"MassDataLink!A1813","v":1810},{"$f":"LeadData!A265","v":262},{"$f":"+StrokeData!A1793","v":1790},{"$f":"MassDataLink!A1822","v":1819},-1,-1,-1,-1,-1,-1,-1,-1,-1]
[89,"RCS4-SA8C-400",50,1100,0,{"$f":"LeadData!A266","v":263},{"$f":"+StrokeData!A1798","v":1795},{"$f":"MassDataLink!A1829","v":1826},{"$f":"LeadData!A267","v":264},{"$f":"+StrokeData!A1809","v":1806},{"$f":"MassDataLink!A1833","v":1830},{"$f":"LeadData!A268","v":265},{"$f":"+StrokeData!A1820","v":1817},{"$f":"MassDataLink!A1838","v":1835},{"$f":"LeadData!A269","v":266},{"$f":"+StrokeData!A1831","v":1828},{"$f":"MassDataLink!A1847","v":1844},{"$f":"LeadData!A270","v":267},{"$f":"+StrokeData!A1842","v":1839},{"$f":"MassDataLink!A1856","v":1853},-1,-1,-1,-1,-1,-1,-1,-1,-1]
[90,"RCS4-WSA10C-60",50,500,0,{"$f":"LeadData!A271","v":268},{"$f":"+StrokeData!A1851","v":1848},{"$f":"MassDataLink!A1860","v":1857},{"$f":"LeadData!A272","v":269},{"$f":"+StrokeData!A1855","v":1852},{"$f":"MassDataLink!A1865","v":1862},{"$f":"LeadData!A273","v":270},{"$f":"+StrokeData!A1859","v":1856},{"$f":"MassDataLink!A1869","v":1866},{"$f":"LeadData!A274","v":271},{"$f":"+StrokeData!A1863","v":1860},{"$f":"MassDataLink!A1874","v":1871},-1,-1,-1,-1,-1,-1,-1,-1,-1,-1,-1,-1]
[91,"RCS4-WSA12C-100",50,800,0,{"$f":"LeadData!A275","v":272},{"$f":"+StrokeData!A1867","v":1864},{"$f":"MassDataLink!A1878","v":1875},{"$f":"LeadData!A276","v":273},{"$f":"+StrokeData!A1875","v":1872},{"$f":"MassDataLink!A1884","v":1881},{"$f":"LeadData!A277","v":274},{"$f":"+StrokeData!A1883","v":1880},{"$f":"MassDataLink!A1891","v":1888},{"$f":"LeadData!A278","v":275},{"$f":"+StrokeData!A1891","v":1888},{"$f":"MassDataLink!A1896","v":1893},{"$f":"LeadData!A279","v":276},{"$f":"+StrokeData!A1899","v":1896},{"$f":"MassDataLink!A1903","v":1900},-1,-1,-1,-1,-1,-1,-1,-1,-1]
[92,"RCS4-WSA14C-200",50,800,0,{"$f":"LeadData!A280","v":277},{"$f":"+StrokeData!A1906","v":1903},{"$f":"MassDataLink!A1906","v":1903},{"$f":"LeadData!A281","v":278},{"$f":"+StrokeData!A1914","v":1911},{"$f":"MassDataLink!A1912","v":1909},{"$f":"LeadData!A282","v":279},{"$f":"+StrokeData!A1922","v":1919},{"$f":"MassDataLink!A1916","v":1913},{"$f":"LeadData!A283","v":280},{"$f":"+StrokeData!A1930","v":1927},{"$f":"MassDataLink!A1921","v":1918},{"$f":"LeadData!A284","v":281},{"$f":"+StrokeData!A1938","v":1935},{"$f":"MassDataLink!A1926","v":1923},-1,-1,-1,-1,-1,-1,-1,-1,-1]
[93,"RCS4-WSA16C-400",50,1100,0,{"$f":"LeadData!A285","v":282},{"$f":"+StrokeData!A1944","v":1941},{"$f":"MassDataLink!A1930","v":1927},{"$f":"LeadData!A286","v":283},{"$f":"+StrokeData!A1956","v":1953},{"$f":"MassDataLink!A1935","v":1932},{"$f":"LeadData!A287","v":284},{"$f":"+StrokeData!A1968","v":1965},{"$f":"MassDataLink!A1940","v":1937},{"$f":"LeadData!A288","v":285},{"$f":"+StrokeData!A1980","v":1977},{"$f":"MassDataLink!A1949","v":1946},-1,-1,-1,-1,-1,-1,-1,-1,-1,-1,-1,-1]
[94,"RCS4-TA4C(SB)-60",25,150,0,{"$f":"LeadData!A289","v":286},{"$f":"+StrokeData!A1992","v":1989},{"$f":"MassDataLink!A1957","v":1954},{"$f":"LeadData!A290","v":287},{"$f":"+StrokeData!A1993","v":1990},{"$f":"MassDataLink!A1959","v":1956},{"$f":"LeadData!A291","v":288},{"$f":"+StrokeData!A1994","v":1991},{"$f":"MassDataLink!A1961","v":1958},{"$f":"LeadData!A292","v":289},{"$f":"+StrokeData!A1995","v":1992},{"$f":"MassDataLink!A1963","v":1960},-1,-1,-1,-1,-1,-1,-1,-1,-1,-1,-1,-1]
[95,"RCS4-TA6C(SB)-100",25,200,0,{"$f":"LeadData!A293","v":290},{"$f":"+StrokeData!A1996","v":1993},{"$f":"MassDataLink!A1966","v":1963},{"$f":"LeadData!A294","v":291},{"$f":"+StrokeData!A1997","v":1994},{"$f":"MassDataLink!A1968","v":1965},{"$f":"LeadData!A295","v":292},{"$f":"+StrokeData!A1998","v":1995},{"$f":"MassDataLink!A1970","v":1967},{"$f":"LeadData!A296","v":293},{"$f":"+StrokeData!A1999","v":1996},{"$f":"MassDataLink!A1972","v":1969},-1,-1,-1,-1,-1,-1,-1,-1,-1,-1,-1,-1]
[96,"RCS4-TA7C(SB)-200",25,300,0,{"$f":"LeadData!A297","v":294},{"$f":"+StrokeData!A2000","v":1997},{"$f":"MassDataLink!A1978","v":1975},{"$f":"LeadData!A298","v":295},{"$f":"+StrokeData!A2001","v":1998},{"$f":"MassDataLink!A1980","v":1977},{"$f":"LeadData!A299","v":296},{"$f":"+StrokeData!A2002","v":1999},{"$f":"MassDataLink!A1982","v":1979},{"$f":"LeadData!A300","v":297},{"$f":"+StrokeData!A2003","v":2000},{"$f":"MassDataLink!A1986","v":1983},-1,-1,-1,-1,-1,-1,-1,-1,-1,-1,-1,-1]
[97,"RCS4-TA4C(DB)-60",40,240,0,{"$f":"LeadData!A301","v":298},{"$f":"+StrokeData!A2004","v":2001},{"$f":"MassDataLink!A1992","v":1989},{"$f":"LeadData!A302","v":299},{"$f":"+StrokeData!A2005","v":2002},{"$f":"MassDataLink!A1994","v":1991},{"$f":"LeadData!A303","v":300},{"$f":"+StrokeData!A2006","v":2003},{"$f":"MassDataLink!A1997","v":1994},-1,-1,-1,-1,-1,-1,-1,-1,-1,-1,-1,-1,-1,-1,-1]
[98,"RCS4-TA6C(DB)-100",45,320,0,{"$f":"LeadData!A304","v":301},{"$f":"+StrokeData!A2007","v":2004},{"$f":"MassDataLink!A2001","v":1998},{"$f":"LeadData!A305","v":302},{"$f":"+StrokeData!A2009","v":2006},{"$f":"MassDataLink!A2003","v":2000},{"$f":"LeadData!A306","v":303},{"$f":"+StrokeData!A2011","v":2008},{"$f":"MassDataLink!A2005","v":2002},-1,-1,-1,-1,-1,-1,-1,-1,-1,-1,-1,-1,-1,-1,-1]
[99,"RCS4-TA7C(DB)-200",40,390,0,{"$f":"LeadData!A307","v":304},{"$f":"+StrokeData!A2013","v":2010},{"$f":"MassDataLink!A2008","v":2005},{"$f":"LeadData!A308","v":305},{"$f":"+StrokeData!A2016","v":2013},{"$f":"MassDataLink!A2010","v":2007},{"$f":"LeadData!A309","v":306},{"$f":"+StrokeData!A2019","v":2016},{"$f":"MassDataLink!A2013","v":2010},-1,-1,-1,-1,-1,-1,-1,-1,-1,-1,-1,-1,-1,-1,-1]
[100,"RCS4-RRA4C-60",60,410,0,{"$f":"LeadData!A310","v":307},{"$f":"+StrokeData!$A2022","v":2019},{"$f":"MassDataLink!A2018","v":2015},{"$f":"LeadData!A311","v":308},{"$f":"+StrokeData!$A2023","v":2020},{"$f":"MassDataLink!A2021","v":2018},{"$f":"LeadData!A312","v":309},{"$f":"+StrokeData!$A2024","v":2021},{"$f":"MassDataLink!A2025","v":2022},{"$f":"LeadData!A313","v":310},{"$f":"+StrokeData!$A2025","v":2022},{"$f":"MassDataLink!A2031","v":2028},-1,-1,-1,-1,-1,-1,-1,-1,-1,-1,-1,-1]
[101,"RCS4-RRA6C-100",65,415,0,{"$f":"LeadData!A314","v":311},{"$f":"+StrokeData!$A2026","v":2023},{"$f":"MassDataLink!A2037","v":2034},{"$f":"LeadData!A315","v":312},{"$f":"+StrokeData!$A2027","v":2024},{"$f":"MassDataLink!A2041","v":2038},{"$f":"LeadData!A316","v":313},{"$f":"+StrokeData!$A2028","v":2025},{"$f":"MassDataLink!A2048","v":2045},{"$f":"LeadData!A317","v":314},{"$f":"+StrokeData!$A2029","v":2026},{"$f":"MassDataLink!A2054","v":2051},-1,-1,-1,-1,-1,-1,-1,-1,-1,-1,-1,-1]
[102,"RCS4-RRA7C-200",70,520,0,{"$f":"LeadData!A318","v":315},{"$f":"+StrokeData!$A2030","v":2027},{"$f":"MassDataLink!A2062","v":2059},{"$f":"LeadData!A319","v":316},{"$f":"+StrokeData!$A2031","v":2028},{"$f":"MassDataLink!A2067","v":2064},{"$f":"LeadData!A320","v":317},{"$f":"+StrokeData!$A2032","v":2029},{"$f":"MassDataLink!A2072","v":2069},{"$f":"LeadData!A321","v":318},{"$f":"+StrokeData!$A2033","v":2030},{"$f":"MassDataLink!A2080","v":2077},-1,-1,-1,-1,-1,-1,-1,-1,-1,-1,-1,-1]
[103,"RCS4-RRA8C-400",50,700,0,{"$f":"LeadData!A322","v":319},{"$f":"+StrokeData!$A2034","v":2031},{"$f":"MassDataLink!A2086","v":2083},{"$f":"LeadData!A323","v":320},{"$f":"+StrokeData!$A2044","v":2041},{"$f":"MassDataLink!A2093","v":2090},{"$f":"LeadData!A324","v":321},{"$f":"+StrokeData!$A2054","v":2051},{"$f":"MassDataLink!A2099","v":2096},{"$f":"LeadData!A325","v":322},{"$f":"+StrokeData!$A2064","v":2061},{"$f":"MassDataLink!A2107","v":2104},-1,-1,-1,-1,-1,-1,-1,-1,-1,-1,-1,-1]
[104,"RCS4-WRA10C-60",50,500,0,{"$f":"LeadData!A326","v":323},{"$f":"+StrokeData!$A2073","v":2070},{"$f":"MassDataLink!A2114","v":2111},{"$f":"LeadData!A327","v":324},{"$f":"+StrokeData!$A2076","v":2073},{"$f":"MassDataLink!A2119","v":2116},{"$f":"LeadData!A328","v":325},{"$f":"+StrokeData!$A2079","v":2076},{"$f":"MassDataLink!A2124","v":2121},{"$f":"LeadData!A329","v":326},{"$f":"+StrokeData!$A2082","v":2079},{"$f":"MassDataLink!A2131","v":2128},-1,-1,-1,-1,-1,-1,-1,-1,-1,-1,-1,-1]
[105,"RCS4-WRA12C-100",50,500,0,{"$f":"LeadData!A330","v":327},{"$f":"+StrokeData!$A2084","v":2081},{"$f":"MassDataLink!A2135","v":2132},{"$f":"LeadData!A331","v":328},{"$f":"+StrokeData!$A2085","v":2082},{"$f":"MassDataLink!A2139","v":2136},{"$f":"LeadData!A332","v":329},{"$f":"+StrokeData!$A2086","v":2083},{"$f":"MassDataLink!A2144","v":2141},{"$f":"LeadData!A333","v":330},{"$f":"+StrokeData!$A2087","v":2084},{"$f":"MassDataLink!A2149","v":2146},-1,-1,-1,-1,-1,-1,-1,-1,-1,-1,-1,-1]
[106,"RCS4-WRA14C-200",50,600,0,{"$f":"LeadData!A334","v":331},{"$f":"+StrokeData!$A2088","v":2085},{"$f":"MassDataLink!A2157","v":2154},{"$f":"LeadData!A335","v":332},{"$f":"+StrokeData!$A2091","v":2088},{"$f":"MassDataLink!A2161","v":2158},{"$f":"LeadData!A336","v":333},{"$f":"+StrokeData!$A2094","v":2091},{"$f":"MassDataLink!A2165","v":2162},{"$f":"LeadData!A337","v":334},{"$f":"+StrokeData!$A2095","v":2092},{"$f":"MassDataLink!A2173","v":2170},-1,-1,-1,-1,-1,-1,-1,-1,-1,-1,-1,-1]
[107,"RCS4-WRA16C-400",50,800,0,{"$f":"LeadData!A338","v":335},{"$f":"+StrokeData!$A2096","v":2093},{"$f":"MassDataLink!A2180","v":2177},{"$f":"LeadData!A339","v":336},{"$f":"+StrokeData!$A2108","v":2105},{"$f":"MassDataLink!A2186","v":2183},{"$f":"LeadData!A340","v":337},{"$f":"+StrokeData!$A2120","v":2117},{"$f":"MassDataLink!A2191","v":2188},{"$f":"LeadData!A341","v":338},{"$f":"+StrokeData!$A2132","v":2129},{"$f":"MassDataLink!A2199","v":2196},-1,-1,-1,-1,-1,-1,-1,-1,-1,-1,-1,-1]
[108,"RCS4-RA4R-60",50,200,0,{"$f":"LeadData!A342","v":339},{"$f":"StrokeData!A2143","v":2140},{"$f":"MassDataLink!A2209","v":2206},{"$f":"LeadData!A343","v":340},{"$f":"StrokeData!A2144","v":2141},{"$f":"MassDataLink!A2212","v":2209},{"$f":"LeadData!A344","v":341},{"$f":"StrokeData!A2145","v":2142},{"$f":"MassDataLink!A2216","v":2213},{"$f":"LeadData!A345","v":342},{"$f":"StrokeData!A2146","v":2143},{"$f":"MassDataLink!A2220","v":2217},-1,-1,-1,-1,-1,-1,-1,-1,-1,-1,-1,-1]
[109,"RCS4-RA6R-100",50,300,0,{"$f":"LeadData!A346","v":343},{"$f":"StrokeData!A2147","v":2144},{"$f":"MassDataLink!A2224","v":2221},{"$f":"LeadData!A347","v":344},{"$f":"StrokeData!A2148","v":2145},{"$f":"MassDataLink!A2228","v":2225},{"$f":"LeadData!A348","v":345},{"$f":"StrokeData!A2149","v":2146},{"$f":"MassDataLink!A2235","v":2232},{"$f":"LeadData!A349","v":346},{"$f":"StrokeData!A2150","v":2147},{"$f":"MassDataLink!A2241","v":2238},-1,-1,-1,-1,-1,-1,-1,-1,-1,-1,-1,-1]
[110,"RCS4-RA7R-200",50,300,0,{"$f":"LeadData!A350","v":347},{"$f":"StrokeData!A2151","v":2148},{"$f":"MassDataLink!A2247","v":2244},{"$f":"LeadData!A351","v":348},{"$f":"StrokeData!A2152","v":2149},{"$f":"MassDataLink!A2252","v":2249},{"$f":"LeadData!A352","v":349},{"$f":"StrokeData!A2153","v":2150},{"$f":"MassDataLink!A2257","v":2254},{"$f":"LeadData!A353","v":350},{"$f":"StrokeData!A2154","v":2151},{"$f":"MassDataLink!A2264","v":2261},-1,-1,-1,-1,-1,-1,-1,-1,-1,-1,-1,-1]
[111,"RCS4-RA8R-400",50,300,0,{"$f":"LeadData!A354","v":351},{"$f":"StrokeData!A2155","v":2152},{"$f":"MassDataLink!A2269","v":2266},{"$f":"LeadData!A355","v":352},{"$f":"StrokeData!A2156","v":2153},{"$f":"MassDataLink!A2276","v":2273},{"$f":"LeadData!A356","v":353},{"$f":"StrokeData!A2157","v":2154},{"$f":"MassDataLink!A2282","v":2279},-1,-1,-1,-1,-1,-1,-1,-1,-1,-1,-1,-1,-1,-1,-1]
[112,"RCS4-SA4R-60",50,500,0,{"$f":"LeadData!A357","v":354},{"$f":"StrokeData!A2158","v":2155},{"$f":"MassDataLink!A2289","v":2286},{"$f":"LeadData!A358","v":355},{"$f":"StrokeData!A2166","v":2163},{"$f":"MassDataLink!A2292","v":2289},{"$f":"LeadData!A359","v":356},{"$f":"StrokeData!A2174","v":2171},{"$f":"MassDataLink!A2297","v":2294},{"$f":"LeadData!A360","v":357},{"$f":"StrokeData!A2182","v":2179},{"$f":"MassDataLink!A2302","v":2299},-1,-1,-1,-1,-1,-1,-1,-1,-1,-1,-1,-1]
[113,"RCS4-SA6R-100",50,800,0,{"$f":"LeadData!A361","v":358},{"$f":"StrokeData!A2190","v":2187},{"$f":"MassDataLink!A2307","v":2304},{"$f":"LeadData!A362","v":359},{"$f":"StrokeData!A2197","v":2194},{"$f":"MassDataLink!A2313","v":2310},{"$f":"LeadData!A363","v":360},{"$f":"StrokeData!A2204","v":2201},{"$f":"MassDataLink!A2317","v":2314},{"$f":"LeadData!A364","v":361},{"$f":"StrokeData!A2211","v":2208},{"$f":"MassDataLink!A2323","v":2320},{"$f":"LeadData!A365","v":362},{"$f":"StrokeData!A2218","v":2215},{"$f":"MassDataLink!A2329","v":2326},-1,-1,-1,-1,-1,-1,-1,-1,-1]
[114,"RCS4-SA7R-200",50,800,0,{"$f":"LeadData!A366","v":363},{"$f":"StrokeData!A2224","v":2221},{"$f":"MassDataLink!A2335","v":2332},{"$f":"LeadData!A367","v":364},{"$f":"StrokeData!A2231","v":2228},{"$f":"MassDataLink!A2339","v":2336},{"$f":"LeadData!A368","v":365},{"$f":"StrokeData!A2238","v":2235},{"$f":"MassDataLink!A2344","v":2341},{"$f":"LeadData!A369","v":366},{"$f":"StrokeData!A2245","v":2242},{"$f":"MassDataLink!A2350","v":2347},{"$f":"LeadData!A370","v":367},{"$f":"StrokeData!A2252","v":2249},{"$f":"MassDataLink!A2356","v":2353},-1,-1,-1,-1,-1,-1,-1,-1,-1]
[115,"RCS4-SA8R-400",50,1100,0,{"$f":"LeadData!A371","v":368},{"$f":"StrokeData!A2257","v":2254},{"$f":"MassDataLink!A2362","v":2359},{"$f":"LeadData!A372","v":369},{"$f":"StrokeData!A2268","v":2265},{"$f":"MassDataLink!A2366","v":2363},{"$f":"LeadData!A373","v":370},{"$f":"StrokeData!A2279","v":2276},{"$f":"MassDataLink!A2371","v":2368},{"$f":"LeadData!A374","v":371},{"$f":"StrokeData!A2290","v":2287},{"$f":"MassDataLink!A2378","v":2375},{"$f":"LeadData!A375","v":372},{"$f":"StrokeData!A2301","v":2298},{"$f":"MassDataLink!A2385","v":2382},-1,-1,-1,-1,-1,-1,-1,-1,-1]
[116,"RCS4-WSA10R-60",50,500,0,{"$f":"LeadData!A376","v":373},{"$f":"StrokeData!A2309","v":2306},{"$f":"MassDataLink!A2388","v":2385},{"$f":"LeadData!A377","v":374},{"$f":"StrokeData!A2313","v":2310},{"$f":"MassDataLink!A2393","v":2390},{"$f":"LeadData!A378","v":375},{"$f":"StrokeData!A2317","v":2314},{"$f":"MassDataLink!A2397","v":2394},{"$f":"LeadData!A379","v":376},{"$f":"StrokeData!A2321","v":2318},{"$f":"MassDataLink!A2400","v":2397},-1,-1,-1,-1,-1,-1,-1,-1,-1,-1,-1,-1]
[117,"RCS4-WSA12R-100",50,800,0,{"$f":"LeadData!A380","v":377},{"$f":"StrokeData!A2325","v":2322},{"$f":"MassDataLink!A2403","v":2400},{"$f":"LeadData!A381","v":378},{"$f":"StrokeData!A2333","v":2330},{"$f":"MassDataLink!A2409","v":2406},{"$f":"LeadData!A382","v":379},{"$f":"StrokeData!A2341","v":2338},{"$f":"MassDataLink!A2416","v":2413},{"$f":"LeadData!A383","v":380},{"$f":"StrokeData!A2349","v":2346},{"$f":"MassDataLink!A2421","v":2418},{"$f":"LeadData!A384","v":381},{"$f":"StrokeData!A2357","v":2354},{"$f":"MassDataLink!A2427","v":2424},-1,-1,-1,-1,-1,-1,-1,-1,-1]
[118,"RCS4-WSA14R-200",50,800,0,{"$f":"LeadData!A385","v":382},{"$f":"StrokeData!A2364","v":2361},{"$f":"MassDataLink!A2429","v":2426},{"$f":"LeadData!A386","v":383},{"$f":"StrokeData!A2372","v":2369},{"$f":"MassDataLink!A2435","v":2432},{"$f":"LeadData!A387","v":384},{"$f":"StrokeData!A2380","v":2377},{"$f":"MassDataLink!A2439","v":2436},{"$f":"LeadData!A388","v":385},{"$f":"StrokeData!A2388","v":2385},{"$f":"MassDataLink!A2443","v":2440},{"$f":"LeadData!A389","v":386},{"$f":"StrokeData!A2396","v":2393},{"$f":"MassDataLink!A2447","v":2444},-1,-1,-1,-1,-1,-1,-1,-1,-1]
[119,"RCS4-WSA16R-400",50,1100,0,{"$f":"LeadData!A390","v":387},{"$f":"StrokeData!A2402","v":2399},{"$f":"MassDataLink!A2450","v":2447},{"$f":"LeadData!A391","v":388},{"$f":"StrokeData!A2414","v":2411},{"$f":"MassDataLink!A2455","v":2452},{"$f":"LeadData!A392","v":389},{"$f":"StrokeData!A2426","v":2423},{"$f":"MassDataLink!A2460","v":2457},{"$f":"LeadData!A393","v":390},{"$f":"StrokeData!A2438","v":2435},{"$f":"MassDataLink!A2467","v":2464},-1,-1,-1,-1,-1,-1,-1,-1,-1,-1,-1,-1]
[120,"RCS4-TA4R(SB)-60",25,150,0,{"$f":"LeadData!A394","v":391},{"$f":"StrokeData!A2450","v":2447},{"$f":"MassDataLink!A2473","v":2470},{"$f":"LeadData!A395","v":392},{"$f":"StrokeData!A2451","v":2448},{"$f":"MassDataLink!A2475","v":2472},{"$f":"LeadData!A396","v":393},{"$f":"StrokeData!A2452","v":2449},{"$f":"MassDataLink!A2477","v":2474},{"$f":"LeadData!A397","v":394},{"$f":"StrokeData!A2453","v":2450},{"$f":"MassDataLink!A2479","v":2476},-1,-1,-1,-1,-1,-1,-1,-1,-1,-1,-1,-1]
[121,"RCS4-TA6R(SB)-100",25,200,0,{"$f":"LeadData!A398","v":395},{"$f":"StrokeData!A2454","v":2451},{"$f":"MassDataLink!A2481","v":2478},{"$f":"LeadData!A399","v":396},{"$f":"StrokeData!A2455","v":2452},{"$f":"MassDataLink!A2485","v":2482},{"$f":"LeadData!A400","v":397},{"$f":"StrokeData!A2456","v":2453},{"$f":"MassDataLink!A2488","v":2485},{"$f":"LeadData!A401","v":398},{"$f":"StrokeData!A2457","v":2454},{"$f":"MassDataLink!A2490","v":2487},-1,-1,-1,-1,-1,-1,-1,-1,-1,-1,-1,-1]
[122,"RCS4-TA7R(SB)-200",25,300,0,{"$f":"LeadData!A402","v":399},{"$f":"StrokeData!A2458","v":2455},{"$f":"MassDataLink!A2494","v":2491},{"$f":"LeadData!A403","v":400},{"$f":"StrokeData!A2459","v":2456},{"$f":"MassDataLink!A2496","v":2493},{"$f":"LeadData!A404","v":401},{"$f":"StrokeData!A2460","v":2457},{"$f":"MassDataLink!A2498","v":2495},{"$f":"LeadData!A405","v":402},{"$f":"StrokeData!A2461","v":2458},{"$f":"MassDataLink!A2501","v":2498},-1,-1,-1,-1,-1,-1,-1,-1,-1,-1,-1,-1]
[123,"RCS4-TA4R(DB)-60",40,240,0,{"$f":"LeadData!A406","v":403},{"$f":"StrokeData!A2462","v":2459},{"$f":"MassDataLink!A2505","v":2502},{"$f":"LeadData!A407","v":404},{"$f":"StrokeData!A2463","v":2460},{"$f":"MassDataLink!A2507","v":2504},{"$f":"LeadData!A408","v":405},{"$f":"StrokeData!A2464","v":2461},{"$f":"MassDataLink!A2510","v":2507},-1,-1,-1,-1,-1,-1,-1,-1,-1,-1,-1,-1,-1,-1,-1]
[124,"RCS4-TA6R(DB)-100",45,320,0,{"$f":"LeadData!A409","v":406},{"$f":"StrokeData!A2465","v":2462},{"$f":"MassDataLink!A2513","v":2510},{"$f":"LeadData!A410","v":407},{"$f":"StrokeData!A2468","v":2465},{"$f":"MassDataLink!A2515","v":2512},{"$f":"LeadData!A411","v":408},{"$f":"StrokeData!A2471","v":2468},{"$f":"MassDataLink!A2517","v":2514},-1,-1,-1,-1,-1,-1,-1,-1,-1,-1,-1,-1,-1,-1,-1]
[125,"RCS4-TA7R(DB)-200",40,390,0,{"$f":"LeadData!A412","v":409},{"$f":"StrokeData!A2474","v":2471},{"$f":"MassDataLink!A2519","v":2516},{"$f":"LeadData!A413","v":410},{"$f":"StrokeData!A2479","v":2476},{"$f":"MassDataLink!A2521","v":2518},{"$f":"LeadData!A414","v":411},{"$f":"StrokeData!A2484","v":2481},{"$f":"MassDataLink!A2524","v":2521},-1,-1,-1,-1,-1,-1,-1,-1,-1,-1,-1,-1,-1,-1,-1]
[126,"RCS4-RRA4R-60",60,410,0,{"$f":"LeadData!A415","v":412},{"$f":"StrokeData!A2488","v":2485},{"$f":"MassDataLink!A2527","v":2524},{"$f":"LeadData!A416","v":413},{"$f":"StrokeData!A2489","v":2486},{"$f":"MassDataLink!A2530","v":2527},{"$f":"LeadData!A417","v":414},{"$f":"StrokeData!A2490","v":2487},{"$f":"MassDataLink!A2534","v":2531},{"$f":"LeadData!A418","v":415},{"$f":"StrokeData!A2491","v":2488},{"$f":"MassDataLink!A2538","v":2535},-1,-1,-1,-1,-1,-1,-1,-1,-1,-1,-1,-1]
[{"$f":"A129+1","v":127},"RCS4-RRA6R-100",65,415,0,{"$f":"LeadData!A419","v":416},{"$f":"StrokeData!A2492","v":2489},{"$f":"MassDataLink!A2542","v":2539},{"$f":"LeadData!A420","v":417},{"$f":"StrokeData!A2493","v":2490},{"$f":"MassDataLink!A2546","v":2543},{"$f":"LeadData!A421","v":418},{"$f":"StrokeData!A2494","v":2491},{"$f":"MassDataLink!A2553","v":2550},{"$f":"LeadData!A422","v":419},{"$f":"StrokeData!A2495","v":2492},{"$f":"MassDataLink!A2559","v":2556},-1,-1,-1,-1,-1,-1,-1,-1,-1,-1,-1,-1]
[128,"RCS4-RRA7R-200",70,520,0,{"$f":"LeadData!A423","v":420},{"$f":"StrokeData!A2496","v":2493},{"$f":"MassDataLink!A2565","v":2562},{"$f":"LeadData!A424","v":421},{"$f":"StrokeData!A2497","v":2494},{"$f":"MassDataLink!A2570","v":2567},{"$f":"LeadData!A425","v":422},{"$f":"StrokeData!A2498","v":2495},{"$f":"MassDataLink!A2575","v":2572},{"$f":"LeadData!A426","v":423},{"$f":"StrokeData!A2499","v":2496},{"$f":"MassDataLink!A2582","v":2579},-1,-1,-1,-1,-1,-1,-1,-1,-1,-1,-1,-1]
[129,"RCS4-RRA8R-400",50,700,0,{"$f":"LeadData!A427","v":424},{"$f":"StrokeData!A2500","v":2497},{"$f":"MassDataLink!A2587","v":2584},{"$f":"LeadData!A428","v":425},{"$f":"StrokeData!A2510","v":2507},{"$f":"MassDataLink!A2594","v":2591},{"$f":"LeadData!A429","v":426},{"$f":"StrokeData!A2520","v":2517},{"$f":"MassDataLink!A2600","v":2597},{"$f":"LeadData!A430","v":427},{"$f":"StrokeData!A2529","v":2526},{"$f":"MassDataLink!A2607","v":2604},-1,-1,-1,-1,-1,-1,-1,-1,-1,-1,-1,-1]
[130,"RCS4-WRA10R-60",50,500,0,{"$f":"LeadData!A431","v":428},{"$f":"StrokeData!A2538","v":2535},{"$f":"MassDataLink!A2613","v":2610},{"$f":"LeadData!A432","v":429},{"$f":"StrokeData!A2541","v":2538},{"$f":"MassDataLink!A2618","v":2615},{"$f":"LeadData!A433","v":430},{"$f":"StrokeData!A2544","v":2541},{"$f":"MassDataLink!A2623","v":2620},{"$f":"LeadData!A434","v":431},{"$f":"StrokeData!A2547","v":2544},{"$f":"MassDataLink!A2628","v":2625},-1,-1,-1,-1,-1,-1,-1,-1,-1,-1,-1,-1]
[131,"RCS4-WRA12R-100",50,500,0,{"$f":"LeadData!A435","v":432},{"$f":"StrokeData!A2549","v":2546},{"$f":"MassDataLink!A2631","v":2628},{"$f":"LeadData!A436","v":433},{"$f":"StrokeData!A2550","v":2547},{"$f":"MassDataLink!A2635","v":2632},{"$f":"LeadData!A437","v":434},{"$f":"StrokeData!A2551","v":2548},{"$f":"MassDataLink!A2640","v":2637},{"$f":"LeadData!A438","v":435},{"$f":"StrokeData!A2552","v":2549},{"$f":"MassDataLink!A2645","v":2642},-1,-1,-1,-1,-1,-1,-1,-1,-1,-1,-1,-1]
[132,"RCS4-WRA14R-200",50,600,0,{"$f":"LeadData!A439","v":436},{"$f":"StrokeData!A2553","v":2550},{"$f":"MassDataLink!A2651","v":2648},{"$f":"LeadData!A440","v":437},{"$f":"StrokeData!A2556","v":2553},{"$f":"MassDataLink!A2655","v":2652},{"$f":"LeadData!A441","v":438},{"$f":"StrokeData!A2559","v":2556},{"$f":"MassDataLink!A2659","v":2656},{"$f":"LeadData!A442","v":439},{"$f":"StrokeData!A2560","v":2557},{"$f":"MassDataLink!A2665","v":2662},-1,-1,-1,-1,-1,-1,-1,-1,-1,-1,-1,-1]
[133,"RCS4-WRA16R-400",50,800,0,{"$f":"LeadData!A443","v":440},{"$f":"StrokeData!A2561","v":2558},{"$f":"MassDataLink!A2671","v":2668},{"$f":"LeadData!A444","v":441},{"$f":"StrokeData!A2573","v":2570},{"$f":"MassDataLink!A2677","v":2674},{"$f":"LeadData!A445","v":442},{"$f":"StrokeData!A2585","v":2582},{"$f":"MassDataLink!A2682","v":2679},{"$f":"LeadData!A446","v":443},{"$f":"StrokeData!A2597","v":2594},{"$f":"MassDataLink!A2688","v":2685},-1,-1,-1,-1,-1,-1,-1,-1,-1,-1,-1,-1]
[134,"ISB-WXM-750",100,1300,0,444,2605,3210,445,2611,3217,446,2616,3234,-1,-1,-1,-1,-1,-1,-1,-1,-1,-1,-1,-1,-1,-1,-1,"↓ Ver3.12 ISB-WXM/WXMXは垂直搬送重量変更の為上書き",134,"ISB-WXM-750",100,1300,0,444,2605,3210,445,2611,3217,446,2616,3234,-1,-1,-1,-1,-1,-1,-1,-1,-1,-1,-1,-1,-1,-1,-1]
[135,"ISPB-WXM-750-HLA",100,1300,0,447,2621,3249,-1,-1,-1,-1,-1,-1,-1,-1,-1,-1,-1,-1,-1,-1,-1,-1,-1,-1,-1,-1,-1,null,135,"ISPB-WXM-750-HLA",100,1300,0,447,2621,3249,-1,-1,-1,-1,-1,-1,-1,-1,-1,-1,-1,-1,-1,-1,-1,-1,-1,-1,-1,-1,-1]
[136,"ISB-WXMX-750",900,3000,0,448,2627,3257,449,2628,3270,-1,-1,-1,-1,-1,-1,-1,-1,-1,-1,-1,-1,-1,-1,-1,-1,-1,-1,null,136,"ISB-WXMX-750",900,3000,0,448,2627,3257,449,2628,3270,-1,-1,-1,-1,-1,-1,-1,-1,-1,-1,-1,-1,-1,-1,-1,-1,-1,-1]
[137,"ISB-WXM-750-W",100,1300,0,450,2629,3286,451,2635,3293,452,2640,3311,-1,-1,-1,-1,-1,-1,-1,-1,-1,-1,-1,-1,-1,-1,-1,null,137,"ISB-WXM-750-W",100,1300,0,450,2629,3286,451,2635,3293,452,2640,3311,-1,-1,-1,-1,-1,-1,-1,-1,-1,-1,-1,-1,-1,-1,-1]
[138,"ISPB-WXM-750-HLA-W",100,1300,0,453,2645,3329,-1,-1,-1,-1,-1,-1,-1,-1,-1,-1,-1,-1,-1,-1,-1,-1,-1,-1,-1,-1,-1,null,138,"ISPB-WXM-750-HLA-W",100,1300,0,453,2645,3329,-1,-1,-1,-1,-1,-1,-1,-1,-1,-1,-1,-1,-1,-1,-1,-1,-1,-1,-1,-1,-1]
[139,"ISB-WXMX-750-W",900,3000,0,454,2651,3337,455,2652,3351,-1,-1,-1,-1,-1,-1,-1,-1,-1,-1,-1,-1,-1,-1,-1,-1,-1,-1,null,139,"ISB-WXMX-750-W",900,3000,0,454,2651,3337,455,2652,3351,-1,-1,-1,-1,-1,-1,-1,-1,-1,-1,-1,-1,-1,-1,-1,-1,-1,-1]
[140,"EC-S10L",100,1100,0,456,2653,2831,-1,-1,-1,-1,-1,-1,-1,-1,-1,-1,-1,-1,-1,-1,-1,-1,-1,-1,-1,-1,-1]
[141,"EC-S10M",100,1100,0,457,2662,2833,-1,-1,-1,-1,-1,-1,-1,-1,-1,-1,-1,-1,-1,-1,-1,-1,-1,-1,-1,-1,-1]
[142,"EC-S10H",100,1100,0,458,2671,2838,-1,-1,-1,-1,-1,-1,-1,-1,-1,-1,-1,-1,-1,-1,-1,-1,-1,-1,-1,-1,-1]
[143,"EC-S10S",100,1100,0,459,2680,2845,-1,-1,-1,-1,-1,-1,-1,-1,-1,-1,-1,-1,-1,-1,-1,-1,-1,-1,-1,-1,-1]
[144,"EC-S10XL",700,2000,0,460,2695,2850,-1,-1,-1,-1,-1,-1,-1,-1,-1,-1,-1,-1,-1,-1,-1,-1,-1,-1,-1,-1,-1]
[145,"EC-S10XM",700,2000,0,461,2711,2852,-1,-1,-1,-1,-1,-1,-1,-1,-1,-1,-1,-1,-1,-1,-1,-1,-1,-1,-1,-1,-1]
[146,"EC-S10XH",700,2000,0,462,2731,2857,-1,-1,-1,-1,-1,-1,-1,-1,-1,-1,-1,-1,-1,-1,-1,-1,-1,-1,-1,-1,-1]
[147,"EC-S10XS",700,2000,0,463,2747,2864,-1,-1,-1,-1,-1,-1,-1,-1,-1,-1,-1,-1,-1,-1,-1,-1,-1,-1,-1,-1,-1]
[148,"EC-S13L",100,1100,0,464,2763,2869,-1,-1,-1,-1,-1,-1,-1,-1,-1,-1,-1,-1,-1,-1,-1,-1,-1,-1,-1,-1,-1]
[149,"EC-S13M",100,1100,0,465,2773,2872,-1,-1,-1,-1,-1,-1,-1,-1,-1,-1,-1,-1,-1,-1,-1,-1,-1,-1,-1,-1,-1]
[150,"EC-S13H",100,1100,0,466,2787,2877,-1,-1,-1,-1,-1,-1,-1,-1,-1,-1,-1,-1,-1,-1,-1,-1,-1,-1,-1,-1,-1]
[151,"EC-S13S",100,1100,0,467,2801,2884,-1,-1,-1,-1,-1,-1,-1,-1,-1,-1,-1,-1,-1,-1,-1,-1,-1,-1,-1,-1,-1]
[152,"EC-S13XL",800,2000,0,468,2816,2891,-1,-1,-1,-1,-1,-1,-1,-1,-1,-1,-1,-1,-1,-1,-1,-1,-1,-1,-1,-1,-1]
[153,"EC-S13XM",800,2000,0,469,2827,2894,-1,-1,-1,-1,-1,-1,-1,-1,-1,-1,-1,-1,-1,-1,-1,-1,-1,-1,-1,-1,-1]
[154,"EC-S13XH",800,2000,0,470,2838,2899,-1,-1,-1,-1,-1,-1,-1,-1,-1,-1,-1,-1,-1,-1,-1,-1,-1,-1,-1,-1,-1]
[155,"EC-S13XS",800,2000,0,471,2850,2906,-1,-1,-1,-1,-1,-1,-1,-1,-1,-1,-1,-1,-1,-1,-1,-1,-1,-1,-1,-1,-1]
[156,"EC-S15L",100,1300,0,472,2862,2913,-1,-1,-1,-1,-1,-1,-1,-1,-1,-1,-1,-1,-1,-1,-1,-1,-1,-1,-1,-1,-1]
[157,"EC-S15M",100,1300,0,473,2875,2918,-1,-1,-1,-1,-1,-1,-1,-1,-1,-1,-1,-1,-1,-1,-1,-1,-1,-1,-1,-1,-1]
[158,"EC-S15H",100,1300,0,474,2888,2925,-1,-1,-1,-1,-1,-1,-1,-1,-1,-1,-1,-1,-1,-1,-1,-1,-1,-1,-1,-1,-1]
[159,"EC-S15XL",1000,2500,0,475,2903,2932,-1,-1,-1,-1,-1,-1,-1,-1,-1,-1,-1,-1,-1,-1,-1,-1,-1,-1,-1,-1,-1]
[160,"EC-S15XM",1000,2500,0,476,2922,2937,-1,-1,-1,-1,-1,-1,-1,-1,-1,-1,-1,-1,-1,-1,-1,-1,-1,-1,-1,-1,-1]
[161,"EC-S15XH",1000,2500,0,477,2940,2944,-1,-1,-1,-1,-1,-1,-1,-1,-1,-1,-1,-1,-1,-1,-1,-1,-1,-1,-1,-1,-1]
[162,"EC-S10L-W",250,1100,0,478,2958,2951,-1,-1,-1,-1,-1,-1,-1,-1,-1,-1,-1,-1,-1,-1,-1,-1,-1,-1,-1,-1,-1]
[163,"EC-S10M-W",250,1100,0,479,2967,2953,-1,-1,-1,-1,-1,-1,-1,-1,-1,-1,-1,-1,-1,-1,-1,-1,-1,-1,-1,-1,-1]
[164,"EC-S10H-W",250,1100,0,480,2976,2958,-1,-1,-1,-1,-1,-1,-1,-1,-1,-1,-1,-1,-1,-1,-1,-1,-1,-1,-1,-1,-1]
[165,"EC-S10S-W",250,1100,0,481,2985,2962,-1,-1,-1,-1,-1,-1,-1,-1,-1,-1,-1,-1,-1,-1,-1,-1,-1,-1,-1,-1,-1]
[166,"EC-S10XL-W",700,2000,0,482,2998,2965,-1,-1,-1,-1,-1,-1,-1,-1,-1,-1,-1,-1,-1,-1,-1,-1,-1,-1,-1,-1,-1]
[167,"EC-S10XM-W",700,2000,0,483,3014,2967,-1,-1,-1,-1,-1,-1,-1,-1,-1,-1,-1,-1,-1,-1,-1,-1,-1,-1,-1,-1,-1]
[168,"EC-S10XH-W",700,2000,0,484,3034,2972,-1,-1,-1,-1,-1,-1,-1,-1,-1,-1,-1,-1,-1,-1,-1,-1,-1,-1,-1,-1,-1]
[169,"EC-S10XS-W",700,2000,0,485,3050,2976,-1,-1,-1,-1,-1,-1,-1,-1,-1,-1,-1,-1,-1,-1,-1,-1,-1,-1,-1,-1,-1]
[170,"EC-S13L-W",300,1100,0,486,3066,2979,-1,-1,-1,-1,-1,-1,-1,-1,-1,-1,-1,-1,-1,-1,-1,-1,-1,-1,-1,-1,-1]
[171,"EC-S13M-W",300,1100,0,487,3076,2982,-1,-1,-1,-1,-1,-1,-1,-1,-1,-1,-1,-1,-1,-1,-1,-1,-1,-1,-1,-1,-1]
[172,"EC-S13H-W",300,1100,0,488,3090,2987,-1,-1,-1,-1,-1,-1,-1,-1,-1,-1,-1,-1,-1,-1,-1,-1,-1,-1,-1,-1,-1]
[173,"EC-S13S-W",300,1100,0,489,3103,2993,-1,-1,-1,-1,-1,-1,-1,-1,-1,-1,-1,-1,-1,-1,-1,-1,-1,-1,-1,-1,-1]
[174,"EC-S13XL-W",800,2000,0,490,3116,2997,-1,-1,-1,-1,-1,-1,-1,-1,-1,-1,-1,-1,-1,-1,-1,-1,-1,-1,-1,-1,-1]
[175,"EC-S13XM-W",800,2000,0,491,3127,3000,-1,-1,-1,-1,-1,-1,-1,-1,-1,-1,-1,-1,-1,-1,-1,-1,-1,-1,-1,-1,-1]
[176,"EC-S13XH-W",800,2000,0,492,3138,3005,-1,-1,-1,-1,-1,-1,-1,-1,-1,-1,-1,-1,-1,-1,-1,-1,-1,-1,-1,-1,-1]
[177,"EC-S13XS-W",800,2000,0,493,3150,3011,-1,-1,-1,-1,-1,-1,-1,-1,-1,-1,-1,-1,-1,-1,-1,-1,-1,-1,-1,-1,-1]
[178,"EC-S15L-W",300,1300,0,494,3162,3015,-1,-1,-1,-1,-1,-1,-1,-1,-1,-1,-1,-1,-1,-1,-1,-1,-1,-1,-1,-1,-1]
[179,"EC-S15M-W",300,1300,0,495,3175,3020,-1,-1,-1,-1,-1,-1,-1,-1,-1,-1,-1,-1,-1,-1,-1,-1,-1,-1,-1,-1,-1]
[180,"EC-S15H-W",300,1300,0,496,3187,3027,-1,-1,-1,-1,-1,-1,-1,-1,-1,-1,-1,-1,-1,-1,-1,-1,-1,-1,-1,-1,-1]
[181,"EC-S15XL-W",1000,2500,0,497,3201,3033,-1,-1,-1,-1,-1,-1,-1,-1,-1,-1,-1,-1,-1,-1,-1,-1,-1,-1,-1,-1,-1]
[182,"EC-S15XM-W",1000,2500,0,498,3220,3038,-1,-1,-1,-1,-1,-1,-1,-1,-1,-1,-1,-1,-1,-1,-1,-1,-1,-1,-1,-1,-1]
[183,"EC-S15XH-W",1000,2500,0,499,3238,3045,-1,-1,-1,-1,-1,-1,-1,-1,-1,-1,-1,-1,-1,-1,-1,-1,-1,-1,-1,-1,-1,"↑ Ver3.12"]
[184,"IFA-SA-100(-1450st)",200,1450,0,500,3256,3051,-1,-1,-1,-1,-1,-1,-1,-1,-1,-1,-1,-1,-1,-1,-1,-1,-1,-1,-1,-1,-1,"↓ Ver3.13"]
[185,"IFA-SA-100(1500st-)",1500,2600,0,501,3257,3069,-1,-1,-1,-1,-1,-1,-1,-1,-1,-1,-1,-1,-1,-1,-1,-1,-1,-1,-1,-1,-1]
[186,"IFA-MA-200",200,3200,0,502,3258,3086,-1,-1,-1,-1,-1,-1,-1,-1,-1,-1,-1,-1,-1,-1,-1,-1,-1,-1,-1,-1,-1]
[187,"IFA-MA-400",200,3200,0,503,3259,3104,-1,-1,-1,-1,-1,-1,-1,-1,-1,-1,-1,-1,-1,-1,-1,-1,-1,-1,-1,-1,-1]
[188,"IFA-MA-200-AC100V",200,3200,0,504,3260,3122,-1,-1,-1,-1,-1,-1,-1,-1,-1,-1,-1,-1,-1,-1,-1,-1,-1,-1,-1,-1,-1]
[189,"IFA-SA-100-W(-1450st)",200,1450,0,505,3261,3140,-1,-1,-1,-1,-1,-1,-1,-1,-1,-1,-1,-1,-1,-1,-1,-1,-1,-1,-1,-1,-1]
[190,"IFA-SA-100-W(1500st-)",1500,2600,0,506,3262,3158,-1,-1,-1,-1,-1,-1,-1,-1,-1,-1,-1,-1,-1,-1,-1,-1,-1,-1,-1,-1,-1]
[191,"IFA-MA-200-W",200,3200,0,507,3263,3175,-1,-1,-1,-1,-1,-1,-1,-1,-1,-1,-1,-1,-1,-1,-1,-1,-1,-1,-1,-1,-1]
[192,"IFA-MA-400-W",200,3200,0,508,3264,3185,-1,-1,-1,-1,-1,-1,-1,-1,-1,-1,-1,-1,-1,-1,-1,-1,-1,-1,-1,-1,-1]
[193,"IFA-MA-200-W-AC100V",200,3200,0,509,3265,3203,-1,-1,-1,-1,-1,-1,-1,-1,-1,-1,-1,-1,-1,-1,-1,-1,-1,-1,-1,-1,-1,"↑ Ver3.13"]
[194,"EC-S18L (～1350st)",100,1350,0,510,3266,3365,-1,-1,-1,-1,-1,-1,-1,-1,-1,-1,-1,-1,-1,-1,-1,-1,-1,-1,-1,-1,-1,"↓ Ver.3.15"]
[195,"EC-S18L (1400st～)",1400,1600,0,511,3286,3370,-1,-1,-1,-1,-1,-1,-1,-1,-1,-1,-1,-1,-1,-1,-1,-1,-1,-1,-1,-1,-1]
[196,"EC-S18M (～1350st)",100,1350,0,512,3291,3375,-1,-1,-1,-1,-1,-1,-1,-1,-1,-1,-1,-1,-1,-1,-1,-1,-1,-1,-1,-1,-1]
[197,"EC-S18M (1400st～)",1400,1600,0,513,3311,3382,-1,-1,-1,-1,-1,-1,-1,-1,-1,-1,-1,-1,-1,-1,-1,-1,-1,-1,-1,-1,-1]
[198,"EC-S18H (～1350st)",100,1350,0,514,3316,3389,-1,-1,-1,-1,-1,-1,-1,-1,-1,-1,-1,-1,-1,-1,-1,-1,-1,-1,-1,-1,-1]
[199,"EC-S18H (1400st～)",1400,1600,0,515,3336,3396,-1,-1,-1,-1,-1,-1,-1,-1,-1,-1,-1,-1,-1,-1,-1,-1,-1,-1,-1,-1,-1]
[200,"EC-S18LP (～1350st)",100,1350,0,516,3341,3403,-1,-1,-1,-1,-1,-1,-1,-1,-1,-1,-1,-1,-1,-1,-1,-1,-1,-1,-1,-1,-1]
[201,"EC-S18LP (1400st～)",1400,1600,0,517,3361,3409,-1,-1,-1,-1,-1,-1,-1,-1,-1,-1,-1,-1,-1,-1,-1,-1,-1,-1,-1,-1,-1]
[202,"EC-S18XL (～2200st)",750,2200,0,518,3366,3415,-1,-1,-1,-1,-1,-1,-1,-1,-1,-1,-1,-1,-1,-1,-1,-1,-1,-1,-1,-1,-1]
[203,"EC-S18XL (2250st～)",2250,2800,0,519,3386,3420,-1,-1,-1,-1,-1,-1,-1,-1,-1,-1,-1,-1,-1,-1,-1,-1,-1,-1,-1,-1,-1]
[204,"EC-S18XM (～2200st)",750,2200,0,520,3398,3425,-1,-1,-1,-1,-1,-1,-1,-1,-1,-1,-1,-1,-1,-1,-1,-1,-1,-1,-1,-1,-1]
[205,"EC-S18XM (2250st～)",2250,2800,0,521,3418,3432,-1,-1,-1,-1,-1,-1,-1,-1,-1,-1,-1,-1,-1,-1,-1,-1,-1,-1,-1,-1,-1]
[206,"EC-S18XH (～2200st)",750,2200,0,522,3430,3439,-1,-1,-1,-1,-1,-1,-1,-1,-1,-1,-1,-1,-1,-1,-1,-1,-1,-1,-1,-1,-1]
[207,"EC-S18XH (2250st～)",2250,2800,0,523,3446,3446,-1,-1,-1,-1,-1,-1,-1,-1,-1,-1,-1,-1,-1,-1,-1,-1,-1,-1,-1,-1,-1]
[208,"EC-S18XLP",750,2200,0,524,3458,3453,-1,-1,-1,-1,-1,-1,-1,-1,-1,-1,-1,-1,-1,-1,-1,-1,-1,-1,-1,-1,-1]
[209,"EC-S18L-W (～1350st)",400,1350,0,525,3478,3459,-1,-1,-1,-1,-1,-1,-1,-1,-1,-1,-1,-1,-1,-1,-1,-1,-1,-1,-1,-1,-1]
[210,"EC-S18L-W (1400st～)",1400,1600,0,526,3495,3464,-1,-1,-1,-1,-1,-1,-1,-1,-1,-1,-1,-1,-1,-1,-1,-1,-1,-1,-1,-1,-1]
[211,"EC-S18M-W (～1350st)",400,1350,0,527,3500,3469,-1,-1,-1,-1,-1,-1,-1,-1,-1,-1,-1,-1,-1,-1,-1,-1,-1,-1,-1,-1,-1]
[212,"EC-S18M-W (1400st～)",1400,1600,0,528,3517,3476,-1,-1,-1,-1,-1,-1,-1,-1,-1,-1,-1,-1,-1,-1,-1,-1,-1,-1,-1,-1,-1]
[213,"EC-S18H-W (～1350st)",400,1350,0,529,3522,3483,-1,-1,-1,-1,-1,-1,-1,-1,-1,-1,-1,-1,-1,-1,-1,-1,-1,-1,-1,-1,-1]
[214,"EC-S18H-W (1400st～)",1400,1600,0,530,3539,3490,-1,-1,-1,-1,-1,-1,-1,-1,-1,-1,-1,-1,-1,-1,-1,-1,-1,-1,-1,-1,-1]
[215,"EC-S18LP-W (～1350st)",400,1350,0,531,3544,3497,-1,-1,-1,-1,-1,-1,-1,-1,-1,-1,-1,-1,-1,-1,-1,-1,-1,-1,-1,-1,-1]
[216,"EC-S18LP-W (1400st～)",1400,1600,0,532,3561,3503,-1,-1,-1,-1,-1,-1,-1,-1,-1,-1,-1,-1,-1,-1,-1,-1,-1,-1,-1,-1,-1]
[217,"EC-S18XL-W (～2200st)",750,2200,0,533,3566,3509,-1,-1,-1,-1,-1,-1,-1,-1,-1,-1,-1,-1,-1,-1,-1,-1,-1,-1,-1,-1,-1]
[218,"EC-S18XL-W (2250st～)",2250,2800,0,534,3586,3514,-1,-1,-1,-1,-1,-1,-1,-1,-1,-1,-1,-1,-1,-1,-1,-1,-1,-1,-1,-1,-1]
[219,"EC-S18XM-W (～2200st)",750,2200,0,535,3598,3519,-1,-1,-1,-1,-1,-1,-1,-1,-1,-1,-1,-1,-1,-1,-1,-1,-1,-1,-1,-1,-1]
[220,"EC-S18XM-W (2250st～)",2250,2800,0,536,3618,3526,-1,-1,-1,-1,-1,-1,-1,-1,-1,-1,-1,-1,-1,-1,-1,-1,-1,-1,-1,-1,-1]
[221,"EC-S18XH-W (～2200st)",750,2200,0,537,3630,3533,-1,-1,-1,-1,-1,-1,-1,-1,-1,-1,-1,-1,-1,-1,-1,-1,-1,-1,-1,-1,-1]
[222,"EC-S18XH-W (2250st～)",2250,2800,0,538,3650,3540,-1,-1,-1,-1,-1,-1,-1,-1,-1,-1,-1,-1,-1,-1,-1,-1,-1,-1,-1,-1,-1]
[223,"EC-S18XLP-W",750,2200,0,539,3662,3547,-1,-1,-1,-1,-1,-1,-1,-1,-1,-1,-1,-1,-1,-1,-1,-1,-1,-1,-1,-1,-1,"↑ Ver.3.15"]
[224,"EC-B8SS",300,2600,0,540,3682,3553,-1,-1,-1,-1,-1,-1,-1,-1,-1,-1,-1,-1,-1,-1,-1,-1,-1,-1,-1,-1,-1,"↓ Ver.3.16 追加"]
[225,"EC-B8SSU",300,2600,0,541,3683,3557,-1,-1,-1,-1,-1,-1,-1,-1,-1,-1,-1,-1,-1,-1,-1,-1,-1,-1,-1,-1,-1]
[226,"RCS4-HSA6C-100",50,800,0,542,3684,3561,543,3691,3567,544,3698,3572,545,3705,3578,-1,-1,-1,-1,-1,-1,-1,-1,-1,-1,-1,-1]
[227,"RCS4-HSA7C-200",50,1000,0,546,3712,3585,547,3721,3591,548,3730,3598,549,3739,3605,-1,-1,-1,-1,-1,-1,-1,-1,-1,-1,-1,-1]
[228,"RCS4-HSA6C-100-W",50,800,0,550,3748,3614,551,3755,3620,552,3762,3625,-1,-1,-1,-1,-1,-1,-1,-1,-1,-1,-1,-1,-1,-1,-1]
[229,"RCS4-HSA7C-200-W",50,1000,0,553,3769,3630,554,3778,3636,555,3787,3643,-1,-1,-1,-1,-1,-1,-1,-1,-1,-1,-1,-1,-1,-1,-1,"↑ Ver.3.16 追加"]
["EOF"]

{"sheet":"LeadData","index":3,"n_rows":559,"n_cols":22,"rows_kept":559,"cut":false,"hidden":true,"merged":[[333,10,336,10],[337,10,340,10],[309,10,312,10],[313,10,316,10],[317,10,320,10],[321,10,324,10],[325,10,328,10],[329,10,332,10],[300,10,302,10],[303,10,305,10],[306,10,308,10],[270,10,273,10],[274,10,278,10],[279,10,283,10],[284,10,287,10],[288,10,291,10],[292,10,295,10],[296,10,299,10],[260,10,264,10],[265,10,269,10],[240,10,243,10],[244,10,247,10],[248,10,250,10],[251,10,254,10],[255,10,259,10],[205,10,207,10],[199,10,201,10],[194,10,195,10],[211,10,212,10],[236,10,239,10],[222,10,223,10],[224,10,225,10],[214,10,215,10],[216,10,217,10],[202,10,204,10],[208,10,209,10],[226,10,227,10],[218,10,219,10],[220,10,221,10],[191,10,193,10],[176,10,178,10],[179,10,181,10],[196,10,198,10],[182,10,184,10],[188,10,190,10],[185,10,187,10],[87,10,90,10],[91,10,93,10],[101,10,104,10],[122,10,125,10],[112,10,114,10],[108,10,111,10],[105,10,107,10],[115,10,118,10],[119,10,121,10],[23,10,26,10],[27,10,30,10],[31,10,33,10],[51,10,53,10],[34,10,36,10],[40,10,43,10],[37,10,39,10],[48,10,50,10],[44,10,47,10],[3,10,5,10],[6,10,9,10],[10,10,13,10],[20,10,22,10],[14,10,16,10],[17,10,19,10],[173,10,175,10],[145,10,147,10],[148,10,151,10],[152,10,155,10],[98,10,100,10],[156,10,159,10],[160,10,163,10],[129,10,132,10],[141,10,144,10],[133,10,136,10],[126,10,128,10],[54,10,56,10],[57,10,60,10],[170,10,172,10],[167,10,169,10],[137,10,140,10],[164,10,166,10],[61,10,64,10],[65,10,67,10],[68,10,70,10],[94,10,97,10],[79,10,81,10],[82,10,84,10],[71,10,73,10],[74,10,76,10],[77,10,78,10],[85,10,86,10]]}
[9.8066499999999994,1,3,4,5,6,10,11,14,15]
["データ№","ﾘｰﾄﾞ長","水平定格加速度","垂直定格加速度","水平最大加速度","垂直最大加速度","ｷﾞｱ比分子","ｷﾞｱ比分母","ｽﾄﾛｰｸ刻み","位置決め幅\n初期値","備考"]
[{"$f":"ModelData!A3","v":0},"0.001㎜","0.001mm/s^2","0.001mm/s^2","0.001mm/s^2","0.001mm/s^2",null,null,"mm","mm"]
[{"$f":"A3+1","v":1},4000,{"$f":"0.2*$A$1*1000*1000","v":1961330},{"$f":"0.2*$A$1*1000*1000","v":1961330},{"$f":"0.5*$A$1*1000*1000","v":4903325},{"$f":"0.4*$A$1*1000*1000","v":3922660},1,1,50,0.1,"ISB-SXM-60"]
[2,8000,{"$f":"0.4*$A$1*1000*1000","v":3922660},{"$f":"0.4*$A$1*1000*1000","v":3922660},{"$f":"0.7*$A$1*1000*1000","v":6864654.9999999991},{"$f":"0.6*$A$1*1000*1000","v":5883990},1,1,50,0.1]
[3,16000,{"$f":"0.4*$A$1*1000*1000","v":3922660},{"$f":"0.4*$A$1*1000*1000","v":3922660},{"$f":"1.2*$A$1*1000*1000","v":11767980},{"$f":"0.8*$A$1*1000*1000","v":7845320},1,1,50,0.1]
[4,5000,{"$f":"0.2*$A$1*1000*1000","v":1961330},{"$f":"0.2*$A$1*1000*1000","v":1961330},{"$f":"0.5*$A$1*1000*1000","v":4903325},{"$f":"0.4*$A$1*1000*1000","v":3922660},1,1,50,0.1,"ISB-MXM-100"]
[5,10000,{"$f":"0.4*$A$1*1000*1000","v":3922660},3922660,{"$f":"0.7*$A$1*1000*1000","v":6864654.9999999991},{"$f":"0.6*$A$1*1000*1000","v":5883990},1,1,50,0.1]
[6,20000,3922660,3922660,{"$f":"1.2*$A$1*1000*1000","v":11767980},{"$f":"1*$A$1*1000*1000","v":9806650},1,1,50,0.1]
[7,30000,3922660,3922660,{"$f":"1.2*$A$1*1000*1000","v":11767980},{"$f":"1.2*$A$1*1000*1000","v":11767980},1,1,50,0.1]
[8,5000,{"$f":"0.2*$A$1*1000*1000","v":1961330},{"$f":"0.2*$A$1*1000*1000","v":1961330},{"$f":"0.5*$A$1*1000*1000","v":4903325},{"$f":"0.4*$A$1*1000*1000","v":3922660},1,1,50,0.1,"ISB-MXM-200"]
[9,10000,{"$f":"0.4*$A$1*1000*1000","v":3922660},{"$f":"0.4*$A$1*1000*1000","v":3922660},{"$f":"0.7*$A$1*1000*1000","v":6864654.9999999991},{"$f":"0.6*$A$1*1000*1000","v":5883990},1,1,50,0.1]
[10,20000,{"$f":"0.4*$A$1*1000*1000","v":3922660},{"$f":"0.4*$A$1*1000*1000","v":3922660},{"$f":"1.2*$A$1*1000*1000","v":11767980},{"$f":"1*$A$1*1000*1000","v":9806650},1,1,50,0.1]
[11,30000,3922660,{"$f":"0.4*$A$1*1000*1000","v":3922660},{"$f":"1.2*$A$1*1000*1000","v":11767980},{"$f":"1.2*$A$1*1000*1000","v":11767980},1,1,50,0.1]
[12,10000,3922660,3922660,{"$f":"0.7*$A$1*1000*1000","v":6864654.9999999991},{"$f":"0.6*$A$1*1000*1000","v":5883990},1,1,50,0.1,"ISB-LXM-200"]
[13,20000,3922660,3922660,{"$f":"1.2*$A$1*1000*1000","v":11767980},{"$f":"1*$A$1*1000*1000","v":9806650},1,1,50,0.1]
[14,40000,{"$f":"0.4*$A$1*1000*1000","v":3922660},{"$f":"0.4*$A$1*1000*1000","v":3922660},{"$f":"1.2*$A$1*1000*1000","v":11767980},{"$f":"1.2*$A$1*1000*1000","v":11767980},1,1,50,0.1]
[15,10000,3922660,3922660,{"$f":"0.7*$A$1*1000*1000","v":6864654.9999999991},{"$f":"0.6*$A$1*1000*1000","v":5883990},1,1,50,0.1,"ISB-LXM-400"]
[16,20000,3922660,3922660,{"$f":"1.2*$A$1*1000*1000","v":11767980},{"$f":"1*$A$1*1000*1000","v":9806650},1,1,50,0.1]
[17,40000,{"$f":"0.4*$A$1*1000*1000","v":3922660},{"$f":"0.4*$A$1*1000*1000","v":3922660},{"$f":"1.2*$A$1*1000*1000","v":11767980},{"$f":"1.2*$A$1*1000*1000","v":11767980},1,1,50,0.1]
[18,4000,{"$f":"0.2*$A$1*1000*1000","v":1961330},{"$f":"0.2*$A$1*1000*1000","v":1961330},{"$f":"0.5*$A$1*1000*1000","v":4903325},{"$f":"0.4*$A$1*1000*1000","v":3922660},1,1,50,0.1,"ISB-SXL-60"]
[19,8000,{"$f":"0.4*$A$1*1000*1000","v":3922660},{"$f":"0.4*$A$1*1000*1000","v":3922660},{"$f":"0.7*$A$1*1000*1000","v":6864654.9999999991},{"$f":"0.6*$A$1*1000*1000","v":5883990},1,1,50,0.1]
[20,16000,{"$f":"0.4*$A$1*1000*1000","v":3922660},{"$f":"0.4*$A$1*1000*1000","v":3922660},{"$f":"1.2*$A$1*1000*1000","v":11767980},{"$f":"0.8*$A$1*1000*1000","v":7845320},1,1,50,0.1]
[21,5000,{"$f":"0.2*$A$1*1000*1000","v":1961330},{"$f":"0.2*$A$1*1000*1000","v":1961330},{"$f":"0.5*$A$1*1000*1000","v":4903325},{"$f":"0.4*$A$1*1000*1000","v":3922660},1,1,50,0.1,"ISB-MXL-100"]
[22,10000,{"$f":"0.4*$A$1*1000*1000","v":3922660},3922660,{"$f":"0.7*$A$1*1000*1000","v":6864654.9999999991},{"$f":"0.6*$A$1*1000*1000","v":5883990},1,1,50,0.1]
[23,20000,3922660,3922660,{"$f":"1.2*$A$1*1000*1000","v":11767980},{"$f":"1*$A$1*1000*1000","v":9806650},1,1,50,0.1]
[24,30000,3922660,3922660,{"$f":"1.2*$A$1*1000*1000","v":11767980},{"$f":"1.2*$A$1*1000*1000","v":11767980},1,1,50,0.1]
[25,5000,{"$f":"0.2*$A$1*1000*1000","v":1961330},{"$f":"0.2*$A$1*1000*1000","v":1961330},{"$f":"0.5*$A$1*1000*1000","v":4903325},{"$f":"0.4*$A$1*1000*1000","v":3922660},1,1,50,0.1,"ISB-MXL-200"]
[26,10000,{"$f":"0.4*$A$1*1000*1000","v":3922660},{"$f":"0.4*$A$1*1000*1000","v":3922660},{"$f":"0.7*$A$1*1000*1000","v":6864654.9999999991},{"$f":"0.6*$A$1*1000*1000","v":5883990},1,1,50,0.1]
[27,20000,{"$f":"0.4*$A$1*1000*1000","v":3922660},{"$f":"0.4*$A$1*1000*1000","v":3922660},{"$f":"1.2*$A$1*1000*1000","v":11767980},{"$f":"1*$A$1*1000*1000","v":9806650},1,1,50,0.1]
[28,30000,3922660,{"$f":"0.4*$A$1*1000*1000","v":3922660},{"$f":"1.2*$A$1*1000*1000","v":11767980},{"$f":"1.2*$A$1*1000*1000","v":11767980},1,1,50,0.1]
[29,10000,3922660,3922660,{"$f":"0.7*$A$1*1000*1000","v":6864654.9999999991},{"$f":"0.6*$A$1*1000*1000","v":5883990},1,1,50,0.1,"ISB-LXL-200"]
[30,20000,3922660,{"$f":"0.4*$A$1*1000*1000","v":3922660},{"$f":"1.2*$A$1*1000*1000","v":11767980},{"$f":"1*$A$1*1000*1000","v":9806650},1,1,50,0.1]
[31,40000,3922660,{"$f":"0.4*$A$1*1000*1000","v":3922660},{"$f":"1.2*$A$1*1000*1000","v":11767980},{"$f":"1.2*$A$1*1000*1000","v":11767980},1,1,50,0.1]
[32,10000,3922660,3922660,{"$f":"0.7*$A$1*1000*1000","v":6864654.9999999991},{"$f":"0.6*$A$1*1000*1000","v":5883990},1,1,50,0.1,"ISB-LXL-400"]
[33,20000,3922660,{"$f":"0.4*$A$1*1000*1000","v":3922660},{"$f":"1.2*$A$1*1000*1000","v":11767980},{"$f":"1*$A$1*1000*1000","v":9806650},1,1,50,0.1]
[34,40000,3922660,{"$f":"0.4*$A$1*1000*1000","v":3922660},{"$f":"1.2*$A$1*1000*1000","v":11767980},{"$f":"1.2*$A$1*1000*1000","v":11767980},1,1,50,0.1]
[35,4000,{"$f":"0.2*$A$1*1000*1000","v":1961330},{"$f":"0.2*$A$1*1000*1000","v":1961330},{"$f":"0.5*$A$1*1000*1000","v":4903325},{"$f":"0.4*$A$1*1000*1000","v":3922660},1,1,50,0.1,"ISDB-S-60"]
[36,8000,{"$f":"0.4*$A$1*1000*1000","v":3922660},{"$f":"0.4*$A$1*1000*1000","v":3922660},{"$f":"0.7*$A$1*1000*1000","v":6864654.9999999991},{"$f":"0.6*$A$1*1000*1000","v":5883990},1,1,50,0.1]
[37,16000,{"$f":"0.4*$A$1*1000*1000","v":3922660},{"$f":"0.4*$A$1*1000*1000","v":3922660},{"$f":"1*$A$1*1000*1000","v":9806650},{"$f":"0.8*$A$1*1000*1000","v":7845320},1,1,50,0.1]
[38,5000,{"$f":"0.2*$A$1*1000*1000","v":1961330},{"$f":"0.2*$A$1*1000*1000","v":1961330},{"$f":"0.5*$A$1*1000*1000","v":4903325},{"$f":"0.4*$A$1*1000*1000","v":3922660},1,1,50,0.1,"ISDB-M-100"]
[39,10000,{"$f":"0.4*$A$1*1000*1000","v":3922660},3922660,{"$f":"0.7*$A$1*1000*1000","v":6864654.9999999991},{"$f":"0.6*$A$1*1000*1000","v":5883990},1,1,50,0.1]
[40,20000,3922660,3922660,{"$f":"1*$A$1*1000*1000","v":9806650},{"$f":"1*$A$1*1000*1000","v":9806650},1,1,50,0.1]
[41,30000,3922660,3922660,{"$f":"1*$A$1*1000*1000","v":9806650},{"$f":"1*$A$1*1000*1000","v":9806650},1,1,50,0.1]
[42,5000,{"$f":"0.2*$A$1*1000*1000","v":1961330},{"$f":"0.2*$A$1*1000*1000","v":1961330},{"$f":"0.5*$A$1*1000*1000","v":4903325},{"$f":"0.4*$A$1*1000*1000","v":3922660},1,1,50,0.1,"ISDB-M-200"]
[43,10000,{"$f":"0.4*$A$1*1000*1000","v":3922660},{"$f":"0.4*$A$1*1000*1000","v":3922660},{"$f":"0.7*$A$1*1000*1000","v":6864654.9999999991},{"$f":"0.6*$A$1*1000*1000","v":5883990},1,1,50,0.1]
[44,20000,{"$f":"0.4*$A$1*1000*1000","v":3922660},{"$f":"0.4*$A$1*1000*1000","v":3922660},{"$f":"1*$A$1*1000*1000","v":9806650},{"$f":"1*$A$1*1000*1000","v":9806650},1,1,50,0.1]
[45,30000,3922660,{"$f":"0.4*$A$1*1000*1000","v":3922660},{"$f":"1*$A$1*1000*1000","v":9806650},{"$f":"1*$A$1*1000*1000","v":9806650},1,1,50,0.1]
[46,10000,3922660,3922660,{"$f":"0.7*$A$1*1000*1000","v":6864654.9999999991},{"$f":"0.6*$A$1*1000*1000","v":5883990},1,1,50,0.1,"ISDB-L-200"]
[47,20000,3922660,{"$f":"0.4*$A$1*1000*1000","v":3922660},{"$f":"1*$A$1*1000*1000","v":9806650},{"$f":"1*$A$1*1000*1000","v":9806650},1,1,50,0.1]
[48,40000,3922660,{"$f":"0.4*$A$1*1000*1000","v":3922660},{"$f":"1*$A$1*1000*1000","v":9806650},{"$f":"1*$A$1*1000*1000","v":9806650},1,1,50,0.1]
[49,10000,3922660,3922660,{"$f":"0.7*$A$1*1000*1000","v":6864654.9999999991},{"$f":"0.6*$A$1*1000*1000","v":5883990},1,1,50,0.1,"ISDB-L-400"]
[50,20000,3922660,{"$f":"0.4*$A$1*1000*1000","v":3922660},{"$f":"1*$A$1*1000*1000","v":9806650},{"$f":"1*$A$1*1000*1000","v":9806650},1,1,50,0.1]
[51,40000,3922660,{"$f":"0.4*$A$1*1000*1000","v":3922660},{"$f":"1*$A$1*1000*1000","v":9806650},{"$f":"1*$A$1*1000*1000","v":9806650},1,1,50,0.1]
[52,4000,{"$f":"0.2*$A$1*1000*1000","v":1961330},{"$f":"0.2*$A$1*1000*1000","v":1961330},{"$f":"0.5*$A$1*1000*1000","v":4903325},{"$f":"0.4*$A$1*1000*1000","v":3922660},1,1,50,0.1,"ISDBCR-S-60"]
[53,8000,{"$f":"0.4*$A$1*1000*1000","v":3922660},{"$f":"0.4*$A$1*1000*1000","v":3922660},{"$f":"0.7*$A$1*1000*1000","v":6864654.9999999991},{"$f":"0.6*$A$1*1000*1000","v":5883990},1,1,50,0.1]
[54,16000,{"$f":"0.4*$A$1*1000*1000","v":3922660},{"$f":"0.4*$A$1*1000*1000","v":3922660},{"$f":"1*$A$1*1000*1000","v":9806650},{"$f":"0.8*$A$1*1000*1000","v":7845320},1,1,50,0.1]
[55,5000,{"$f":"0.2*$A$1*1000*1000","v":1961330},{"$f":"0.2*$A$1*1000*1000","v":1961330},{"$f":"0.5*$A$1*1000*1000","v":4903325},{"$f":"0.4*$A$1*1000*1000","v":3922660},1,1,50,0.1,"ISDBCR-M-100"]
[56,10000,{"$f":"0.4*$A$1*1000*1000","v":3922660},3922660,{"$f":"0.7*$A$1*1000*1000","v":6864654.9999999991},{"$f":"0.6*$A$1*1000*1000","v":5883990},1,1,50,0.1]
[57,20000,3922660,3922660,{"$f":"1*$A$1*1000*1000","v":9806650},{"$f":"1*$A$1*1000*1000","v":9806650},1,1,50,0.1]
[58,30000,3922660,3922660,{"$f":"1*$A$1*1000*1000","v":9806650},{"$f":"1*$A$1*1000*1000","v":9806650},1,1,50,0.1]
[59,5000,{"$f":"0.2*$A$1*1000*1000","v":1961330},{"$f":"0.2*$A$1*1000*1000","v":1961330},{"$f":"0.5*$A$1*1000*1000","v":4903325},{"$f":"0.4*$A$1*1000*1000","v":3922660},1,1,50,0.1,"ISDBCR-M-200"]
[60,10000,{"$f":"0.4*$A$1*1000*1000","v":3922660},{"$f":"0.4*$A$1*1000*1000","v":3922660},{"$f":"0.7*$A$1*1000*1000","v":6864654.9999999991},{"$f":"0.6*$A$1*1000*1000","v":5883990},1,1,50,0.1]
[61,20000,{"$f":"0.4*$A$1*1000*1000","v":3922660},{"$f":"0.4*$A$1*1000*1000","v":3922660},{"$f":"1*$A$1*1000*1000","v":9806650},{"$f":"1*$A$1*1000*1000","v":9806650},1,1,50,0.1]
[62,30000,{"$f":"0.4*$A$1*1000*1000","v":3922660},{"$f":"0.4*$A$1*1000*1000","v":3922660},{"$f":"1*$A$1*1000*1000","v":9806650},{"$f":"1*$A$1*1000*1000","v":9806650},1,1,50,0.1]
[63,10000,3922660,3922660,{"$f":"0.7*$A$1*1000*1000","v":6864654.9999999991},{"$f":"0.6*$A$1*1000*1000","v":5883990},1,1,50,0.1,"ISDBCR-L-200"]
[64,20000,3922660,3922660,{"$f":"1*$A$1*1000*1000","v":9806650},{"$f":"1*$A$1*1000*1000","v":9806650},1,1,50,0.1]
[{"$f":"A67+1","v":65},40000,{"$f":"0.4*$A$1*1000*1000","v":3922660},{"$f":"0.4*$A$1*1000*1000","v":3922660},{"$f":"1*$A$1*1000*1000","v":9806650},{"$f":"1*$A$1*1000*1000","v":9806650},1,1,50,0.1]
[66,10000,3922660,3922660,{"$f":"0.7*$A$1*1000*1000","v":6864654.9999999991},{"$f":"0.6*$A$1*1000*1000","v":5883990},1,1,50,0.1,"ISDBCR-L-400"]
[67,20000,3922660,3922660,{"$f":"1*$A$1*1000*1000","v":9806650},{"$f":"1*$A$1*1000*1000","v":9806650},1,1,50,0.1]
[68,40000,{"$f":"0.4*$A$1*1000*1000","v":3922660},{"$f":"0.4*$A$1*1000*1000","v":3922660},{"$f":"1*$A$1*1000*1000","v":9806650},{"$f":"1*$A$1*1000*1000","v":9806650},1,1,50,0.1]
[69,10000,{"$f":"0.4*$A$1*1000*1000","v":3922660},{"$f":"0.4*$A$1*1000*1000","v":3922660},{"$f":"0.7*$A$1*1000*1000","v":6864654.9999999991},{"$f":"0.6*$A$1*1000*1000","v":5883990},1,1,50,0.1,"SSPA-SXM-200"]
[70,20000,{"$f":"0.4*$A$1*1000*1000","v":3922660},{"$f":"0.4*$A$1*1000*1000","v":3922660},{"$f":"1*$A$1*1000*1000","v":9806650},{"$f":"1*$A$1*1000*1000","v":9806650},1,1,50,0.1]
[71,30000,3922660,3922660,{"$f":"1.2*$A$1*1000*1000","v":11767980},{"$f":"1.2*$A$1*1000*1000","v":11767980},1,1,50,0.1]
[72,10000,{"$f":"0.4*$A$1*1000*1000","v":3922660},3922660,{"$f":"0.7*$A$1*1000*1000","v":6864654.9999999991},{"$f":"0.6*$A$1*1000*1000","v":5883990},1,1,50,0.1,"SSPA-MXM-400"]
[73,20000,3922660,3922660,{"$f":"1*$A$1*1000*1000","v":9806650},{"$f":"1*$A$1*1000*1000","v":9806650},1,1,50,0.1]
[74,40000,3922660,3922660,{"$f":"1.2*$A$1*1000*1000","v":11767980},11767980,1,1,50,0.1]
[75,25000,{"$f":"0.4*$A$1*1000*1000","v":3922660},3922660,11767980,11767980,1,1,50,0.1,"SSPA-LXM-750"]
[76,50000,3922660,3922660,11767980,11767980,1,1,50,0.1]
[77,10000,{"$f":"0.4*$A$1*1000*1000","v":3922660},3922660,{"$f":"0.7*$A$1*1000*1000","v":6864654.9999999991},{"$f":"0.6*$A$1*1000*1000","v":5883990},1,1,50,0.1,"SSPDACR-S-200"]
[78,20000,3922660,3922660,{"$f":"1*$A$1*1000*1000","v":9806650},{"$f":"1*$A$1*1000*1000","v":9806650},1,1,50,0.1]
[79,30000,3922660,3922660,{"$f":"1.2*$A$1*1000*1000","v":11767980},{"$f":"1.2*$A$1*1000*1000","v":11767980},1,1,50,0.1]
[80,10000,3922660,3922660,{"$f":"0.7*$A$1*1000*1000","v":6864654.9999999991},{"$f":"0.6*$A$1*1000*1000","v":5883990},1,1,50,0.1,"SSPDACR-M-400"]
[81,20000,3922660,3922660,{"$f":"1*$A$1*1000*1000","v":9806650},{"$f":"1*$A$1*1000*1000","v":9806650},1,1,50,0.1]
[82,40000,3922660,3922660,{"$f":"1.2*$A$1*1000*1000","v":11767980},11767980,1,1,50,0.1]
[83,25000,3922660,3922660,11767980,11767980,1,1,50,0.1,"SSPDACR-L-750"]
[84,50000,3922660,3922660,11767980,11767980,1,1,50,0.1]
[85,5000,{"$f":"0.2*$A$1*1000*1000","v":1961330},{"$f":"0.2*$A$1*1000*1000","v":1961330},{"$f":"0.3*$A$1*1000*1000","v":2941995},{"$f":"0.3*$A$1*1000*1000","v":2941995},1,1,50,0.1,"RCS3-SA8C-100"]
[86,10000,{"$f":"0.3*$A$1*1000*1000","v":2941995},1961330,{"$f":"0.5*$A$1*1000*1000","v":4903325},{"$f":"0.5*$A$1*1000*1000","v":4903325},1,1,50,0.1]
[87,20000,{"$f":"0.3*$A$1*1000*1000","v":2941995},1961330,{"$f":"0.7*$A$1*1000*1000","v":6864654.9999999991},{"$f":"0.7*$A$1*1000*1000","v":6864654.9999999991},1,1,50,0.1]
[88,30000,{"$f":"0.3*$A$1*1000*1000","v":2941995},1961330,{"$f":"1*$A$1*1000*1000","v":9806650},{"$f":"0.7*$A$1*1000*1000","v":6864654.9999999991},1,1,50,0.1]
[89,10000,{"$f":"0.3*$A$1*1000*1000","v":2941995},1961330,{"$f":"0.5*$A$1*1000*1000","v":4903325},{"$f":"0.5*$A$1*1000*1000","v":4903325},1,1,50,0.1,"RCS3-SA8C-150"]
[90,20000,2941995,1961330,{"$f":"0.7*$A$1*1000*1000","v":6864654.9999999991},{"$f":"0.7*$A$1*1000*1000","v":6864654.9999999991},1,1,50,0.1]
[91,30000,2941995,1961330,{"$f":"1*$A$1*1000*1000","v":9806650},{"$f":"0.7*$A$1*1000*1000","v":6864654.9999999991},1,1,50,0.1]
[92,5000,{"$f":"0.2*$A$1*1000*1000","v":1961330},{"$f":"0.2*$A$1*1000*1000","v":1961330},{"$f":"0.3*$A$1*1000*1000","v":2941995},{"$f":"0.3*$A$1*1000*1000","v":2941995},1,1,50,0.1,"RCS3-SS8C-100"]
[93,10000,2941995,1961330,{"$f":"0.5*$A$1*1000*1000","v":4903325},{"$f":"0.5*$A$1*1000*1000","v":4903325},1,1,50,0.1]
[94,20000,2941995,1961330,{"$f":"0.7*$A$1*1000*1000","v":6864654.9999999991},{"$f":"0.7*$A$1*1000*1000","v":6864654.9999999991},1,1,50,0.1]
[95,30000,2941995,1961330,{"$f":"1*$A$1*1000*1000","v":9806650},{"$f":"0.7*$A$1*1000*1000","v":6864654.9999999991},1,1,50,0.1]
[96,10000,2941995,1961330,{"$f":"0.5*$A$1*1000*1000","v":4903325},{"$f":"0.5*$A$1*1000*1000","v":4903325},1,1,50,0.1,"RCS3-SS8C-150"]
[97,20000,2941995,1961330,{"$f":"0.7*$A$1*1000*1000","v":6864654.9999999991},{"$f":"0.7*$A$1*1000*1000","v":6864654.9999999991},1,1,50,0.1]
[98,30000,2941995,1961330,{"$f":"1*$A$1*1000*1000","v":9806650},{"$f":"0.7*$A$1*1000*1000","v":6864654.9999999991},1,1,50,0.1]
[99,5000,{"$f":"0.2*$A$1*1000*1000","v":1961330},1961330,{"$f":"0.3*$A$1*1000*1000","v":2941995},{"$f":"0.3*$A$1*1000*1000","v":2941995},1,1,50,0.1,"RCS3CR-SA8C-100"]
[100,10000,2941995,1961330,{"$f":"0.5*$A$1*1000*1000","v":4903325},{"$f":"0.5*$A$1*1000*1000","v":4903325},1,1,50,0.1]
[101,20000,2941995,1961330,{"$f":"0.7*$A$1*1000*1000","v":6864654.9999999991},{"$f":"0.7*$A$1*1000*1000","v":6864654.9999999991},1,1,50,0.1]
[102,30000,2941995,1961330,{"$f":"1*$A$1*1000*1000","v":9806650},{"$f":"0.7*$A$1*1000*1000","v":6864654.9999999991},1,1,50,0.1]
[103,10000,2941995,1961330,{"$f":"0.5*$A$1*1000*1000","v":4903325},{"$f":"0.5*$A$1*1000*1000","v":4903325},1,1,50,0.1,"RCS3CR-SA8C-150"]
[104,20000,2941995,1961330,{"$f":"0.7*$A$1*1000*1000","v":6864654.9999999991},{"$f":"0.7*$A$1*1000*1000","v":6864654.9999999991},1,1,50,0.1]
[105,30000,2941995,1961330,{"$f":"1*$A$1*1000*1000","v":9806650},{"$f":"0.7*$A$1*1000*1000","v":6864654.9999999991},1,1,50,0.1]
[106,5000,{"$f":"0.2*$A$1*1000*1000","v":1961330},1961330,{"$f":"0.3*$A$1*1000*1000","v":2941995},{"$f":"0.3*$A$1*1000*1000","v":2941995},1,1,50,0.1,"RCS3CR-SS8C-100"]
[107,10000,2941995,1961330,{"$f":"0.5*$A$1*1000*1000","v":4903325},{"$f":"0.5*$A$1*1000*1000","v":4903325},1,1,50,0.1]
[108,20000,2941995,1961330,{"$f":"0.7*$A$1*1000*1000","v":6864654.9999999991},{"$f":"0.7*$A$1*1000*1000","v":6864654.9999999991},1,1,50,0.1]
[109,30000,2941995,1961330,{"$f":"1*$A$1*1000*1000","v":9806650},{"$f":"0.7*$A$1*1000*1000","v":6864654.9999999991},1,1,50,0.1]
[110,10000,2941995,1961330,{"$f":"0.5*$A$1*1000*1000","v":4903325},{"$f":"0.5*$A$1*1000*1000","v":4903325},1,1,50,0.1,"RCS3CR-SS8C-150"]
[111,20000,2941995,1961330,{"$f":"0.7*$A$1*1000*1000","v":6864654.9999999991},{"$f":"0.7*$A$1*1000*1000","v":6864654.9999999991},1,1,50,0.1]
[112,30000,2941995,1961330,{"$f":"1*$A$1*1000*1000","v":9806650},{"$f":"0.7*$A$1*1000*1000","v":6864654.9999999991},1,1,50,0.1]
[113,5000,{"$f":"0.2*$A$1*1000*1000","v":1961330},{"$f":"0.2*$A$1*1000*1000","v":1961330},{"$f":"0.3*$A$1*1000*1000","v":2941995},{"$f":"0.3*$A$1*1000*1000","v":2941995},1,1,50,0.1,"RCS3-SA8R-100"]
[114,10000,2941995,{"$f":"0.2*$A$1*1000*1000","v":1961330},{"$f":"0.5*$A$1*1000*1000","v":4903325},{"$f":"0.5*$A$1*1000*1000","v":4903325},1,1,50,0.1]
[115,20000,2941995,{"$f":"0.2*$A$1*1000*1000","v":1961330},{"$f":"0.7*$A$1*1000*1000","v":6864654.9999999991},{"$f":"0.7*$A$1*1000*1000","v":6864654.9999999991},1,1,50,0.1]
[116,30000,2941995,{"$f":"0.2*$A$1*1000*1000","v":1961330},{"$f":"1*$A$1*1000*1000","v":9806650},{"$f":"0.7*$A$1*1000*1000","v":6864654.9999999991},1,1,50,0.1]
[117,10000,2941995,{"$f":"0.2*$A$1*1000*1000","v":1961330},{"$f":"0.5*$A$1*1000*1000","v":4903325},{"$f":"0.5*$A$1*1000*1000","v":4903325},1,1,50,0.1,"RCS3-SA8R-150"]
[118,20000,2941995,1961330,{"$f":"0.7*$A$1*1000*1000","v":6864654.9999999991},{"$f":"0.7*$A$1*1000*1000","v":6864654.9999999991},1,1,50,0.1]
[119,30000,2941995,1961330,{"$f":"1*$A$1*1000*1000","v":9806650},{"$f":"0.7*$A$1*1000*1000","v":6864654.9999999991},1,1,50,0.1]
[120,5000,{"$f":"0.2*$A$1*1000*1000","v":1961330},1961330,{"$f":"0.3*$A$1*1000*1000","v":2941995},{"$f":"0.3*$A$1*1000*1000","v":2941995},1,1,50,0.1,"RCS3-SS8R-100"]
[121,10000,2941995,1961330,{"$f":"0.5*$A$1*1000*1000","v":4903325},{"$f":"0.5*$A$1*1000*1000","v":4903325},1,1,50,0.1]
[122,20000,2941995,1961330,{"$f":"0.7*$A$1*1000*1000","v":6864654.9999999991},{"$f":"0.7*$A$1*1000*1000","v":6864654.9999999991},1,1,50,0.1]
[123,30000,2941995,1961330,{"$f":"1*$A$1*1000*1000","v":9806650},{"$f":"0.7*$A$1*1000*1000","v":6864654.9999999991},1,1,50,0.1]
[124,10000,2941995,1961330,{"$f":"0.5*$A$1*1000*1000","v":4903325},{"$f":"0.5*$A$1*1000*1000","v":4903325},1,1,50,0.1,"RCS3-SS8R-150"]
[125,20000,2941995,1961330,{"$f":"0.7*$A$1*1000*1000","v":6864654.9999999991},{"$f":"0.7*$A$1*1000*1000","v":6864654.9999999991},1,1,50,0.1]
[126,30000,2941995,1961330,{"$f":"1*$A$1*1000*1000","v":9806650},{"$f":"0.7*$A$1*1000*1000","v":6864654.9999999991},1,1,50,0.1]
[127,2500,{"$f":"0.2*$A$1*1000*1000","v":1961330},{"$f":"0.2*$A$1*1000*1000","v":1961330},{"$f":"0.2*$A$1*1000*1000","v":1961330},{"$f":"0.2*$A$1*1000*1000","v":1961330},1,1,50,0.1,"RCS2-SA4C-20"]
[128,5000,{"$f":"0.3*$A$1*1000*1000","v":2941995},{"$f":"0.3*$A$1*1000*1000","v":2941995},{"$f":"0.3*$A$1*1000*1000","v":2941995},2941995,1,1,50,0.1]
[{"$f":"A131+1","v":129},10000,2941995,2941995,2941995,2941995,1,1,50,0.1]
[130,16000,2941995,2941995,2941995,2941995,1,1,50,0.1]
[131,3000,{"$f":"0.2*$A$1*1000*1000","v":1961330},{"$f":"0.2*$A$1*1000*1000","v":1961330},{"$f":"0.2*$A$1*1000*1000","v":1961330},{"$f":"0.2*$A$1*1000*1000","v":1961330},1,1,50,0.1,"RCS2-SA5C-20"]
[132,6000,{"$f":"0.3*$A$1*1000*1000","v":2941995},{"$f":"0.3*$A$1*1000*1000","v":2941995},{"$f":"0.3*$A$1*1000*1000","v":2941995},2941995,1,1,50,0.1]
[133,12000,2941995,2941995,2941995,2941995,1,1,50,0.1]
[134,20000,2941995,{"$f":"0.3*$A$1*1000*1000","v":2941995},2941995,2941995,1,1,50,0.1]
[135,3000,{"$f":"0.2*$A$1*1000*1000","v":1961330},{"$f":"0.2*$A$1*1000*1000","v":1961330},{"$f":"0.2*$A$1*1000*1000","v":1961330},{"$f":"0.2*$A$1*1000*1000","v":1961330},1,1,50,0.1,"RCS2-SA6C-30"]
[136,6000,{"$f":"0.3*$A$1*1000*1000","v":2941995},2941995,{"$f":"0.3*$A$1*1000*1000","v":2941995},2941995,1,1,50,0.1]
[137,12000,2941995,2941995,2941995,2941995,1,1,50,0.1]
[138,20000,2941995,2941995,2941995,2941995,1,1,50,0.1]
[139,4000,{"$f":"0.2*$A$1*1000*1000","v":1961330},{"$f":"0.2*$A$1*1000*1000","v":1961330},{"$f":"0.2*$A$1*1000*1000","v":1961330},{"$f":"0.2*$A$1*1000*1000","v":1961330},1,1,50,0.1,"RCS2-SA7C-60"]
[140,8000,{"$f":"0.3*$A$1*1000*1000","v":2941995},{"$f":"0.3*$A$1*1000*1000","v":2941995},{"$f":"0.3*$A$1*1000*1000","v":2941995},2941995,1,1,50,0.1]
[141,16000,2941995,2941995,2941995,2941995,1,1,50,0.1]
[142,24000,2941995,2941995,2941995,2941995,1,1,50,0.1]
[143,6000,2941995,{"$f":"0.3*$A$1*1000*1000","v":2941995},{"$f":"0.3*$A$1*1000*1000","v":2941995},2941995,1,1,50,0.1,"RCS2-SS7C-60"]
[144,12000,2941995,2941995,2941995,2941995,1,1,50,0.1]
[145,20000,2941995,2941995,2941995,2941995,1,1,50,0.1]
[146,2500,{"$f":"0.2*$A$1*1000*1000","v":1961330},{"$f":"0.2*$A$1*1000*1000","v":1961330},{"$f":"0.2*$A$1*1000*1000","v":1961330},{"$f":"0.2*$A$1*1000*1000","v":1961330},1,1,50,0.1,"RCS2CR-SA4C-20"]
[147,5000,{"$f":"0.3*$A$1*1000*1000","v":2941995},{"$f":"0.3*$A$1*1000*1000","v":2941995},{"$f":"0.3*$A$1*1000*1000","v":2941995},{"$f":"0.3*$A$1*1000*1000","v":2941995},1,1,50,0.1]
[148,10000,{"$f":"0.3*$A$1*1000*1000","v":2941995},{"$f":"0.3*$A$1*1000*1000","v":2941995},2941995,2941995,1,1,50,0.1]
[149,16000,{"$f":"0.3*$A$1*1000*1000","v":2941995},2941995,2941995,2941995,1,1,50,0.1]
[150,3000,{"$f":"0.2*$A$1*1000*1000","v":1961330},{"$f":"0.2*$A$1*1000*1000","v":1961330},{"$f":"0.2*$A$1*1000*1000","v":1961330},{"$f":"0.2*$A$1*1000*1000","v":1961330},1,1,50,0.1,"RCS2CR-SA5C-20"]
[151,6000,{"$f":"0.3*$A$1*1000*1000","v":2941995},{"$f":"0.3*$A$1*1000*1000","v":2941995},2941995,2941995,1,1,50,0.1]
[152,12000,{"$f":"0.3*$A$1*1000*1000","v":2941995},2941995,{"$f":"0.3*$A$1*1000*1000","v":2941995},{"$f":"0.3*$A$1*1000*1000","v":2941995},1,1,50,0.1]
[153,20000,{"$f":"0.3*$A$1*1000*1000","v":2941995},{"$f":"0.3*$A$1*1000*1000","v":2941995},{"$f":"0.3*$A$1*1000*1000","v":2941995},{"$f":"0.3*$A$1*1000*1000","v":2941995},1,1,50,0.1]
[154,3000,{"$f":"0.2*$A$1*1000*1000","v":1961330},{"$f":"0.2*$A$1*1000*1000","v":1961330},{"$f":"0.2*$A$1*1000*1000","v":1961330},{"$f":"0.2*$A$1*1000*1000","v":1961330},1,1,50,0.1,"RCS2CR-SA6C-30"]
[155,6000,{"$f":"0.3*$A$1*1000*1000","v":2941995},2941995,{"$f":"0.3*$A$1*1000*1000","v":2941995},2941995,1,1,50,0.1]
[156,12000,2941995,2941995,2941995,2941995,1,1,50,0.1]
[157,20000,2941995,2941995,2941995,2941995,1,1,50,0.1]
[158,4000,{"$f":"0.2*$A$1*1000*1000","v":1961330},{"$f":"0.2*$A$1*1000*1000","v":1961330},{"$f":"0.2*$A$1*1000*1000","v":1961330},{"$f":"0.2*$A$1*1000*1000","v":1961330},1,1,50,0.1,"RCS2CR-SA7C-60"]
[159,8000,{"$f":"0.3*$A$1*1000*1000","v":2941995},{"$f":"0.3*$A$1*1000*1000","v":2941995},{"$f":"0.3*$A$1*1000*1000","v":2941995},2941995,1,1,50,0.1]
[160,16000,2941995,2941995,2941995,2941995,1,1,50,0.1]
[161,24000,2941995,2941995,2941995,2941995,1,1,50,0.1]
[162,6000,2941995,{"$f":"0.3*$A$1*1000*1000","v":2941995},{"$f":"0.3*$A$1*1000*1000","v":2941995},2941995,1,1,50,0.1,"RCS2CR-SS7C-60"]
[163,12000,2941995,2941995,2941995,2941995,1,1,50,0.1]
[164,20000,2941995,2941995,2941995,2941995,1,1,50,0.1]
[165,2500,{"$f":"0.2*$A$1*1000*1000","v":1961330},{"$f":"0.2*$A$1*1000*1000","v":1961330},{"$f":"0.2*$A$1*1000*1000","v":1961330},{"$f":"0.2*$A$1*1000*1000","v":1961330},1,1,50,0.1,"RCS2-SA4D-20"]
[166,5000,{"$f":"0.3*$A$1*1000*1000","v":2941995},2941995,2941995,2941995,1,1,50,0.1]
[167,10000,2941995,2941995,2941995,2941995,1,1,50,0.1]
[168,3000,{"$f":"0.2*$A$1*1000*1000","v":1961330},{"$f":"0.2*$A$1*1000*1000","v":1961330},{"$f":"0.2*$A$1*1000*1000","v":1961330},{"$f":"0.2*$A$1*1000*1000","v":1961330},1,1,50,0.1,"RCS2-SA5D-20"]
[169,6000,{"$f":"0.3*$A$1*1000*1000","v":2941995},2941995,2941995,2941995,1,1,50,0.1]
[170,12000,2941995,2941995,2941995,2941995,1,1,50,0.1]
[171,3000,{"$f":"0.2*$A$1*1000*1000","v":1961330},{"$f":"0.2*$A$1*1000*1000","v":1961330},{"$f":"0.2*$A$1*1000*1000","v":1961330},{"$f":"0.2*$A$1*1000*1000","v":1961330},1,1,50,0.1,"RCS2-SA6D-30"]
[172,6000,{"$f":"0.3*$A$1*1000*1000","v":2941995},2941995,2941995,2941995,1,1,50,0.1]
[173,12000,2941995,2941995,2941995,2941995,1,1,50,0.1]
[174,3000,{"$f":"0.2*$A$1*1000*1000","v":1961330},{"$f":"0.2*$A$1*1000*1000","v":1961330},{"$f":"0.2*$A$1*1000*1000","v":1961330},{"$f":"0.2*$A$1*1000*1000","v":1961330},1,1,50,0.1,"RCS2CR-SA5D-20"]
[175,6000,{"$f":"0.3*$A$1*1000*1000","v":2941995},2941995,2941995,2941995,1,1,50,0.1]
[176,12000,2941995,2941995,2941995,2941995,1,1,50,0.1]
[177,3000,{"$f":"0.2*$A$1*1000*1000","v":1961330},{"$f":"0.2*$A$1*1000*1000","v":1961330},{"$f":"0.2*$A$1*1000*1000","v":1961330},{"$f":"0.2*$A$1*1000*1000","v":1961330},1,1,50,0.1,"RCS2CR-SA6D-30"]
[178,6000,{"$f":"0.3*$A$1*1000*1000","v":2941995},2941995,2941995,2941995,1,1,50,0.1]
[179,12000,2941995,2941995,2941995,2941995,1,1,50,0.1]
[180,2500,{"$f":"0.2*$A$1*1000*1000","v":1961330},{"$f":"0.2*$A$1*1000*1000","v":1961330},{"$f":"0.2*$A$1*1000*1000","v":1961330},{"$f":"0.2*$A$1*1000*1000","v":1961330},1,1,50,0.1,"RCS2-SA4R-20"]
[181,5000,{"$f":"0.3*$A$1*1000*1000","v":2941995},2941995,2941995,2941995,1,1,50,0.1]
[182,10000,2941995,2941995,2941995,2941995,1,1,50,0.1]
[183,3000,{"$f":"0.2*$A$1*1000*1000","v":1961330},{"$f":"0.2*$A$1*1000*1000","v":1961330},{"$f":"0.2*$A$1*1000*1000","v":1961330},{"$f":"0.2*$A$1*1000*1000","v":1961330},1,1,50,0.1,"RCS2-SA5R-20"]
[184,6000,{"$f":"0.3*$A$1*1000*1000","v":2941995},2941995,2941995,2941995,1,1,50,0.1]
[185,12000,2941995,2941995,2941995,2941995,1,1,50,0.1]
[186,3000,{"$f":"0.2*$A$1*1000*1000","v":1961330},{"$f":"0.2*$A$1*1000*1000","v":1961330},{"$f":"0.2*$A$1*1000*1000","v":1961330},{"$f":"0.2*$A$1*1000*1000","v":1961330},1,1,50,0.1,"RCS2-SA6R-30"]
[187,6000,{"$f":"0.3*$A$1*1000*1000","v":2941995},2941995,2941995,2941995,1,1,50,0.1]
[188,12000,2941995,2941995,2941995,2941995,1,1,50,0.1]
[189,4000,{"$f":"0.2*$A$1*1000*1000","v":1961330},{"$f":"0.2*$A$1*1000*1000","v":1961330},{"$f":"0.2*$A$1*1000*1000","v":1961330},{"$f":"0.2*$A$1*1000*1000","v":1961330},1,1,50,0.1,"RCS2-SA7R-60"]
[190,8000,{"$f":"0.3*$A$1*1000*1000","v":2941995},{"$f":"0.3*$A$1*1000*1000","v":2941995},{"$f":"0.3*$A$1*1000*1000","v":2941995},{"$f":"0.3*$A$1*1000*1000","v":2941995},1,1,50,0.1]
[191,16000,2941995,2941995,{"$f":"0.3*$A$1*1000*1000","v":2941995},2941995,1,1,50,0.1]
[192,6000,2941995,{"$f":"0.3*$A$1*1000*1000","v":2941995},2941995,2941995,1,1,50,0.1,"RCS2-SS7R-60"]
[{"$f":"A195+1","v":193},12000,2941995,2941995,2941995,2941995,1,1,50,0.1]
[194,3000,{"$f":"0.2*$A$1*1000*1000","v":1961330},{"$f":"0.2*$A$1*1000*1000","v":1961330},{"$f":"0.2*$A$1*1000*1000","v":1961330},{"$f":"0.2*$A$1*1000*1000","v":1961330},1,1,50,0.1,"RCS2-RA4C-20"]
[195,6000,{"$f":"0.3*$A$1*1000*1000","v":2941995},2941995,2941995,2941995,1,1,50,0.1]
[196,12000,2941995,2941995,2941995,2941995,1,1,50,0.1]
[197,3000,{"$f":"0.2*$A$1*1000*1000","v":1961330},{"$f":"0.2*$A$1*1000*1000","v":1961330},{"$f":"0.2*$A$1*1000*1000","v":1961330},{"$f":"0.2*$A$1*1000*1000","v":1961330},1,1,50,0.1,"RCS2-RA4C-30"]
[198,6000,{"$f":"0.3*$A$1*1000*1000","v":2941995},2941995,2941995,2941995,1,1,50,0.1]
[199,12000,2941995,2941995,2941995,2941995,1,1,50,0.1]
[200,4000,{"$f":"0.2*$A$1*1000*1000","v":1961330},{"$f":"0.2*$A$1*1000*1000","v":1961330},{"$f":"0.2*$A$1*1000*1000","v":1961330},{"$f":"0.2*$A$1*1000*1000","v":1961330},1,1,50,0.1,"RCS2-RA5C-60"]
[201,8000,{"$f":"0.3*$A$1*1000*1000","v":2941995},2941995,2941995,2941995,1,1,50,0.1]
[202,16000,2941995,2941995,2941995,2941995,1,1,50,0.1]
[203,4000,{"$f":"0.2*$A$1*1000*1000","v":1961330},{"$f":"0.2*$A$1*1000*1000","v":1961330},{"$f":"0.2*$A$1*1000*1000","v":1961330},{"$f":"0.2*$A$1*1000*1000","v":1961330},1,1,50,0.1,"RCS2-RA5C-100"]
[204,8000,{"$f":"0.3*$A$1*1000*1000","v":2941995},2941995,2941995,2941995,1,1,50,0.1]
[205,16000,2941995,2941995,2941995,2941995,1,1,50,0.1]
[{"$f":"A208+1","v":206},20000,{"$f":"0.4*$A$1*1000*1000","v":3922660},-1,{"$f":"0.4*$A$1*1000*1000","v":3922660},-1,1,1,100,0.1,"ISB-MXMX-200"]
[207,30000,3922660,-1,3922660,-1,1,1,100,0.1]
[208,20000,3922660,-1,3922660,-1,1,1,100,0.1,"ISB-LXMX-200"]
[209,20000,3922660,-1,3922660,-1,1,1,100,0.1,"ISB-LXMX-400"]
[210,40000,3922660,-1,3922660,-1,1,1,100,0.1]
[211,20000,3922660,-1,3922660,-1,1,1,100,0.1,"ISB-LXUWX-200"]
[212,20000,3922660,-1,3922660,-1,1,1,100,0.1,"ISB-LXUWX-400"]
[213,40000,3922660,-1,3922660,-1,1,1,100,0.1]
[214,20000,3922660,-1,3922660,-1,1,1,100,0.1,"ISDB-MX-200"]
[215,30000,3922660,-1,3922660,-1,1,1,100,0.1]
[216,20000,3922660,-1,3922660,-1,1,1,100,0.1,"ISDB-LX-200"]
[217,40000,3922660,-1,3922660,-1,1,1,100,0.1]
[218,20000,3922660,-1,3922660,-1,1,1,100,0.1,"ISDB-LX-400"]
[219,40000,3922660,-1,3922660,-1,1,1,100,0.1]
[220,20000,3922660,-1,3922660,-1,1,1,100,0.1,"ISDBCR-MX-200"]
[221,30000,3922660,-1,3922660,-1,1,1,100,0.1]
[222,20000,3922660,-1,3922660,-1,1,1,100,0.1,"ISDBCR-LX-200"]
[223,40000,3922660,-1,3922660,-1,1,1,100,0.1]
[224,20000,3922660,-1,3922660,-1,1,1,100,0.1,"ISDBCR-LX-400"]
[225,40000,3922660,-1,3922660,-1,1,1,100,0.1]
[226,36000,3922660,3922660,{"$f":"2*$A$1*1000*1000","v":19613300},{"$f":"1.6*$A$1*1000*1000","v":15690640},1,1,50,0.1,"ISB-SXM-100"]
[227,48000,{"$f":"0.4*$A$1*1000*1000","v":3922660},3922660,{"$f":"2*$A$1*1000*1000","v":19613300},15690640,1,1,50,0.1,"ISB-MXM-400"]
[228,36000,3922660,3922660,{"$f":"2*$A$1*1000*1000","v":19613300},15690640,1,1,50,0.1,"ISB-SXL-100"]
[229,48000,3922660,3922660,{"$f":"2*$A$1*1000*1000","v":19613300},15690640,1,1,50,0.1,"ISB-MXL-400"]
[230,36000,3922660,3922660,{"$f":"1.8*$A$1*1000*1000","v":17651969.999999996},15690640,1,1,50,0.1,"ISDB-S-100"]
[231,48000,3922660,3922660,{"$f":"1.8*$A$1*1000*1000","v":17651969.999999996},15690640,1,1,50,0.1,"ISDB-M-400"]
[{"$f":"A234+1","v":232},48000,{"$f":"0.4*$A$1*1000*1000","v":3922660},3922660,3922660,3922660,1,1,50,0.1,"ISB-MXMX-400"]
[{"$f":"A235+1","v":233},48000,3922660,3922660,3922660,3922660,1,1,50,0.1,"ISDB-MX-400"]
[{"$f":"A236+1","v":234},2500,{"$f":"0.3*$A$1*1000*1000","v":2941995},2941995,{"$f":"0.7*$A$1*1000*1000","v":6864654.9999999991},{"$f":"0.7*$A$1*1000*1000","v":6864654.9999999991},1,1,50,0.1,"RCS4-RA4C-60"]
[235,5000,2941995,2941995,{"$f":"1*$A$1*1000*1000","v":9806650},{"$f":"1*$A$1*1000*1000","v":9806650},1,1,50,0.1]
[236,10000,2941995,2941995,{"$f":"1.2*$A$1*1000*1000","v":11767980},{"$f":"1.2*$A$1*1000*1000","v":11767980},1,1,50,0.1]
[237,16000,2941995,2941995,{"$f":"1.2*$A$1*1000*1000","v":11767980},{"$f":"1.2*$A$1*1000*1000","v":11767980},1,1,50,0.1]
[238,3000,2941995,2941995,{"$f":"0.7*$A$1*1000*1000","v":6864654.9999999991},{"$f":"0.7*$A$1*1000*1000","v":6864654.9999999991},1,1,50,0.1,"RCS4-RA6C-100"]
[239,6000,2941995,2941995,{"$f":"1*$A$1*1000*1000","v":9806650},{"$f":"1*$A$1*1000*1000","v":9806650},1,1,50,0.1]
[240,12000,2941995,2941995,{"$f":"1.2*$A$1*1000*1000","v":11767980},{"$f":"1.2*$A$1*1000*1000","v":11767980},1,1,50,0.1]
[241,20000,2941995,2941995,{"$f":"1.2*$A$1*1000*1000","v":11767980},{"$f":"1.2*$A$1*1000*1000","v":11767980},1,1,50,0.1]
[242,4000,2941995,2941995,{"$f":"0.7*$A$1*1000*1000","v":6864654.9999999991},{"$f":"0.7*$A$1*1000*1000","v":6864654.9999999991},1,1,50,0.1,"RCS4-RA7C-200"]
[243,8000,2941995,2941995,{"$f":"1*$A$1*1000*1000","v":9806650},{"$f":"1*$A$1*1000*1000","v":9806650},1,1,50,0.1]
[244,16000,2941995,2941995,{"$f":"1.2*$A$1*1000*1000","v":11767980},{"$f":"1.2*$A$1*1000*1000","v":11767980},1,1,50,0.1]
[245,24000,2941995,2941995,{"$f":"1.2*$A$1*1000*1000","v":11767980},{"$f":"1.2*$A$1*1000*1000","v":11767980},1,1,50,0.1]
[246,5000,2941995,{"$f":"0.2*$A$1*1000*1000","v":1961330},{"$f":"0.7*$A$1*1000*1000","v":6864654.9999999991},{"$f":"0.7*$A$1*1000*1000","v":6864654.9999999991},1,1,50,0.1,"RCS4-RA8C-400"]
[247,10000,2941995,2941995,{"$f":"1*$A$1*1000*1000","v":9806650},{"$f":"1*$A$1*1000*1000","v":9806650},1,1,50,0.1]
[248,20000,2941995,2941995,{"$f":"1.2*$A$1*1000*1000","v":11767980},{"$f":"1.2*$A$1*1000*1000","v":11767980},1,1,50,0.1]
[249,2500,2941995,2941995,{"$f":"0.7*$A$1*1000*1000","v":6864654.9999999991},{"$f":"0.7*$A$1*1000*1000","v":6864654.9999999991},1,1,50,0.1,"RCS4-SA4C-60"]
[250,5000,{"$f":"0.3*$A$1*1000*1000","v":2941995},2941995,{"$f":"1*$A$1*1000*1000","v":9806650},{"$f":"1*$A$1*1000*1000","v":9806650},1,1,50,0.1]
[251,10000,2941995,2941995,{"$f":"1.2*$A$1*1000*1000","v":11767980},{"$f":"1.2*$A$1*1000*1000","v":11767980},1,1,50,0.1]
[252,16000,2941995,2941995,{"$f":"1.2*$A$1*1000*1000","v":11767980},{"$f":"1.2*$A$1*1000*1000","v":11767980},1,1,50,0.1]
[253,3000,2941995,2941995,{"$f":"0.7*$A$1*1000*1000","v":6864654.9999999991},{"$f":"0.7*$A$1*1000*1000","v":6864654.9999999991},1,1,50,0.1,"RCS4-SA6C-100"]
[254,6000,2941995,2941995,{"$f":"1*$A$1*1000*1000","v":9806650},{"$f":"1*$A$1*1000*1000","v":9806650},1,1,50,0.1]
[255,12000,2941995,2941995,{"$f":"1.2*$A$1*1000*1000","v":11767980},11767980,1,1,50,0.1]
[256,20000,2941995,2941995,11767980,11767980,1,1,50,0.1]
[257,30000,2941995,2941995,11767980,11767980,1,1,50,0.1]
[258,4000,2941995,2941995,{"$f":"0.7*$A$1*1000*1000","v":6864654.9999999991},{"$f":"0.7*$A$1*1000*1000","v":6864654.9999999991},1,1,50,0.1,"RCS4-SA7C-200"]
[259,8000,2941995,2941995,{"$f":"1*$A$1*1000*1000","v":9806650},{"$f":"1*$A$1*1000*1000","v":9806650},1,1,50,0.1]
[260,16000,2941995,2941995,{"$f":"1.2*$A$1*1000*1000","v":11767980},11767980,1,1,50,0.1]
[261,24000,2941995,{"$f":"0.3*$A$1*1000*1000","v":2941995},11767980,11767980,1,1,50,0.1]
[262,36000,2941995,2941995,11767980,11767980,1,1,50,0.1]
[263,5000,2941995,2941995,{"$f":"0.7*$A$1*1000*1000","v":6864654.9999999991},{"$f":"0.7*$A$1*1000*1000","v":6864654.9999999991},1,1,50,0.1,"RCS4-SA8C-400"]
[264,10000,2941995,2941995,{"$f":"1*$A$1*1000*1000","v":9806650},{"$f":"1*$A$1*1000*1000","v":9806650},1,1,50,0.1]
[265,20000,2941995,2941995,{"$f":"1.2*$A$1*1000*1000","v":11767980},11767980,1,1,50,0.1]
[266,30000,{"$f":"0.3*$A$1*1000*1000","v":2941995},{"$f":"0.3*$A$1*1000*1000","v":2941995},11767980,11767980,1,1,50,0.1]
[267,48000,{"$f":"0.3*$A$1*1000*1000","v":2941995},-1,11767980,-1,1,1,50,0.1]
[268,2500,{"$f":"0.3*$A$1*1000*1000","v":2941995},2941995,{"$f":"0.7*$A$1*1000*1000","v":6864654.9999999991},{"$f":"0.7*$A$1*1000*1000","v":6864654.9999999991},1,1,50,0.1,"RCS4-WSA10C-60"]
[269,5000,2941995,2941995,{"$f":"1*$A$1*1000*1000","v":9806650},{"$f":"1*$A$1*1000*1000","v":9806650},1,1,50,0.1]
[270,10000,2941995,2941995,{"$f":"1.2*$A$1*1000*1000","v":11767980},{"$f":"1.2*$A$1*1000*1000","v":11767980},1,1,50,0.1]
[271,16000,{"$f":"0.3*$A$1*1000*1000","v":2941995},-1,{"$f":"1.2*$A$1*1000*1000","v":11767980},-1,1,1,50,0.1]
[272,3000,2941995,2941995,{"$f":"0.7*$A$1*1000*1000","v":6864654.9999999991},{"$f":"0.7*$A$1*1000*1000","v":6864654.9999999991},1,1,50,0.1,"RCS4-\nWSA12C-100"]
[273,6000,2941995,2941995,{"$f":"1*$A$1*1000*1000","v":9806650},{"$f":"1*$A$1*1000*1000","v":9806650},1,1,50,0.1]
[274,12000,2941995,2941995,{"$f":"1.2*$A$1*1000*1000","v":11767980},11767980,1,1,50,0.1]
[275,20000,2941995,2941995,11767980,11767980,1,1,50,0.1]
[276,30000,2941995,-1,11767980,-1,1,1,50,0.1]
[277,4000,2941995,2941995,{"$f":"0.7*$A$1*1000*1000","v":6864654.9999999991},{"$f":"0.7*$A$1*1000*1000","v":6864654.9999999991},1,1,50,0.1,"RCS4-\nWSA14C-200"]
[278,8000,2941995,2941995,{"$f":"1*$A$1*1000*1000","v":9806650},{"$f":"1*$A$1*1000*1000","v":9806650},1,1,50,0.1]
[279,16000,2941995,2941995,{"$f":"1.2*$A$1*1000*1000","v":11767980},11767980,1,1,50,0.1]
[280,24000,2941995,{"$f":"0.3*$A$1*1000*1000","v":2941995},11767980,11767980,1,1,50,0.1]
[281,36000,2941995,-1,11767980,-1,1,1,50,0.1]
[282,5000,2941995,2941995,{"$f":"0.7*$A$1*1000*1000","v":6864654.9999999991},{"$f":"0.7*$A$1*1000*1000","v":6864654.9999999991},1,1,50,0.1,"RCS4-\nWSA16C-400"]
[283,10000,2941995,2941995,{"$f":"1*$A$1*1000*1000","v":9806650},{"$f":"1*$A$1*1000*1000","v":9806650},1,1,50,0.1]
[284,20000,{"$f":"0.3*$A$1*1000*1000","v":2941995},2941995,{"$f":"1.2*$A$1*1000*1000","v":11767980},{"$f":"1.2*$A$1*1000*1000","v":11767980},1,1,50,0.1]
[285,30000,2941995,2941995,{"$f":"1.2*$A$1*1000*1000","v":11767980},{"$f":"1.2*$A$1*1000*1000","v":11767980},1,1,50,0.1,null,null,"シリーズ","タイプ","モータ","リード","水平最大加速度","垂直最大加速度","リード*1000","チェック\n結果"]
[286,2500,2941995,2941995,{"$f":"0.7*$A$1*1000*1000","v":6864654.9999999991},{"$f":"0.7*$A$1*1000*1000","v":6864654.9999999991},1,1,25,0.1,"RCS4-TA4C(SB)-60 ",null,"RCS4","TA4C(SB)",60,2.5,6864655,6864655,{"$f":"P289*1000","v":2500},{"$f":"IF(AND(Q289=E289, R289=F289, S289=B289), \"○\", \"●\")","v":"○"}]
[287,5000,2941995,2941995,{"$f":"1*$A$1*1000*1000","v":9806650},{"$f":"1*$A$1*1000*1000","v":9806650},1,1,25,0.1,null,null,"RCS4","TA4C(SB)",60,5,9806650,9806650,{"$f":"P290*1000","v":5000},"○"]
[288,10000,2941995,2941995,{"$f":"1.2*$A$1*1000*1000","v":11767980},{"$f":"1.2*$A$1*1000*1000","v":11767980},1,1,25,0.1,null,null,"RCS4","TA4C(SB)",60,10,11767980,11767980,10000,"○"]
[289,16000,2941995,2941995,{"$f":"1.2*$A$1*1000*1000","v":11767980},{"$f":"1.2*$A$1*1000*1000","v":11767980},1,1,25,0.1,null,null,"RCS4","TA4C(SB)",60,16,11767980,11767980,16000,"○"]
[290,3000,{"$f":"0.3*$A$1*1000*1000","v":2941995},2941995,{"$f":"0.7*$A$1*1000*1000","v":6864654.9999999991},{"$f":"0.7*$A$1*1000*1000","v":6864654.9999999991},1,1,25,0.1,"RCS4-TA6C(SB)-100 ",null,"RCS4","TA6C(SB)",100,3,6864655,6864655,3000,"○"]
[291,6000,2941995,2941995,{"$f":"1*$A$1*1000*1000","v":9806650},{"$f":"1*$A$1*1000*1000","v":9806650},1,1,25,0.1,null,null,"RCS4","TA6C(SB)",100,6,9806650,9806650,6000,"○"]
[292,12000,2941995,2941995,{"$f":"1.2*$A$1*1000*1000","v":11767980},{"$f":"1.2*$A$1*1000*1000","v":11767980},1,1,25,0.1,null,null,"RCS4","TA6C(SB)",100,12,11767980,11767980,12000,"○"]
[293,20000,2941995,2941995,{"$f":"1.2*$A$1*1000*1000","v":11767980},{"$f":"1.2*$A$1*1000*1000","v":11767980},1,1,25,0.1,null,null,"RCS4","TA6C(SB)",100,20,11767980,11767980,20000,"○"]
[294,4000,2941995,2941995,{"$f":"0.7*$A$1*1000*1000","v":6864654.9999999991},{"$f":"0.7*$A$1*1000*1000","v":6864654.9999999991},1,1,25,0.1,"RCS4-TA7C(SB)-200 ",null,"RCS4","TA7C(SB)",200,4,6864655,6864655,4000,"○"]
[295,8000,2941995,2941995,{"$f":"1*$A$1*1000*1000","v":9806650},{"$f":"1*$A$1*1000*1000","v":9806650},1,1,25,0.1,null,null,"RCS4","TA7C(SB)",200,8,9806650,9806650,8000,"○"]
[296,16000,2941995,2941995,{"$f":"1.2*$A$1*1000*1000","v":11767980},{"$f":"1.2*$A$1*1000*1000","v":11767980},1,1,25,0.1,null,null,"RCS4","TA7C(SB)",200,16,11767980,11767980,16000,"○"]
[297,24000,2941995,2941995,{"$f":"1.2*$A$1*1000*1000","v":11767980},{"$f":"1.2*$A$1*1000*1000","v":11767980},1,1,25,0.1,null,null,"RCS4","TA7C(SB)",200,24,11767980,11767980,24000,"○"]
[298,2500,2941995,2941995,{"$f":"0.7*$A$1*1000*1000","v":6864654.9999999991},{"$f":"0.7*$A$1*1000*1000","v":6864654.9999999991},1,1,25,0.1,"RCS4-TA4C(DB)-60 ",null,"RCS4","TA4C(DB)",60,2.5,6864655,6864655,2500,"○"]
[{"$f":"A301+1","v":299},5000,2941995,2941995,{"$f":"1*$A$1*1000*1000","v":9806650},{"$f":"1*$A$1*1000*1000","v":9806650},1,1,25,0.1,null,null,"RCS4","TA4C(DB)",60,5,9806650,9806650,5000,"○"]
[300,10000,2941995,2941995,{"$f":"1.2*$A$1*1000*1000","v":11767980},{"$f":"1.2*$A$1*1000*1000","v":11767980},1,1,25,0.1,null,null,"RCS4","TA4C(DB)",60,10,11767980,11767980,10000,"○"]
[301,3000,2941995,2941995,{"$f":"0.7*$A$1*1000*1000","v":6864654.9999999991},{"$f":"0.7*$A$1*1000*1000","v":6864654.9999999991},1,1,25,0.1,"RCS4-TA6C(DB)-100 ",null,"RCS4","TA6C(DB)",100,3,6864655,6864655,3000,"○"]
[302,6000,2941995,2941995,{"$f":"1*$A$1*1000*1000","v":9806650},{"$f":"1*$A$1*1000*1000","v":9806650},1,1,25,0.1,null,null,"RCS4","TA6C(DB)",100,6,9806650,9806650,6000,"○"]
[303,12000,2941995,2941995,{"$f":"1.2*$A$1*1000*1000","v":11767980},{"$f":"1.2*$A$1*1000*1000","v":11767980},1,1,25,0.1,null,null,"RCS4","TA6C(DB)",100,12,11767980,11767980,12000,"○"]
[304,4000,2941995,2941995,{"$f":"0.7*$A$1*1000*1000","v":6864654.9999999991},{"$f":"0.7*$A$1*1000*1000","v":6864654.9999999991},1,1,25,0.1,"RCS4-TA7C(DB)-200 ",null,"RCS4","TA7C(DB)",200,4,6864655,6864655,4000,"○"]
[305,8000,2941995,2941995,{"$f":"1*$A$1*1000*1000","v":9806650},{"$f":"1*$A$1*1000*1000","v":9806650},1,1,25,0.1,null,null,"RCS4","TA7C(DB)",200,8,9806650,9806650,8000,"○"]
[306,16000,{"$f":"0.3*$A$1*1000*1000","v":2941995},{"$f":"0.3*$A$1*1000*1000","v":2941995},{"$f":"1.2*$A$1*1000*1000","v":11767980},{"$f":"1.2*$A$1*1000*1000","v":11767980},1,1,25,0.1,null,null,"RCS4","TA7C(DB)",200,16,11767980,11767980,16000,"○"]
[307,2500,{"$f":"0.3*$A$1*1000*1000","v":2941995},2941995,{"$f":"0.7*$A$1*1000*1000","v":6864654.9999999991},{"$f":"0.7*$A$1*1000*1000","v":6864654.9999999991},1,1,50,0.1,"RCS4-RRA4C-60",null,"RCS4","RRA4C",60,2.5,6864655,6864655,2500,"○"]
[308,5000,2941995,2941995,{"$f":"1*$A$1*1000*1000","v":9806650},{"$f":"1*$A$1*1000*1000","v":9806650},1,1,50,0.1,null,null,"RCS4","RRA4C",60,5,9806650,9806650,5000,"○"]
[309,10000,2941995,2941995,{"$f":"1.2*$A$1*1000*1000","v":11767980},{"$f":"1.2*$A$1*1000*1000","v":11767980},1,1,50,0.1,null,null,"RCS4","RRA4C",60,10,11767980,11767980,10000,"○"]
[310,16000,{"$f":"0.3*$A$1*1000*1000","v":2941995},2941995,{"$f":"1.2*$A$1*1000*1000","v":11767980},{"$f":"1.2*$A$1*1000*1000","v":11767980},1,1,50,0.1,null,null,"RCS4","RRA4C",60,16,11767980,11767980,16000,"○"]
[311,3000,2941995,2941995,{"$f":"0.7*$A$1*1000*1000","v":6864654.9999999991},{"$f":"0.7*$A$1*1000*1000","v":6864654.9999999991},1,1,50,0.1,"RCS4-RRA6C-100",null,"RCS4","RRA6C",100,3,6864655,6864655,3000,"○"]
[312,6000,2941995,2941995,{"$f":"1*$A$1*1000*1000","v":9806650},{"$f":"1*$A$1*1000*1000","v":9806650},1,1,50,0.1,null,null,"RCS4","RRA6C",100,6,9806650,9806650,6000,"○"]
[313,12000,2941995,2941995,{"$f":"1.2*$A$1*1000*1000","v":11767980},{"$f":"1.2*$A$1*1000*1000","v":11767980},1,1,50,0.1,null,null,"RCS4","RRA6C",100,12,11767980,11767980,12000,"○"]
[314,20000,2941995,2941995,{"$f":"1.2*$A$1*1000*1000","v":11767980},{"$f":"1.2*$A$1*1000*1000","v":11767980},1,1,50,0.1,null,null,"RCS4","RRA6C",100,20,11767980,11767980,20000,"○"]
[315,4000,2941995,2941995,{"$f":"0.7*$A$1*1000*1000","v":6864654.9999999991},{"$f":"0.7*$A$1*1000*1000","v":6864654.9999999991},1,1,50,0.1,"RCS4-RRA7C-200",null,"RCS4","RRA7C",200,4,6864655,6864655,4000,"○"]
[316,8000,2941995,2941995,{"$f":"1*$A$1*1000*1000","v":9806650},{"$f":"1*$A$1*1000*1000","v":9806650},1,1,50,0.1,null,null,"RCS4","RRA7C",200,8,9806650,9806650,8000,"○"]
[317,16000,2941995,2941995,{"$f":"1.2*$A$1*1000*1000","v":11767980},{"$f":"1.2*$A$1*1000*1000","v":11767980},1,1,50,0.1,null,null,"RCS4","RRA7C",200,16,11767980,11767980,16000,"○"]
[318,24000,2941995,{"$f":"0.3*$A$1*1000*1000","v":2941995},{"$f":"1.2*$A$1*1000*1000","v":11767980},{"$f":"1.2*$A$1*1000*1000","v":11767980},1,1,50,0.1,null,null,"RCS4","RRA7C",200,24,11767980,11767980,24000,{"$f":"IF(AND(Q321=E321, R321=F321, S321=B321), \"○\", \"●\")","v":"○"}]
[319,5000,{"$f":"0.2*$A$1*1000*1000","v":1961330},{"$f":"0.2*$A$1*1000*1000","v":1961330},{"$f":"0.7*$A$1*1000*1000","v":6864654.9999999991},{"$f":"0.7*$A$1*1000*1000","v":6864654.9999999991},1,1,50,0.1,"RCS4-RRA8C-400",null,"RCS4","RRA8C",400,5,6864655,6864655,5000,"○"]
[320,10000,2941995,2941995,{"$f":"1*$A$1*1000*1000","v":9806650},{"$f":"1*$A$1*1000*1000","v":9806650},1,1,50,0.1,null,null,"RCS4","RRA8C",400,10,9806650,9806650,10000,"○"]
[321,20000,{"$f":"0.3*$A$1*1000*1000","v":2941995},2941995,{"$f":"1.2*$A$1*1000*1000","v":11767980},{"$f":"1.2*$A$1*1000*1000","v":11767980},1,1,50,0.1,null,null,"RCS4","RRA8C",400,20,11767980,11767980,20000,"○"]
[322,30000,2941995,2941995,{"$f":"1.2*$A$1*1000*1000","v":11767980},{"$f":"1.2*$A$1*1000*1000","v":11767980},1,1,50,0.1,null,null,"RCS4","RRA8C",400,30,11767980,11767980,30000,"○"]
[323,2500,2941995,2941995,{"$f":"0.7*$A$1*1000*1000","v":6864654.9999999991},{"$f":"0.7*$A$1*1000*1000","v":6864654.9999999991},1,1,50,0.1,"RCS4-WRA10C-60",null,"RCS4","WRA10C",60,2.5,6864655,6864655,2500,"○"]
[324,5000,2941995,2941995,{"$f":"1*$A$1*1000*1000","v":9806650},{"$f":"1*$A$1*1000*1000","v":9806650},1,1,50,0.1,null,null,"RCS4","WRA10C",60,5,9806650,9806650,5000,"○"]
[325,10000,2941995,2941995,{"$f":"1.2*$A$1*1000*1000","v":11767980},{"$f":"1.2*$A$1*1000*1000","v":11767980},1,1,50,0.1,null,null,"RCS4","WRA10C",60,10,11767980,11767980,10000,"○"]
[326,16000,{"$f":"0.3*$A$1*1000*1000","v":2941995},-1,{"$f":"1.2*$A$1*1000*1000","v":11767980},-1,1,1,50,0.1,null,null,"RCS4","WRA10C",60,16,11767980,-1,16000,"○"]
[327,3000,2941995,2941995,{"$f":"0.7*$A$1*1000*1000","v":6864654.9999999991},{"$f":"0.7*$A$1*1000*1000","v":6864654.9999999991},1,1,50,0.1,"RCS4-\nWRA12C-100",null,"RCS4","WRA12C",100,3,6864655,6864655,3000,"○"]
[328,6000,2941995,2941995,{"$f":"1*$A$1*1000*1000","v":9806650},{"$f":"1*$A$1*1000*1000","v":9806650},1,1,50,0.1,null,null,"RCS4","WRA12C",100,6,9806650,9806650,6000,"○"]
[329,12000,2941995,2941995,{"$f":"1.2*$A$1*1000*1000","v":11767980},{"$f":"1.2*$A$1*1000*1000","v":11767980},1,1,50,0.1,null,null,"RCS4","WRA12C",100,12,11767980,11767980,12000,"○"]
[330,20000,2941995,2941995,{"$f":"1.2*$A$1*1000*1000","v":11767980},{"$f":"1.2*$A$1*1000*1000","v":11767980},1,1,50,0.1,null,null,"RCS4","WRA12C",100,20,11767980,11767980,20000,"○"]
[331,4000,2941995,2941995,{"$f":"0.7*$A$1*1000*1000","v":6864654.9999999991},{"$f":"0.7*$A$1*1000*1000","v":6864654.9999999991},1,1,50,0.1,"RCS4-\nWRA14C-200",null,"RCS4","WRA14C",200,4,6864655,6864655,4000,"○"]
[332,8000,2941995,2941995,{"$f":"1*$A$1*1000*1000","v":9806650},{"$f":"1*$A$1*1000*1000","v":9806650},1,1,50,0.1,null,null,"RCS4","WRA14C",200,8,9806650,9806650,8000,"○"]
[333,16000,2941995,2941995,{"$f":"1.2*$A$1*1000*1000","v":11767980},{"$f":"1.2*$A$1*1000*1000","v":11767980},1,1,50,0.1,null,null,"RCS4","WRA14C",200,16,11767980,11767980,16000,"○"]
[334,24000,2941995,{"$f":"0.3*$A$1*1000*1000","v":2941995},{"$f":"1.2*$A$1*1000*1000","v":11767980},{"$f":"1.2*$A$1*1000*1000","v":11767980},1,1,50,0.1,null,null,"RCS4","WRA14C",200,24,11767980,11767980,24000,"○"]
[335,5000,2941995,2941995,{"$f":"0.7*$A$1*1000*1000","v":6864654.9999999991},{"$f":"0.7*$A$1*1000*1000","v":6864654.9999999991},1,1,50,0.1,"RCS4-\nWRA16C-400",null,"RCS4","WRA16C",400,5,6864655,6864655,5000,"○"]
[336,10000,2941995,2941995,{"$f":"1*$A$1*1000*1000","v":9806650},{"$f":"1*$A$1*1000*1000","v":9806650},1,1,50,0.1,null,null,"RCS4","WRA16C",400,10,9806650,9806650,10000,"○"]
[337,20000,2941995,2941995,{"$f":"1.2*$A$1*1000*1000","v":11767980},{"$f":"1.2*$A$1*1000*1000","v":11767980},1,1,50,0.1,null,null,"RCS4","WRA16C",400,20,11767980,11767980,20000,"○"]
[338,30000,{"$f":"0.3*$A$1*1000*1000","v":2941995},{"$f":"0.3*$A$1*1000*1000","v":2941995},{"$f":"1.2*$A$1*1000*1000","v":11767980},{"$f":"1.2*$A$1*1000*1000","v":11767980},1,1,50,0.1,null,"*","リード長","定格加速度_水平","定格加速度_垂直","最大加速度_水平","最大加速度_垂直","ギア比分子","ギア比分母","ストローク刻み","型式"]
[339,{"$f":"M342*1000","v":2500},{"$f":"IF(N342>0, N342*$A$1*1000*1000, -1)","v":2941995},{"$f":"IF(O342>0, O342*$A$1*1000*1000, -1)","v":2941995},{"$f":"IF(P342>0, P342*$A$1*1000*1000, -1)","v":6864654.9999999991},{"$f":"IF(Q342>0, Q342*$A$1*1000*1000, -1)","v":6864654.9999999991},{"$f":"R342","v":1},{"$f":"S342","v":1},{"$f":"T342","v":50},0.1,{"$f":"U342","v":"RCS4-RA4R-60"},null,2.5,0.3,0.3,0.7,0.7,1,1,50,"RCS4-RA4R-60"]
[340,{"$f":"M343*1000","v":5000},{"$f":"IF(N343>0, N343*$A$1*1000*1000, -1)","v":2941995},{"$f":"IF(O343>0, O343*$A$1*1000*1000, -1)","v":2941995},{"$f":"IF(P343>0, P343*$A$1*1000*1000, -1)","v":9806650},{"$f":"IF(Q343>0, Q343*$A$1*1000*1000, -1)","v":9806650},{"$f":"R343","v":1},{"$f":"S343","v":1},{"$f":"T343","v":50},0.1,{"$f":"U343","v":"RCS4-RA4R-60"},null,5,0.3,0.3,1,1,1,1,50,"RCS4-RA4R-60"]
[341,10000,2941995,2941995,9806650,9806650,1,1,50,0.1,"RCS4-RA4R-60",null,10,0.3,0.3,1,1,1,1,50,"RCS4-RA4R-60"]
[342,16000,2941995,2941995,9806650,9806650,1,1,50,0.1,"RCS4-RA4R-60",null,16,0.3,0.3,1,1,1,1,50,"RCS4-RA4R-60"]
[343,3000,2941995,2941995,6864654.9999999991,6864654.9999999991,1,1,50,0.1,"RCS4-RA6R-100",null,3,0.3,0.3,0.7,0.7,1,1,50,"RCS4-RA6R-100"]
[344,6000,2941995,2941995,9806650,9806650,1,1,50,0.1,"RCS4-RA6R-100",null,6,0.3,0.3,1,1,1,1,50,"RCS4-RA6R-100"]
[345,12000,2941995,2941995,9806650,9806650,1,1,50,0.1,"RCS4-RA6R-100",null,12,0.3,0.3,1,1,1,1,50,"RCS4-RA6R-100"]
[346,20000,2941995,2941995,9806650,9806650,1,1,50,0.1,"RCS4-RA6R-100",null,20,0.3,0.3,1,1,1,1,50,"RCS4-RA6R-100"]
[347,4000,2941995,2941995,6864654.9999999991,6864654.9999999991,1,1,50,0.1,"RCS4-RA7R-200",null,4,0.3,0.3,0.7,0.7,1,1,50,"RCS4-RA7R-200"]
[348,8000,2941995,2941995,9806650,9806650,1,1,50,0.1,"RCS4-RA7R-200",null,8,0.3,0.3,1,1,1,1,50,"RCS4-RA7R-200"]
[349,16000,2941995,2941995,9806650,9806650,1,1,50,0.1,"RCS4-RA7R-200",null,16,0.3,0.3,1,1,1,1,50,"RCS4-RA7R-200"]
[350,24000,2941995,2941995,9806650,9806650,1,1,50,0.1,"RCS4-RA7R-200",null,24,0.3,0.3,1,1,1,1,50,"RCS4-RA7R-200"]
[351,5000,2941995,1961330,6864654.9999999991,6864654.9999999991,1,1,50,0.1,"RCS4-RA8R-400",null,5,0.3,0.2,0.7,0.7,1,1,50,"RCS4-RA8R-400"]
[352,10000,2941995,2941995,9806650,9806650,1,1,50,0.1,"RCS4-RA8R-400",null,10,0.3,0.3,1,1,1,1,50,"RCS4-RA8R-400"]
[353,20000,2941995,2941995,9806650,9806650,1,1,50,0.1,"RCS4-RA8R-400",null,20,0.3,0.3,1,1,1,1,50,"RCS4-RA8R-400"]
[354,2500,2941995,2941995,6864654.9999999991,6864654.9999999991,1,1,50,0.1,"RCS4-SA4R-60",null,2.5,0.3,0.3,0.7,0.7,1,1,50,"RCS4-SA4R-60"]
[355,5000,2941995,2941995,9806650,9806650,1,1,50,0.1,"RCS4-SA4R-60",null,5,0.3,0.3,1,1,1,1,50,"RCS4-SA4R-60"]
[356,10000,2941995,2941995,9806650,9806650,1,1,50,0.1,"RCS4-SA4R-60",null,10,0.3,0.3,1,1,1,1,50,"RCS4-SA4R-60"]
[357,16000,2941995,2941995,9806650,9806650,1,1,50,0.1,"RCS4-SA4R-60",null,16,0.3,0.3,1,1,1,1,50,"RCS4-SA4R-60"]
[358,3000,2941995,2941995,6864654.9999999991,6864654.9999999991,1,1,50,0.1,"RCS4-SA6R-100",null,3,0.3,0.3,0.7,0.7,1,1,50,"RCS4-SA6R-100"]
[359,6000,2941995,2941995,9806650,9806650,1,1,50,0.1,"RCS4-SA6R-100",null,6,0.3,0.3,1,1,1,1,50,"RCS4-SA6R-100"]
[360,12000,2941995,2941995,9806650,9806650,1,1,50,0.1,"RCS4-SA6R-100",null,12,0.3,0.3,1,1,1,1,50,"RCS4-SA6R-100"]
[361,20000,2941995,2941995,9806650,9806650,1,1,50,0.1,"RCS4-SA6R-100",null,20,0.3,0.3,1,1,1,1,50,"RCS4-SA6R-100"]
[362,30000,2941995,2941995,9806650,9806650,1,1,50,0.1,"RCS4-SA6R-100",null,30,0.3,0.3,1,1,1,1,50,"RCS4-SA6R-100"]
[{"$f":"A365+1","v":363},4000,2941995,2941995,6864654.9999999991,6864654.9999999991,1,1,50,0.1,"RCS4-SA7R-200",null,4,0.3,0.3,0.7,0.7,1,1,50,"RCS4-SA7R-200"]
[364,8000,2941995,2941995,9806650,9806650,1,1,50,0.1,"RCS4-SA7R-200",null,8,0.3,0.3,1,1,1,1,50,"RCS4-SA7R-200"]
[365,16000,2941995,2941995,9806650,9806650,1,1,50,0.1,"RCS4-SA7R-200",null,16,0.3,0.3,1,1,1,1,50,"RCS4-SA7R-200"]
[366,24000,2941995,2941995,9806650,9806650,1,1,50,0.1,"RCS4-SA7R-200",null,24,0.3,0.3,1,1,1,1,50,"RCS4-SA7R-200"]
[367,36000,2941995,2941995,9806650,9806650,1,1,50,0.1,"RCS4-SA7R-200",null,36,0.3,0.3,1,1,1,1,50,"RCS4-SA7R-200"]
[368,5000,2941995,2941995,6864654.9999999991,6864654.9999999991,1,1,50,0.1,"RCS4-SA8R-400",null,5,0.3,0.3,0.7,0.7,1,1,50,"RCS4-SA8R-400"]
[369,10000,2941995,2941995,9806650,9806650,1,1,50,0.1,"RCS4-SA8R-400",null,10,0.3,0.3,1,1,1,1,50,"RCS4-SA8R-400"]
[370,20000,2941995,2941995,9806650,9806650,1,1,50,0.1,"RCS4-SA8R-400",null,20,0.3,0.3,1,1,1,1,50,"RCS4-SA8R-400"]
[371,30000,2941995,2941995,9806650,9806650,1,1,50,0.1,"RCS4-SA8R-400",null,30,0.3,0.3,1,1,1,1,50,"RCS4-SA8R-400"]
[372,48000,2941995,-1,9806650,-1,1,1,50,0.1,"RCS4-SA8R-400",null,48,0.3,-1,1,-1,1,1,50,"RCS4-SA8R-400"]
[373,2500,2941995,2941995,6864654.9999999991,6864654.9999999991,1,1,50,0.1,"RCS4-WSA10R-60",null,2.5,0.3,0.3,0.7,0.7,1,1,50,"RCS4-WSA10R-60"]
[374,5000,2941995,2941995,9806650,9806650,1,1,50,0.1,"RCS4-WSA10R-60",null,5,0.3,0.3,1,1,1,1,50,"RCS4-WSA10R-60"]
[375,10000,2941995,2941995,9806650,9806650,1,1,50,0.1,"RCS4-WSA10R-60",null,10,0.3,0.3,1,1,1,1,50,"RCS4-WSA10R-60"]
[376,16000,2941995,-1,9806650,-1,1,1,50,0.1,"RCS4-WSA10R-60",null,16,0.3,-1,1,-1,1,1,50,"RCS4-WSA10R-60"]
[377,3000,2941995,2941995,6864654.9999999991,6864654.9999999991,1,1,50,0.1,"RCS4-WSA12R-100",null,3,0.3,0.3,0.7,0.7,1,1,50,"RCS4-WSA12R-100"]
[378,6000,2941995,2941995,9806650,9806650,1,1,50,0.1,"RCS4-WSA12R-100",null,6,0.3,0.3,1,1,1,1,50,"RCS4-WSA12R-100"]
[379,12000,2941995,2941995,9806650,9806650,1,1,50,0.1,"RCS4-WSA12R-100",null,12,0.3,0.3,1,1,1,1,50,"RCS4-WSA12R-100"]
[380,20000,2941995,2941995,9806650,9806650,1,1,50,0.1,"RCS4-WSA12R-100",null,20,0.3,0.3,1,1,1,1,50,"RCS4-WSA12R-100"]
[381,30000,2941995,-1,9806650,-1,1,1,50,0.1,"RCS4-WSA12R-100",null,30,0.3,-1,1,-1,1,1,50,"RCS4-WSA12R-100"]
[382,4000,2941995,2941995,6864654.9999999991,6864654.9999999991,1,1,50,0.1,"RCS4-WSA14R-200",null,4,0.3,0.3,0.7,0.7,1,1,50,"RCS4-WSA14R-200"]
[383,8000,2941995,2941995,9806650,9806650,1,1,50,0.1,"RCS4-WSA14R-200",null,8,0.3,0.3,1,1,1,1,50,"RCS4-WSA14R-200"]
[384,16000,2941995,2941995,9806650,9806650,1,1,50,0.1,"RCS4-WSA14R-200",null,16,0.3,0.3,1,1,1,1,50,"RCS4-WSA14R-200"]
[385,24000,2941995,2941995,9806650,9806650,1,1,50,0.1,"RCS4-WSA14R-200",null,24,0.3,0.3,1,1,1,1,50,"RCS4-WSA14R-200"]
[386,36000,2941995,-1,9806650,-1,1,1,50,0.1,"RCS4-WSA14R-200",null,36,0.3,-1,1,-1,1,1,50,"RCS4-WSA14R-200"]
[387,5000,2941995,2941995,6864654.9999999991,6864654.9999999991,1,1,50,0.1,"RCS4-WSA16R-400",null,5,0.3,0.3,0.7,0.7,1,1,50,"RCS4-WSA16R-400"]
[388,10000,2941995,2941995,9806650,9806650,1,1,50,0.1,"RCS4-WSA16R-400",null,10,0.3,0.3,1,1,1,1,50,"RCS4-WSA16R-400"]
[389,20000,2941995,2941995,9806650,9806650,1,1,50,0.1,"RCS4-WSA16R-400",null,20,0.3,0.3,1,1,1,1,50,"RCS4-WSA16R-400"]
[390,30000,2941995,2941995,9806650,9806650,1,1,50,0.1,"RCS4-WSA16R-400",null,30,0.3,0.3,1,1,1,1,50,"RCS4-WSA16R-400"]
[391,2500,2941995,2941995,6864654.9999999991,6864654.9999999991,1,1,25,0.1,"RCS4-TA4R(SB)-60",null,2.5,0.3,0.3,0.7,0.7,1,1,25,"RCS4-TA4R(SB)-60"]
[392,5000,2941995,2941995,9806650,9806650,1,1,25,0.1,"RCS4-TA4R(SB)-60",null,5,0.3,0.3,1,1,1,1,25,"RCS4-TA4R(SB)-60"]
[393,10000,2941995,2941995,9806650,9806650,1,1,25,0.1,"RCS4-TA4R(SB)-60",null,10,0.3,0.3,1,1,1,1,25,"RCS4-TA4R(SB)-60"]
[394,16000,2941995,2941995,9806650,9806650,1,1,25,0.1,"RCS4-TA4R(SB)-60",null,16,0.3,0.3,1,1,1,1,25,"RCS4-TA4R(SB)-60"]
[395,3000,2941995,2941995,6864654.9999999991,6864654.9999999991,1,1,25,0.1,"RCS4-TA6R(SB)-100",null,3,0.3,0.3,0.7,0.7,1,1,25,"RCS4-TA6R(SB)-100"]
[396,6000,2941995,2941995,9806650,9806650,1,1,25,0.1,"RCS4-TA6R(SB)-100",null,6,0.3,0.3,1,1,1,1,25,"RCS4-TA6R(SB)-100"]
[397,12000,2941995,2941995,9806650,9806650,1,1,25,0.1,"RCS4-TA6R(SB)-100",null,12,0.3,0.3,1,1,1,1,25,"RCS4-TA6R(SB)-100"]
[398,20000,2941995,2941995,9806650,9806650,1,1,25,0.1,"RCS4-TA6R(SB)-100",null,20,0.3,0.3,1,1,1,1,25,"RCS4-TA6R(SB)-100"]
[399,4000,2941995,2941995,6864654.9999999991,6864654.9999999991,1,1,25,0.1,"RCS4-TA7R(SB)-200",null,4,0.3,0.3,0.7,0.7,1,1,25,"RCS4-TA7R(SB)-200"]
[400,8000,2941995,2941995,9806650,9806650,1,1,25,0.1,"RCS4-TA7R(SB)-200",null,8,0.3,0.3,1,1,1,1,25,"RCS4-TA7R(SB)-200"]
[401,16000,2941995,2941995,9806650,9806650,1,1,25,0.1,"RCS4-TA7R(SB)-200",null,16,0.3,0.3,1,1,1,1,25,"RCS4-TA7R(SB)-200"]
[402,24000,2941995,2941995,9806650,9806650,1,1,25,0.1,"RCS4-TA7R(SB)-200",null,24,0.3,0.3,1,1,1,1,25,"RCS4-TA7R(SB)-200"]
[403,2500,2941995,2941995,6864654.9999999991,6864654.9999999991,1,1,25,0.1,"RCS4-TA4R(DB)-60",null,2.5,0.3,0.3,0.7,0.7,1,1,25,"RCS4-TA4R(DB)-60"]
[404,{"$f":"M407*1000","v":5000},{"$f":"IF(N407>0, N407*$A$1*1000*1000, -1)","v":2941995},{"$f":"IF(O407>0, O407*$A$1*1000*1000, -1)","v":2941995},{"$f":"IF(P407>0, P407*$A$1*1000*1000, -1)","v":9806650},{"$f":"IF(Q407>0, Q407*$A$1*1000*1000, -1)","v":9806650},{"$f":"R407","v":1},{"$f":"S407","v":1},{"$f":"T407","v":25},0.1,{"$f":"U407","v":"RCS4-TA4R(DB)-60"},null,5,0.3,0.3,1,1,1,1,25,"RCS4-TA4R(DB)-60"]
[405,10000,2941995,2941995,9806650,9806650,1,1,25,0.1,"RCS4-TA4R(DB)-60",null,10,0.3,0.3,1,1,1,1,25,"RCS4-TA4R(DB)-60"]
[406,3000,2941995,2941995,6864654.9999999991,6864654.9999999991,1,1,25,0.1,"RCS4-TA6R(DB)-100",null,3,0.3,0.3,0.7,0.7,1,1,25,"RCS4-TA6R(DB)-100"]
[407,6000,2941995,2941995,9806650,9806650,1,1,25,0.1,"RCS4-TA6R(DB)-100",null,6,0.3,0.3,1,1,1,1,25,"RCS4-TA6R(DB)-100"]
[408,12000,2941995,2941995,9806650,9806650,1,1,25,0.1,"RCS4-TA6R(DB)-100",null,12,0.3,0.3,1,1,1,1,25,"RCS4-TA6R(DB)-100"]
[409,4000,2941995,2941995,6864654.9999999991,6864654.9999999991,1,1,25,0.1,"RCS4-TA7R(DB)-200",null,4,0.3,0.3,0.7,0.7,1,1,25,"RCS4-TA7R(DB)-200"]
[410,8000,2941995,2941995,9806650,9806650,1,1,25,0.1,"RCS4-TA7R(DB)-200",null,8,0.3,0.3,1,1,1,1,25,"RCS4-TA7R(DB)-200"]
[411,16000,2941995,2941995,9806650,9806650,1,1,25,0.1,"RCS4-TA7R(DB)-200",null,16,0.3,0.3,1,1,1,1,25,"RCS4-TA7R(DB)-200"]
[412,2500,2941995,2941995,6864654.9999999991,6864654.9999999991,1,1,50,0.1,"RCS4-RRA4R-60",null,2.5,0.3,0.3,0.7,0.7,1,1,50,"RCS4-RRA4R-60"]
[413,5000,2941995,2941995,9806650,9806650,1,1,50,0.1,"RCS4-RRA4R-60",null,5,0.3,0.3,1,1,1,1,50,"RCS4-RRA4R-60"]
[414,10000,2941995,2941995,9806650,9806650,1,1,50,0.1,"RCS4-RRA4R-60",null,10,0.3,0.3,1,1,1,1,50,"RCS4-RRA4R-60"]
[415,16000,2941995,2941995,9806650,9806650,1,1,50,0.1,"RCS4-RRA4R-60",null,16,0.3,0.3,1,1,1,1,50,"RCS4-RRA4R-60"]
[416,3000,2941995,2941995,6864654.9999999991,6864654.9999999991,1,1,50,0.1,"RCS4-RRA6R-100",null,3,0.3,0.3,0.7,0.7,1,1,50,"RCS4-RRA6R-100"]
[417,6000,2941995,2941995,9806650,9806650,1,1,50,0.1,"RCS4-RRA6R-100",null,6,0.3,0.3,1,1,1,1,50,"RCS4-RRA6R-100"]
[418,12000,2941995,2941995,9806650,9806650,1,1,50,0.1,"RCS4-RRA6R-100",null,12,0.3,0.3,1,1,1,1,50,"RCS4-RRA6R-100"]
[419,20000,2941995,2941995,9806650,9806650,1,1,50,0.1,"RCS4-RRA6R-100",null,20,0.3,0.3,1,1,1,1,50,"RCS4-RRA6R-100"]
[420,4000,2941995,2941995,6864654.9999999991,6864654.9999999991,1,1,50,0.1,"RCS4-RRA7R-200",null,4,0.3,0.3,0.7,0.7,1,1,50,"RCS4-RRA7R-200"]
[421,8000,2941995,2941995,9806650,9806650,1,1,50,0.1,"RCS4-RRA7R-200",null,8,0.3,0.3,1,1,1,1,50,"RCS4-RRA7R-200"]
[422,16000,2941995,2941995,9806650,9806650,1,1,50,0.1,"RCS4-RRA7R-200",null,16,0.3,0.3,1,1,1,1,50,"RCS4-RRA7R-200"]
[423,24000,2941995,2941995,9806650,9806650,1,1,50,0.1,"RCS4-RRA7R-200",null,24,0.3,0.3,1,1,1,1,50,"RCS4-RRA7R-200"]
[424,5000,1961330,1961330,6864654.9999999991,6864654.9999999991,1,1,50,0.1,"RCS4-RRA8R-400",null,5,0.2,0.2,0.7,0.7,1,1,50,"RCS4-RRA8R-400"]
[425,10000,2941995,2941995,9806650,9806650,1,1,50,0.1,"RCS4-RRA8R-400",null,10,0.3,0.3,1,1,1,1,50,"RCS4-RRA8R-400"]
[426,20000,2941995,2941995,9806650,9806650,1,1,50,0.1,"RCS4-RRA8R-400",null,20,0.3,0.3,1,1,1,1,50,"RCS4-RRA8R-400"]
[{"$f":"A429+1","v":427},30000,2941995,2941995,9806650,9806650,1,1,50,0.1,"RCS4-RRA8R-400",null,30,0.3,0.3,1,1,1,1,50,"RCS4-RRA8R-400"]
[428,2500,2941995,2941995,6864654.9999999991,6864654.9999999991,1,1,50,0.1,"RCS4-WRA10R-60",null,2.5,0.3,0.3,0.7,0.7,1,1,50,"RCS4-WRA10R-60"]
[429,5000,2941995,2941995,9806650,9806650,1,1,50,0.1,"RCS4-WRA10R-60",null,5,0.3,0.3,1,1,1,1,50,"RCS4-WRA10R-60"]
[430,10000,2941995,2941995,9806650,9806650,1,1,50,0.1,"RCS4-WRA10R-60",null,10,0.3,0.3,1,1,1,1,50,"RCS4-WRA10R-60"]
[431,16000,2941995,-1,9806650,-1,1,1,50,0.1,"RCS4-WRA10R-60",null,16,0.3,-1,1,-1,1,1,50,"RCS4-WRA10R-60"]
[432,3000,2941995,2941995,6864654.9999999991,6864654.9999999991,1,1,50,0.1,"RCS4-WRA12R-100",null,3,0.3,0.3,0.7,0.7,1,1,50,"RCS4-WRA12R-100"]
[433,6000,2941995,2941995,9806650,9806650,1,1,50,0.1,"RCS4-WRA12R-100",null,6,0.3,0.3,1,1,1,1,50,"RCS4-WRA12R-100"]
[434,12000,2941995,2941995,9806650,9806650,1,1,50,0.1,"RCS4-WRA12R-100",null,12,0.3,0.3,1,1,1,1,50,"RCS4-WRA12R-100"]
[435,20000,2941995,2941995,9806650,9806650,1,1,50,0.1,"RCS4-WRA12R-100",null,20,0.3,0.3,1,1,1,1,50,"RCS4-WRA12R-100"]
[436,4000,2941995,2941995,6864654.9999999991,6864654.9999999991,1,1,50,0.1,"RCS4-WRA14R-200",null,4,0.3,0.3,0.7,0.7,1,1,50,"RCS4-WRA14R-200"]
[437,8000,2941995,2941995,9806650,9806650,1,1,50,0.1,"RCS4-WRA14R-200",null,8,0.3,0.3,1,1,1,1,50,"RCS4-WRA14R-200"]
[438,16000,2941995,2941995,9806650,9806650,1,1,50,0.1,"RCS4-WRA14R-200",null,16,0.3,0.3,1,1,1,1,50,"RCS4-WRA14R-200"]
[439,24000,2941995,2941995,9806650,9806650,1,1,50,0.1,"RCS4-WRA14R-200",null,24,0.3,0.3,1,1,1,1,50,"RCS4-WRA14R-200"]
[440,5000,2941995,2941995,6864654.9999999991,6864654.9999999991,1,1,50,0.1,"RCS4-WRA16R-400",null,5,0.3,0.3,0.7,0.7,1,1,50,"RCS4-WRA16R-400"]
[441,10000,2941995,2941995,9806650,9806650,1,1,50,0.1,"RCS4-WRA16R-400",null,10,0.3,0.3,1,1,1,1,50,"RCS4-WRA16R-400"]
[442,20000,2941995,2941995,9806650,9806650,1,1,50,0.1,"RCS4-WRA16R-400",null,20,0.3,0.3,1,1,1,1,50,"RCS4-WRA16R-400"]
[443,30000,2941995,2941995,9806650,9806650,1,1,50,0.1,"RCS4-WRA16R-400",null,30,0.3,0.3,1,1,1,1,50,"RCS4-WRA16R-400"]
[444,10000,2941995,2941995,5883990,4903325,1,1,50,0.1,"ISB-WXM-750","↓ Ver3.12 ISB-WXM/WXMXは垂直搬送重量変更の為上書き",444,10000,2941995,2941995,5883990,4903325,1,1,50,"ISB-WXM-750"]
[445,25000,2941995,2941995,11767980,9806650,1,1,50,0.1,"ISB-WXM-750",null,445,25000,2941995,2941995,11767980,9806650,1,1,50,"ISB-WXM-750"]
[446,50000,2941995,2941995,11767980,9806650,1,1,50,0.1,"ISB-WXM-750",null,446,50000,2941995,2941995,11767980,9806650,1,1,50,"ISB-WXM-750"]
[447,10000,1961330,1961330,5883990,4903325,1,1,50,0.1,"ISPB-WXM-750-HLA",null,447,10000,1961330,1961330,5883990,4903325,1,1,50,"ISPB-WXM-750-HLA"]
[448,25000,2941995,2941995,11767980,5883990,1,1,50,0.1,"ISB-WXMX-750",null,448,25000,2941995,2941995,11767980,5883990,1,1,50,"ISB-WXMX-750"]
[449,50000,2941995,2941995,11767980,9806650,1,1,50,0.1,"ISB-WXMX-750",null,449,50000,2941995,2941995,11767980,9806650,1,1,50,"ISB-WXMX-750"]
[450,10000,2941995,2941995,5883990,4903325,1,1,50,0.1,"ISB-WXM-750-W",null,450,10000,2941995,2941995,5883990,4903325,1,1,50,"ISB-WXM-750-W"]
[451,25000,2941995,2941995,11767980,9806650,1,1,50,0.1,"ISB-WXM-750-W",null,451,25000,2941995,2941995,11767980,9806650,1,1,50,"ISB-WXM-750-W"]
[452,50000,2941995,2941995,11767980,9806650,1,1,50,0.1,"ISB-WXM-750-W",null,452,50000,2941995,2941995,11767980,9806650,1,1,50,"ISB-WXM-750-W"]
[453,10000,1961330,1961330,5883990,4903325,1,1,50,0.1,"ISPB-WXM-750-HLA-W",null,453,10000,1961330,1961330,5883990,4903325,1,1,50,"ISPB-WXM-750-HLA-W"]
[454,25000,2941995,2941995,11767980,5883990,1,1,50,0.1,"ISB-WXMX-750-W",null,454,25000,2941995,2941995,11767980,5883990,1,1,50,"ISB-WXMX-750-W"]
[455,50000,2941995,2941995,11767980,5883990,1,1,50,0.1,"ISB-WXMX-750-W",null,455,50000,2941995,2941995,11767980,5883990,1,1,50,"ISB-WXMX-750-W"]
[456,5000,2941995,2941995,2941995,2941995,1,1,50,0.1,"EC-S10L"]
[457,10000,2941995,2941995,6864655,4903325,1,1,50,0.1,"EC-S10M"]
[458,20000,2941995,2941995,9806650,6864655,1,1,50,0.1,"EC-S10H"]
[459,30000,2941995,2941995,9806650,6864655,1,1,50,0.1,"EC-S10S"]
[460,5000,2941995,2941995,2941995,2941995,1,1,50,0.1,"EC-S10XL"]
[461,10000,2941995,2941995,6864655,4903325,1,1,50,0.1,"EC-S10XM"]
[462,20000,2941995,2941995,9806650,6864655,1,1,50,0.1,"EC-S10XH"]
[463,30000,2941995,2941995,9806650,6864655,1,1,50,0.1,"EC-S10XS"]
[464,5000,2941995,2941995,4903325,2941995,1,1,50,0.1,"EC-S13L"]
[465,10000,2941995,2941995,6864655,4903325,1,1,50,0.1,"EC-S13M"]
[466,20000,2941995,2941995,9806650,6864655,1,1,50,0.1,"EC-S13H"]
[467,30000,2941995,2941995,9806650,6864655,1,1,50,0.1,"EC-S13S"]
[468,5000,2941995,2941995,4903325,2941995,1,1,50,0.1,"EC-S13XL"]
[469,10000,2941995,2941995,6864655,4903325,1,1,50,0.1,"EC-S13XM"]
[470,20000,2941995,2941995,9806650,6864655,1,1,50,0.1,"EC-S13XH"]
[471,30000,2941995,2941995,9806650,6864655,1,1,50,0.1,"EC-S13XS"]
[472,10000,2941995,2941995,6864655,4903325,1,1,50,0.1,"EC-S15L"]
[473,20000,2941995,2941995,9806650,6864655,1,1,50,0.1,"EC-S15M"]
[474,40000,2941995,2941995,9806650,6864655,1,1,50,0.1,"EC-S15H"]
[475,10000,2941995,2941995,6864655,4903325,1,1,50,0.1,"EC-S15XL"]
[476,20000,2941995,2941995,9806650,6864655,1,1,50,0.1,"EC-S15XM"]
[477,40000,2941995,2941995,9806650,6864655,1,1,50,0.1,"EC-S15XH"]
[478,5000,2941995,2941995,2941995,2941995,1,1,50,0.1,"EC-S10L-W"]
[479,10000,2941995,2941995,6864655,4903325,1,1,50,0.1,"EC-S10M-W"]
[480,20000,2941995,-1,9806650,-1,1,1,50,0.1,"EC-S10H-W"]
[481,30000,2941995,-1,6864655,-1,1,1,50,0.1,"EC-S10S-W"]
[482,5000,2941995,2941995,2941995,2941995,1,1,50,0.1,"EC-S10XL-W"]
[483,10000,2941995,2941995,6864655,4903325,1,1,50,0.1,"EC-S10XM-W"]
[484,20000,2941995,-1,9806650,-1,1,1,50,0.1,"EC-S10XH-W"]
[485,30000,2941995,-1,6864655,-1,1,1,50,0.1,"EC-S10XS-W"]
[486,5000,2941995,2941995,4903325,2941995,1,1,50,0.1,"EC-S13L-W"]
[487,10000,2941995,2941995,6864655,4903325,1,1,50,0.1,"EC-S13M-W"]
[488,20000,2941995,2941995,9806650,4903325,1,1,50,0.1,"EC-S13H-W"]
[489,30000,2941995,-1,9806650,-1,1,1,50,0.1,"EC-S13S-W"]
[490,5000,2941995,2941995,4903325,2941995,1,1,50,0.1,"EC-S13XL-W"]
[491,10000,2941995,2941995,6864655,4903325,1,1,50,0.1,"EC-S13XM-W"]
[492,20000,2941995,2941995,9806650,4903325,1,1,50,0.1,"EC-S13XH-W"]
[493,30000,2941995,-1,9806650,-1,1,1,50,0.1,"EC-S13XS-W"]
[494,10000,2941995,2941995,6864655,4903325,1,1,50,0.1,"EC-S15L-W"]
[495,20000,2941995,2941995,9806650,6864655,1,1,50,0.1,"EC-S15M-W"]
[496,40000,2941995,2941995,9806650,4903325,1,1,50,0.1,"EC-S15H-W"]
[497,10000,2941995,2941995,6864655,4903325,1,1,50,0.1,"EC-S15XL-W"]
[498,20000,2941995,2941995,9806650,6864655,1,1,50,0.1,"EC-S15XM-W"]
[499,40000,2941995,2941995,9806650,4903325,1,1,50,0.1,"EC-S15XH-W","↑ Ver3.12"]
[500,28000,2941995,-1,19613300,-1,1,1,50,0.1,"IFA-SA-100(-1450st)","↓ Ver3.13"]
[501,28000,2941995,-1,19613300,-1,1,1,50,0.1,"IFA-SA-100(1500st-)"]
[502,42000,2941995,-1,19613300,-1,1,1,100,0.1,"IFA-MA-200"]
[503,42000,2941995,-1,19613300,-1,1,1,100,0.1,"IFA-MA-400"]
[504,42000,2941995,-1,19613300,-1,1,1,100,0.1,"IFA-MA-200-AC100V"]
[505,28000,2941995,-1,19613300,-1,1,1,50,0.1,"IFA-SA-100-W(-1450st)"]
[506,28000,2941995,-1,19613300,-1,1,1,50,0.1,"IFA-SA-100-W(1500st-)"]
[507,42000,2941995,-1,19613300,-1,1,1,100,0.1,"IFA-MA-200-W"]
[508,42000,2941995,-1,19613300,-1,1,1,100,0.1,"IFA-MA-400-W"]
[509,42000,2941995,-1,19613300,-1,1,1,100,0.1,"IFA-MA-200-W-AC100V","↑ Ver3.13"]
[510,10000,2941995,2941995,6864655,4903325,1,1,50,0.1,"EC-S18L (～1350st)","↓ Ver.3.15"]
[511,10000,2941995,2941995,6864655,4903325,1,1,50,0.1,"EC-S18L (1400st～)"]
[512,20000,2941995,2941995,9806650,6864655,1,1,50,0.1,"EC-S18M (～1350st)"]
[513,20000,2941995,2941995,9806650,6864655,1,1,50,0.1,"EC-S18M (1400st～)"]
[514,40000,2941995,2941995,9806650,6864655,1,1,50,0.1,"EC-S18H (～1350st)"]
[515,40000,2941995,2941995,9806650,6864655,1,1,50,0.1,"EC-S18H (1400st～)"]
[516,10000,2941995,2941995,6864655,4903325,1,1,50,0.1,"EC-S18LP (～1350st)"]
[517,10000,2941995,2941995,6864655,4903325,1,1,50,0.1,"EC-S18LP (1400st～)"]
[518,10000,2941995,2941995,6864655,4903325,1,1,50,0.1,"EC-S18XL (～2200st)"]
[519,10000,2941995,2941995,6864655,4903325,1,1,50,0.1,"EC-S18XL (2250st～)"]
[520,20000,2941995,2941995,9806650,6864655,1,1,50,0.1,"EC-S18XM (～2200st)"]
[521,20000,2941995,2941995,9806650,6864655,1,1,50,0.1,"EC-S18XM (2250st～)"]
[522,40000,2941995,2941995,9806650,6864655,1,1,50,0.1,"EC-S18XH (～2200st)"]
[523,40000,2941995,2941995,9806650,6864655,1,1,50,0.1,"EC-S18XH (2250st～)"]
[524,10000,2941995,2941995,6864655,4903325,1,1,50,0.1,"EC-S18XLP"]
[525,10000,2941995,2941995,6864655,4903325,1,1,50,0.1,"EC-S18L-W (～1350st)"]
[526,10000,2941995,2941995,6864655,4903325,1,1,50,0.1,"EC-S18L-W (1400st～)"]
[527,20000,2941995,2941995,9806650,6864655,1,1,50,0.1,"EC-S18M-W (～1350st)"]
[528,20000,2941995,2941995,9806650,6864655,1,1,50,0.1,"EC-S18M-W (1400st～)"]
[529,40000,2941995,2941995,9806650,6864655,1,1,50,0.1,"EC-S18H-W (～1350st)"]
[530,40000,2941995,2941995,9806650,6864655,1,1,50,0.1,"EC-S18H-W (1400st～)"]
[531,10000,2941995,2941995,6864655,4903325,1,1,50,0.1,"EC-S18LP-W (～1350st)"]
[532,10000,2941995,2941995,6864655,4903325,1,1,50,0.1,"EC-S18LP-W (1400st～)"]
[533,10000,2941995,2941995,6864655,4903325,1,1,50,0.1,"EC-S18XL-W (～2200st)"]
[534,10000,2941995,2941995,6864655,4903325,1,1,50,0.1,"EC-S18XL-W (2250st～)"]
[535,20000,2941995,2941995,9806650,6864655,1,1,50,0.1,"EC-S18XM-W (～2200st)"]
[536,20000,2941995,2941995,9806650,6864655,1,1,50,0.1,"EC-S18XM-W (2250st～)"]
[537,40000,2941995,2941995,9806650,6864655,1,1,50,0.1,"EC-S18XH-W (～2200st)"]
[538,40000,2941995,2941995,9806650,6864655,1,1,50,0.1,"EC-S18XH-W (2250st～)"]
[539,10000,2941995,2941995,6864655,4903325,1,1,50,0.1,"EC-S18XLP-W","↑ Ver.3.15"]
[540,54000,2941995,-1,9806650,-1,1,1,100,0.1,"EC-B8SS","↓ Ver.3.16 追加"]
[541,54000,2941995,-1,9806650,-1,1,1,100,0.1,"EC-B8SSU"]
[542,4000,2941995,2941995,6864655,6864655,1,1,50,0.1,"RCS4-HSA6C-100"]
[543,8000,2941995,2941995,9806650,9806650,1,1,50,0.1,"RCS4-HSA6C-100"]
[544,16000,2941995,2941995,11767980,11767980,1,1,50,0.1,"RCS4-HSA6C-100"]
[545,24000,2941995,2941995,11767980,11767980,1,1,50,0.1,"RCS4-HSA6C-100"]
[546,5000,2941995,2941995,6864655,6864655,1,1,50,0.1,"RCS4-HSA7C-200"]
[547,10000,2941995,2941995,9806650,9806650,1,1,50,0.1,"RCS4-HSA7C-200"]
[548,20000,2941995,2941995,11767980,11767980,1,1,50,0.1,"RCS4-HSA7C-200"]
[549,30000,2941995,2941995,11767980,11767980,1,1,50,0.1,"RCS4-HSA7C-200"]
[550,4000,2941995,2941995,6864655,6864655,1,1,50,0.1,"RCS4-HSA6C-100-W"]
[551,8000,2941995,2941995,9806650,9806650,1,1,50,0.1,"RCS4-HSA6C-100-W"]
[552,16000,2941995,-1,11767980,-1,1,1,50,0.1,"RCS4-HSA6C-100-W"]
[553,5000,2941995,2941995,6864655,6864655,1,1,50,0.1,"RCS4-HSA7C-200-W"]
[554,10000,2941995,2941995,9806650,9806650,1,1,50,0.1,"RCS4-HSA7C-200-W"]
[555,20000,2941995,-1,11767980,-1,1,1,50,0.1,"RCS4-HSA7C-200-W","↑ Ver.3.16 追加"]
["EOF"]

{"sheet":"StrokeData","index":4,"n_rows":3799,"n_cols":29,"rows_kept":3799,"cut":false,"hidden":true,"merged":[[2087,12,2089,12],[2090,12,2092,12],[2107,12,2118,12],[2119,12,2130,12],[2131,12,2141,12],[2095,12,2106,12],[2053,12,2062,12],[2063,12,2071,12],[2075,12,2077,12],[2078,12,2080,12],[2081,12,2082,12],[2072,12,2074,12],[2033,12,2042,12],[2043,12,2052,12],[2012,12,2014,12],[2015,12,2017,12],[2018,12,2020,12],[1990,16,1990,18],[1905,12,1912,12],[1913,12,1920,12],[1921,12,1928,12],[2006,12,2007,12],[2008,12,2009,12],[2010,12,2011,12],[1929,12,1936,12],[1937,12,1942,12],[1943,12,1954,12],[1955,12,1966,12],[1967,12,1978,12],[1979,12,1990,12],[1850,12,1853,12],[1854,12,1857,12],[1858,12,1861,12],[1862,12,1865,12],[1866,12,1873,12],[1874,12,1881,12],[1882,12,1889,12],[1890,12,1897,12],[1898,12,1904,12],[1730,12,1736,12],[1737,12,1743,12],[1744,12,1750,12],[1751,12,1757,12],[1758,12,1763,12],[1764,12,1770,12],[1819,12,1829,12],[1830,12,1840,12],[1841,12,1849,12],[1808,12,1818,12],[1771,12,1777,12],[1778,12,1784,12],[1785,12,1791,12],[1792,12,1796,12],[1797,12,1807,12],[33,12,42,12],[43,12,47,12],[48,12,56,12],[57,12,61,12],[62,12,66,12],[209,12,216,12],[814,12,824,12],[825,12,835,12],[836,12,845,12],[226,12,232,12],[233,12,239,12],[217,12,225,12],[313,12,323,12],[391,12,404,12],[352,12,365,12],[366,12,376,12],[377,12,390,12],[324,12,337,12],[338,12,351,12],[240,12,246,12],[247,12,257,12],[258,12,268,12],[269,12,279,12],[280,12,290,12],[169,12,173,12],[174,12,178,12],[179,12,185,12],[186,12,192,12],[193,12,201,12],[202,12,208,12],[3,12,6,12],[7,12,10,12],[11,12,17,12],[18,12,22,12],[141,12,145,12],[131,12,135,12],[23,12,27,12],[67,12,73,12],[74,12,80,12],[81,12,90,12],[136,12,140,12],[91,12,97,12],[98,12,105,12],[106,12,115,12],[116,12,119,12],[120,12,123,12],[124,12,130,12],[28,12,32,12],[1084,12,1093,12],[1094,12,1104,12],[779,12,786,12],[787,12,793,12],[684,12,691,12],[692,12,699,12],[794,12,803,12],[804,12,813,12],[896,12,905,12],[906,12,914,12],[915,12,926,12],[927,12,936,12],[937,12,946,12],[947,12,956,12],[998,12,1008,12],[957,12,967,12],[968,12,977,12],[978,12,987,12],[846,12,856,12],[857,12,867,12],[868,12,876,12],[877,12,885,12],[886,12,895,12],[988,12,997,12],[1324,12,1325,12],[1249,12,1252,12],[1260,12,1261,12],[1262,12,1264,12],[1253,12,1259,12],[1265,12,1269,12],[1274,12,1275,12],[1276,12,1277,12],[1278,12,1279,12],[1281,12,1284,12],[1317,12,1320,12],[1298,12,1300,12],[1301,12,1303,12],[1304,12,1306,12],[1307,12,1312,12],[1313,12,1314,12],[1344,12,1345,12],[1346,12,1347,12],[1348,12,1349,12],[1350,12,1353,12],[1354,12,1357,12],[1358,12,1363,12],[1326,12,1327,12],[1328,12,1329,12],[1330,12,1333,12],[1334,12,1337,12],[1414,12,1417,12],[1418,12,1419,12],[1406,12,1407,12],[1408,12,1409,12],[1410,12,1411,12],[1412,12,1413,12],[1390,12,1392,12],[1393,12,1395,12],[1396,12,1397,12],[1398,12,1399,12],[1373,12,1376,12],[1377,12,1380,12],[1381,12,1386,12],[1387,12,1389,12],[1338,12,1343,12],[1367,12,1368,12],[1369,12,1370,12],[1371,12,1372,12],[1045,12,1053,12],[1054,12,1064,12],[1065,12,1073,12],[1315,12,1316,12],[1285,12,1288,12],[1289,12,1292,12],[1293,12,1297,12],[1228,12,1231,12],[1232,12,1236,12],[1243,12,1245,12],[1246,12,1248,12],[1237,12,1242,12],[1215,12,1216,12],[1217,12,1218,12],[1219,12,1221,12],[1224,12,1227,12],[1164,12,1172,12],[1173,12,1181,12],[1182,12,1190,12],[608,12,618,12],[619,12,629,12],[630,12,642,12],[643,12,655,12],[724,12,736,12],[737,12,751,12],[752,12,766,12],[767,12,778,12],[1009,12,1017,12],[1018,12,1026,12],[1027,12,1035,12],[1036,12,1044,12],[656,12,669,12],[670,12,683,12],[700,12,711,12],[712,12,723,12],[1105,12,1114,12],[1115,12,1124,12],[1125,12,1134,12],[1135,12,1145,12],[1074,12,1083,12],[1,13,1,14],[596,12,607,12],[543,12,556,12],[557,12,567,12],[568,12,581,12],[582,12,595,12],[493,12,503,12],[504,12,514,12],[515,12,528,12],[529,12,542,12],[449,12,459,12],[460,12,470,12],[471,12,481,12],[482,12,492,12],[417,12,423,12],[424,12,430,12],[431,12,437,12],[438,12,448,12],[291,12,301,12],[302,12,312,12],[405,12,416,12],[146,12,154,12],[155,12,159,12],[160,12,168,12],[1510,12,1523,12],[1570,12,1583,12],[1584,12,1594,12],[1420,12,1429,12],[1430,12,1439,12],[1524,12,1529,12],[1548,12,1549,12],[1550,12,1559,12],[1560,12,1569,12],[1530,12,1535,12],[1536,12,1540,12],[1541,12,1542,12],[1543,12,1547,12],[1222,12,1223,12],[1146,12,1154,12],[1191,12,1201,12],[1202,12,1210,12],[1155,12,1163,12],[1726,12,1727,12],[1728,12,1729,12],[1685,12,1699,12],[1700,12,1706,12],[1595,12,1608,12],[1609,12,1619,12],[1620,12,1631,12],[1632,12,1644,12],[1722,12,1723,12],[1724,12,1725,12],[1645,12,1656,12],[1657,12,1669,12],[1670,12,1675,12],[1676,12,1684,12],[1440,12,1453,12],[1454,12,1467,12],[1468,12,1481,12],[1482,12,1495,12],[1496,12,1509,12]]}
[null,1,2,4,5,6,7,8,9,10,17,18,null,{"$f":"COUNTIF(N4:N1420,\"つなぎまちがい\")","v":0},{"$f":"COUNTIF(O4:O1420,\"つなぎまちがい\")","v":0}]
["ﾃﾞｰﾀ№","ｽﾄﾛｰｸ長","有効ｽﾄﾛｰｸ補正","基準ｹﾞｲﾝ用搬送質量","水平可搬質量","垂直可搬質量","最大速度","位置ｹﾞｲﾝ","FFｹﾞｲﾝ","速度制御帯域","前ﾃﾞｰﾀ№","次ﾃﾞｰﾀ№","備考","ﾚｺｰﾄﾞﾘﾝｸのﾁｪｯｸ"]
[{"$f":"ModelData!A3","v":0},"㎜","㎜","1g","1g","1g","㎜/s","1/s","%","rad/s",null,null,null,"前ﾃﾞｰﾀ","次ﾃﾞｰﾀ"]
[{"$f":"A3+1","v":1},600,0,55000,{"$f":"D4","v":55000},14000,240,30,0,120,-1,{"$f":"A5","v":2},"ISB-SXM-60-4",{"$f":"IF(K4=A3,\"○\",IF(M4<>0,\"先頭\",\"つなぎまちがい\"))","v":"先頭"},{"$f":"IF(L4=A5,\"○\",IF(L4<>K5,\"つなぎまちがい\",\"終端\"))","v":"○"}]
[2,700,0,55000,{"$f":"D5","v":55000},14000,165,30,0,120,{"$f":"A4","v":1},{"$f":"A6","v":3},null,"○","○"]
[3,800,0,55000,{"$f":"D6","v":55000},14000,130,30,0,120,{"$f":"A5","v":2},{"$f":"A7","v":4},null,"○","○"]
[4,900,0,55000,{"$f":"D7","v":55000},14000,100,30,0,120,{"$f":"A6","v":3},-1,null,"○","終端"]
[5,600,0,27500,{"$f":"27*1000","v":27000},7000,480,35,0,93,-1,{"$f":"A9","v":6},"ISB-SXM-60-8","先頭","○"]
[6,700,0,27500,{"$f":"27*1000","v":27000},7000,330,35,0,93,{"$f":"A8","v":5},{"$f":"A10","v":7},null,"○","○"]
[7,800,0,27500,{"$f":"27*1000","v":27000},7000,260,35,0,93,{"$f":"A9","v":6},{"$f":"A11","v":8},null,"○","○"]
[8,900,0,27500,{"$f":"27*1000","v":27000},7000,210,35,0,93,{"$f":"A10","v":7},-1,null,"○","終端"]
[9,300,0,13000,{"$f":"D12","v":13000},3500,960,30,0,85,-1,{"$f":"A13","v":10},"ISB-SXM-60-16","先頭","○"]
[10,400,0,13000,13000,3500,960,30,0,85,{"$f":"A12","v":9},11,null,"○","○"]
[11,500,0,13000,13000,3500,960,30,0,85,10,12,null,"○","○"]
[12,600,0,13000,13000,3500,960,30,0,85,11,13,null,"○","○"]
[13,700,0,13000,13000,3500,655,20,0,120,12,14,null,"○","○"]
[14,800,0,13000,13000,3500,515,20,0,120,13,15,null,"○","○"]
[15,900,0,13000,13000,3500,415,20,0,120,14,-1,null,"○","終端"]
[16,700,0,85000,{"$f":"D19","v":85000},20000,300,30,0,120,-1,{"$f":"A20","v":17},"ISB-MXM-100-5","先頭","○"]
[17,800,0,85000,85000,20000,215,30,0,120,{"$f":"A19","v":16},{"$f":"A21","v":18},null,"○","○"]
[18,900,0,85000,85000,20000,170,30,0,120,{"$f":"A20","v":17},{"$f":"A22","v":19},null,"○","○"]
[19,1000,0,85000,85000,20000,140,30,0,120,{"$f":"A21","v":18},{"$f":"A23","v":20},null,"○","○"]
[20,1100,0,85000,85000,20000,115,30,0,120,{"$f":"A22","v":19},-1,null,"○","終端"]
[21,700,0,45000,45000,10000,600,35,0,93,-1,{"$f":"A25","v":22},"ISB-MXM-100-10","先頭","○"]
[22,800,0,45000,45000,10000,430,35,0,93,{"$f":"A24","v":21},{"$f":"A26","v":23},null,"○","○"]
[23,900,0,45000,45000,10000,345,35,0,93,{"$f":"A25","v":22},{"$f":"A27","v":24},null,"○","○"]
[24,1000,0,45000,45000,10000,280,35,0,93,{"$f":"A26","v":23},{"$f":"A28","v":25},null,"○","○"]
[25,1100,0,45000,45000,10000,230,35,0,93,{"$f":"A27","v":24},-1,null,"○","終端"]
[26,700,0,23000,23000,{"$f":"5*1000","v":5000},1200,35,0,93,-1,{"$f":"A30","v":27},"ISB-MXM-100-20","先頭","○"]
[27,800,0,23000,23000,{"$f":"5*1000","v":5000},860,30,0,85,{"$f":"A29","v":26},{"$f":"A31","v":28},null,"○","○"]
[28,900,0,23000,23000,{"$f":"5*1000","v":5000},695,30,0,85,{"$f":"A30","v":27},{"$f":"A32","v":29},null,"○","○"]
[29,1000,0,23000,23000,{"$f":"5*1000","v":5000},570,30,0,85,{"$f":"A31","v":28},{"$f":"A33","v":30},null,"○","○"]
[30,1100,0,23000,23000,{"$f":"5*1000","v":5000},460,30,0,85,{"$f":"A32","v":29},-1,null,"○","終端"]
[31,100,0,15000,{"$f":"D34","v":15000},{"$f":"2.5*1000","v":2500},1800,30,0,100,-1,{"$f":"A35","v":32},"ISB-MXM-100-30","先頭","○"]
[32,200,0,15000,15000,2500,1800,30,0,100,{"$f":"A34","v":31},33,null,"○","○"]
[33,400,0,15000,15000,2500,1800,30,0,100,32,34,null,"○","○"]
[34,500,0,15000,15000,2500,1800,30,0,100,33,35,null,"○","○"]
[35,600,0,15000,15000,2500,1800,30,0,100,34,36,null,"○","○"]
[36,700,0,15000,15000,2500,1800,30,0,100,35,37,null,"○","○"]
[37,800,0,15000,15000,2500,1290,30,0,100,36,38,null,"○","○"]
[38,900,0,15000,15000,2500,1045,30,0,100,37,39,null,"○","○"]
[39,1000,0,15000,15000,2500,860,30,0,100,38,40,null,"○","○"]
[40,1100,0,15000,15000,2500,690,30,0,100,39,-1,null,"○","終端"]
[41,700,0,110000,{"$f":"D44","v":110000},40000,300,30,0,120,-1,{"$f":"A45","v":42},"ISB-MXM-200-5","先頭","○"]
[42,800,0,110000,{"$f":"D45","v":110000},40000,215,30,0,120,{"$f":"A44","v":41},{"$f":"A46","v":43},null,"○","○"]
[43,900,0,110000,{"$f":"D46","v":110000},40000,170,30,0,120,{"$f":"A45","v":42},{"$f":"A47","v":44},null,"○","○"]
[44,1000,0,110000,{"$f":"D47","v":110000},40000,140,30,0,120,{"$f":"A46","v":43},{"$f":"A48","v":45},null,"○","○"]
[45,1100,0,110000,{"$f":"D48","v":110000},40000,115,30,0,120,{"$f":"A47","v":44},-1,null,"○","終端"]
[46,300,0,90000,{"$f":"D49","v":90000},20000,600,30,0,85,-1,{"$f":"A50","v":47},"ISB-MXM-200-10","先頭","○"]
[47,400,0,90000,90000,20000,600,30,0,85,{"$f":"A49","v":46},48,null,"○","○"]
[48,500,0,90000,90000,20000,600,30,0,85,47,49,null,"○","○"]
[49,600,0,90000,90000,20000,600,30,0,85,48,50,null,"○","○"]
[50,700,0,90000,90000,20000,600,30,0,85,49,51,null,"○","○"]
[51,800,0,90000,90000,20000,430,30,0,85,50,52,null,"○","○"]
[52,900,0,90000,90000,20000,345,30,0,85,51,53,null,"○","○"]
[53,1000,0,90000,90000,20000,280,30,0,85,52,54,null,"○","○"]
[54,1100,0,90000,90000,20000,230,30,0,85,53,-1,null,"○","終端"]
[55,700,0,45000,{"$f":"D58","v":45000},{"$f":"10*1000","v":10000},1200,30,0,85,-1,{"$f":"A59","v":56},"ISB-MXM-200-20","先頭","○"]
[56,800,0,45000,45000,{"$f":"10*1000","v":10000},860,30,0,85,{"$f":"A58","v":55},{"$f":"A60","v":57},null,"○","○"]
[57,900,0,45000,45000,{"$f":"10*1000","v":10000},695,30,0,85,{"$f":"A59","v":56},{"$f":"A61","v":58},null,"○","○"]
[58,1000,0,45000,45000,{"$f":"10*1000","v":10000},570,30,0,85,{"$f":"A60","v":57},{"$f":"A62","v":59},null,"○","○"]
[59,1100,0,45000,45000,{"$f":"10*1000","v":10000},460,30,0,85,{"$f":"A61","v":58},-1,null,"○","終端"]
[60,700,0,30000,30000,{"$f":"6*1000","v":6000},1800,30,0,80,-1,{"$f":"A64","v":61},"ISB-MXM-200-30","先頭","○"]
[61,800,0,30000,30000,{"$f":"6*1000","v":6000},1290,30,0,80,{"$f":"A63","v":60},{"$f":"A65","v":62},null,"○","○"]
[62,900,0,30000,30000,{"$f":"6*1000","v":6000},1045,30,0,80,{"$f":"A64","v":61},{"$f":"A66","v":63},null,"○","○"]
[63,1000,0,30000,30000,{"$f":"6*1000","v":6000},860,30,0,80,{"$f":"A65","v":62},{"$f":"A67","v":64},null,"○","○"]
[64,1100,0,30000,30000,{"$f":"6*1000","v":6000},690,30,0,80,{"$f":"A66","v":63},-1,null,"○","終端"]
[{"$f":"A67+1","v":65},600,0,90000,{"$f":"D68","v":90000},20000,600,35,0,93,-1,{"$f":"A69","v":66},"ISB-LXM-200-10",{"$f":"IF(K68=A67,\"○\",IF(M68<>0,\"先頭\",\"つなぎまちがい\"))","v":"先頭"},{"$f":"IF(L68=A69,\"○\",IF(L68<>K69,\"つなぎまちがい\",\"終端\"))","v":"○"}]
[66,800,0,90000,90000,20000,600,35,0,93,{"$f":"A68","v":65},67,null,"○","○"]
[67,900,0,90000,90000,20000,460,35,0,93,66,68,null,"○","○"]
[68,1000,0,90000,90000,20000,380,35,0,93,67,69,null,"○","○"]
[69,1100,0,90000,90000,20000,320,35,0,93,68,70,null,"○","○"]
[70,1200,0,90000,90000,20000,270,35,0,93,69,71,null,"○","○"]
[71,1300,0,90000,90000,20000,220,35,0,93,70,-1,null,"○","終端"]
[72,500,0,45000,{"$f":"D75","v":45000},10000,1200,35,0,93,-1,{"$f":"A76","v":73},"ISB-LXM-200-20","先頭","○"]
[73,800,0,45000,45000,10000,1200,35,0,93,{"$f":"A75","v":72},74,null,"○","○"]
[74,900,0,45000,45000,10000,920,35,0,93,73,75,null,"○","○"]
[75,1000,0,45000,45000,10000,765,35,0,93,74,76,null,"○","○"]
[76,1100,0,45000,45000,10000,645,35,0,93,75,77,null,"○","○"]
[77,1200,0,45000,45000,10000,550,35,0,93,76,78,null,"○","○"]
[78,1300,0,45000,45000,10000,440,35,0,93,77,-1,null,"○","終端"]
[79,100,0,15000,{"$f":"D82","v":15000},{"$f":"4*1000","v":4000},2400,30,0,80,-1,{"$f":"A83","v":80},"ISB-LXM-200-40","先頭","○"]
[80,300,0,15000,15000,4000,2400,30,0,80,{"$f":"A82","v":79},81,null,"○","○"]
[81,500,0,15000,15000,4000,2400,30,0,80,80,82,null,"○","○"]
[82,700,0,15000,15000,4000,2400,30,0,80,81,83,null,"○","○"]
[83,800,0,15000,15000,4000,2400,30,0,80,82,84,null,"○","○"]
[84,900,0,15000,15000,4000,1840,30,0,80,83,85,null,"○","○"]
[85,1000,0,15000,15000,4000,1530,30,0,80,84,86,null,"○","○"]
[86,1100,0,15000,15000,4000,1290,30,0,80,85,87,null,"○","○"]
[87,1200,0,15000,15000,4000,1100,30,0,80,86,88,null,"○","○"]
[88,1300,0,15000,15000,4000,880,30,0,80,87,-1,null,"○","終端"]
[89,500,0,120000,{"$f":"D92","v":120000},40000,600,25,0,120,-1,{"$f":"A93","v":90},"ISB-LXM-400-10","先頭","○"]
[90,800,0,120000,120000,40000,600,25,0,120,{"$f":"A92","v":89},91,null,"○","○"]
[91,900,0,120000,120000,40000,460,25,0,120,90,92,null,"○","○"]
[92,1000,0,120000,120000,40000,380,25,0,120,91,93,null,"○","○"]
[93,1100,0,120000,120000,40000,320,25,0,120,92,94,null,"○","○"]
[94,1200,0,120000,120000,40000,270,25,0,120,93,95,null,"○","○"]
[95,1300,0,120000,120000,40000,220,25,0,120,94,-1,null,"○","終端"]
[96,500,0,90000,{"$f":"D99","v":90000},20000,1200,25,0,120,-1,{"$f":"A100","v":97},"ISB-LXM-400-20","先頭","○"]
[97,700,0,90000,90000,20000,1200,25,0,120,{"$f":"A99","v":96},98,null,"○","○"]
[98,800,0,90000,90000,20000,1200,25,0,120,97,99,null,"○","○"]
[99,900,0,90000,90000,20000,920,25,0,120,98,100,null,"○","○"]
[100,1000,0,90000,90000,20000,765,25,0,120,99,101,null,"○","○"]
[101,1100,0,90000,90000,20000,645,25,0,120,100,102,null,"○","○"]
[102,1200,0,90000,90000,20000,550,25,0,120,101,103,null,"○","○"]
[103,1300,0,90000,90000,20000,440,25,0,120,102,-1,null,"○","終端"]
[104,100,0,40000,{"$f":"D107","v":40000},{"$f":"10*1000","v":10000},2400,30,0,80,-1,{"$f":"A108","v":105},"ISB-LXM-400-40","先頭","○"]
[105,300,0,40000,40000,10000,2400,30,0,80,{"$f":"A107","v":104},106,null,"○","○"]
[106,500,0,40000,40000,10000,2400,30,0,80,105,107,null,"○","○"]
[107,700,0,40000,40000,10000,2400,30,0,80,106,108,null,"○","○"]
[108,800,0,40000,40000,10000,2400,30,0,80,107,109,null,"○","○"]
[109,900,0,40000,40000,10000,1840,30,0,80,108,110,null,"○","○"]
[110,1000,0,40000,40000,10000,1530,30,0,80,109,111,null,"○","○"]
[111,1100,0,40000,40000,10000,1290,30,0,80,110,112,null,"○","○"]
[112,1200,0,40000,40000,10000,1100,30,0,80,111,113,null,"○","○"]
[113,1300,0,40000,40000,10000,880,30,0,80,112,-1,null,"○","終端"]
[114,580,0,55000,{"$f":"D117","v":55000},14000,240,30,0,120,-1,{"$f":"A118","v":115},"ISB-SXL-60-4","先頭","○"]
[115,680,0,55000,{"$f":"D118","v":55000},14000,165,30,0,120,{"$f":"A117","v":114},{"$f":"A119","v":116},null,"○","○"]
[116,780,0,55000,{"$f":"D119","v":55000},14000,130,30,0,120,{"$f":"A118","v":115},{"$f":"A120","v":117},null,"○","○"]
[117,880,0,55000,{"$f":"D120","v":55000},14000,100,30,0,120,{"$f":"A119","v":116},-1,null,"○","終端"]
[118,580,0,27500,{"$f":"27*1000","v":27000},7000,480,35,0,93,-1,{"$f":"A122","v":119},"ISB-SXL-60-8","先頭","○"]
[119,680,0,27500,{"$f":"27*1000","v":27000},7000,330,35,0,93,{"$f":"A121","v":118},{"$f":"A123","v":120},null,"○","○"]
[120,780,0,27500,{"$f":"27*1000","v":27000},7000,260,35,0,93,{"$f":"A122","v":119},{"$f":"A124","v":121},null,"○","○"]
[121,880,0,27500,{"$f":"27*1000","v":27000},7000,210,35,0,93,{"$f":"A123","v":120},-1,null,"○","終端"]
[122,280,0,13000,{"$f":"D125","v":13000},3500,960,30,0,85,-1,{"$f":"A126","v":123},"ISB-SXL-60-16","先頭","○"]
[123,380,0,13000,13000,3500,960,30,0,85,{"$f":"A125","v":122},124,null,"○","○"]
[124,480,0,13000,13000,3500,960,30,0,85,123,125,null,"○","○"]
[125,580,0,13000,13000,3500,960,30,0,85,124,126,null,"○","○"]
[126,680,0,13000,13000,3500,655,20,0,120,125,127,null,"○","○"]
[127,780,0,13000,13000,3500,515,20,0,120,126,128,null,"○","○"]
[128,880,0,13000,13000,3500,415,20,0,120,127,-1,null,"○","終端"]
[{"$f":"A131+1","v":129},670,0,85000,{"$f":"D132","v":85000},20000,300,30,0,120,-1,{"$f":"A133","v":130},"ISB-MXL-100-5",{"$f":"IF(K132=A131,\"○\",IF(M132<>0,\"先頭\",\"つなぎまちがい\"))","v":"先頭"},{"$f":"IF(L132=A133,\"○\",IF(L132<>K133,\"つなぎまちがい\",\"終端\"))","v":"○"}]
[130,770,0,85000,85000,20000,215,30,0,120,{"$f":"A132","v":129},{"$f":"A134","v":131},null,"○","○"]
[131,870,0,85000,85000,20000,170,30,0,120,{"$f":"A133","v":130},{"$f":"A135","v":132},null,"○","○"]
[132,970,0,85000,85000,20000,140,30,0,120,{"$f":"A134","v":131},{"$f":"A136","v":133},null,"○","○"]
[133,1070,0,85000,85000,20000,115,30,0,120,{"$f":"A135","v":132},-1,null,"○","終端"]
[134,670,0,45000,45000,10000,600,35,0,93,-1,{"$f":"A138","v":135},"ISB-MXL-100-10","先頭","○"]
[135,770,0,45000,45000,10000,430,35,0,93,{"$f":"A137","v":134},{"$f":"A139","v":136},null,"○","○"]
[136,870,0,45000,45000,10000,345,35,0,93,{"$f":"A138","v":135},{"$f":"A140","v":137},null,"○","○"]
[137,970,0,45000,45000,10000,280,35,0,93,{"$f":"A139","v":136},{"$f":"A141","v":138},null,"○","○"]
[138,1070,0,45000,45000,10000,230,35,0,93,{"$f":"A140","v":137},-1,null,"○","終端"]
[139,670,0,23000,23000,{"$f":"5*1000","v":5000},1200,35,0,93,-1,{"$f":"A143","v":140},"ISB-MXL-100-20","先頭","○"]
[140,770,0,23000,23000,{"$f":"5*1000","v":5000},860,30,0,85,{"$f":"A142","v":139},{"$f":"A144","v":141},null,"○","○"]
[141,870,0,23000,23000,{"$f":"5*1000","v":5000},695,30,0,85,{"$f":"A143","v":140},{"$f":"A145","v":142},null,"○","○"]
[142,970,0,23000,23000,{"$f":"5*1000","v":5000},570,30,0,85,{"$f":"A144","v":141},{"$f":"A146","v":143},null,"○","○"]
[143,1070,0,23000,23000,{"$f":"5*1000","v":5000},460,30,0,85,{"$f":"A145","v":142},-1,null,"○","終端"]
[144,170,0,15000,{"$f":"D147","v":15000},{"$f":"2.5*1000","v":2500},1800,30,0,100,-1,{"$f":"A148","v":145},"ISB-MXL-100-30","先頭","○"]
[145,370,0,15000,15000,2500,1800,30,0,100,{"$f":"A147","v":144},146,null,"○","○"]
[146,470,0,15000,15000,2500,1800,30,0,100,145,147,null,"○","○"]
[147,570,0,15000,15000,2500,1800,30,0,100,146,148,null,"○","○"]
[148,670,0,15000,15000,2500,1800,30,0,100,147,149,null,"○","○"]
[149,770,0,15000,15000,2500,1290,30,0,100,148,150,null,"○","○"]
[150,870,0,15000,15000,2500,1045,30,0,100,149,151,null,"○","○"]
[151,970,0,15000,15000,2500,860,30,0,100,150,152,null,"○","○"]
[152,1070,0,15000,15000,2500,690,30,0,100,151,-1,null,"○","終端"]
[153,670,0,110000,{"$f":"D156","v":110000},40000,300,30,0,120,-1,{"$f":"A157","v":154},"ISB-MXL-200-5","先頭","○"]
[154,770,0,110000,110000,40000,215,30,0,120,{"$f":"A156","v":153},{"$f":"A158","v":155},null,"○","○"]
[155,870,0,110000,110000,40000,170,30,0,120,{"$f":"A157","v":154},{"$f":"A159","v":156},null,"○","○"]
[156,970,0,110000,110000,40000,140,30,0,120,{"$f":"A158","v":155},{"$f":"A160","v":157},null,"○","○"]
[157,1070,0,110000,110000,40000,115,30,0,120,{"$f":"A159","v":156},-1,null,"○","終端"]
[158,270,0,90000,90000,20000,600,30,0,85,-1,{"$f":"A162","v":159},"ISB-MXL-200-10","先頭","○"]
[159,370,0,90000,90000,20000,600,30,0,85,{"$f":"A161","v":158},160,null,"○","○"]
[160,470,0,90000,90000,20000,600,30,0,85,159,161,null,"○","○"]
[161,570,0,90000,90000,20000,600,30,0,85,160,162,null,"○","○"]
[162,670,0,90000,90000,20000,600,30,0,85,161,163,null,"○","○"]
[163,770,0,90000,90000,20000,430,30,0,85,162,164,null,"○","○"]
[164,870,0,90000,90000,20000,345,30,0,85,163,165,null,"○","○"]
[165,970,0,90000,90000,20000,280,30,0,85,164,166,null,"○","○"]
[166,1070,0,90000,90000,20000,230,30,0,85,165,-1,null,"○","終端"]
[167,670,0,45000,45000,{"$f":"10*1000","v":10000},1200,30,0,85,-1,{"$f":"A171","v":168},"ISB-MXL-200-20","先頭","○"]
[168,770,0,45000,45000,{"$f":"10*1000","v":10000},860,30,0,85,{"$f":"A170","v":167},{"$f":"A172","v":169},null,"○","○"]
[169,870,0,45000,45000,{"$f":"10*1000","v":10000},695,30,0,85,{"$f":"A171","v":168},{"$f":"A173","v":170},null,"○","○"]
[170,970,0,45000,45000,{"$f":"10*1000","v":10000},570,30,0,85,{"$f":"A172","v":169},{"$f":"A174","v":171},null,"○","○"]
[171,1070,0,45000,45000,{"$f":"10*1000","v":10000},460,30,0,85,{"$f":"A173","v":170},-1,null,"○","終端"]
[172,670,0,30000,30000,{"$f":"6*1000","v":6000},1800,30,0,80,-1,{"$f":"A176","v":173},"ISB-MXL-200-30","先頭","○"]
[173,770,0,30000,30000,{"$f":"6*1000","v":6000},1290,30,0,80,{"$f":"A175","v":172},{"$f":"A177","v":174},null,"○","○"]
[174,870,0,30000,30000,{"$f":"6*1000","v":6000},1045,30,0,80,{"$f":"A176","v":173},{"$f":"A178","v":175},null,"○","○"]
[175,970,0,30000,30000,{"$f":"6*1000","v":6000},860,30,0,80,{"$f":"A177","v":174},{"$f":"A179","v":176},null,"○","○"]
[176,1070,0,30000,30000,{"$f":"6*1000","v":6000},690,30,0,80,{"$f":"A178","v":175},-1,null,"○","終端"]
[177,570,0,90000,{"$f":"D180","v":90000},20000,600,35,0,93,-1,{"$f":"A181","v":178},"ISB-LXL-200-10","先頭","○"]
[178,770,0,90000,90000,20000,600,35,0,93,{"$f":"A180","v":177},179,null,"○","○"]
[179,870,0,90000,90000,20000,460,35,0,93,178,180,null,"○","○"]
[180,970,0,90000,90000,20000,380,35,0,93,179,181,null,"○","○"]
[181,1070,0,90000,90000,20000,320,35,0,93,180,182,null,"○","○"]
[182,1170,0,90000,90000,20000,270,35,0,93,181,183,null,"○","○"]
[183,1270,0,90000,90000,20000,220,35,0,93,182,-1,null,"○","終端"]
[184,470,0,45000,45000,10000,1200,35,0,93,-1,{"$f":"A188","v":185},"ISB-LXL-200-20","先頭","○"]
[185,770,0,45000,45000,10000,1200,35,0,93,{"$f":"A187","v":184},186,null,"○","○"]
[186,870,0,45000,45000,10000,920,35,0,93,185,187,null,"○","○"]
[187,970,0,45000,45000,10000,765,35,0,93,186,188,null,"○","○"]
[188,1070,0,45000,45000,10000,645,35,0,93,187,189,null,"○","○"]
[189,1170,0,45000,45000,10000,550,35,0,93,188,190,null,"○","○"]
[190,1270,0,45000,45000,10000,440,35,0,93,189,-1,null,"○","終端"]
[191,270,0,15000,15000,{"$f":"4*1000","v":4000},2400,30,0,80,-1,{"$f":"A195","v":192},"ISB-LXL-200-40","先頭","○"]
[192,470,0,15000,15000,4000,2400,30,0,80,{"$f":"A194","v":191},193,null,"○","○"]
[{"$f":"A195+1","v":193},670,0,15000,15000,4000,2400,30,0,80,192,194,null,{"$f":"IF(K196=A195,\"○\",IF(M196<>0,\"先頭\",\"つなぎまちがい\"))","v":"○"},{"$f":"IF(L196=A197,\"○\",IF(L196<>K197,\"つなぎまちがい\",\"終端\"))","v":"○"}]
[194,770,0,15000,15000,4000,2400,30,0,80,193,195,null,"○","○"]
[195,870,0,15000,15000,4000,1840,30,0,80,194,196,null,"○","○"]
[196,970,0,15000,15000,4000,1530,30,0,80,195,197,null,"○","○"]
[197,1070,0,15000,15000,4000,1290,30,0,80,196,198,null,"○","○"]
[198,1170,0,15000,15000,4000,1100,30,0,80,197,199,null,"○","○"]
[199,1270,0,15000,15000,4000,880,30,0,80,198,-1,null,"○","終端"]
[200,470,0,120000,{"$f":"D203","v":120000},40000,600,25,0,120,-1,{"$f":"A204","v":201},"ISB-LXL-400-10","先頭","○"]
[201,770,0,120000,120000,40000,600,25,0,120,{"$f":"A203","v":200},202,null,"○","○"]
[202,870,0,120000,120000,40000,460,25,0,120,201,203,null,"○","○"]
[203,970,0,120000,120000,40000,380,25,0,120,202,204,null,"○","○"]
[204,1070,0,120000,120000,40000,320,25,0,120,203,205,null,"○","○"]
[205,1170,0,120000,120000,40000,270,25,0,120,204,206,null,"○","○"]
[206,1270,0,120000,120000,40000,220,25,0,120,205,-1,null,"○","終端"]
[207,470,0,90000,90000,20000,1200,25,0,120,-1,{"$f":"A211","v":208},"ISB-LXL-400-20","先頭","○"]
[208,670,0,90000,90000,20000,1200,25,0,120,{"$f":"A210","v":207},209,null,"○","○"]
[209,770,0,90000,90000,20000,1200,25,0,120,208,210,null,"○","○"]
[210,870,0,90000,90000,20000,920,25,0,120,209,211,null,"○","○"]
[211,970,0,90000,90000,20000,765,25,0,120,210,212,null,"○","○"]
[212,1070,0,90000,90000,20000,645,25,0,120,211,213,null,"○","○"]
[213,1170,0,90000,90000,20000,550,25,0,120,212,214,null,"○","○"]
[214,1270,0,90000,90000,20000,440,25,0,120,213,-1,null,"○","終端"]
[215,270,0,40000,40000,{"$f":"10*1000","v":10000},2400,30,0,80,-1,{"$f":"A219","v":216},"ISB-LXL-400-40","先頭","○"]
[216,470,0,40000,40000,10000,2400,30,0,80,{"$f":"A218","v":215},217,null,"○","○"]
[217,670,0,40000,40000,10000,2400,30,0,80,216,218,null,"○","○"]
[218,770,0,40000,40000,10000,2400,30,0,80,217,219,null,"○","○"]
[219,870,0,40000,40000,10000,1840,30,0,80,218,220,null,"○","○"]
[220,970,0,40000,40000,10000,1530,30,0,80,219,221,null,"○","○"]
[221,1070,0,40000,40000,10000,1290,30,0,80,220,222,null,"○","○"]
[222,1170,0,40000,40000,10000,1100,30,0,80,221,223,null,"○","○"]
[223,1270,0,40000,40000,10000,880,30,0,80,222,-1,null,"○","終端"]
[224,500,0,55000,{"$f":"D227","v":55000},14000,240,30,0,120,-1,{"$f":"A228","v":225},"ISDB-S-60-4","先頭","○"]
[225,550,0,55000,55000,14000,230,35,0,93,{"$f":"A227","v":224},226,null,"○","○"]
[226,600,0,55000,55000,14000,200,35,0,93,225,227,null,"○","○"]
[227,650,0,55000,55000,14000,170,35,0,93,226,228,null,"○","○"]
[228,700,0,55000,55000,14000,150,35,0,93,227,229,null,"○","○"]
[229,750,0,55000,55000,14000,135,35,0,93,228,230,null,"○","○"]
[230,800,0,55000,55000,14000,120,35,0,93,229,-1,null,"○","終端"]
[231,500,0,27000,27000,6000,480,30,0,80,-1,{"$f":"A235","v":232},"ISDB-S-60-8","先頭","○"]
[232,550,0,27000,27000,6000,460,30,0,80,{"$f":"A234","v":231},233,null,"○","○"]
[233,600,0,27000,27000,6000,400,30,0,80,232,234,null,"○","○"]
[234,650,0,27000,27000,6000,345,30,0,80,233,235,null,"○","○"]
[235,700,0,27000,27000,6000,305,30,0,80,234,236,null,"○","○"]
[236,750,0,27000,27000,6000,270,30,0,80,235,237,null,"○","○"]
[237,800,0,27000,27000,6000,240,30,0,80,236,-1,null,"○","終端"]
[238,500,0,13000,13000,3000,960,30,0,80,-1,{"$f":"A242","v":239},"ISDB-S-60-16","先頭","○"]
[239,550,0,13000,13000,3000,920,30,0,80,{"$f":"A241","v":238},240,null,"○","○"]
[240,600,0,13000,13000,3000,795,30,0,80,239,241,null,"○","○"]
[241,650,0,13000,13000,3000,690,30,0,80,240,242,null,"○","○"]
[242,700,0,13000,13000,3000,610,30,0,80,241,243,null,"○","○"]
[243,750,0,13000,13000,3000,540,30,0,80,242,244,null,"○","○"]
[244,800,0,13000,13000,3000,480,30,0,80,243,-1,null,"○","終端"]
[245,600,0,85000,{"$f":"D248","v":85000},20000,300,30,0,120,-1,{"$f":"A249","v":246},"ISDB-M-100-5","先頭","○"]
[246,650,0,85000,85000,20000,270,30,0,80,{"$f":"A248","v":245},247,null,"○","○"]
[247,700,0,85000,85000,20000,240,30,0,80,246,248,null,"○","○"]
[248,750,0,85000,85000,20000,215,30,0,80,247,249,null,"○","○"]
[249,800,0,85000,85000,20000,190,30,0,80,248,250,null,"○","○"]
[250,850,0,85000,85000,20000,170,30,0,80,249,251,null,"○","○"]
[251,900,0,85000,85000,20000,155,30,0,80,250,252,null,"○","○"]
[252,950,0,85000,85000,20000,140,30,0,80,251,253,null,"○","○"]
[253,1000,0,85000,85000,20000,130,30,0,80,252,254,null,"○","○"]
[254,1050,0,85000,85000,20000,120,30,0,80,253,255,null,"○","○"]
[255,1100,0,85000,85000,20000,110,30,0,80,254,-1,null,"○","終端"]
[256,600,0,45000,{"$f":"D259","v":45000},10000,600,35,0,93,-1,{"$f":"A260","v":257},"ISDB-M-100-10","先頭","○"]
[{"$f":"A259+1","v":257},650,0,45000,45000,10000,545,35,0,93,{"$f":"A259","v":256},258,null,{"$f":"IF(K260=A259,\"○\",IF(M260<>0,\"先頭\",\"つなぎまちがい\"))","v":"○"},{"$f":"IF(L260=A261,\"○\",IF(L260<>K261,\"つなぎまちがい\",\"終端\"))","v":"○"}]
[258,700,0,45000,45000,10000,480,35,0,93,257,259,null,"○","○"]
[259,750,0,45000,45000,10000,430,35,0,93,258,260,null,"○","○"]
[260,800,0,45000,45000,10000,380,35,0,93,259,261,null,"○","○"]
[261,850,0,45000,45000,10000,345,35,0,93,260,262,null,"○","○"]
[262,900,0,45000,45000,10000,310,35,0,93,261,263,null,"○","○"]
[263,950,0,45000,45000,10000,285,35,0,93,262,264,null,"○","○"]
[264,1000,0,45000,45000,10000,260,35,0,93,263,265,null,"○","○"]
[265,1050,0,45000,45000,10000,240,35,0,93,264,266,null,"○","○"]
[266,1100,0,45000,45000,10000,220,35,0,93,265,-1,null,"○","終端"]
[267,600,0,23000,23000,{"$f":"4*1000","v":4000},1200,30,0,80,-1,{"$f":"A271","v":268},"ISDB-M-100-20","先頭","○"]
[268,650,0,23000,23000,4000,1085,30,0,80,{"$f":"A270","v":267},269,null,"○","○"]
[269,700,0,23000,23000,4000,960,30,0,80,268,270,null,"○","○"]
[270,750,0,23000,23000,4000,855,30,0,80,269,271,null,"○","○"]
[271,800,0,23000,23000,4000,765,30,0,80,270,272,null,"○","○"]
[272,850,0,23000,23000,4000,690,30,0,80,271,273,null,"○","○"]
[273,900,0,23000,23000,4000,625,30,0,80,272,274,null,"○","○"]
[274,950,0,23000,23000,4000,570,30,0,80,273,275,null,"○","○"]
[275,1000,0,23000,23000,4000,520,30,0,80,274,276,null,"○","○"]
[276,1050,0,23000,23000,4000,475,30,0,80,275,277,null,"○","○"]
[277,1100,0,23000,23000,4000,440,30,0,80,276,-1,null,"○","終端"]
[278,600,0,15000,15000,{"$f":"2*1000","v":2000},1800,30,0,80,-1,{"$f":"A282","v":279},"ISDB-M-100-30","先頭","○"]
[279,650,0,15000,15000,2000,1630,30,0,80,{"$f":"A281","v":278},280,null,"○","○"]
[280,700,0,15000,15000,2000,1440,30,0,80,279,281,null,"○","○"]
[281,750,0,15000,15000,2000,1280,30,0,80,280,282,null,"○","○"]
[282,800,0,15000,15000,2000,1150,30,0,80,281,283,null,"○","○"]
[283,850,0,15000,15000,2000,1035,30,0,80,282,284,null,"○","○"]
[284,900,0,15000,15000,2000,935,30,0,80,283,285,null,"○","○"]
[285,950,0,15000,15000,2000,850,30,0,80,284,286,null,"○","○"]
[286,1000,0,15000,15000,2000,780,30,0,80,285,287,null,"○","○"]
[287,1050,0,15000,15000,2000,715,30,0,80,286,288,null,"○","○"]
[288,1100,0,15000,15000,2000,660,30,0,80,287,-1,null,"○","終端"]
[289,600,0,110000,{"$f":"D292","v":110000},40000,300,30,0,120,-1,{"$f":"A293","v":290},"ISDB-M-200-5","先頭","○"]
[290,650,0,110000,110000,40000,270,30,0,80,{"$f":"A292","v":289},291,null,"○","○"]
[291,700,0,110000,110000,40000,240,30,0,80,290,292,null,"○","○"]
[292,750,0,110000,110000,40000,215,30,0,80,291,293,null,"○","○"]
[293,800,0,110000,110000,40000,190,30,0,80,292,294,null,"○","○"]
[294,850,0,110000,110000,40000,170,30,0,80,293,295,null,"○","○"]
[295,900,0,110000,110000,40000,155,30,0,80,294,296,null,"○","○"]
[296,950,0,110000,110000,40000,140,30,0,80,295,297,null,"○","○"]
[297,1000,0,110000,110000,40000,130,30,0,80,296,298,null,"○","○"]
[298,1050,0,110000,110000,40000,120,30,0,80,297,299,null,"○","○"]
[299,1100,0,110000,110000,40000,110,30,0,80,298,-1,null,"○","終端"]
[300,600,0,90000,{"$f":"D303","v":90000},20000,600,30,0,80,-1,{"$f":"A304","v":301},"ISDB-M-200-10","先頭","○"]
[301,650,0,90000,90000,20000,545,30,0,80,{"$f":"A303","v":300},302,null,"○","○"]
[302,700,0,90000,90000,20000,480,30,0,80,301,303,null,"○","○"]
[303,750,0,90000,90000,20000,430,30,0,80,302,304,null,"○","○"]
[304,800,0,90000,90000,20000,380,30,0,80,303,305,null,"○","○"]
[305,850,0,90000,90000,20000,345,30,0,80,304,306,null,"○","○"]
[306,900,0,90000,90000,20000,310,30,0,80,305,307,null,"○","○"]
[307,950,0,90000,90000,20000,285,30,0,80,306,308,null,"○","○"]
[308,1000,0,90000,90000,20000,260,30,0,80,307,309,null,"○","○"]
[309,1050,0,90000,90000,20000,240,30,0,80,308,310,null,"○","○"]
[310,1100,0,90000,90000,20000,220,30,0,80,309,-1,null,"○","終端"]
[311,600,0,45000,45000,{"$f":"10*1000","v":10000},1200,30,0,80,-1,{"$f":"A315","v":312},"ISDB-M-200-20","先頭","○"]
[312,650,0,45000,45000,10000,1085,30,0,80,{"$f":"A314","v":311},313,null,"○","○"]
[313,700,0,45000,45000,10000,960,30,0,80,312,314,null,"○","○"]
[314,750,0,45000,45000,10000,855,30,0,80,313,315,null,"○","○"]
[315,800,0,45000,45000,10000,765,30,0,80,314,316,null,"○","○"]
[316,850,0,45000,45000,10000,690,30,0,80,315,317,null,"○","○"]
[317,900,0,45000,45000,10000,625,30,0,80,316,318,null,"○","○"]
[318,950,0,45000,45000,10000,570,30,0,80,317,319,null,"○","○"]
[319,1000,0,45000,45000,10000,520,30,0,80,318,320,null,"○","○"]
[320,1050,0,45000,45000,10000,475,30,0,80,319,321,null,"○","○"]
[{"$f":"A323+1","v":321},1100,0,45000,45000,10000,440,30,0,80,320,-1,null,{"$f":"IF(K324=A323,\"○\",IF(M324<>0,\"先頭\",\"つなぎまちがい\"))","v":"○"},{"$f":"IF(L324=A325,\"○\",IF(L324<>K325,\"つなぎまちがい\",\"終端\"))","v":"終端"}]
[322,200,0,30000,30000,{"$f":"6*1000","v":6000},1800,25,0,80,-1,{"$f":"A326","v":323},"ISDB-M-200-30","先頭","○"]
[323,400,0,30000,30000,6000,1800,25,0,80,{"$f":"A325","v":322},324,null,"○","○"]
[324,500,0,30000,30000,6000,1800,25,0,80,323,325,null,"○","○"]
[325,600,0,30000,30000,6000,1800,25,0,80,324,326,null,"○","○"]
[326,650,0,30000,30000,6000,1630,25,0,80,325,327,null,"○","○"]
[327,700,0,30000,30000,6000,1440,25,0,80,326,328,null,"○","○"]
[328,750,0,30000,30000,6000,1280,25,0,80,327,329,null,"○","○"]
[329,800,0,30000,30000,6000,1150,25,0,80,328,330,null,"○","○"]
[330,850,0,30000,30000,6000,1035,25,0,80,329,331,null,"○","○"]
[331,900,0,30000,30000,6000,935,25,0,80,330,332,null,"○","○"]
[332,950,0,30000,30000,6000,850,25,0,80,331,333,null,"○","○"]
[333,1000,0,30000,30000,6000,780,25,0,80,332,334,null,"○","○"]
[334,1050,0,30000,30000,6000,715,25,0,80,333,335,null,"○","○"]
[335,1100,0,30000,30000,6000,660,25,0,80,334,-1,null,"○","終端"]
[336,650,0,90000,{"$f":"D339","v":90000},20000,600,35,0,93,-1,{"$f":"A340","v":337},"ISDB-L-200-10","先頭","○"]
[337,700,0,90000,90000,20000,585,35,0,93,{"$f":"A339","v":336},338,null,"○","○"]
[338,750,0,90000,90000,20000,520,35,0,93,337,339,null,"○","○"]
[339,800,0,90000,90000,20000,470,35,0,93,338,340,null,"○","○"]
[340,850,0,90000,90000,20000,425,35,0,93,339,341,null,"○","○"]
[341,900,0,90000,90000,20000,385,35,0,93,340,342,null,"○","○"]
[342,950,0,90000,90000,20000,350,35,0,93,341,343,null,"○","○"]
[343,1000,0,90000,90000,20000,320,35,0,93,342,344,null,"○","○"]
[344,1050,0,90000,90000,20000,295,35,0,93,343,345,null,"○","○"]
[345,1100,0,90000,90000,20000,275,35,0,93,344,346,null,"○","○"]
[346,1150,0,90000,90000,20000,255,35,0,93,345,347,null,"○","○"]
[347,1200,0,90000,90000,20000,235,35,0,93,346,348,null,"○","○"]
[348,1250,0,90000,90000,20000,220,35,0,93,347,349,null,"○","○"]
[349,1300,0,90000,90000,20000,205,35,0,93,348,-1,null,"○","終端"]
[350,650,0,45000,45000,9000,1200,30,0,80,-1,{"$f":"A354","v":351},"ISDB-L-200-20","先頭","○"]
[351,700,0,45000,45000,9000,1165,30,0,80,{"$f":"A353","v":350},352,null,"○","○"]
[352,750,0,45000,45000,9000,1045,30,0,80,351,353,null,"○","○"]
[353,800,0,45000,45000,9000,940,30,0,80,352,354,null,"○","○"]
[354,850,0,45000,45000,9000,850,30,0,80,353,355,null,"○","○"]
[355,900,0,45000,45000,9000,770,30,0,80,354,356,null,"○","○"]
[356,950,0,45000,45000,9000,705,30,0,80,355,357,null,"○","○"]
[357,1000,0,45000,45000,9000,645,30,0,80,356,358,null,"○","○"]
[358,1050,0,45000,45000,9000,595,30,0,80,357,359,null,"○","○"]
[359,1100,0,45000,45000,9000,545,30,0,80,358,360,null,"○","○"]
[360,1150,0,45000,45000,9000,505,30,0,80,359,361,null,"○","○"]
[361,1200,0,45000,45000,9000,470,30,0,80,360,362,null,"○","○"]
[362,1250,0,45000,45000,9000,440,30,0,80,361,363,null,"○","○"]
[363,1300,0,45000,45000,9000,410,30,0,80,362,-1,null,"○","終端"]
[364,800,0,15000,{"$f":"D367","v":15000},{"$f":"2.5*1000","v":2500},1800,30,0,80,-1,{"$f":"A368","v":365},"ISDB-L-200-40","先頭","○"]
[365,850,0,15000,15000,2500,1700,30,0,80,{"$f":"A367","v":364},366,null,"○","○"]
[366,900,0,15000,15000,2500,1540,30,0,80,365,367,null,"○","○"]
[367,950,0,15000,15000,2500,1410,30,0,80,366,368,null,"○","○"]
[368,1000,0,15000,15000,2500,1290,30,0,80,367,369,null,"○","○"]
[369,1050,0,15000,15000,2500,1185,30,0,80,368,370,null,"○","○"]
[370,1100,0,15000,15000,2500,1095,30,0,80,369,371,null,"○","○"]
[371,1150,0,15000,15000,2500,1015,30,0,80,370,372,null,"○","○"]
[372,1200,0,15000,15000,2500,940,30,0,80,371,373,null,"○","○"]
[373,1250,0,15000,15000,2500,875,30,0,80,372,374,null,"○","○"]
[374,1300,0,15000,15000,2500,815,30,0,80,373,-1,null,"○","終端"]
[375,650,0,120000,{"$f":"D378","v":120000},40000,600,25,0,80,-1,{"$f":"A379","v":376},"ISDB-L-400-10","先頭","○"]
[376,700,0,120000,120000,40000,585,25,0,80,{"$f":"A378","v":375},377,null,"○","○"]
[377,750,0,120000,120000,40000,520,25,0,80,376,378,null,"○","○"]
[378,800,0,120000,120000,40000,470,25,0,80,377,379,null,"○","○"]
[379,850,0,120000,120000,40000,425,25,0,80,378,380,null,"○","○"]
[380,900,0,120000,120000,40000,385,25,0,80,379,381,null,"○","○"]
[381,950,0,120000,120000,40000,350,25,0,80,380,382,null,"○","○"]
[382,1000,0,120000,120000,40000,320,25,0,80,381,383,null,"○","○"]
[383,1050,0,120000,120000,40000,295,25,0,80,382,384,null,"○","○"]
[384,1100,0,120000,120000,40000,275,25,0,80,383,385,null,"○","○"]
[{"$f":"A387+1","v":385},1150,0,120000,120000,40000,255,25,0,80,384,386,null,{"$f":"IF(K388=A387,\"○\",IF(M388<>0,\"先頭\",\"つなぎまちがい\"))","v":"○"},{"$f":"IF(L388=A389,\"○\",IF(L388<>K389,\"つなぎまちがい\",\"終端\"))","v":"○"}]
[386,1200,0,120000,120000,40000,235,25,0,80,385,387,null,"○","○"]
[387,1250,0,120000,120000,40000,220,25,0,80,386,388,null,"○","○"]
[388,1300,0,120000,120000,40000,205,25,0,80,387,-1,null,"○","終端"]
[389,650,0,90000,{"$f":"D392","v":90000},20000,1200,30,0,80,-1,{"$f":"A393","v":390},"ISDB-L-400-20","先頭","○"]
[390,700,0,90000,90000,20000,1165,30,0,80,{"$f":"A392","v":389},391,null,"○","○"]
[391,750,0,90000,90000,20000,1045,30,0,80,390,392,null,"○","○"]
[392,800,0,90000,90000,20000,940,30,0,80,391,393,null,"○","○"]
[393,850,0,90000,90000,20000,850,30,0,80,392,394,null,"○","○"]
[394,900,0,90000,90000,20000,770,30,0,80,393,395,null,"○","○"]
[395,950,0,90000,90000,20000,705,30,0,80,394,396,null,"○","○"]
[396,1000,0,90000,90000,20000,645,30,0,80,395,397,null,"○","○"]
[397,1050,0,90000,90000,20000,595,30,0,80,396,398,null,"○","○"]
[398,1100,0,90000,90000,20000,545,30,0,80,397,399,null,"○","○"]
[399,1150,0,90000,90000,20000,505,30,0,80,398,400,null,"○","○"]
[400,1200,0,90000,90000,20000,470,30,0,80,399,401,null,"○","○"]
[401,1250,0,90000,90000,20000,440,30,0,80,400,402,null,"○","○"]
[402,1300,0,90000,90000,20000,410,30,0,80,401,-1,null,"○","終端"]
[403,700,0,40000,{"$f":"D406","v":40000},{"$f":"8*1000","v":8000},1800,30,0,80,-1,{"$f":"A407","v":404},"ISDB-L-400-40","先頭","○"]
[404,800,0,40000,40000,8000,1800,30,0,80,{"$f":"A406","v":403},405,null,"○","○"]
[405,850,0,40000,40000,8000,1700,30,0,80,404,406,null,"○","○"]
[406,900,0,40000,40000,8000,1540,30,0,80,405,407,null,"○","○"]
[407,950,0,40000,40000,8000,1410,30,0,80,406,408,null,"○","○"]
[408,1000,0,40000,40000,8000,1290,30,0,80,407,409,null,"○","○"]
[409,1050,0,40000,40000,8000,1185,30,0,80,408,410,null,"○","○"]
[410,1100,0,40000,40000,8000,1095,30,0,80,409,411,null,"○","○"]
[411,1150,0,40000,40000,8000,1015,30,0,80,410,412,null,"○","○"]
[412,1200,0,40000,40000,8000,940,30,0,80,411,413,null,"○","○"]
[413,1250,0,40000,40000,8000,875,30,0,80,412,414,null,"○","○"]
[414,1300,0,40000,40000,8000,815,30,0,80,413,-1,null,"○","終端"]
[415,500,0,55000,{"$f":"D418","v":55000},14000,240,30,0,120,-1,{"$f":"A419","v":416},"ISDBCR-S-60-4","先頭","○"]
[416,550,0,55000,55000,14000,230,35,0,93,{"$f":"A418","v":415},417,null,"○","○"]
[417,600,0,55000,55000,14000,200,35,0,93,416,418,null,"○","○"]
[418,650,0,55000,55000,14000,170,35,0,93,417,419,null,"○","○"]
[419,700,0,55000,55000,14000,150,35,0,93,418,420,null,"○","○"]
[420,750,0,55000,55000,14000,135,35,0,93,419,421,null,"○","○"]
[421,800,0,55000,55000,14000,120,35,0,93,420,-1,null,"○","終端"]
[422,500,0,27000,27000,6000,480,30,0,80,-1,{"$f":"A426","v":423},"ISDBCR-S-60-8","先頭","○"]
[423,550,0,27000,27000,6000,460,30,0,80,{"$f":"A425","v":422},424,null,"○","○"]
[424,600,0,27000,27000,6000,400,30,0,80,423,425,null,"○","○"]
[425,650,0,27000,27000,6000,345,30,0,80,424,426,null,"○","○"]
[426,700,0,27000,27000,6000,305,30,0,80,425,427,null,"○","○"]
[427,750,0,27000,27000,6000,270,30,0,80,426,428,null,"○","○"]
[428,800,0,27000,27000,6000,240,30,0,80,427,-1,null,"○","終端"]
[429,500,0,13000,13000,3000,960,30,0,80,-1,{"$f":"A433","v":430},"ISDBCR-S-60-16","先頭","○"]
[430,550,0,13000,13000,3000,920,30,0,80,{"$f":"A432","v":429},431,null,"○","○"]
[431,600,0,13000,13000,3000,795,30,0,80,430,432,null,"○","○"]
[432,650,0,13000,13000,3000,690,30,0,80,431,433,null,"○","○"]
[433,700,0,13000,13000,3000,610,30,0,80,432,434,null,"○","○"]
[434,750,0,13000,13000,3000,540,30,0,80,433,435,null,"○","○"]
[435,800,0,13000,13000,3000,480,30,0,80,434,-1,null,"○","終端"]
[436,600,0,85000,{"$f":"D439","v":85000},20000,300,30,0,120,-1,{"$f":"A440","v":437},"ISDBCR-M-100-5","先頭","○"]
[437,650,0,85000,85000,20000,270,30,0,80,{"$f":"A439","v":436},438,null,"○","○"]
[438,700,0,85000,85000,20000,240,30,0,80,437,439,null,"○","○"]
[439,750,0,85000,85000,20000,215,30,0,80,438,440,null,"○","○"]
[440,800,0,85000,85000,20000,190,30,0,80,439,441,null,"○","○"]
[441,850,0,85000,85000,20000,170,30,0,80,440,442,null,"○","○"]
[442,900,0,85000,85000,20000,155,30,0,80,441,443,null,"○","○"]
[443,950,0,85000,85000,20000,140,30,0,80,442,444,null,"○","○"]
[444,1000,0,85000,85000,20000,130,30,0,80,443,445,null,"○","○"]
[445,1050,0,85000,85000,20000,120,30,0,80,444,446,null,"○","○"]
[446,1100,0,85000,85000,20000,110,30,0,80,445,-1,null,"○","終端"]
[447,600,0,45000,45000,10000,600,35,0,93,-1,{"$f":"A451","v":448},"ISDBCR-M-100-10","先頭","○"]
[448,650,0,45000,45000,10000,545,35,0,93,{"$f":"A450","v":447},449,null,"○","○"]
[{"$f":"A451+1","v":449},700,0,45000,45000,10000,480,35,0,93,448,450,null,{"$f":"IF(K452=A451,\"○\",IF(M452<>0,\"先頭\",\"つなぎまちがい\"))","v":"○"},{"$f":"IF(L452=A453,\"○\",IF(L452<>K453,\"つなぎまちがい\",\"終端\"))","v":"○"}]
[450,750,0,45000,45000,10000,430,35,0,93,449,451,null,"○","○"]
[451,800,0,45000,45000,10000,380,35,0,93,450,452,null,"○","○"]
[452,850,0,45000,45000,10000,345,35,0,93,451,453,null,"○","○"]
[453,900,0,45000,45000,10000,310,35,0,93,452,454,null,"○","○"]
[454,950,0,45000,45000,10000,285,35,0,93,453,455,null,"○","○"]
[455,1000,0,45000,45000,10000,260,35,0,93,454,456,null,"○","○"]
[456,1050,0,45000,45000,10000,240,35,0,93,455,457,null,"○","○"]
[457,1100,0,45000,45000,10000,220,35,0,93,456,-1,null,"○","終端"]
[458,600,0,23000,23000,{"$f":"4*1000","v":4000},1200,30,0,80,-1,{"$f":"A462","v":459},"ISDBCR-M-100-20","先頭","○"]
[459,650,0,23000,23000,4000,1085,30,0,80,{"$f":"A461","v":458},460,null,"○","○"]
[460,700,0,23000,23000,4000,960,30,0,80,459,461,null,"○","○"]
[461,750,0,23000,23000,4000,855,30,0,80,460,462,null,"○","○"]
[462,800,0,23000,23000,4000,765,30,0,80,461,463,null,"○","○"]
[463,850,0,23000,23000,4000,690,30,0,80,462,464,null,"○","○"]
[464,900,0,23000,23000,4000,625,30,0,80,463,465,null,"○","○"]
[465,950,0,23000,23000,4000,570,30,0,80,464,466,null,"○","○"]
[466,1000,0,23000,23000,4000,520,30,0,80,465,467,null,"○","○"]
[467,1050,0,23000,23000,4000,475,30,0,80,466,468,null,"○","○"]
[468,1100,0,23000,23000,4000,440,30,0,80,467,-1,null,"○","終端"]
[469,600,0,15000,15000,{"$f":"2*1000","v":2000},1800,30,0,80,-1,{"$f":"A473","v":470},"ISDBCR-M-100-30","先頭","○"]
[470,650,0,15000,15000,2000,1630,30,0,80,{"$f":"A472","v":469},471,null,"○","○"]
[471,700,0,15000,15000,2000,1440,30,0,80,470,472,null,"○","○"]
[472,750,0,15000,15000,2000,1280,30,0,80,471,473,null,"○","○"]
[473,800,0,15000,15000,2000,1150,30,0,80,472,474,null,"○","○"]
[474,850,0,15000,15000,2000,1035,30,0,80,473,475,null,"○","○"]
[475,900,0,15000,15000,2000,935,30,0,80,474,476,null,"○","○"]
[476,950,0,15000,15000,2000,850,30,0,80,475,477,null,"○","○"]
[477,1000,0,15000,15000,2000,780,30,0,80,476,478,null,"○","○"]
[478,1050,0,15000,15000,2000,715,30,0,80,477,479,null,"○","○"]
[479,1100,0,15000,15000,2000,660,30,0,80,478,-1,null,"○","終端"]
[480,600,0,110000,{"$f":"D483","v":110000},40000,300,30,0,120,-1,{"$f":"A484","v":481},"ISDBCR-M-200-5","先頭","○"]
[481,650,0,110000,110000,40000,270,30,0,80,{"$f":"A483","v":480},482,null,"○","○"]
[482,700,0,110000,110000,40000,240,30,0,80,481,483,null,"○","○"]
[483,750,0,110000,110000,40000,215,30,0,80,482,484,null,"○","○"]
[484,800,0,110000,110000,40000,190,30,0,80,483,485,null,"○","○"]
[485,850,0,110000,110000,40000,170,30,0,80,484,486,null,"○","○"]
[486,900,0,110000,110000,40000,155,30,0,80,485,487,null,"○","○"]
[487,950,0,110000,110000,40000,140,30,0,80,486,488,null,"○","○"]
[488,1000,0,110000,110000,40000,130,30,0,80,487,489,null,"○","○"]
[489,1050,0,110000,110000,40000,120,30,0,80,488,490,null,"○","○"]
[490,1100,0,110000,110000,40000,110,30,0,80,489,-1,null,"○","終端"]
[491,600,0,90000,90000,20000,600,30,0,80,-1,{"$f":"A495","v":492},"ISDBCR-M-200-10","先頭","○"]
[492,650,0,90000,90000,20000,545,30,0,80,{"$f":"A494","v":491},493,null,"○","○"]
[493,700,0,90000,90000,20000,480,30,0,80,492,494,null,"○","○"]
[494,750,0,90000,90000,20000,430,30,0,80,493,495,null,"○","○"]
[495,800,0,90000,90000,20000,380,30,0,80,494,496,null,"○","○"]
[496,850,0,90000,90000,20000,345,30,0,80,495,497,null,"○","○"]
[497,900,0,90000,90000,20000,310,30,0,80,496,498,null,"○","○"]
[498,950,0,90000,90000,20000,285,30,0,80,497,499,null,"○","○"]
[499,1000,0,90000,90000,20000,260,30,0,80,498,500,null,"○","○"]
[500,1050,0,90000,90000,20000,240,30,0,80,499,501,null,"○","○"]
[501,1100,0,90000,90000,20000,220,30,0,80,500,-1,null,"○","終端"]
[502,600,0,45000,45000,{"$f":"10*1000","v":10000},1200,30,0,80,-1,{"$f":"A506","v":503},"ISDBCR-M-200-20","先頭","○"]
[503,650,0,45000,45000,10000,1085,30,0,80,{"$f":"A505","v":502},504,null,"○","○"]
[504,700,0,45000,45000,10000,960,30,0,80,503,505,null,"○","○"]
[505,750,0,45000,45000,10000,855,30,0,80,504,506,null,"○","○"]
[506,800,0,45000,45000,10000,765,30,0,80,505,507,null,"○","○"]
[507,850,0,45000,45000,10000,690,30,0,80,506,508,null,"○","○"]
[508,900,0,45000,45000,10000,625,30,0,80,507,509,null,"○","○"]
[509,950,0,45000,45000,10000,570,30,0,80,508,510,null,"○","○"]
[510,1000,0,45000,45000,10000,520,30,0,80,509,511,null,"○","○"]
[511,1050,0,45000,45000,10000,475,30,0,80,510,512,null,"○","○"]
[512,1100,0,45000,45000,10000,440,30,0,80,511,-1,null,"○","終端"]
[{"$f":"A515+1","v":513},200,0,30000,30000,{"$f":"6*1000","v":6000},1800,25,0,80,-1,{"$f":"A517","v":514},"ISDBCR-M-200-30",{"$f":"IF(K516=A515,\"○\",IF(M516<>0,\"先頭\",\"つなぎまちがい\"))","v":"先頭"},{"$f":"IF(L516=A517,\"○\",IF(L516<>K517,\"つなぎまちがい\",\"終端\"))","v":"○"}]
[514,400,0,30000,30000,6000,1800,25,0,80,{"$f":"A516","v":513},515,null,"○","○"]
[515,500,0,30000,30000,6000,1800,25,0,80,514,516,null,"○","○"]
[516,600,0,30000,30000,6000,1800,25,0,80,515,517,null,"○","○"]
[517,650,0,30000,30000,6000,1630,25,0,80,516,518,null,"○","○"]
[518,700,0,30000,30000,6000,1440,25,0,80,517,519,null,"○","○"]
[519,750,0,30000,30000,6000,1280,25,0,80,518,520,null,"○","○"]
[520,800,0,30000,30000,6000,1150,25,0,80,519,521,null,"○","○"]
[521,850,0,30000,30000,6000,1035,25,0,80,520,522,null,"○","○"]
[522,900,0,30000,30000,6000,935,25,0,80,521,523,null,"○","○"]
[523,950,0,30000,30000,6000,850,25,0,80,522,524,null,"○","○"]
[524,1000,0,30000,30000,6000,780,25,0,80,523,525,null,"○","○"]
[525,1050,0,30000,30000,6000,715,25,0,80,524,526,null,"○","○"]
[526,1100,0,30000,30000,6000,660,25,0,80,525,-1,null,"○","終端"]
[527,650,0,90000,{"$f":"D530","v":90000},20000,600,35,0,93,-1,{"$f":"A531","v":528},"ISDBCR-L-200-10","先頭","○"]
[528,700,0,90000,90000,20000,585,35,0,93,{"$f":"A530","v":527},529,null,"○","○"]
[529,750,0,90000,90000,20000,520,35,0,93,528,530,null,"○","○"]
[530,800,0,90000,90000,20000,470,35,0,93,529,531,null,"○","○"]
[531,850,0,90000,90000,20000,425,35,0,93,530,532,null,"○","○"]
[532,900,0,90000,90000,20000,385,35,0,93,531,533,null,"○","○"]
[533,950,0,90000,90000,20000,350,35,0,93,532,534,null,"○","○"]
[534,1000,0,90000,90000,20000,320,35,0,93,533,535,null,"○","○"]
[535,1050,0,90000,90000,20000,295,35,0,93,534,536,null,"○","○"]
[536,1100,0,90000,90000,20000,275,35,0,93,535,537,null,"○","○"]
[537,1150,0,90000,90000,20000,255,35,0,93,536,538,null,"○","○"]
[538,1200,0,90000,90000,20000,235,35,0,93,537,539,null,"○","○"]
[539,1250,0,90000,90000,20000,220,35,0,93,538,540,null,"○","○"]
[540,1300,0,90000,90000,20000,205,35,0,93,539,-1,null,"○","終端"]
[541,650,0,45000,45000,9000,1200,30,0,80,-1,{"$f":"A545","v":542},"ISDBCR-L-200-20","先頭","○"]
[542,700,0,45000,45000,9000,1165,30,0,80,{"$f":"A544","v":541},543,null,"○","○"]
[543,750,0,45000,45000,9000,1045,30,0,80,542,544,null,"○","○"]
[544,800,0,45000,45000,9000,940,30,0,80,543,545,null,"○","○"]
[545,850,0,45000,45000,9000,850,30,0,80,544,546,null,"○","○"]
[546,900,0,45000,45000,9000,770,30,0,80,545,547,null,"○","○"]
[547,950,0,45000,45000,9000,705,30,0,80,546,548,null,"○","○"]
[548,1000,0,45000,45000,9000,645,30,0,80,547,549,null,"○","○"]
[549,1050,0,45000,45000,9000,595,30,0,80,548,550,null,"○","○"]
[550,1100,0,45000,45000,9000,545,30,0,80,549,551,null,"○","○"]
[551,1150,0,45000,45000,9000,505,30,0,80,550,552,null,"○","○"]
[552,1200,0,45000,45000,9000,470,30,0,80,551,553,null,"○","○"]
[553,1250,0,45000,45000,9000,440,30,0,80,552,554,null,"○","○"]
[554,1300,0,45000,45000,9000,410,30,0,80,553,-1,null,"○","終端"]
[555,800,0,15000,{"$f":"D558","v":15000},{"$f":"2.5*1000","v":2500},1800,30,0,80,-1,{"$f":"A559","v":556},"ISDBCR-L-200-40","先頭","○"]
[556,850,0,15000,15000,2500,1700,30,0,80,{"$f":"A558","v":555},557,null,"○","○"]
[557,900,0,15000,15000,2500,1540,30,0,80,556,558,null,"○","○"]
[558,950,0,15000,15000,2500,1410,30,0,80,557,559,null,"○","○"]
[559,1000,0,15000,15000,2500,1290,30,0,80,558,560,null,"○","○"]
[560,1050,0,15000,15000,2500,1185,30,0,80,559,561,null,"○","○"]
[561,1100,0,15000,15000,2500,1095,30,0,80,560,562,null,"○","○"]
[562,1150,0,15000,15000,2500,1015,30,0,80,561,563,null,"○","○"]
[563,1200,0,15000,15000,2500,940,30,0,80,562,564,null,"○","○"]
[564,1250,0,15000,15000,2500,875,30,0,80,563,565,null,"○","○"]
[565,1300,0,15000,15000,2500,815,30,0,80,564,-1,null,"○","終端"]
[566,650,0,120000,{"$f":"D569","v":120000},40000,600,25,0,80,-1,{"$f":"A570","v":567},"ISDBCR-L-400-10","先頭","○"]
[567,700,0,120000,120000,40000,585,25,0,80,{"$f":"A569","v":566},568,null,"○","○"]
[568,750,0,120000,120000,40000,520,25,0,80,567,569,null,"○","○"]
[569,800,0,120000,120000,40000,470,25,0,80,568,570,null,"○","○"]
[570,850,0,120000,120000,40000,425,25,0,80,569,571,null,"○","○"]
[571,900,0,120000,120000,40000,385,25,0,80,570,572,null,"○","○"]
[572,950,0,120000,120000,40000,350,25,0,80,571,573,null,"○","○"]
[573,1000,0,120000,120000,40000,320,25,0,80,572,574,null,"○","○"]
[574,1050,0,120000,120000,40000,295,25,0,80,573,575,null,"○","○"]
[575,1100,0,120000,120000,40000,275,25,0,80,574,576,null,"○","○"]
[576,1150,0,120000,120000,40000,255,25,0,80,575,577,null,"○","○"]
[{"$f":"A579+1","v":577},1200,0,120000,120000,40000,235,25,0,80,576,578,null,{"$f":"IF(K580=A579,\"○\",IF(M580<>0,\"先頭\",\"つなぎまちがい\"))","v":"○"},{"$f":"IF(L580=A581,\"○\",IF(L580<>K581,\"つなぎまちがい\",\"終端\"))","v":"○"}]
[578,1250,0,120000,120000,40000,220,25,0,80,577,579,null,"○","○"]
[579,1300,0,120000,120000,40000,205,25,0,80,578,-1,null,"○","終端"]
[580,650,0,90000,90000,20000,1200,30,0,80,-1,{"$f":"A584","v":581},"ISDBCR-L-400-20","先頭","○"]
[581,700,0,90000,90000,20000,1165,30,0,80,{"$f":"A583","v":580},582,null,"○","○"]
[582,750,0,90000,90000,20000,1045,30,0,80,581,583,null,"○","○"]
[583,800,0,90000,90000,20000,940,30,0,80,582,584,null,"○","○"]
[584,850,0,90000,90000,20000,850,30,0,80,583,585,null,"○","○"]
[585,900,0,90000,90000,20000,770,30,0,80,584,586,null,"○","○"]
[586,950,0,90000,90000,20000,705,30,0,80,585,587,null,"○","○"]
[587,1000,0,90000,90000,20000,645,30,0,80,586,588,null,"○","○"]
[588,1050,0,90000,90000,20000,595,30,0,80,587,589,null,"○","○"]
[589,1100,0,90000,90000,20000,545,30,0,80,588,590,null,"○","○"]
[590,1150,0,90000,90000,20000,505,30,0,80,589,591,null,"○","○"]
[591,1200,0,90000,90000,20000,470,30,0,80,590,592,null,"○","○"]
[592,1250,0,90000,90000,20000,440,30,0,80,591,593,null,"○","○"]
[593,1300,0,90000,90000,20000,410,30,0,80,592,-1,null,"○","終端"]
[594,700,0,40000,40000,{"$f":"8*1000","v":8000},1800,30,0,80,-1,{"$f":"A598","v":595},"ISDBCR-L-400-40","先頭","○"]
[595,800,0,40000,40000,8000,1800,30,0,80,{"$f":"A597","v":594},596,null,"○","○"]
[596,850,0,40000,40000,8000,1700,30,0,80,595,597,null,"○","○"]
[597,900,0,40000,40000,8000,1540,30,0,80,596,598,null,"○","○"]
[598,950,0,40000,40000,8000,1410,30,0,80,597,599,null,"○","○"]
[599,1000,0,40000,40000,8000,1290,30,0,80,598,600,null,"○","○"]
[600,1050,0,40000,40000,8000,1185,30,0,80,599,601,null,"○","○"]
[601,1100,0,40000,40000,8000,1095,30,0,80,600,602,null,"○","○"]
[602,1150,0,40000,40000,8000,1015,30,0,80,601,603,null,"○","○"]
[603,1200,0,40000,40000,8000,940,30,0,80,602,604,null,"○","○"]
[604,1250,0,40000,40000,8000,875,30,0,80,603,605,null,"○","○"]
[605,1300,0,40000,40000,8000,815,30,0,80,604,-1,null,"○","終端"]
[606,600,0,90000,{"$f":"D609","v":90000},{"$f":"12*1000","v":12000},600,30,0,120,-1,{"$f":"A610","v":607},"SSPA-SXM-200-10","先頭","○"]
[607,{"$f":"B609+50","v":650},0,90000,90000,12000,560,30,0,120,{"$f":"A609","v":606},608,null,"○","○"]
[608,700,0,90000,90000,12000,490,30,0,120,607,609,null,"○","○"]
[609,750,0,90000,90000,12000,440,30,0,120,608,610,null,"○","○"]
[610,800,0,90000,90000,12000,390,30,0,120,609,611,null,"○","○"]
[611,850,0,90000,90000,12000,350,30,0,120,610,612,null,"○","○"]
[612,900,0,90000,90000,12000,320,30,0,120,611,613,null,"○","○"]
[613,950,0,90000,90000,12000,290,30,0,120,612,614,null,"○","○"]
[614,1000,0,90000,90000,12000,260,30,0,120,613,615,null,"○","○"]
[615,1050,0,90000,90000,12000,240,30,0,120,614,616,null,"○","○"]
[616,1100,0,90000,90000,12000,220,30,0,120,615,-1,null,"○","終端"]
[617,600,0,45000,45000,{"$f":"6*1000","v":6000},1200,30,0,80,-1,{"$f":"A621","v":618},"SSPA-SXM-200-20","先頭","○"]
[618,{"$f":"B620+50","v":650},0,45000,45000,6000,1120,30,0,80,{"$f":"A620","v":617},619,null,"○","○"]
[619,700,0,45000,45000,6000,990,30,0,80,618,620,null,"○","○"]
[620,750,0,45000,45000,6000,880,30,0,80,619,621,null,"○","○"]
[621,800,0,45000,45000,6000,780,30,0,80,620,622,null,"○","○"]
[622,850,0,45000,45000,6000,710,30,0,80,621,623,null,"○","○"]
[623,900,0,45000,45000,6000,640,30,0,80,622,624,null,"○","○"]
[624,950,0,45000,45000,6000,580,30,0,80,623,625,null,"○","○"]
[625,1000,0,45000,45000,6000,530,30,0,80,624,626,null,"○","○"]
[626,1050,0,45000,45000,6000,480,30,0,80,625,627,null,"○","○"]
[627,1100,0,45000,45000,6000,440,30,0,80,626,-1,null,"○","終端"]
[628,200,0,30000,30000,{"$f":"4*1000","v":4000},1800,30,0,80,-1,{"$f":"A632","v":629},"SSPA-SXM-200-30","先頭","○"]
[629,400,0,30000,30000,4000,1800,30,0,80,{"$f":"A631","v":628},630,null,"○","○"]
[630,600,0,30000,30000,4000,1800,30,0,80,629,631,null,"○","○"]
[631,{"$f":"B633+50","v":650},0,30000,30000,4000,1680,30,0,80,630,632,null,"○","○"]
[632,700,0,30000,30000,4000,1480,30,0,80,631,633,null,"○","○"]
[633,750,0,30000,30000,4000,1320,30,0,80,632,634,null,"○","○"]
[634,800,0,30000,30000,4000,1180,30,0,80,633,635,null,"○","○"]
[635,850,0,30000,30000,4000,1060,30,0,80,634,636,null,"○","○"]
[636,900,0,30000,30000,4000,960,30,0,80,635,637,null,"○","○"]
[637,950,0,30000,30000,4000,870,30,0,80,636,638,null,"○","○"]
[638,1000,0,30000,30000,4000,790,30,0,80,637,639,null,"○","○"]
[639,1050,0,30000,30000,4000,730,30,0,80,638,640,null,"○","○"]
[640,1100,0,30000,30000,4000,670,30,0,80,639,-1,null,"○","終端"]
[{"$f":"A643+1","v":641},700,0,120000,{"$f":"D644","v":120000},{"$f":"25*1000","v":25000},600,30,0,120,-1,{"$f":"A645","v":642},"SSPA-MXM-400-10",{"$f":"IF(K644=A643,\"○\",IF(M644<>0,\"先頭\",\"つなぎまちがい\"))","v":"先頭"},{"$f":"IF(L644=A645,\"○\",IF(L644<>K645,\"つなぎまちがい\",\"終端\"))","v":"○"}]
[642,{"$f":"B644+50","v":750},0,120000,120000,25000,530,30,0,120,{"$f":"A644","v":641},643,null,"○","○"]
[643,800,0,120000,120000,25000,480,30,0,120,642,644,null,"○","○"]
[644,850,0,120000,120000,25000,430,30,0,120,643,645,null,"○","○"]
[645,900,0,120000,120000,25000,390,30,0,120,644,646,null,"○","○"]
[646,950,0,120000,120000,25000,360,30,0,120,645,647,null,"○","○"]
[647,1000,0,120000,120000,25000,330,30,0,120,646,648,null,"○","○"]
[648,1050,0,120000,120000,25000,300,30,0,120,647,649,null,"○","○"]
[649,1100,0,120000,120000,25000,280,30,0,120,648,650,null,"○","○"]
[650,1150,0,120000,120000,25000,250,30,0,120,649,651,null,"○","○"]
[651,1200,0,120000,120000,25000,240,30,0,120,650,652,null,"○","○"]
[652,1250,0,120000,120000,25000,220,30,0,120,651,653,null,"○","○"]
[653,1300,0,120000,120000,25000,200,30,0,120,652,-1,null,"○","終端"]
[654,300,0,90000,90000,{"$f":"12*1000","v":12000},1200,30,0,80,-1,{"$f":"A658","v":655},"SSPA-MXM-400-20","先頭","○"]
[655,700,0,90000,90000,12000,1200,30,0,80,{"$f":"A657","v":654},656,null,"○","○"]
[656,{"$f":"B658+50","v":750},0,90000,90000,12000,1070,30,0,80,655,657,null,"○","○"]
[657,800,0,90000,90000,12000,960,30,0,80,656,658,null,"○","○"]
[658,850,0,90000,90000,12000,870,30,0,80,657,659,null,"○","○"]
[659,900,0,90000,90000,12000,790,30,0,80,658,660,null,"○","○"]
[660,950,0,90000,90000,12000,720,30,0,80,659,661,null,"○","○"]
[661,1000,0,90000,90000,12000,660,30,0,80,660,662,null,"○","○"]
[662,1050,0,90000,90000,12000,600,30,0,80,661,663,null,"○","○"]
[663,1100,0,90000,90000,12000,560,30,0,80,662,664,null,"○","○"]
[664,1150,0,90000,90000,12000,510,30,0,80,663,665,null,"○","○"]
[665,1200,0,90000,90000,12000,480,30,0,80,664,666,null,"○","○"]
[666,1250,0,90000,90000,12000,440,30,0,80,665,667,null,"○","○"]
[667,1300,0,90000,90000,12000,410,30,0,80,666,-1,null,"○","終端"]
[668,500,0,45000,45000,{"$f":"6*1000","v":6000},2400,30,0,80,-1,{"$f":"A672","v":669},"SSPA-MXM-400-40","先頭","○"]
[669,700,0,45000,45000,6000,2400,30,0,80,{"$f":"A671","v":668},670,null,"○","○"]
[670,{"$f":"B672+50","v":750},0,45000,45000,6000,2150,30,0,80,669,671,null,"○","○"]
[671,800,0,45000,45000,6000,1930,30,0,80,670,672,null,"○","○"]
[672,850,0,45000,45000,6000,1740,30,0,80,671,673,null,"○","○"]
[673,900,0,45000,45000,6000,1580,30,0,80,672,674,null,"○","○"]
[674,950,0,45000,45000,6000,1440,30,0,80,673,675,null,"○","○"]
[675,1000,0,45000,45000,6000,1320,30,0,80,674,676,null,"○","○"]
[676,1050,0,45000,45000,6000,1210,30,0,80,675,677,null,"○","○"]
[677,1100,0,45000,45000,6000,1120,30,0,80,676,678,null,"○","○"]
[678,1150,0,45000,45000,6000,1030,30,0,80,677,679,null,"○","○"]
[679,1200,0,45000,45000,6000,960,30,0,80,678,680,null,"○","○"]
[680,1250,0,45000,45000,6000,890,30,0,80,679,681,null,"○","○"]
[681,1300,0,45000,45000,6000,830,30,0,80,680,-1,null,"○","終端"]
[682,500,0,120000,{"$f":"D685","v":120000},{"$f":"25*1000","v":25000},1250,30,0,80,-1,{"$f":"A686","v":683},"SSPA-LXM-750-25","先頭","○"]
[683,900,0,120000,120000,25000,1250,30,0,80,{"$f":"A685","v":682},684,null,"○","○"]
[684,1000,0,120000,120000,25000,1160,30,0,80,683,685,null,"○","○"]
[685,1100,0,120000,120000,25000,970,30,0,80,684,686,null,"○","○"]
[686,1200,0,120000,120000,25000,830,30,0,80,685,687,null,"○","○"]
[687,1300,0,120000,120000,25000,720,30,0,80,686,688,null,"○","○"]
[688,1400,0,120000,120000,25000,620,30,0,80,687,689,null,"○","○"]
[689,1500,0,120000,120000,25000,550,30,0,80,688,-1,null,"○","終端"]
[690,400,0,60000,60000,{"$f":"12*1000","v":12000},2500,30,0,80,-1,{"$f":"A694","v":691},"SSPA-LXM-750-50","先頭","○"]
[691,900,0,60000,60000,12000,2500,30,0,80,{"$f":"A693","v":690},692,null,"○","○"]
[692,1000,0,60000,60000,12000,2320,30,0,80,691,693,null,"○","○"]
[693,1100,0,60000,60000,12000,1950,30,0,80,692,694,null,"○","○"]
[694,1200,0,60000,60000,12000,1660,30,0,80,693,695,null,"○","○"]
[695,1300,0,60000,60000,12000,1440,30,0,80,694,696,null,"○","○"]
[696,1400,0,60000,60000,12000,1250,30,0,80,695,697,null,"○","○"]
[697,1500,0,60000,60000,12000,1100,30,0,80,696,-1,null,"○","終端"]
[698,550,0,90000,{"$f":"D701","v":90000},{"$f":"12*1000","v":12000},600,30,0,120,-1,{"$f":"A702","v":699},"SSPDACR-S-200-10","先頭","○"]
[699,{"$f":"B701+50","v":600},0,90000,90000,12000,540,30,0,120,{"$f":"A701","v":698},700,null,"○","○"]
[700,650,0,90000,90000,12000,480,30,0,120,699,701,null,"○","○"]
[701,700,0,90000,90000,12000,430,30,0,120,700,702,null,"○","○"]
[702,750,0,90000,90000,12000,380,30,0,120,701,703,null,"○","○"]
[703,800,0,90000,90000,12000,340,30,0,120,702,704,null,"○","○"]
[704,850,0,90000,90000,12000,310,30,0,120,703,705,null,"○","○"]
[{"$f":"A707+1","v":705},900,0,90000,90000,12000,280,30,0,120,704,706,null,{"$f":"IF(K708=A707,\"○\",IF(M708<>0,\"先頭\",\"つなぎまちがい\"))","v":"○"},{"$f":"IF(L708=A709,\"○\",IF(L708<>K709,\"つなぎまちがい\",\"終端\"))","v":"○"}]
[706,950,0,90000,90000,12000,260,30,0,120,705,707,null,"○","○"]
[707,1000,0,90000,90000,12000,240,30,0,120,706,708,null,"○","○"]
[708,1050,0,90000,90000,12000,220,30,0,120,707,709,null,"○","○"]
[709,1100,0,90000,90000,12000,200,30,0,120,708,-1,null,"○","終端"]
[710,550,0,45000,45000,{"$f":"6*1000","v":6000},1100,30,0,80,-1,{"$f":"A714","v":711},"SSPDACR-S-200-20","先頭","○"]
[711,{"$f":"B713+50","v":600},0,45000,45000,6000,1090,30,0,80,{"$f":"A713","v":710},712,null,"○","○"]
[712,650,0,45000,45000,6000,970,30,0,80,711,713,null,"○","○"]
[713,700,0,45000,45000,6000,860,30,0,80,712,714,null,"○","○"]
[714,750,0,45000,45000,6000,770,30,0,80,713,715,null,"○","○"]
[715,800,0,45000,45000,6000,690,30,0,80,714,716,null,"○","○"]
[716,850,0,45000,45000,6000,630,30,0,80,715,717,null,"○","○"]
[717,900,0,45000,45000,6000,570,30,0,80,716,718,null,"○","○"]
[718,950,0,45000,45000,6000,520,30,0,80,717,719,null,"○","○"]
[719,1000,0,45000,45000,6000,480,30,0,80,718,720,null,"○","○"]
[720,1050,0,45000,45000,6000,440,30,0,80,719,721,null,"○","○"]
[721,1100,0,45000,45000,6000,400,30,0,80,720,-1,null,"○","終端"]
[722,200,0,30000,30000,{"$f":"4*1000","v":4000},1600,30,0,80,-1,{"$f":"A726","v":723},"SSPDACR-S-200-30","先頭","○"]
[723,400,0,30000,30000,4000,1600,30,0,80,{"$f":"A725","v":722},724,null,"○","○"]
[724,600,0,30000,30000,4000,1600,30,0,80,723,725,null,"○","○"]
[725,{"$f":"B727+50","v":650},0,30000,30000,4000,1450,30,0,80,724,726,null,"○","○"]
[726,700,0,30000,30000,4000,1290,30,0,80,725,727,null,"○","○"]
[727,750,0,30000,30000,4000,1160,30,0,80,726,728,null,"○","○"]
[728,800,0,30000,30000,4000,1040,30,0,80,727,729,null,"○","○"]
[729,850,0,30000,30000,4000,940,30,0,80,728,730,null,"○","○"]
[730,900,0,30000,30000,4000,860,30,0,80,729,731,null,"○","○"]
[731,950,0,30000,30000,4000,780,30,0,80,730,732,null,"○","○"]
[732,1000,0,30000,30000,4000,720,30,0,80,731,733,null,"○","○"]
[733,1050,0,30000,30000,4000,660,30,0,80,732,734,null,"○","○"]
[734,1100,0,30000,30000,4000,610,30,0,80,733,-1,null,"○","終端"]
[735,600,0,120000,{"$f":"D738","v":120000},{"$f":"25*1000","v":25000},600,30,0,120,-1,{"$f":"A739","v":736},"SSPDACR-M-400-10","先頭","○"]
[736,{"$f":"B738+50","v":650},0,120000,120000,25000,580,30,0,120,{"$f":"A738","v":735},737,null,"○","○"]
[737,700,0,120000,120000,25000,520,30,0,120,736,738,null,"○","○"]
[738,750,0,120000,120000,25000,470,30,0,120,737,739,null,"○","○"]
[739,800,0,120000,120000,25000,420,30,0,120,738,740,null,"○","○"]
[740,850,0,120000,120000,25000,380,30,0,120,739,741,null,"○","○"]
[741,900,0,120000,120000,25000,350,30,0,120,740,742,null,"○","○"]
[742,950,0,120000,120000,25000,320,30,0,120,741,743,null,"○","○"]
[743,1000,0,120000,120000,25000,290,30,0,120,742,744,null,"○","○"]
[744,1050,0,120000,120000,25000,270,30,0,120,743,745,null,"○","○"]
[745,1100,0,120000,120000,25000,250,30,0,120,744,746,null,"○","○"]
[746,1150,0,120000,120000,25000,230,30,0,120,745,747,null,"○","○"]
[747,1200,0,120000,120000,25000,220,30,0,120,746,748,null,"○","○"]
[748,1250,0,120000,120000,25000,200,30,0,120,747,749,null,"○","○"]
[749,1300,0,120000,120000,25000,190,30,0,120,748,-1,null,"○","終端"]
[750,300,0,90000,90000,{"$f":"12*1000","v":12000},1100,30,0,80,-1,{"$f":"A754","v":751},"SSPDACR-M-400-20","先頭","○"]
[751,650,0,90000,90000,12000,1100,30,0,80,{"$f":"A753","v":750},752,null,"○","○"]
[752,700,0,90000,90000,12000,1040,30,0,80,751,753,null,"○","○"]
[753,{"$f":"B755+50","v":750},0,90000,90000,12000,940,30,0,80,752,754,null,"○","○"]
[754,800,0,90000,90000,12000,850,30,0,80,753,755,null,"○","○"]
[755,850,0,90000,90000,12000,770,30,0,80,754,756,null,"○","○"]
[756,900,0,90000,90000,12000,700,30,0,80,755,757,null,"○","○"]
[757,950,0,90000,90000,12000,640,30,0,80,756,758,null,"○","○"]
[758,1000,0,90000,90000,12000,590,30,0,80,757,759,null,"○","○"]
[759,1050,0,90000,90000,12000,550,30,0,80,758,760,null,"○","○"]
[760,1100,0,90000,90000,12000,500,30,0,80,759,761,null,"○","○"]
[761,1150,0,90000,90000,12000,470,30,0,80,760,762,null,"○","○"]
[762,1200,0,90000,90000,12000,440,30,0,80,761,763,null,"○","○"]
[763,1250,0,90000,90000,12000,410,30,0,80,762,764,null,"○","○"]
[764,1300,0,90000,90000,12000,380,30,0,80,763,-1,null,"○","終端"]
[765,500,0,45000,45000,{"$f":"6*1000","v":6000},1600,30,0,80,-1,{"$f":"A769","v":766},"SSPDACR-M-400-40","先頭","○"]
[766,800,0,45000,45000,6000,1600,30,0,80,{"$f":"A768","v":765},767,null,"○","○"]
[767,{"$f":"B769+50","v":850},0,45000,45000,6000,1540,30,0,80,766,768,null,"○","○"]
[768,900,0,45000,45000,6000,1410,30,0,80,767,769,null,"○","○"]
[{"$f":"A771+1","v":769},950,0,45000,45000,6000,1290,30,0,80,768,770,null,{"$f":"IF(K772=A771,\"○\",IF(M772<>0,\"先頭\",\"つなぎまちがい\"))","v":"○"},{"$f":"IF(L772=A773,\"○\",IF(L772<>K773,\"つなぎまちがい\",\"終端\"))","v":"○"}]
[770,1000,0,45000,45000,6000,1180,30,0,80,769,771,null,"○","○"]
[771,1050,0,45000,45000,6000,1100,30,0,80,770,772,null,"○","○"]
[772,1100,0,45000,45000,6000,1010,30,0,80,771,773,null,"○","○"]
[773,1150,0,45000,45000,6000,940,30,0,80,772,774,null,"○","○"]
[774,1200,0,45000,45000,6000,880,30,0,80,773,775,null,"○","○"]
[775,1250,0,45000,45000,6000,820,30,0,80,774,776,null,"○","○"]
[776,1300,0,45000,45000,6000,760,30,0,80,775,-1,null,"○","終端"]
[777,500,0,120000,{"$f":"D780","v":120000},{"$f":"25*1000","v":25000},1100,30,0,80,-1,{"$f":"A781","v":778},"SSPDACR-L-750-25","先頭","○"]
[778,900,0,120000,120000,25000,1100,30,0,80,{"$f":"A780","v":777},779,null,"○","○"]
[779,1000,0,120000,120000,25000,1060,30,0,80,778,780,null,"○","○"]
[780,1100,0,120000,120000,25000,900,30,0,80,779,781,null,"○","○"]
[781,1200,0,120000,120000,25000,770,30,0,80,780,782,null,"○","○"]
[782,1300,0,120000,120000,25000,670,30,0,80,781,783,null,"○","○"]
[783,1400,0,120000,120000,25000,580,30,0,80,782,784,null,"○","○"]
[784,1500,0,120000,120000,25000,520,30,0,80,783,-1,null,"○","終端"]
[785,400,0,60000,60000,{"$f":"12*1000","v":12000},1600,30,0,80,-1,{"$f":"A789","v":786},"SSPDACR-L-750-50","先頭","○"]
[786,900,0,60000,60000,12000,1600,30,0,80,{"$f":"A788","v":785},787,null,"○","○"]
[787,1100,0,60000,60000,12000,1600,30,0,80,786,788,null,"○","○"]
[788,1200,0,60000,60000,12000,1550,30,0,80,787,789,null,"○","○"]
[789,1300,0,60000,60000,12000,1340,30,0,80,788,790,null,"○","○"]
[790,1400,0,60000,60000,12000,1170,30,0,80,789,791,null,"○","○"]
[791,1500,0,60000,60000,12000,1040,30,0,80,790,-1,null,"○","終端"]
[792,650,0,80000,{"$f":"D795","v":80000},16000,300,30,0,80,-1,{"$f":"A796","v":793},"RCS3-SA8C-100-5","先頭","○"]
[793,700,0,80000,80000,16000,260,30,0,80,{"$f":"A795","v":792},{"$f":"A797","v":794},null,"○","○"]
[794,750,0,80000,80000,16000,230,30,0,80,793,795,null,"○","○"]
[795,800,0,80000,80000,16000,200,30,0,80,794,796,null,"○","○"]
[796,850,0,80000,80000,16000,180,30,0,80,795,797,null,"○","○"]
[797,900,0,80000,80000,16000,170,30,0,80,796,798,null,"○","○"]
[798,950,0,80000,80000,16000,150,30,0,80,797,799,null,"○","○"]
[799,1000,0,80000,80000,16000,135,30,0,80,798,800,null,"○","○"]
[800,1050,0,80000,80000,16000,120,30,0,80,799,801,null,"○","○"]
[801,1100,0,80000,80000,16000,110,30,0,80,800,-1,null,"○","終端"]
[802,650,0,40000,40000,8000,600,30,0,80,-1,{"$f":"A806","v":803},"RCS3-SA8C-100-10","先頭","○"]
[803,700,0,40000,40000,8000,530,30,0,80,{"$f":"A805","v":802},{"$f":"A807","v":804},null,"○","○"]
[804,750,0,40000,40000,8000,470,30,0,80,803,805,null,"○","○"]
[805,800,0,40000,40000,8000,410,30,0,80,804,806,null,"○","○"]
[806,850,0,40000,40000,8000,370,30,0,80,805,807,null,"○","○"]
[807,900,0,40000,40000,8000,340,30,0,80,806,808,null,"○","○"]
[808,950,0,40000,40000,8000,310,30,0,80,807,809,null,"○","○"]
[809,1000,0,40000,40000,8000,270,30,0,80,808,810,null,"○","○"]
[810,1050,0,40000,40000,8000,250,30,0,80,809,811,null,"○","○"]
[811,1100,0,40000,40000,8000,230,30,0,80,810,-1,null,"○","終端"]
[812,600,0,20000,20000,4000,{"$f":"G816","v":1200},30,0,80,-1,{"$f":"A816","v":813},"RCS3-SA8C-100-20","先頭","○"]
[813,650,0,20000,20000,4000,1200,30,0,80,{"$f":"A815","v":812},814,null,"○","○"]
[814,700,0,20000,20000,4000,1070,30,0,80,813,815,null,"○","○"]
[815,750,0,20000,20000,4000,940,30,0,80,814,816,null,"○","○"]
[816,800,0,20000,20000,4000,840,30,0,80,815,817,null,"○","○"]
[817,850,0,20000,20000,4000,750,30,0,80,816,818,null,"○","○"]
[818,900,0,20000,20000,4000,670,30,0,80,817,819,null,"○","○"]
[819,950,0,20000,20000,4000,610,30,0,80,818,820,null,"○","○"]
[820,1000,0,20000,20000,4000,550,30,0,80,819,821,null,"○","○"]
[821,1050,0,20000,20000,4000,500,30,0,80,820,822,null,"○","○"]
[822,1100,0,20000,20000,4000,460,30,0,80,821,-1,null,"○","終端"]
[823,600,0,8000,8000,2000,{"$f":"G827","v":1800},30,0,80,-1,{"$f":"A827","v":824},"RCS3-SA8C-100-30","先頭","○"]
[824,650,0,8000,8000,2000,1800,30,0,80,{"$f":"A826","v":823},825,null,"○","○"]
[825,700,0,8000,8000,2000,1610,30,0,80,824,826,null,"○","○"]
[826,750,0,8000,8000,2000,1420,30,0,80,825,827,null,"○","○"]
[827,800,0,8000,8000,2000,1260,30,0,80,826,828,null,"○","○"]
[828,850,0,8000,8000,2000,1120,30,0,80,827,829,null,"○","○"]
[829,900,0,8000,8000,2000,1010,30,0,80,828,830,null,"○","○"]
[830,950,0,8000,8000,2000,910,30,0,80,829,831,null,"○","○"]
[831,1000,0,8000,8000,2000,830,30,0,80,830,832,null,"○","○"]
[832,1050,0,8000,8000,2000,760,30,0,80,831,833,null,"○","○"]
[{"$f":"A835+1","v":833},1100,0,8000,8000,2000,690,30,0,80,832,-1,null,{"$f":"IF(K836=A835,\"○\",IF(M836<>0,\"先頭\",\"つなぎまちがい\"))","v":"○"},{"$f":"IF(L836=A837,\"○\",IF(L836<>K837,\"つなぎまちがい\",\"終端\"))","v":"終端"}]
[834,650,0,60000,{"$f":"D837","v":60000},12000,600,30,0,80,-1,{"$f":"A838","v":835},"RCS3-SA8C-150-10","先頭","○"]
[835,700,0,60000,60000,12000,530,30,0,80,{"$f":"A837","v":834},{"$f":"A839","v":836},null,"○","○"]
[836,750,0,60000,60000,12000,470,30,0,80,835,837,null,"○","○"]
[837,800,0,60000,60000,12000,410,30,0,80,836,838,null,"○","○"]
[838,850,0,60000,60000,12000,370,30,0,80,837,839,null,"○","○"]
[839,900,0,60000,60000,12000,340,30,0,80,838,840,null,"○","○"]
[840,950,0,60000,60000,12000,310,30,0,80,839,841,null,"○","○"]
[841,1000,0,60000,60000,12000,270,30,0,80,840,842,null,"○","○"]
[842,1050,0,60000,60000,12000,250,30,0,80,841,843,null,"○","○"]
[843,1100,0,60000,60000,12000,230,30,0,80,842,-1,null,"○","終端"]
[844,600,0,30000,30000,6000,{"$f":"G848","v":1200},30,0,80,-1,{"$f":"A848","v":845},"RCS3-SA8C-150-20","先頭","○"]
[845,650,0,30000,30000,6000,1200,30,0,80,{"$f":"A847","v":844},846,null,"○","○"]
[846,700,0,30000,30000,6000,1070,30,0,80,845,847,null,"○","○"]
[847,750,0,30000,30000,6000,940,30,0,80,846,848,null,"○","○"]
[848,800,0,30000,30000,6000,840,30,0,80,847,849,null,"○","○"]
[849,850,0,30000,30000,6000,750,30,0,80,848,850,null,"○","○"]
[850,900,0,30000,30000,6000,670,30,0,80,849,851,null,"○","○"]
[851,950,0,30000,30000,6000,610,30,0,80,850,852,null,"○","○"]
[852,1000,0,30000,30000,6000,550,30,0,80,851,853,null,"○","○"]
[853,1050,0,30000,30000,6000,500,30,0,80,852,854,null,"○","○"]
[854,1100,0,30000,30000,6000,460,30,0,80,853,-1,null,"○","終端"]
[855,600,0,12000,12000,3000,{"$f":"G859","v":1800},30,0,80,-1,{"$f":"A859","v":856},"RCS3-SA8C-150-30","先頭","○"]
[856,650,0,12000,12000,3000,1800,30,0,80,{"$f":"A858","v":855},857,null,"○","○"]
[857,700,0,12000,12000,3000,1610,30,0,80,856,858,null,"○","○"]
[858,750,0,12000,12000,3000,1420,30,0,80,857,859,null,"○","○"]
[859,800,0,12000,12000,3000,1260,30,0,80,858,860,null,"○","○"]
[860,850,0,12000,12000,3000,1120,30,0,80,859,861,null,"○","○"]
[861,900,0,12000,12000,3000,1010,30,0,80,860,862,null,"○","○"]
[862,950,0,12000,12000,3000,910,30,0,80,861,863,null,"○","○"]
[863,1000,0,12000,12000,3000,830,30,0,80,862,864,null,"○","○"]
[864,1050,0,12000,12000,3000,760,30,0,80,863,865,null,"○","○"]
[865,1100,0,12000,12000,3000,690,30,0,80,864,-1,null,"○","終端"]
[866,600,0,80000,{"$f":"D869","v":80000},16000,300,30,0,80,-1,{"$f":"A870","v":867},"RCS3-SS8C-100-5","先頭","○"]
[867,650,0,80000,80000,16000,275,30,0,80,{"$f":"A869","v":866},868,null,"○","○"]
[868,700,0,80000,80000,16000,240,30,0,80,867,869,null,"○","○"]
[869,750,0,80000,80000,16000,215,30,0,80,868,870,null,"○","○"]
[870,800,0,80000,80000,16000,190,30,0,80,869,871,null,"○","○"]
[871,850,0,80000,80000,16000,170,30,0,80,870,872,null,"○","○"]
[872,900,0,80000,80000,16000,150,30,0,80,871,873,null,"○","○"]
[873,950,0,80000,80000,16000,140,30,0,80,872,874,null,"○","○"]
[874,1000,0,80000,80000,16000,125,30,0,80,873,-1,null,"○","終端"]
[875,600,0,40000,40000,8000,600,30,0,80,-1,{"$f":"A879","v":876},"RCS3-SS8C-100-10","先頭","○"]
[876,650,0,40000,40000,8000,550,30,0,80,{"$f":"A878","v":875},877,null,"○","○"]
[877,700,0,40000,40000,8000,485,30,0,80,876,878,null,"○","○"]
[878,750,0,40000,40000,8000,430,30,0,80,877,879,null,"○","○"]
[879,800,0,40000,40000,8000,385,30,0,80,878,880,null,"○","○"]
[880,850,0,40000,40000,8000,345,30,0,80,879,881,null,"○","○"]
[881,900,0,40000,40000,8000,310,30,0,80,880,882,null,"○","○"]
[882,950,0,40000,40000,8000,280,30,0,80,881,883,null,"○","○"]
[883,1000,0,40000,40000,8000,255,30,0,80,882,-1,null,"○","終端"]
[884,550,0,20000,20000,4000,{"$f":"G888","v":1200},30,0,80,-1,{"$f":"A888","v":885},"RCS3-SS8C-100-20","先頭","○"]
[885,600,0,20000,20000,4000,1200,30,0,80,{"$f":"A887","v":884},886,null,"○","○"]
[886,650,0,20000,20000,4000,1105,30,0,80,885,887,null,"○","○"]
[887,700,0,20000,20000,4000,970,30,0,80,886,888,null,"○","○"]
[888,750,0,20000,20000,4000,860,30,0,80,887,889,null,"○","○"]
[889,800,0,20000,20000,4000,770,30,0,80,888,890,null,"○","○"]
[890,850,0,20000,20000,4000,690,30,0,80,889,891,null,"○","○"]
[891,900,0,20000,20000,4000,625,30,0,80,890,892,null,"○","○"]
[892,950,0,20000,20000,4000,565,30,0,80,891,893,null,"○","○"]
[893,1000,0,20000,20000,4000,515,30,0,80,892,-1,null,"○","終端"]
[894,550,0,8000,8000,2000,{"$f":"G898","v":1800},30,0,80,-1,{"$f":"A898","v":895},"RCS3-SS8C-100-30","先頭","○"]
[895,600,0,8000,8000,2000,1800,30,0,80,{"$f":"A897","v":894},896,null,"○","○"]
[896,650,0,8000,8000,2000,1660,30,0,80,895,897,null,"○","○"]
[{"$f":"A899+1","v":897},700,0,8000,8000,2000,1460,30,0,80,896,898,null,{"$f":"IF(K900=A899,\"○\",IF(M900<>0,\"先頭\",\"つなぎまちがい\"))","v":"○"},{"$f":"IF(L900=A901,\"○\",IF(L900<>K901,\"つなぎまちがい\",\"終端\"))","v":"○"}]
[898,750,0,8000,8000,2000,1295,30,0,80,897,899,null,"○","○"]
[899,800,0,8000,8000,2000,1155,30,0,80,898,900,null,"○","○"]
[900,850,0,8000,8000,2000,1035,30,0,80,899,901,null,"○","○"]
[901,900,0,8000,8000,2000,935,30,0,80,900,902,null,"○","○"]
[902,950,0,8000,8000,2000,850,30,0,80,901,903,null,"○","○"]
[903,1000,0,8000,8000,2000,775,30,0,80,902,-1,null,"○","終端"]
[904,600,0,60000,{"$f":"D907","v":60000},12000,600,30,0,80,-1,{"$f":"A908","v":905},"RCS3-SS8C-150-10","先頭","○"]
[905,650,0,60000,60000,12000,550,30,0,80,{"$f":"A907","v":904},906,null,"○","○"]
[906,700,0,60000,60000,12000,485,30,0,80,905,907,null,"○","○"]
[907,750,0,60000,60000,12000,430,30,0,80,906,908,null,"○","○"]
[908,800,0,60000,60000,12000,385,30,0,80,907,909,null,"○","○"]
[909,850,0,60000,60000,12000,345,30,0,80,908,910,null,"○","○"]
[910,900,0,60000,60000,12000,310,30,0,80,909,911,null,"○","○"]
[911,950,0,60000,60000,12000,280,30,0,80,910,912,null,"○","○"]
[912,1000,0,60000,60000,12000,255,30,0,80,911,-1,null,"○","終端"]
[913,300,0,30000,30000,6000,{"$f":"G917","v":1200},30,0,80,-1,{"$f":"A917","v":914},"RCS3-SS8C-150-20","先頭","○"]
[914,500,0,30000,30000,6000,{"$f":"G918","v":1200},30,0,80,{"$f":"A916","v":913},915,null,"○","○"]
[915,550,0,30000,30000,6000,{"$f":"G919","v":1200},30,0,80,914,916,null,"○","○"]
[916,600,0,30000,30000,6000,1200,30,0,80,915,917,null,"○","○"]
[917,650,0,30000,30000,6000,1105,30,0,80,916,918,null,"○","○"]
[918,700,0,30000,30000,6000,970,30,0,80,917,919,null,"○","○"]
[919,750,0,30000,30000,6000,860,30,0,80,918,920,null,"○","○"]
[920,800,0,30000,30000,6000,770,30,0,80,919,921,null,"○","○"]
[921,850,0,30000,30000,6000,690,30,0,80,920,922,null,"○","○"]
[922,900,0,30000,30000,6000,625,30,0,80,921,923,null,"○","○"]
[923,950,0,30000,30000,6000,565,30,0,80,922,924,null,"○","○"]
[924,1000,0,30000,30000,6000,515,30,0,80,923,-1,null,"○","終端"]
[925,550,0,12000,12000,3000,{"$f":"G929","v":1800},30,0,80,-1,{"$f":"A929","v":926},"RCS3-SS8C-150-30","先頭","○"]
[926,600,0,12000,12000,3000,1800,30,0,80,{"$f":"A928","v":925},927,null,"○","○"]
[927,650,0,12000,12000,3000,1660,30,0,80,926,928,null,"○","○"]
[928,700,0,12000,12000,3000,1460,30,0,80,927,929,null,"○","○"]
[929,750,0,12000,12000,3000,1295,30,0,80,928,930,null,"○","○"]
[930,800,0,12000,12000,3000,1155,30,0,80,929,931,null,"○","○"]
[931,850,0,12000,12000,3000,1035,30,0,80,930,932,null,"○","○"]
[932,900,0,12000,12000,3000,935,30,0,80,931,933,null,"○","○"]
[933,950,0,12000,12000,3000,850,30,0,80,932,934,null,"○","○"]
[934,1000,0,12000,12000,3000,775,30,0,80,933,-1,null,"○","終端"]
[935,650,0,80000,{"$f":"D938","v":80000},16000,300,30,0,80,-1,{"$f":"A939","v":936},"RCS3CR-SA8C-100-5","先頭","○"]
[936,700,0,80000,80000,16000,250,30,0,80,{"$f":"A938","v":935},{"$f":"A940","v":937},null,"○","○"]
[937,750,0,80000,80000,16000,220,30,0,80,936,938,null,"○","○"]
[938,800,0,80000,80000,16000,190,30,0,80,937,939,null,"○","○"]
[939,850,0,80000,80000,16000,170,30,0,80,938,940,null,"○","○"]
[940,900,0,80000,80000,16000,160,30,0,80,939,941,null,"○","○"]
[941,950,0,80000,80000,16000,140,30,0,80,940,942,null,"○","○"]
[942,1000,0,80000,80000,16000,130,30,0,80,941,943,null,"○","○"]
[943,1050,0,80000,80000,16000,120,30,0,80,942,944,null,"○","○"]
[944,1100,0,80000,80000,16000,110,30,0,80,943,-1,null,"○","終端"]
[945,650,0,40000,40000,8000,600,30,0,80,-1,{"$f":"A949","v":946},"RCS3CR-SA8C-100-10","先頭","○"]
[946,700,0,40000,40000,8000,500,30,0,80,{"$f":"A948","v":945},{"$f":"A950","v":947},null,"○","○"]
[947,750,0,40000,40000,8000,440,30,0,80,946,948,null,"○","○"]
[948,800,0,40000,40000,8000,390,30,0,80,947,949,null,"○","○"]
[949,850,0,40000,40000,8000,350,30,0,80,948,950,null,"○","○"]
[950,900,0,40000,40000,8000,320,30,0,80,949,951,null,"○","○"]
[951,950,0,40000,40000,8000,290,30,0,80,950,952,null,"○","○"]
[952,1000,0,40000,40000,8000,260,30,0,80,951,953,null,"○","○"]
[953,1050,0,40000,40000,8000,240,30,0,80,952,954,null,"○","○"]
[954,1100,0,40000,40000,8000,220,30,0,80,953,-1,null,"○","終端"]
[955,600,0,20000,20000,4000,1200,30,0,80,-1,{"$f":"A959","v":956},"RCS3CR-SA8C-100-20","先頭","○"]
[956,650,0,20000,20000,4000,1200,30,0,80,{"$f":"A958","v":955},957,null,"○","○"]
[957,700,0,20000,20000,4000,1010,30,0,80,956,958,null,"○","○"]
[958,750,0,20000,20000,4000,890,30,0,80,957,959,null,"○","○"]
[959,800,0,20000,20000,4000,790,30,0,80,958,960,null,"○","○"]
[960,850,0,20000,20000,4000,710,30,0,80,959,961,null,"○","○"]
[{"$f":"A963+1","v":961},900,0,20000,20000,4000,640,30,0,80,960,962,null,{"$f":"IF(K964=A963,\"○\",IF(M964<>0,\"先頭\",\"つなぎまちがい\"))","v":"○"},{"$f":"IF(L964=A965,\"○\",IF(L964<>K965,\"つなぎまちがい\",\"終端\"))","v":"○"}]
[962,950,0,20000,20000,4000,580,30,0,80,961,963,null,"○","○"]
[963,1000,0,20000,20000,4000,530,30,0,80,962,964,null,"○","○"]
[964,1050,0,20000,20000,4000,480,30,0,80,963,965,null,"○","○"]
[965,1100,0,20000,20000,4000,440,30,0,80,964,-1,null,"○","終端"]
[966,650,0,8000,8000,2000,1800,30,0,80,-1,{"$f":"A970","v":967},"RCS3CR-SA8C-100-30","先頭","○"]
[967,700,0,8000,8000,2000,1510,30,0,80,{"$f":"A969","v":966},{"$f":"A971","v":968},null,"○","○"]
[968,750,0,8000,8000,2000,1340,30,0,80,967,969,null,"○","○"]
[969,800,0,8000,8000,2000,1190,30,0,80,968,970,null,"○","○"]
[970,850,0,8000,8000,2000,1070,30,0,80,969,971,null,"○","○"]
[971,900,0,8000,8000,2000,960,30,0,80,970,972,null,"○","○"]
[972,950,0,8000,8000,2000,870,30,0,80,971,973,null,"○","○"]
[973,1000,0,8000,8000,2000,790,30,0,80,972,974,null,"○","○"]
[974,1050,0,8000,8000,2000,720,30,0,80,973,975,null,"○","○"]
[975,1100,0,8000,8000,2000,660,30,0,80,974,-1,null,"○","終端"]
[976,650,0,60000,{"$f":"D979","v":60000},12000,600,30,0,80,-1,{"$f":"A980","v":977},"RCS3CR-SA8C-150-10","先頭","○"]
[977,700,0,60000,60000,12000,500,30,0,80,{"$f":"A979","v":976},{"$f":"A981","v":978},null,"○","○"]
[978,750,0,60000,60000,12000,440,30,0,80,977,979,null,"○","○"]
[979,800,0,60000,60000,12000,390,30,0,80,978,980,null,"○","○"]
[980,850,0,60000,60000,12000,350,30,0,80,979,981,null,"○","○"]
[981,900,0,60000,60000,12000,320,30,0,80,980,982,null,"○","○"]
[982,950,0,60000,60000,12000,290,30,0,80,981,983,null,"○","○"]
[983,1000,0,60000,60000,12000,260,30,0,80,982,984,null,"○","○"]
[984,1050,0,60000,60000,12000,240,30,0,80,983,985,null,"○","○"]
[985,1100,0,60000,60000,12000,220,30,0,80,984,-1,null,"○","終端"]
[986,650,0,30000,30000,6000,1200,30,0,80,-1,{"$f":"A990","v":987},"RCS3CR-SA8C-150-20","先頭","○"]
[987,700,0,30000,30000,6000,1010,30,0,80,{"$f":"A989","v":986},{"$f":"A991","v":988},null,"○","○"]
[988,750,0,30000,30000,6000,890,30,0,80,987,989,null,"○","○"]
[989,800,0,30000,30000,6000,790,30,0,80,988,990,null,"○","○"]
[990,850,0,30000,30000,6000,710,30,0,80,989,991,null,"○","○"]
[991,900,0,30000,30000,6000,640,30,0,80,990,992,null,"○","○"]
[992,950,0,30000,30000,6000,580,30,0,80,991,993,null,"○","○"]
[993,1000,0,30000,30000,6000,530,30,0,80,992,994,null,"○","○"]
[994,1050,0,30000,30000,6000,480,30,0,80,993,995,null,"○","○"]
[995,1100,0,30000,30000,6000,440,30,0,80,994,-1,null,"○","終端"]
[996,600,0,12000,12000,3000,1800,30,0,80,-1,{"$f":"A1000","v":997},"RCS3CR-SA8C-150-30","先頭","○"]
[997,650,0,12000,12000,3000,1800,30,0,80,{"$f":"A999","v":996},998,null,"○","○"]
[998,700,0,12000,12000,3000,1510,30,0,80,997,999,null,"○","○"]
[999,750,0,12000,12000,3000,1340,30,0,80,998,1000,null,"○","○"]
[1000,800,0,12000,12000,3000,1190,30,0,80,999,1001,null,"○","○"]
[1001,850,0,12000,12000,3000,1070,30,0,80,1000,1002,null,"○","○"]
[1002,900,0,12000,12000,3000,960,30,0,80,1001,1003,null,"○","○"]
[1003,950,0,12000,12000,3000,870,30,0,80,1002,1004,null,"○","○"]
[1004,1000,0,12000,12000,3000,790,30,0,80,1003,1005,null,"○","○"]
[1005,1050,0,12000,12000,3000,720,30,0,80,1004,1006,null,"○","○"]
[1006,1100,0,12000,12000,3000,660,30,0,80,1005,-1,null,"○","終端"]
[1007,600,0,80000,{"$f":"D1010","v":80000},16000,300,30,0,80,-1,{"$f":"A1011","v":1008},"RCS3CR-SS8C-100-5","先頭","○"]
[1008,650,0,80000,80000,16000,275,30,0,80,{"$f":"A1010","v":1007},1009,null,"○","○"]
[1009,700,0,80000,80000,16000,240,30,0,80,1008,1010,null,"○","○"]
[1010,750,0,80000,80000,16000,215,30,0,80,1009,1011,null,"○","○"]
[1011,800,0,80000,80000,16000,190,30,0,80,1010,1012,null,"○","○"]
[1012,850,0,80000,80000,16000,170,30,0,80,1011,1013,null,"○","○"]
[1013,900,0,80000,80000,16000,150,30,0,80,1012,1014,null,"○","○"]
[1014,950,0,80000,80000,16000,140,30,0,80,1013,1015,null,"○","○"]
[1015,1000,0,80000,80000,16000,125,30,0,80,1014,-1,null,"○","終端"]
[1016,600,0,40000,40000,8000,600,30,0,80,-1,{"$f":"A1020","v":1017},"RCS3CR-SS8C-100-10","先頭","○"]
[1017,650,0,40000,40000,8000,550,30,0,80,{"$f":"A1019","v":1016},1018,null,"○","○"]
[1018,700,0,40000,40000,8000,485,30,0,80,1017,1019,null,"○","○"]
[1019,750,0,40000,40000,8000,430,30,0,80,1018,1020,null,"○","○"]
[1020,800,0,40000,40000,8000,385,30,0,80,1019,1021,null,"○","○"]
[1021,850,0,40000,40000,8000,345,30,0,80,1020,1022,null,"○","○"]
[1022,900,0,40000,40000,8000,310,30,0,80,1021,1023,null,"○","○"]
[1023,950,0,40000,40000,8000,280,30,0,80,1022,1024,null,"○","○"]
[1024,1000,0,40000,40000,8000,255,30,0,80,1023,-1,null,"○","終端"]
[{"$f":"A1027+1","v":1025},600,0,20000,20000,4000,1200,30,0,80,-1,{"$f":"A1029","v":1026},"RCS3CR-SS8C-100-20",{"$f":"IF(K1028=A1027,\"○\",IF(M1028<>0,\"先頭\",\"つなぎまちがい\"))","v":"先頭"},{"$f":"IF(L1028=A1029,\"○\",IF(L1028<>K1029,\"つなぎまちがい\",\"終端\"))","v":"○"}]
[1026,650,0,20000,20000,4000,1105,30,0,80,{"$f":"A1028","v":1025},1027,null,"○","○"]
[1027,700,0,20000,20000,4000,970,30,0,80,1026,1028,null,"○","○"]
[1028,750,0,20000,20000,4000,860,30,0,80,1027,1029,null,"○","○"]
[1029,800,0,20000,20000,4000,770,30,0,80,1028,1030,null,"○","○"]
[1030,850,0,20000,20000,4000,690,30,0,80,1029,1031,null,"○","○"]
[1031,900,0,20000,20000,4000,625,30,0,80,1030,1032,null,"○","○"]
[1032,950,0,20000,20000,4000,565,30,0,80,1031,1033,null,"○","○"]
[1033,1000,0,20000,20000,4000,515,30,0,80,1032,-1,null,"○","終端"]
[1034,600,0,8000,8000,2000,1800,30,0,80,-1,{"$f":"A1038","v":1035},"RCS3CR-SS8C-100-30","先頭","○"]
[1035,650,0,8000,8000,2000,1660,30,0,80,{"$f":"A1037","v":1034},1036,null,"○","○"]
[1036,700,0,8000,8000,2000,1460,30,0,80,1035,1037,null,"○","○"]
[1037,750,0,8000,8000,2000,1295,30,0,80,1036,1038,null,"○","○"]
[1038,800,0,8000,8000,2000,1155,30,0,80,1037,1039,null,"○","○"]
[1039,850,0,8000,8000,2000,1035,30,0,80,1038,1040,null,"○","○"]
[1040,900,0,8000,8000,2000,935,30,0,80,1039,1041,null,"○","○"]
[1041,950,0,8000,8000,2000,850,30,0,80,1040,1042,null,"○","○"]
[1042,1000,0,8000,8000,2000,775,30,0,80,1041,-1,null,"○","終端"]
[1043,600,0,60000,{"$f":"D1046","v":60000},12000,600,30,0,80,-1,{"$f":"A1047","v":1044},"RCS3CR-SS8C-150-10","先頭","○"]
[1044,650,0,60000,60000,12000,550,30,0,80,{"$f":"A1046","v":1043},1045,null,"○","○"]
[1045,700,0,60000,60000,12000,485,30,0,80,1044,1046,null,"○","○"]
[1046,750,0,60000,60000,12000,430,30,0,80,1045,1047,null,"○","○"]
[1047,800,0,60000,60000,12000,385,30,0,80,1046,1048,null,"○","○"]
[1048,850,0,60000,60000,12000,345,30,0,80,1047,1049,null,"○","○"]
[1049,900,0,60000,60000,12000,310,30,0,80,1048,1050,null,"○","○"]
[1050,950,0,60000,60000,12000,280,30,0,80,1049,1051,null,"○","○"]
[1051,1000,0,60000,60000,12000,255,30,0,80,1050,-1,null,"○","終端"]
[1052,300,0,30000,30000,6000,1200,30,0,80,-1,{"$f":"A1056","v":1053},"RCS3CR-SS8C-150-20","先頭","○"]
[1053,500,0,30000,30000,6000,1200,30,0,80,{"$f":"A1055","v":1052},1054,null,"○","○"]
[1054,600,0,30000,30000,6000,1200,30,0,80,1053,1055,null,"○","○"]
[1055,650,0,30000,30000,6000,1105,30,0,80,1054,1056,null,"○","○"]
[1056,700,0,30000,30000,6000,970,30,0,80,1055,1057,null,"○","○"]
[1057,750,0,30000,30000,6000,860,30,0,80,1056,1058,null,"○","○"]
[1058,800,0,30000,30000,6000,770,30,0,80,1057,1059,null,"○","○"]
[1059,850,0,30000,30000,6000,690,30,0,80,1058,1060,null,"○","○"]
[1060,900,0,30000,30000,6000,625,30,0,80,1059,1061,null,"○","○"]
[1061,950,0,30000,30000,6000,565,30,0,80,1060,1062,null,"○","○"]
[1062,1000,0,30000,30000,6000,515,30,0,80,1061,-1,null,"○","終端"]
[1063,600,0,12000,12000,3000,1800,30,0,80,-1,{"$f":"A1067","v":1064},"RCS3CR-SS8C-150-30","先頭","○"]
[1064,650,0,12000,12000,3000,1660,30,0,80,{"$f":"A1066","v":1063},1065,null,"○","○"]
[1065,700,0,12000,12000,3000,1460,30,0,80,1064,1066,null,"○","○"]
[1066,750,0,12000,12000,3000,1295,30,0,80,1065,1067,null,"○","○"]
[1067,800,0,12000,12000,3000,1155,30,0,80,1066,1068,null,"○","○"]
[1068,850,0,12000,12000,3000,1035,30,0,80,1067,1069,null,"○","○"]
[1069,900,0,12000,12000,3000,935,30,0,80,1068,1070,null,"○","○"]
[1070,950,0,12000,12000,3000,850,30,0,80,1069,1071,null,"○","○"]
[1071,1000,0,12000,12000,3000,775,30,0,80,1070,-1,null,"○","終端"]
[1072,650,0,80000,{"$f":"D1075","v":80000},16000,300,30,0,80,-1,{"$f":"A1076","v":1073},"RCS3-SA8R-100-5","先頭","○"]
[1073,700,0,80000,80000,16000,260,30,0,80,{"$f":"A1075","v":1072},1074,null,"○","○"]
[1074,750,0,80000,80000,16000,230,30,0,80,1073,1075,null,"○","○"]
[1075,800,0,80000,80000,16000,200,30,0,80,1074,1076,null,"○","○"]
[1076,850,0,80000,80000,16000,180,30,0,80,1075,1077,null,"○","○"]
[1077,900,0,80000,80000,16000,170,30,0,80,1076,1078,null,"○","○"]
[1078,950,0,80000,80000,16000,150,30,0,80,1077,1079,null,"○","○"]
[1079,1000,0,80000,80000,16000,135,30,0,80,1078,1080,null,"○","○"]
[1080,1050,0,80000,80000,16000,120,30,0,80,1079,1081,null,"○","○"]
[1081,1100,0,80000,80000,16000,110,30,0,80,1080,-1,null,"○","終端"]
[1082,650,0,40000,40000,8000,600,30,0,80,-1,{"$f":"A1086","v":1083},"RCS3-SA8R-100-10","先頭","○"]
[1083,700,0,40000,40000,8000,530,30,0,80,{"$f":"A1085","v":1082},1084,null,"○","○"]
[1084,750,0,40000,40000,8000,470,30,0,80,1083,1085,null,"○","○"]
[1085,800,0,40000,40000,8000,410,30,0,80,1084,1086,null,"○","○"]
[1086,850,0,40000,40000,8000,370,30,0,80,1085,1087,null,"○","○"]
[1087,900,0,40000,40000,8000,340,30,0,80,1086,1088,null,"○","○"]
[1088,950,0,40000,40000,8000,310,30,0,80,1087,1089,null,"○","○"]
[{"$f":"A1091+1","v":1089},1000,0,40000,40000,8000,270,30,0,80,1088,1090,null,{"$f":"IF(K1092=A1091,\"○\",IF(M1092<>0,\"先頭\",\"つなぎまちがい\"))","v":"○"},{"$f":"IF(L1092=A1093,\"○\",IF(L1092<>K1093,\"つなぎまちがい\",\"終端\"))","v":"○"}]
[1090,1050,0,40000,40000,8000,250,30,0,80,1089,1091,null,"○","○"]
[1091,1100,0,40000,40000,8000,230,30,0,80,1090,-1,null,"○","終端"]
[1092,600,0,20000,20000,4000,1200,30,0,80,-1,{"$f":"A1096","v":1093},"RCS3-SA8R-100-20","先頭","○"]
[1093,650,0,20000,20000,4000,1200,30,0,80,{"$f":"A1095","v":1092},1094,null,"○","○"]
[1094,700,0,20000,20000,4000,1070,30,0,80,1093,1095,null,"○","○"]
[1095,750,0,20000,20000,4000,940,30,0,80,1094,1096,null,"○","○"]
[1096,800,0,20000,20000,4000,840,30,0,80,1095,1097,null,"○","○"]
[1097,850,0,20000,20000,4000,750,30,0,80,1096,1098,null,"○","○"]
[1098,900,0,20000,20000,4000,670,30,0,80,1097,1099,null,"○","○"]
[1099,950,0,20000,20000,4000,610,30,0,80,1098,1100,null,"○","○"]
[1100,1000,0,20000,20000,4000,550,30,0,80,1099,1101,null,"○","○"]
[1101,1050,0,20000,20000,4000,500,30,0,80,1100,1102,null,"○","○"]
[1102,1100,0,20000,20000,4000,460,30,0,80,1101,-1,null,"○","終端"]
[1103,650,0,8000,8000,2000,1800,30,0,80,-1,{"$f":"A1107","v":1104},"RCS3-SA8R-100-30","先頭","○"]
[1104,700,0,8000,8000,2000,1610,30,0,80,{"$f":"A1106","v":1103},1105,null,"○","○"]
[1105,750,0,8000,8000,2000,1420,30,0,80,1104,1106,null,"○","○"]
[1106,800,0,8000,8000,2000,1260,30,0,80,1105,1107,null,"○","○"]
[1107,850,0,8000,8000,2000,1120,30,0,80,1106,1108,null,"○","○"]
[1108,900,0,8000,8000,2000,1010,30,0,80,1107,1109,null,"○","○"]
[1109,950,0,8000,8000,2000,910,30,0,80,1108,1110,null,"○","○"]
[1110,1000,0,8000,8000,2000,830,30,0,80,1109,1111,null,"○","○"]
[1111,1050,0,8000,8000,2000,760,30,0,80,1110,1112,null,"○","○"]
[1112,1100,0,8000,8000,2000,690,30,0,80,1111,-1,null,"○","終端"]
[1113,650,0,60000,{"$f":"D1116","v":60000},12000,600,30,0,80,-1,{"$f":"A1117","v":1114},"RCS3-SA8R-150-10","先頭","○"]
[1114,700,0,60000,60000,12000,530,30,0,80,{"$f":"A1116","v":1113},1115,null,"○","○"]
[1115,750,0,60000,60000,12000,470,30,0,80,1114,1116,null,"○","○"]
[1116,800,0,60000,60000,12000,410,30,0,80,1115,1117,null,"○","○"]
[1117,850,0,60000,60000,12000,370,30,0,80,1116,1118,null,"○","○"]
[1118,900,0,60000,60000,12000,340,30,0,80,1117,1119,null,"○","○"]
[1119,950,0,60000,60000,12000,310,30,0,80,1118,1120,null,"○","○"]
[1120,1000,0,60000,60000,12000,270,30,0,80,1119,1121,null,"○","○"]
[1121,1050,0,60000,60000,12000,250,30,0,80,1120,1122,null,"○","○"]
[1122,1100,0,60000,60000,12000,230,30,0,80,1121,-1,null,"○","終端"]
[1123,650,0,30000,30000,6000,1200,30,0,80,-1,{"$f":"A1127","v":1124},"RCS3-SA8R-150-20","先頭","○"]
[1124,700,0,30000,30000,6000,1070,30,0,80,{"$f":"A1126","v":1123},1125,null,"○","○"]
[1125,750,0,30000,30000,6000,940,30,0,80,1124,1126,null,"○","○"]
[1126,800,0,30000,30000,6000,840,30,0,80,1125,1127,null,"○","○"]
[1127,850,0,30000,30000,6000,750,30,0,80,1126,1128,null,"○","○"]
[1128,900,0,30000,30000,6000,670,30,0,80,1127,1129,null,"○","○"]
[1129,950,0,30000,30000,6000,610,30,0,80,1128,1130,null,"○","○"]
[1130,1000,0,30000,30000,6000,550,30,0,80,1129,1131,null,"○","○"]
[1131,1050,0,30000,30000,6000,500,30,0,80,1130,1132,null,"○","○"]
[1132,1100,0,30000,30000,6000,460,30,0,80,1131,-1,null,"○","終端"]
[1133,600,0,12000,12000,3000,1800,30,0,80,-1,{"$f":"A1137","v":1134},"RCS3-SA8R-150-30","先頭","○"]
[1134,650,0,12000,12000,3000,1800,30,0,80,{"$f":"A1136","v":1133},1135,null,"○","○"]
[1135,700,0,12000,12000,3000,1610,30,0,80,1134,1136,null,"○","○"]
[1136,750,0,12000,12000,3000,1420,30,0,80,1135,1137,null,"○","○"]
[1137,800,0,12000,12000,3000,1260,30,0,80,1136,1138,null,"○","○"]
[1138,850,0,12000,12000,3000,1120,30,0,80,1137,1139,null,"○","○"]
[1139,900,0,12000,12000,3000,1010,30,0,80,1138,1140,null,"○","○"]
[1140,950,0,12000,12000,3000,910,30,0,80,1139,1141,null,"○","○"]
[1141,1000,0,12000,12000,3000,830,30,0,80,1140,1142,null,"○","○"]
[1142,1050,0,12000,12000,3000,760,30,0,80,1141,1143,null,"○","○"]
[1143,1100,0,12000,12000,3000,690,30,0,80,1142,-1,null,"○","終端"]
[1144,600,0,80000,{"$f":"D1147","v":80000},16000,300,30,0,80,-1,{"$f":"A1148","v":1145},"RCS3-SS8R-100-5","先頭","○"]
[1145,650,0,80000,80000,16000,275,30,0,80,{"$f":"A1147","v":1144},1146,null,"○","○"]
[1146,700,0,80000,80000,16000,240,30,0,80,1145,1147,null,"○","○"]
[1147,750,0,80000,80000,16000,215,30,0,80,1146,1148,null,"○","○"]
[1148,800,0,80000,80000,16000,190,30,0,80,1147,1149,null,"○","○"]
[1149,850,0,80000,80000,16000,170,30,0,80,1148,1150,null,"○","○"]
[1150,900,0,80000,80000,16000,150,30,0,80,1149,1151,null,"○","○"]
[1151,950,0,80000,80000,16000,140,30,0,80,1150,1152,null,"○","○"]
[1152,1000,0,80000,80000,16000,125,30,0,80,1151,-1,null,"○","終端"]
[{"$f":"A1155+1","v":1153},600,0,40000,40000,8000,600,30,0,80,-1,{"$f":"A1157","v":1154},"RCS3-SS8R-100-10",{"$f":"IF(K1156=A1155,\"○\",IF(M1156<>0,\"先頭\",\"つなぎまちがい\"))","v":"先頭"},{"$f":"IF(L1156=A1157,\"○\",IF(L1156<>K1157,\"つなぎまちがい\",\"終端\"))","v":"○"}]
[1154,650,0,40000,40000,8000,550,30,0,80,{"$f":"A1156","v":1153},1155,null,"○","○"]
[1155,700,0,40000,40000,8000,485,30,0,80,1154,1156,null,"○","○"]
[1156,750,0,40000,40000,8000,430,30,0,80,1155,1157,null,"○","○"]
[1157,800,0,40000,40000,8000,385,30,0,80,1156,1158,null,"○","○"]
[1158,850,0,40000,40000,8000,345,30,0,80,1157,1159,null,"○","○"]
[1159,900,0,40000,40000,8000,310,30,0,80,1158,1160,null,"○","○"]
[1160,950,0,40000,40000,8000,280,30,0,80,1159,1161,null,"○","○"]
[1161,1000,0,40000,40000,8000,255,30,0,80,1160,-1,null,"○","終端"]
[1162,600,0,20000,20000,4000,1200,30,0,80,-1,{"$f":"A1166","v":1163},"RCS3-SS8R-100-20","先頭","○"]
[1163,650,0,20000,20000,4000,1105,30,0,80,{"$f":"A1165","v":1162},1164,null,"○","○"]
[1164,700,0,20000,20000,4000,970,30,0,80,1163,1165,null,"○","○"]
[1165,750,0,20000,20000,4000,860,30,0,80,1164,1166,null,"○","○"]
[1166,800,0,20000,20000,4000,770,30,0,80,1165,1167,null,"○","○"]
[1167,850,0,20000,20000,4000,690,30,0,80,1166,1168,null,"○","○"]
[1168,900,0,20000,20000,4000,625,30,0,80,1167,1169,null,"○","○"]
[1169,950,0,20000,20000,4000,565,30,0,80,1168,1170,null,"○","○"]
[1170,1000,0,20000,20000,4000,515,30,0,80,1169,-1,null,"○","終端"]
[1171,600,0,8000,8000,2000,1800,30,0,80,-1,{"$f":"A1175","v":1172},"RCS3-SS8R-100-30","先頭","○"]
[1172,650,0,8000,8000,2000,1660,30,0,80,{"$f":"A1174","v":1171},1173,null,"○","○"]
[1173,700,0,8000,8000,2000,1460,30,0,80,1172,1174,null,"○","○"]
[1174,750,0,8000,8000,2000,1295,30,0,80,1173,1175,null,"○","○"]
[1175,800,0,8000,8000,2000,1155,30,0,80,1174,1176,null,"○","○"]
[1176,850,0,8000,8000,2000,1035,30,0,80,1175,1177,null,"○","○"]
[1177,900,0,8000,8000,2000,935,30,0,80,1176,1178,null,"○","○"]
[1178,950,0,8000,8000,2000,850,30,0,80,1177,1179,null,"○","○"]
[1179,1000,0,8000,8000,2000,775,30,0,80,1178,-1,null,"○","終端"]
[1180,600,0,60000,{"$f":"D1183","v":60000},12000,600,30,0,80,-1,{"$f":"A1184","v":1181},"RCS3-SS8R-150-10","先頭","○"]
[1181,650,0,60000,60000,12000,550,30,0,80,{"$f":"A1183","v":1180},1182,null,"○","○"]
[1182,700,0,60000,60000,12000,485,30,0,80,1181,1183,null,"○","○"]
[1183,750,0,60000,60000,12000,430,30,0,80,1182,1184,null,"○","○"]
[1184,800,0,60000,60000,12000,385,30,0,80,1183,1185,null,"○","○"]
[1185,850,0,60000,60000,12000,345,30,0,80,1184,1186,null,"○","○"]
[1186,900,0,60000,60000,12000,310,30,0,80,1185,1187,null,"○","○"]
[1187,950,0,60000,60000,12000,280,30,0,80,1186,1188,null,"○","○"]
[1188,1000,0,60000,60000,12000,255,30,0,80,1187,-1,null,"○","終端"]
[1189,300,0,30000,30000,6000,1200,30,0,80,-1,{"$f":"A1193","v":1190},"RCS3-SS8R-150-20","先頭","○"]
[1190,500,0,30000,30000,6000,1200,30,0,80,{"$f":"A1192","v":1189},1191,null,"○","○"]
[1191,600,0,30000,30000,6000,1200,30,0,80,1190,1192,null,"○","○"]
[1192,650,0,30000,30000,6000,1105,30,0,80,1191,1193,null,"○","○"]
[1193,700,0,30000,30000,6000,970,30,0,80,1192,1194,null,"○","○"]
[1194,750,0,30000,30000,6000,860,30,0,80,1193,1195,null,"○","○"]
[1195,800,0,30000,30000,6000,770,30,0,80,1194,1196,null,"○","○"]
[1196,850,0,30000,30000,6000,690,30,0,80,1195,1197,null,"○","○"]
[1197,900,0,30000,30000,6000,625,30,0,80,1196,1198,null,"○","○"]
[1198,950,0,30000,30000,6000,565,30,0,80,1197,1199,null,"○","○"]
[1199,1000,0,30000,30000,6000,515,30,0,80,1198,-1,null,"○","終端"]
[1200,600,0,12000,12000,3000,1800,30,0,80,-1,{"$f":"A1204","v":1201},"RCS3-SS8R-150-30","先頭","○"]
[1201,650,0,12000,12000,3000,1660,30,0,80,{"$f":"A1203","v":1200},1202,null,"○","○"]
[1202,700,0,12000,12000,3000,1460,30,0,80,1201,1203,null,"○","○"]
[1203,750,0,12000,12000,3000,1295,30,0,80,1202,1204,null,"○","○"]
[1204,800,0,12000,12000,3000,1155,30,0,80,1203,1205,null,"○","○"]
[1205,850,0,12000,12000,3000,1035,30,0,80,1204,1206,null,"○","○"]
[1206,900,0,12000,12000,3000,935,30,0,80,1205,1207,null,"○","○"]
[1207,950,0,12000,12000,3000,850,30,0,80,1206,1208,null,"○","○"]
[1208,1000,0,12000,12000,3000,775,30,0,80,1207,-1,null,"○","終端"]
[1209,400,0,8000,{"$f":"D1212","v":8000},4500,165,30,0,160,-1,-1,"RCS2-SA4C-20-2.5","先頭","終端"]
[1210,400,0,6000,{"$f":"D1213","v":6000},2500,330,30,0,160,-1,-1,"RCS2-SA4C-20-5","先頭","終端"]
[1211,400,0,4000,{"$f":"D1214","v":4000},1000,665,30,0,160,-1,-1,"RCS2-SA4C-20-10","先頭","終端"]
[1212,400,0,2500,{"$f":"D1215","v":2500},600,1060,30,0,120,-1,-1,"RCS2-SA4C-20-16","先頭","終端"]
[1213,450,0,12000,{"$f":"D1216","v":12000},4000,200,30,0,160,-1,{"$f":"A1217","v":1214},"RCS2-SA5C-20-3","先頭","○"]
[1214,500,0,12000,12000,4000,190,30,0,160,{"$f":"A1216","v":1213},-1,null,"○","終端"]
[1215,450,0,8000,8000,2000,400,30,0,160,-1,{"$f":"A1219","v":1216},"RCS2-SA5C-20-6","先頭","○"]
[1216,500,0,8000,8000,2000,380,30,0,160,{"$f":"A1218","v":1215},-1,null,"○","終端"]
[{"$f":"A1219+1","v":1217},400,0,4000,4000,1000,{"$f":"G1221","v":800},30,0,160,-1,{"$f":"A1221","v":1218},"RCS2-SA5C-20-12",{"$f":"IF(K1220=A1219,\"○\",IF(M1220<>0,\"先頭\",\"つなぎまちがい\"))","v":"先頭"},{"$f":"IF(L1220=A1221,\"○\",IF(L1220<>K1221,\"つなぎまちがい\",\"終端\"))","v":"○"}]
[1218,450,0,4000,4000,1000,800,30,0,160,{"$f":"A1220","v":1217},{"$f":"A1222","v":1219},null,"○","○"]
[1219,500,0,4000,4000,1000,760,30,0,160,{"$f":"A1221","v":1218},-1,null,"○","終端"]
[1220,450,0,2000,2000,500,1300,30,0,120,-1,{"$f":"A1224","v":1221},"RCS2-SA5C-20-20","先頭","○"]
[1221,500,0,2000,2000,500,1300,30,0,120,{"$f":"A1223","v":1220},-1,null,"○","終端"]
[1222,450,0,18000,{"$f":"D1225","v":18000},6000,200,30,0,160,-1,{"$f":"A1226","v":1223},"RCS2-SA6C-30-3","先頭","○"]
[1223,500,0,18000,18000,6000,190,30,0,160,{"$f":"A1225","v":1222},{"$f":"A1227","v":1224},null,"○","○"]
[1224,550,0,18000,18000,6000,160,30,0,160,{"$f":"A1226","v":1223},{"$f":"A1228","v":1225},null,"○","○"]
[1225,600,0,18000,18000,6000,135,30,0,160,{"$f":"A1227","v":1224},-1,null,"○","終端"]
[1226,450,0,12000,12000,3000,400,30,0,160,-1,{"$f":"A1230","v":1227},"RCS2-SA6C-30-6","先頭","○"]
[1227,500,0,12000,12000,3000,380,30,0,160,{"$f":"A1229","v":1226},{"$f":"A1231","v":1228},null,"○","○"]
[1228,550,0,12000,12000,3000,320,30,0,160,{"$f":"A1230","v":1227},{"$f":"A1232","v":1229},null,"○","○"]
[1229,600,0,12000,12000,3000,270,30,0,160,{"$f":"A1231","v":1228},-1,null,"○","終端"]
[1230,400,0,6000,6000,1500,{"$f":"G1234","v":800},30,0,120,-1,{"$f":"A1234","v":1231},"RCS2-SA6C-30-12","先頭","○"]
[1231,450,0,6000,6000,1500,800,30,0,120,{"$f":"A1233","v":1230},{"$f":"A1235","v":1232},null,"○","○"]
[1232,500,0,6000,6000,1500,760,30,0,120,{"$f":"A1234","v":1231},{"$f":"A1236","v":1233},null,"○","○"]
[1233,550,0,6000,6000,1500,640,30,0,120,{"$f":"A1235","v":1232},{"$f":"A1237","v":1234},null,"○","○"]
[1234,600,0,6000,6000,1500,540,30,0,120,{"$f":"A1236","v":1233},-1,null,"○","終端"]
[1235,150,0,3000,3000,500,{"$f":"G1239","v":1300},30,0,120,-1,{"$f":"A1239","v":1236},"RCS2-SA6C-30-20","先頭","○"]
[1236,300,0,3000,3000,500,{"$f":"G1240","v":1300},30,0,120,{"$f":"A1238","v":1235},{"$f":"A1240","v":1237},null,"○","○"]
[1237,450,0,3000,3000,500,{"$f":"G1241","v":1300},30,0,120,{"$f":"A1239","v":1236},{"$f":"A1241","v":1238},null,"○","○"]
[1238,500,0,3000,3000,500,1300,30,0,120,{"$f":"A1240","v":1237},{"$f":"A1242","v":1239},null,"○","○"]
[1239,550,0,3000,3000,500,1160,30,0,120,{"$f":"A1241","v":1238},{"$f":"A1243","v":1240},null,"○","○"]
[1240,600,0,3000,3000,500,990,30,0,120,{"$f":"A1242","v":1239},-1,null,"○","終端"]
[1241,600,0,40000,{"$f":"D1244","v":40000},12000,200,30,0,120,-1,{"$f":"A1245","v":1242},"RCS2-SA7C-60-4","先頭","○"]
[1242,700,0,40000,40000,12000,160,30,0,120,{"$f":"A1244","v":1241},{"$f":"A1246","v":1243},null,"○","○"]
[1243,800,0,40000,40000,12000,120,30,0,120,{"$f":"A1245","v":1242},-1,null,"○","終端"]
[1244,600,0,25000,25000,6000,400,30,0,130,-1,{"$f":"A1248","v":1245},"RCS2-SA7C-60-8","先頭","○"]
[1245,700,0,25000,25000,6000,320,30,0,130,{"$f":"A1247","v":1244},{"$f":"A1249","v":1246},null,"○","○"]
[1246,800,0,25000,25000,6000,240,30,0,130,{"$f":"A1248","v":1245},-1,null,"○","終端"]
[1247,500,0,12000,12000,3000,{"$f":"G1251","v":800},30,0,140,-1,{"$f":"A1251","v":1248},"RCS2-SA7C-60-16","先頭","○"]
[1248,600,0,12000,12000,3000,800,30,0,140,{"$f":"A1250","v":1247},{"$f":"A1252","v":1249},null,"○","○"]
[1249,700,0,12000,12000,3000,640,30,0,140,{"$f":"A1251","v":1248},{"$f":"A1253","v":1250},null,"○","○"]
[1250,800,0,12000,12000,3000,480,30,0,140,{"$f":"A1252","v":1249},-1,null,"○","終端"]
[1251,50,0,8000,8000,1400,{"$f":"G1255","v":1200},30,0,108,-1,{"$f":"A1255","v":1252},"RCS2-SA7C-60-24","先頭","○"]
[1252,150,0,8000,8000,1400,{"$f":"G1256","v":1200},30,0,108,{"$f":"A1254","v":1251},1253,null,"○","○"]
[1253,250,0,8000,8000,1400,{"$f":"G1257","v":1200},30,0,108,1252,1254,null,"○","○"]
[1254,500,0,8000,8000,1400,{"$f":"G1258","v":1200},30,0,108,1253,1255,null,"○","○"]
[1255,600,0,8000,8000,1400,1200,30,0,108,1254,1256,null,"○","○"]
[1256,700,0,8000,8000,1400,960,30,0,108,1255,1257,null,"○","○"]
[1257,800,0,8000,8000,1400,720,30,0,108,1256,-1,null,"○","終端"]
[1258,500,0,30000,{"$f":"D1261","v":30000},8000,300,30,0,120,-1,{"$f":"A1262","v":1259},"RCS2-SS7C-60-6","先頭","○"]
[1259,600,0,30000,30000,8000,230,30,0,120,{"$f":"A1261","v":1258},-1,null,"○","終端"]
[1260,450,0,15000,15000,4000,{"$f":"G1264","v":600},30,0,80,-1,{"$f":"A1264","v":1261},"RCS2-SS7C-60-12","先頭","○"]
[1261,500,0,15000,15000,4000,600,30,0,80,{"$f":"A1263","v":1260},{"$f":"A1265","v":1262},null,"○","○"]
[1262,600,0,15000,15000,4000,470,30,0,80,{"$f":"A1264","v":1261},-1,null,"○","終端"]
[1263,200,0,9000,9000,2400,{"$f":"G1267","v":1000},27,0,72,-1,{"$f":"A1267","v":1264},"RCS2-SS7C-60-20","先頭","○"]
[1264,400,0,9000,9000,2400,{"$f":"G1268","v":1000},27,0,72,{"$f":"A1266","v":1263},{"$f":"A1268","v":1265},null,"○","○"]
[1265,450,0,9000,9000,2400,{"$f":"G1269","v":1000},27,0,72,{"$f":"A1267","v":1264},{"$f":"A1269","v":1266},null,"○","○"]
[1266,550,0,9000,9000,2400,1000,27,0,72,{"$f":"A1268","v":1265},{"$f":"A1270","v":1267},null,"○","○"]
[1267,600,0,9000,9000,2400,830,27,0,72,{"$f":"A1269","v":1266},-1,null,"○","終端"]
[1268,400,0,8000,{"$f":"D1271","v":8000},4500,165,30,0,160,-1,-1,"RCS2CR-SA4C-20-2.5","先頭","終端"]
[1269,400,0,6000,{"$f":"D1272","v":6000},2500,330,30,0,160,-1,-1,"RCS2CR-SA4C-20-5","先頭","終端"]
[1270,400,0,4000,{"$f":"D1273","v":4000},1000,665,30,0,160,-1,-1,"RCS2CR-SA4C-20-10","先頭","終端"]
[1271,400,0,2500,{"$f":"D1274","v":2500},600,1060,30,0,120,-1,-1,"RCS2CR-SA4C-20-16","先頭","終端"]
[1272,450,0,12000,{"$f":"D1275","v":12000},4000,200,30,0,160,-1,{"$f":"A1276","v":1273},"RCS2CR-SA5C-20-3","先頭","○"]
[1273,500,0,12000,12000,4000,190,30,0,160,{"$f":"A1275","v":1272},-1,null,"○","終端"]
[1274,450,0,8000,8000,2000,400,30,0,160,-1,{"$f":"A1278","v":1275},"RCS2CR-SA5C-20-6","先頭","○"]
[1275,500,0,8000,8000,2000,380,30,0,160,{"$f":"A1277","v":1274},-1,null,"○","終端"]
[1276,450,0,4000,4000,1000,800,30,0,160,-1,{"$f":"A1280","v":1277},"RCS2CR-SA5C-20-12","先頭","○"]
[1277,500,0,4000,4000,1000,760,30,0,160,{"$f":"A1279","v":1276},-1,null,"○","終端"]
[1278,500,0,2000,2000,500,1300,30,0,120,-1,-1,"RCS2CR-SA5C-20-20","先頭","終端"]
[1279,450,0,18000,{"$f":"D1282","v":18000},6000,200,30,0,160,-1,{"$f":"A1283","v":1280},"RCS2CR-SA6C-30-3","先頭","○"]
[1280,500,0,18000,18000,6000,190,30,0,160,{"$f":"A1282","v":1279},{"$f":"A1284","v":1281},null,"○","○"]
[{"$f":"A1283+1","v":1281},550,0,18000,18000,6000,160,30,0,160,{"$f":"A1283","v":1280},{"$f":"A1285","v":1282},null,{"$f":"IF(K1284=A1283,\"○\",IF(M1284<>0,\"先頭\",\"つなぎまちがい\"))","v":"○"},{"$f":"IF(L1284=A1285,\"○\",IF(L1284<>K1285,\"つなぎまちがい\",\"終端\"))","v":"○"}]
[1282,600,0,18000,18000,6000,135,30,0,160,{"$f":"A1284","v":1281},-1,null,"○","終端"]
[1283,450,0,12000,12000,3000,400,30,0,160,-1,{"$f":"A1287","v":1284},"RCS2CR-SA6C-30-6","先頭","○"]
[1284,500,0,12000,12000,3000,380,30,0,160,{"$f":"A1286","v":1283},{"$f":"A1288","v":1285},null,"○","○"]
[1285,550,0,12000,12000,3000,320,30,0,160,{"$f":"A1287","v":1284},{"$f":"A1289","v":1286},null,"○","○"]
[1286,600,0,12000,12000,3000,270,30,0,160,{"$f":"A1288","v":1285},-1,null,"○","終端"]
[1287,450,0,6000,6000,1500,800,30,0,120,-1,{"$f":"A1291","v":1288},"RCS2CR-SA6C-30-12","先頭","○"]
[1288,500,0,6000,6000,1500,760,30,0,120,{"$f":"A1290","v":1287},{"$f":"A1292","v":1289},null,"○","○"]
[1289,550,0,6000,6000,1500,640,30,0,120,{"$f":"A1291","v":1288},{"$f":"A1293","v":1290},null,"○","○"]
[1290,600,0,6000,6000,1500,540,30,0,120,{"$f":"A1292","v":1289},-1,null,"○","終端"]
[1291,150,0,3000,3000,500,1300,30,0,120,-1,{"$f":"A1295","v":1292},"RCS2CR-SA6C-30-20","先頭","○"]
[1292,300,0,3000,3000,500,1300,30,0,120,{"$f":"A1294","v":1291},{"$f":"A1296","v":1293},null,"○","○"]
[1293,500,0,3000,3000,500,1300,30,0,120,{"$f":"A1295","v":1292},{"$f":"A1297","v":1294},null,"○","○"]
[1294,550,0,3000,3000,500,1160,30,0,120,{"$f":"A1296","v":1293},{"$f":"A1298","v":1295},null,"○","○"]
[1295,600,0,3000,3000,500,990,30,0,120,{"$f":"A1297","v":1294},-1,null,"○","終端"]
[1296,600,0,40000,{"$f":"D1299","v":40000},12000,200,30,0,120,-1,{"$f":"A1300","v":1297},"RCS2CR-SA7C-60-4","先頭","○"]
[1297,700,0,40000,40000,12000,160,30,0,120,{"$f":"A1299","v":1296},{"$f":"A1301","v":1298},null,"○","○"]
[1298,800,0,40000,40000,12000,120,30,0,120,{"$f":"A1300","v":1297},-1,null,"○","終端"]
[1299,600,0,25000,25000,6000,400,30,0,130,-1,{"$f":"A1303","v":1300},"RCS2CR-SA7C-60-8","先頭","○"]
[1300,700,0,25000,25000,6000,320,30,0,130,{"$f":"A1302","v":1299},{"$f":"A1304","v":1301},null,"○","○"]
[1301,800,0,25000,25000,6000,240,30,0,130,{"$f":"A1303","v":1300},-1,null,"○","終端"]
[1302,600,0,12000,12000,3000,800,30,0,140,-1,{"$f":"A1306","v":1303},"RCS2CR-SA7C-60-16","先頭","○"]
[1303,700,0,12000,12000,3000,640,30,0,140,{"$f":"A1305","v":1302},{"$f":"A1307","v":1304},null,"○","○"]
[1304,800,0,12000,12000,3000,480,30,0,140,{"$f":"A1306","v":1303},-1,null,"○","終端"]
[1305,50,0,8000,8000,1400,1200,30,0,108,-1,{"$f":"A1309","v":1306},"RCS2CR-SA7C-60-24","先頭","○"]
[1306,150,0,8000,8000,1400,1200,30,0,108,{"$f":"A1308","v":1305},{"$f":"A1310","v":1307},null,"○","○"]
[1307,250,0,8000,8000,1400,1200,30,0,108,{"$f":"A1309","v":1306},{"$f":"A1311","v":1308},null,"○","○"]
[1308,600,0,8000,8000,1400,1200,30,0,108,{"$f":"A1310","v":1307},{"$f":"A1312","v":1309},null,"○","○"]
[1309,700,0,8000,8000,1400,960,30,0,108,{"$f":"A1311","v":1308},{"$f":"A1313","v":1310},null,"○","○"]
[1310,800,0,8000,8000,1400,720,30,0,108,{"$f":"A1312","v":1309},-1,null,"○","終端"]
[1311,500,0,30000,{"$f":"D1314","v":30000},8000,300,30,0,120,-1,{"$f":"A1315","v":1312},"RCS2CR-SS7C-60-6","先頭","○"]
[1312,600,0,30000,30000,8000,230,30,0,120,{"$f":"A1314","v":1311},-1,null,"○","終端"]
[1313,500,0,15000,15000,4000,600,30,0,80,-1,{"$f":"A1317","v":1314},"RCS2CR-SS7C-60-12","先頭","○"]
[1314,600,0,15000,15000,4000,470,30,0,80,{"$f":"A1316","v":1313},-1,null,"○","終端"]
[1315,200,0,9000,9000,2400,1000,27,0,72,-1,{"$f":"A1319","v":1316},"RCS2CR-SS7C-60-20","先頭","○"]
[1316,400,0,9000,9000,2400,1000,27,0,72,{"$f":"A1318","v":1315},{"$f":"A1320","v":1317},null,"○","○"]
[1317,550,0,9000,9000,2400,1000,27,0,72,{"$f":"A1319","v":1316},{"$f":"A1321","v":1318},null,"○","○"]
[1318,600,0,9000,9000,2400,830,27,0,72,{"$f":"A1320","v":1317},-1,null,"○","終端"]
[1319,300,0,8000,{"$f":"D1322","v":8000},4500,165,30,0,160,-1,-1,"RCS2-SA4D-20-2.5","先頭","終端"]
[1320,300,0,6000,6000,2500,330,30,0,160,-1,-1,"RCS2-SA4D-20-5","先頭","終端"]
[1321,300,0,4000,4000,1000,665,30,0,160,-1,-1,"RCS2-SA4D-20-10","先頭","終端"]
[1322,450,0,12000,12000,4000,200,30,0,160,-1,{"$f":"A1326","v":1323},"RCS2-SA5D-20-3","先頭","○"]
[1323,500,0,12000,12000,4000,190,30,0,160,{"$f":"A1325","v":1322},-1,null,"○","終端"]
[1324,450,0,8000,8000,2000,400,30,0,160,-1,{"$f":"A1328","v":1325},"RCS2-SA5D-20-6","先頭","○"]
[1325,500,0,8000,8000,2000,380,30,0,160,{"$f":"A1327","v":1324},-1,null,"○","終端"]
[1326,450,0,4000,4000,1000,800,30,0,160,-1,{"$f":"A1330","v":1327},"RCS2-SA5D-20-12","先頭","○"]
[1327,500,0,4000,4000,1000,760,30,0,160,{"$f":"A1329","v":1326},-1,null,"○","終端"]
[1328,450,0,18000,18000,6000,200,30,0,160,-1,{"$f":"A1332","v":1329},"RCS2-SA6D-30-3","先頭","○"]
[1329,500,0,18000,18000,6000,190,30,0,160,{"$f":"A1331","v":1328},{"$f":"A1333","v":1330},null,"○","○"]
[1330,550,0,18000,18000,6000,160,30,0,160,{"$f":"A1332","v":1329},{"$f":"A1334","v":1331},null,"○","○"]
[1331,600,0,18000,18000,6000,135,30,0,160,{"$f":"A1333","v":1330},-1,null,"○","終端"]
[1332,450,0,12000,12000,3000,400,30,0,160,-1,{"$f":"A1336","v":1333},"RCS2-SA6D-30-6","先頭","○"]
[1333,500,0,12000,12000,3000,380,30,0,160,{"$f":"A1335","v":1332},{"$f":"A1337","v":1334},null,"○","○"]
[1334,550,0,12000,12000,3000,320,30,0,160,{"$f":"A1336","v":1333},{"$f":"A1338","v":1335},null,"○","○"]
[1335,600,0,12000,12000,3000,270,30,0,160,{"$f":"A1337","v":1334},-1,null,"○","終端"]
[1336,150,0,6000,6000,1500,800,30,0,120,-1,{"$f":"A1340","v":1337},"RCS2-SA6D-30-12","先頭","○"]
[1337,300,0,6000,6000,1500,800,30,0,120,{"$f":"A1339","v":1336},{"$f":"A1341","v":1338},null,"○","○"]
[1338,450,0,6000,6000,1500,800,30,0,120,{"$f":"A1340","v":1337},{"$f":"A1342","v":1339},null,"○","○"]
[1339,500,0,6000,6000,1500,760,30,0,120,{"$f":"A1341","v":1338},{"$f":"A1343","v":1340},null,"○","○"]
[1340,550,0,6000,6000,1500,640,30,0,120,{"$f":"A1342","v":1339},{"$f":"A1344","v":1341},null,"○","○"]
[1341,600,0,6000,6000,1500,540,30,0,120,{"$f":"A1343","v":1340},-1,null,"○","終端"]
[1342,450,0,12000,12000,4000,200,30,0,160,-1,{"$f":"A1346","v":1343},"RCS2CR-SA5D-20-3","先頭","○"]
[1343,500,0,12000,12000,4000,190,30,0,160,{"$f":"A1345","v":1342},-1,null,"○","終端"]
[1344,450,0,8000,8000,2000,400,30,0,160,-1,{"$f":"A1348","v":1345},"RCS2CR-SA5D-20-6","先頭","○"]
[{"$f":"A1347+1","v":1345},500,0,8000,8000,2000,380,30,0,160,{"$f":"A1347","v":1344},-1,null,{"$f":"IF(K1348=A1347,\"○\",IF(M1348<>0,\"先頭\",\"つなぎまちがい\"))","v":"○"},{"$f":"IF(L1348=A1349,\"○\",IF(L1348<>K1349,\"つなぎまちがい\",\"終端\"))","v":"終端"}]
[1346,450,0,4000,4000,1000,800,30,0,160,-1,{"$f":"A1350","v":1347},"RCS2CR-SA5D-20-12","先頭","○"]
[1347,500,0,4000,4000,1000,760,30,0,160,{"$f":"A1349","v":1346},-1,null,"○","終端"]
[1348,450,0,18000,18000,6000,200,30,0,160,-1,{"$f":"A1352","v":1349},"RCS2CR-SA6D-30-3","先頭","○"]
[1349,500,0,18000,18000,6000,190,30,0,160,{"$f":"A1351","v":1348},{"$f":"A1353","v":1350},null,"○","○"]
[1350,550,0,18000,18000,6000,160,30,0,160,{"$f":"A1352","v":1349},{"$f":"A1354","v":1351},null,"○","○"]
[1351,600,0,18000,18000,6000,135,30,0,160,{"$f":"A1353","v":1350},-1,null,"○","終端"]
[1352,450,0,12000,12000,3000,400,30,0,160,-1,{"$f":"A1356","v":1353},"RCS2CR-SA6D-30-6","先頭","○"]
[1353,500,0,12000,12000,3000,380,30,0,160,{"$f":"A1355","v":1352},{"$f":"A1357","v":1354},null,"○","○"]
[1354,550,0,12000,12000,3000,320,30,0,160,{"$f":"A1356","v":1353},{"$f":"A1358","v":1355},null,"○","○"]
[1355,600,0,12000,12000,3000,270,30,0,160,{"$f":"A1357","v":1354},-1,null,"○","終端"]
[1356,150,0,6000,6000,1500,800,30,0,120,-1,{"$f":"A1360","v":1357},"RCS2CR-SA6D-30-12","先頭","○"]
[1357,300,0,6000,6000,1500,800,30,0,120,{"$f":"A1359","v":1356},{"$f":"A1361","v":1358},null,"○","○"]
[1358,450,0,6000,6000,1500,800,30,0,120,{"$f":"A1360","v":1357},{"$f":"A1362","v":1359},null,"○","○"]
[1359,500,0,6000,6000,1500,760,30,0,120,{"$f":"A1361","v":1358},{"$f":"A1363","v":1360},null,"○","○"]
[1360,550,0,6000,6000,1500,640,30,0,120,{"$f":"A1362","v":1359},{"$f":"A1364","v":1361},null,"○","○"]
[1361,600,0,6000,6000,1500,540,30,0,120,{"$f":"A1363","v":1360},-1,null,"○","終端"]
[1362,400,0,8000,{"$f":"D1365","v":8000},4500,165,30,0,160,-1,-1,"RCS2-SA4R-20-2.5","先頭","終端"]
[1363,400,0,6000,{"$f":"D1366","v":6000},2500,330,30,0,160,-1,-1,"RCS2-SA4R-20-5","先頭","終端"]
[1364,400,0,4000,{"$f":"D1367","v":4000},1000,665,30,0,160,-1,-1,"RCS2-SA4R-20-10","先頭","終端"]
[1365,450,0,12000,{"$f":"D1368","v":12000},4000,200,30,0,160,-1,{"$f":"A1369","v":1366},"RCS2-SA5R-20-3","先頭","○"]
[1366,500,0,12000,12000,4000,190,30,0,160,{"$f":"A1368","v":1365},-1,null,"○","終端"]
[1367,450,0,8000,8000,2000,400,30,0,160,-1,{"$f":"A1371","v":1368},"RCS2-SA5R-20-6","先頭","○"]
[1368,500,0,8000,8000,2000,380,30,0,160,{"$f":"A1370","v":1367},-1,null,"○","終端"]
[1369,450,0,4000,4000,1000,800,30,0,160,-1,{"$f":"A1373","v":1370},"RCS2-SA5R-20-12","先頭","○"]
[1370,500,0,4000,4000,1000,760,30,0,160,{"$f":"A1372","v":1369},-1,null,"○","終端"]
[1371,450,0,18000,{"$f":"D1374","v":18000},6000,200,30,0,160,-1,{"$f":"A1375","v":1372},"RCS2-SA6R-30-3","先頭","○"]
[1372,500,0,18000,18000,6000,190,30,0,160,{"$f":"A1374","v":1371},{"$f":"A1376","v":1373},null,"○","○"]
[1373,550,0,18000,18000,6000,160,30,0,160,{"$f":"A1375","v":1372},{"$f":"A1377","v":1374},null,"○","○"]
[1374,600,0,18000,18000,6000,135,30,0,160,{"$f":"A1376","v":1373},-1,null,"○","終端"]
[1375,450,0,12000,12000,3000,400,30,0,160,-1,{"$f":"A1379","v":1376},"RCS2-SA6R-30-6","先頭","○"]
[1376,500,0,12000,12000,3000,380,30,0,160,{"$f":"A1378","v":1375},{"$f":"A1380","v":1377},null,"○","○"]
[1377,550,0,12000,12000,3000,320,30,0,160,{"$f":"A1379","v":1376},{"$f":"A1381","v":1378},null,"○","○"]
[1378,600,0,12000,12000,3000,270,30,0,160,{"$f":"A1380","v":1377},-1,null,"○","終端"]
[1379,150,0,6000,6000,1500,800,30,0,120,-1,{"$f":"A1383","v":1380},"RCS2-SA6R-30-12","先頭","○"]
[1380,300,0,6000,6000,1500,800,30,0,120,{"$f":"A1382","v":1379},{"$f":"A1384","v":1381},null,"○","○"]
[1381,450,0,6000,6000,1500,800,30,0,120,{"$f":"A1383","v":1380},{"$f":"A1385","v":1382},null,"○","○"]
[1382,500,0,6000,6000,1500,760,30,0,120,{"$f":"A1384","v":1381},{"$f":"A1386","v":1383},null,"○","○"]
[1383,550,0,6000,6000,1500,640,30,0,120,{"$f":"A1385","v":1382},{"$f":"A1387","v":1384},null,"○","○"]
[1384,600,0,6000,6000,1500,540,30,0,120,{"$f":"A1386","v":1383},-1,null,"○","終端"]
[1385,600,0,40000,{"$f":"D1388","v":40000},12000,200,30,0,120,-1,{"$f":"A1389","v":1386},"RCS2-SA7R-60-4","先頭","○"]
[1386,700,0,40000,40000,12000,160,30,0,120,{"$f":"A1388","v":1385},{"$f":"A1390","v":1387},null,"○","○"]
[1387,800,0,40000,40000,12000,120,30,0,120,{"$f":"A1389","v":1386},-1,null,"○","終端"]
[1388,600,0,25000,25000,6000,400,30,0,130,-1,{"$f":"A1392","v":1389},"RCS2-SA7R-60-8","先頭","○"]
[1389,700,0,25000,25000,6000,320,30,0,130,{"$f":"A1391","v":1388},{"$f":"A1393","v":1390},null,"○","○"]
[1390,800,0,25000,25000,6000,240,30,0,130,{"$f":"A1392","v":1389},-1,null,"○","終端"]
[1391,600,0,12000,12000,3000,800,30,0,140,-1,{"$f":"A1395","v":1392},"RCS2-SA7R-60-16","先頭","○"]
[1392,700,0,12000,12000,3000,640,30,0,140,{"$f":"A1394","v":1391},{"$f":"A1396","v":1393},null,"○","○"]
[1393,800,0,12000,12000,3000,480,30,0,140,{"$f":"A1395","v":1392},-1,null,"○","終端"]
[1394,500,0,30000,{"$f":"D1397","v":30000},8000,300,30,0,120,-1,{"$f":"A1398","v":1395},"RCS2-SS7R-60-6","先頭","○"]
[1395,600,0,30000,30000,8000,230,30,0,120,{"$f":"A1397","v":1394},-1,null,"○","終端"]
[1396,500,0,15000,15000,4000,600,30,0,80,-1,{"$f":"A1400","v":1397},"RCS2-SS7R-60-12","先頭","○"]
[1397,600,0,15000,15000,4000,470,30,0,80,{"$f":"A1399","v":1396},-1,null,"○","終端"]
[1398,300,0,12000,12000,4000,150,30,0,160,-1,-1,"RCS2-RA4C-20-3","先頭","終端"]
[1399,300,0,6000,6000,2000,300,30,0,160,-1,-1,"RCS2-RA4C-20-6","先頭","終端"]
[1400,300,0,3000,3000,1000,600,30,0,160,-1,-1,"RCS2-RA4C-20-12","先頭","終端"]
[1401,300,0,18000,18000,6500,150,30,0,160,-1,-1,"RCS2-RA4C-30-3","先頭","終端"]
[1402,300,0,9000,9000,3000,300,30,0,160,-1,-1,"RCS2-RA4C-30-6","先頭","終端"]
[1403,300,0,4000,4000,1500,600,30,0,160,-1,-1,"RCS2-RA4C-30-12","先頭","終端"]
[1404,250,0,50000,{"$f":"D1407","v":50000},11500,200,30,0,120,-1,{"$f":"A1408","v":1405},"RCS2-RA5C-60-4","先頭","○"]
[1405,300,0,50000,50000,11500,188,30,0,120,{"$f":"A1407","v":1404},-1,null,"○","終端"]
[1406,250,0,25000,25000,5000,400,30,0,120,-1,{"$f":"A1410","v":1407},"RCS2-RA5C-60-8","先頭","○"]
[1407,300,0,25000,25000,5000,377,30,0,120,{"$f":"A1409","v":1406},-1,null,"○","終端"]
[1408,250,0,12000,12000,2000,800,30,0,120,-1,{"$f":"A1412","v":1409},"RCS2-RA5C-60-16","先頭","○"]
[{"$f":"A1411+1","v":1409},300,0,12000,12000,2000,755,30,0,120,{"$f":"A1411","v":1408},-1,null,{"$f":"IF(K1412=A1411,\"○\",IF(M1412<>0,\"先頭\",\"つなぎまちがい\"))","v":"○"},{"$f":"IF(L1412=A1413,\"○\",IF(L1412<>K1413,\"つなぎまちがい\",\"終端\"))","v":"終端"}]
[1410,250,0,60000,{"$f":"D1413","v":60000},18000,200,30,0,120,-1,{"$f":"A1414","v":1411},"RCS2-RA5C-100-4","先頭","○"]
[1411,300,0,60000,60000,18000,188,30,0,120,{"$f":"A1413","v":1410},-1,null,"○","終端"]
[1412,100,0,30000,30000,9000,400,30,0,120,-1,{"$f":"A1416","v":1413},"RCS2-RA5C-100-8","先頭","○"]
[1413,200,0,30000,30000,9000,400,30,0,120,{"$f":"A1415","v":1412},{"$f":"A1417","v":1414},null,"○","○"]
[1414,250,0,30000,30000,9000,400,30,0,120,{"$f":"A1416","v":1413},{"$f":"A1418","v":1415},null,"○","○"]
[1415,300,0,30000,30000,9000,377,30,0,120,{"$f":"A1417","v":1414},-1,null,"○","終端"]
[1416,250,0,15000,15000,3500,800,30,0,120,-1,{"$f":"A1420","v":1417},"RCS2-RA5C-100-16","先頭","○"]
[1417,300,0,15000,15000,3500,755,30,0,120,{"$f":"A1419","v":1416},-1,null,{"$f":"IF(K1420=A1419,\"○\",IF(M1420<>0,\"先頭\",\"つなぎまちがい\"))","v":"○"},{"$f":"IF(L1420=A1421,\"○\",IF(L1420<>K1421,\"つなぎまちがい\",\"終端\"))","v":"終端"}]
[{"$f":"A1420+1","v":1418},1100,0,45000,{"$f":"D1421","v":45000},-1,1200,35,0,110,-1,{"$f":"A1422","v":1419},"ISB-MXMX-200-20","先頭","○"]
[1419,{"$f":"B1421+100","v":1200},0,45000,45000,-1,1100,35,0,110,{"$f":"A1421","v":1418},1420,null,"○","○"]
[1420,1300,0,45000,45000,-1,1000,35,0,110,1419,1421,null,"○","○"]
[1421,1400,0,45000,45000,-1,950,35,0,110,1420,1422,null,"○","○"]
[1422,1500,0,45000,45000,-1,800,35,0,110,1421,1423,null,"○","○"]
[1423,1600,0,45000,45000,-1,700,35,0,110,1422,1424,null,"○","○"]
[1424,1700,0,45000,45000,-1,600,35,0,110,1423,1425,null,"○","○"]
[1425,1800,0,45000,45000,-1,550,35,0,110,1424,1426,null,"○","○"]
[1426,1900,0,45000,45000,-1,500,35,0,110,1425,1427,null,"○","○"]
[1427,2000,0,45000,45000,-1,450,35,0,110,1426,-1,null,"○","終端"]
[1428,1100,0,30000,{"$f":"D1431","v":30000},-1,1800,35,0,93.3,-1,{"$f":"A1432","v":1429},"ISB-MXMX-200-30","先頭","○"]
[1429,1200,0,30000,30000,-1,1650,35,0,93.3,{"$f":"A1431","v":1428},1430,null,"○","○"]
[1430,1300,0,30000,30000,-1,1500,35,0,93.3,1429,1431,null,"○","○"]
[1431,1400,0,30000,30000,-1,1425,35,0,93.3,1430,1432,null,"○","○"]
[1432,1500,0,30000,30000,-1,1200,35,0,93.3,1431,1433,null,"○","○"]
[1433,1600,0,30000,30000,-1,1050,35,0,93.3,1432,1434,null,"○","○"]
[1434,1700,0,30000,30000,-1,900,35,0,93.3,1433,1435,null,"○","○"]
[1435,1800,0,30000,30000,-1,825,35,0,93.3,1434,1436,null,"○","○"]
[1436,1900,0,30000,30000,-1,750,35,0,93.3,1435,1437,null,"○","○"]
[1437,2000,0,30000,30000,-1,675,35,0,93.3,1436,-1,null,"○","終端"]
[{"$f":"A1440+1","v":1438},1200,14,45000,{"$f":"D1441","v":45000},-1,1200,35,0,110,-1,{"$f":"A1442","v":1439},"ISB-LXMX-200-20","先頭","○"]
[1439,{"$f":"B1441+100","v":1300},14,45000,45000,-1,1150,35,0,110,{"$f":"A1441","v":1438},1440,null,"○","○"]
[1440,1400,14,45000,45000,-1,1000,35,0,110,1439,1441,null,"○","○"]
[1441,1500,14,45000,45000,-1,950,35,0,110,1440,1442,null,"○","○"]
[1442,1600,14,45000,45000,-1,830,35,0,110,1441,1443,null,"○","○"]
[1443,1700,14,45000,45000,-1,740,35,0,110,1442,1444,null,"○","○"]
[1444,1800,14,45000,45000,-1,650,35,0,110,1443,1445,null,"○","○"]
[1445,1900,14,45000,45000,-1,590,35,0,110,1444,1446,null,"○","○"]
[1446,2000,14,45000,45000,-1,540,35,0,110,1445,1447,null,"○","○"]
[1447,2100,14,45000,45000,-1,490,35,0,110,1446,1448,null,"○","○"]
[1448,2200,14,45000,45000,-1,440,35,0,110,1447,1449,null,"○","○"]
[1449,2300,14,45000,45000,-1,410,35,0,110,1448,1450,null,"○","○"]
[1450,2400,14,45000,45000,-1,370,35,0,110,1449,1451,null,"○","○"]
[1451,2500,14,45000,45000,-1,340,35,0,110,1450,-1,null,"○","終端"]
[{"$f":"A1454+1","v":1452},1200,14,90000,90000,-1,1200,35,0,115,-1,{"$f":"A1456","v":1453},"ISB-LXMX-400-20","先頭","○"]
[1453,{"$f":"B1455+100","v":1300},14,90000,90000,-1,1150,35,0,115,{"$f":"A1455","v":1452},1454,null,"○","○"]
[1454,1400,14,90000,90000,-1,1000,35,0,115,1453,1455,null,"○","○"]
[1455,1500,14,90000,90000,-1,950,35,0,115,1454,1456,null,"○","○"]
[1456,1600,14,90000,90000,-1,830,35,0,115,1455,1457,null,"○","○"]
[1457,1700,14,90000,90000,-1,740,35,0,115,1456,1458,null,"○","○"]
[1458,1800,14,90000,90000,-1,650,35,0,115,1457,1459,null,"○","○"]
[1459,1900,14,90000,90000,-1,590,35,0,115,1458,1460,null,"○","○"]
[1460,2000,14,90000,90000,-1,540,35,0,115,1459,1461,null,"○","○"]
[1461,2100,14,90000,90000,-1,490,35,0,115,1460,1462,null,"○","○"]
[1462,2200,14,90000,90000,-1,440,35,0,115,1461,1463,null,"○","○"]
[1463,2300,14,90000,90000,-1,410,35,0,115,1462,1464,null,"○","○"]
[1464,2400,14,90000,90000,-1,370,35,0,115,1463,1465,null,"○","○"]
[1465,2500,14,90000,90000,-1,340,35,0,115,1464,-1,null,"○","終端"]
[1466,1200,14,40000,40000,-1,2400,35,0,93.3,-1,{"$f":"A1470","v":1467},"ISB-LXMX-400-40","先頭","○"]
[1467,{"$f":"B1469+100","v":1300},14,40000,40000,-1,2300,35,0,93.3,{"$f":"A1469","v":1466},1468,null,"○","○"]
[1468,1400,14,40000,40000,-1,2000,35,0,93.3,1467,1469,null,"○","○"]
[1469,1500,14,40000,40000,-1,1900,35,0,93.3,1468,1470,null,"○","○"]
[1470,1600,14,40000,40000,-1,1660,35,0,93.3,1469,1471,null,"○","○"]
[1471,1700,14,40000,40000,-1,1480,35,0,93.3,1470,1472,null,"○","○"]
[1472,1800,14,40000,40000,-1,1300,35,0,93.3,1471,1473,null,"○","○"]
[1473,1900,14,40000,40000,-1,1180,35,0,93.3,1472,1474,null,"○","○"]
[1474,2000,14,40000,40000,-1,1080,35,0,93.3,1473,1475,null,"○","○"]
[1475,2100,14,40000,40000,-1,980,35,0,93.3,1474,1476,null,"○","○"]
[1476,2200,14,40000,40000,-1,880,35,0,93.3,1475,1477,null,"○","○"]
[1477,2300,14,40000,40000,-1,820,35,0,93.3,1476,1478,null,"○","○"]
[1478,2400,14,40000,40000,-1,740,35,0,93.3,1477,1479,null,"○","○"]
[1479,2500,14,40000,40000,-1,680,35,0,93.3,1478,-1,null,"○","終端"]
[{"$f":"A1482+1","v":1480},1200,14,45000,45000,-1,1200,35,0,110,-1,{"$f":"A1484","v":1481},"ISB-LXUWX-200-20","先頭","○"]
[1481,{"$f":"B1483+100","v":1300},14,45000,45000,-1,1150,35,0,110,{"$f":"A1483","v":1480},1482,null,{"$f":"IF(K1484=A1483,\"○\",IF(M1484<>0,\"先頭\",\"つなぎまちがい\"))","v":"○"},{"$f":"IF(L1484=A1485,\"○\",IF(L1484<>K1485,\"つなぎまちがい\",\"終端\"))","v":"○"}]
[1482,1400,14,45000,45000,-1,1000,35,0,110,1481,1483,null,"○","○"]
[1483,1500,14,45000,45000,-1,950,35,0,110,1482,1484,null,"○","○"]
[1484,1600,14,45000,45000,-1,830,35,0,110,1483,1485,null,"○","○"]
[1485,1700,14,45000,45000,-1,740,35,0,110,1484,1486,null,"○","○"]
[1486,1800,14,45000,45000,-1,650,35,0,110,1485,1487,null,"○","○"]
[1487,1900,14,45000,45000,-1,590,35,0,110,1486,1488,null,"○","○"]
[1488,2000,14,45000,45000,-1,540,35,0,110,1487,1489,null,"○","○"]
[1489,2100,14,45000,45000,-1,490,35,0,110,1488,1490,null,"○","○"]
[1490,2200,14,45000,45000,-1,440,35,0,110,1489,1491,null,"○","○"]
[1491,2300,14,45000,45000,-1,410,35,0,110,1490,1492,null,"○","○"]
[1492,2400,14,45000,45000,-1,370,35,0,110,1491,1493,null,"○","○"]
[1493,2500,14,45000,45000,-1,340,35,0,110,1492,-1,null,"○","終端"]
[1494,1200,14,90000,90000,-1,1200,35,0,115,-1,{"$f":"A1498","v":1495},"ISB-LXUWX-400-20","先頭","○"]
[1495,{"$f":"B1497+100","v":1300},14,90000,90000,-1,1150,35,0,115,{"$f":"A1497","v":1494},1496,null,"○","○"]
[1496,1400,14,90000,90000,-1,1000,35,0,115,1495,1497,null,"○","○"]
[1497,1500,14,90000,90000,-1,950,35,0,115,1496,1498,null,"○","○"]
[1498,1600,14,90000,90000,-1,830,35,0,115,1497,1499,null,"○","○"]
[1499,1700,14,90000,90000,-1,740,35,0,115,1498,1500,null,"○","○"]
[1500,1800,14,90000,90000,-1,650,35,0,115,1499,1501,null,"○","○"]
[1501,1900,14,90000,90000,-1,590,35,0,115,1500,1502,null,"○","○"]
[1502,2000,14,90000,{"$f":"D1505","v":90000},-1,540,35,0,115,1501,1503,null,"○","○"]
[1503,2100,14,90000,90000,-1,490,35,0,115,1502,1504,null,"○","○"]
[1504,2200,14,90000,90000,-1,440,35,0,115,1503,1505,null,"○","○"]
[1505,2300,14,90000,90000,-1,410,35,0,115,1504,1506,null,"○","○"]
[1506,2400,14,90000,90000,-1,370,35,0,115,1505,1507,null,"○","○"]
[1507,2500,14,90000,90000,-1,340,35,0,115,1506,-1,null,"○","終端"]
[1508,1200,14,40000,40000,-1,2400,35,0,93.3,-1,{"$f":"A1512","v":1509},"ISB-LXUWX-400-40","先頭","○"]
[1509,{"$f":"B1511+100","v":1300},14,40000,40000,-1,2300,35,0,93.3,{"$f":"A1511","v":1508},1510,null,"○","○"]
[1510,1400,14,40000,40000,-1,2000,35,0,93.3,1509,1511,null,"○","○"]
[1511,1500,14,40000,40000,-1,1900,35,0,93.3,1510,1512,null,"○","○"]
[1512,1600,14,40000,40000,-1,1660,35,0,93.3,1511,1513,null,"○","○"]
[1513,1700,14,40000,40000,-1,1480,35,0,93.3,1512,1514,null,"○","○"]
[1514,1800,14,40000,40000,-1,1300,35,0,93.3,1513,1515,null,"○","○"]
[1515,1900,14,40000,40000,-1,1180,35,0,93.3,1514,1516,null,"○","○"]
[1516,2000,14,40000,40000,-1,1080,35,0,93.3,1515,1517,null,"○","○"]
[1517,2100,14,40000,40000,-1,980,35,0,93.3,1516,1518,null,"○","○"]
[1518,2200,14,40000,40000,-1,880,35,0,93.3,1517,1519,null,"○","○"]
[1519,2300,14,40000,40000,-1,820,35,0,93.3,1518,1520,null,"○","○"]
[1520,2400,14,40000,40000,-1,740,35,0,93.3,1519,1521,null,"○","○"]
[1521,2500,14,40000,40000,-1,680,35,0,93.3,1520,-1,null,"○","終端"]
[{"$f":"A1524+1","v":1522},1100,0,45000,45000,-1,1200,30,0,80,-1,{"$f":"A1526","v":1523},"ISDB-MX-200-20","先頭","○"]
[1523,{"$f":"B1525+100","v":1200},0,45000,45000,-1,1100,30,0,80,{"$f":"A1525","v":1522},{"$f":"A1527","v":1524},null,"○","○"]
[1524,{"$f":"B1526+100","v":1300},0,45000,45000,-1,1000,30,0,80,{"$f":"A1526","v":1523},{"$f":"A1528","v":1525},null,"○","○"]
[1525,{"$f":"B1527+100","v":1400},0,45000,45000,-1,950,30,0,80,{"$f":"A1527","v":1524},{"$f":"A1529","v":1526},null,"○","○"]
[1526,{"$f":"B1528+100","v":1500},0,45000,45000,-1,800,30,0,80,{"$f":"A1528","v":1525},{"$f":"A1530","v":1527},null,"○","○"]
[1527,{"$f":"B1529+100","v":1600},0,45000,45000,-1,700,30,0,80,{"$f":"A1529","v":1526},-1,null,"○","終端"]
[{"$f":"A1530+1","v":1528},1100,0,30000,30000,-1,1800,30,0,80,-1,{"$f":"A1532","v":1529},"ISDB-MX-200-30","先頭","○"]
[1529,{"$f":"B1531+100","v":1200},0,30000,30000,-1,1650,30,0,80,{"$f":"A1531","v":1528},{"$f":"A1533","v":1530},null,"○","○"]
[1530,{"$f":"B1532+100","v":1300},0,30000,30000,-1,1500,30,0,80,{"$f":"A1532","v":1529},{"$f":"A1534","v":1531},null,"○","○"]
[1531,{"$f":"B1533+100","v":1400},0,30000,30000,-1,1425,30,0,80,{"$f":"A1533","v":1530},{"$f":"A1535","v":1532},null,"○","○"]
[1532,{"$f":"B1534+100","v":1500},0,30000,30000,-1,1200,30,0,80,{"$f":"A1534","v":1531},{"$f":"A1536","v":1533},null,"○","○"]
[1533,{"$f":"B1535+100","v":1600},0,30000,30000,-1,1050,30,0,80,{"$f":"A1535","v":1532},-1,null,"○","終端"]
[{"$f":"A1536+1","v":1534},1200,0,45000,45000,-1,1200,30,0,80,-1,{"$f":"A1538","v":1535},"ISDB-LX-200-20","先頭","○"]
[1535,{"$f":"B1537+100","v":1300},0,45000,45000,-1,1150,30,0,80,{"$f":"A1537","v":1534},{"$f":"A1539","v":1536},null,"○","○"]
[1536,{"$f":"B1538+100","v":1400},0,45000,45000,-1,1000,30,0,80,{"$f":"A1538","v":1535},{"$f":"A1540","v":1537},null,"○","○"]
[1537,{"$f":"B1539+100","v":1500},0,45000,45000,-1,950,30,0,80,{"$f":"A1539","v":1536},{"$f":"A1541","v":1538},null,"○","○"]
[1538,{"$f":"B1540+100","v":1600},0,45000,45000,-1,830,30,0,80,{"$f":"A1540","v":1537},-1,null,"○","終端"]
[1539,1500,0,15000,15000,-1,1800,30,0,80,-1,{"$f":"A1543","v":1540},"ISDB-LX-200-40","先頭","○"]
[1540,{"$f":"B1542+100","v":1600},0,15000,15000,-1,1660,30,0,80,{"$f":"A1542","v":1539},-1,null,"○","終端"]
[{"$f":"A1543+1","v":1541},1200,0,90000,90000,-1,1200,30,0,80,-1,{"$f":"A1545","v":1542},"ISDB-LX-400-20","先頭","○"]
[1542,{"$f":"B1544+100","v":1300},0,90000,90000,-1,1150,30,0,80,{"$f":"A1544","v":1541},{"$f":"A1546","v":1543},null,"○","○"]
[1543,{"$f":"B1545+100","v":1400},0,90000,90000,-1,1000,30,0,80,{"$f":"A1545","v":1542},{"$f":"A1547","v":1544},null,"○","○"]
[1544,{"$f":"B1546+100","v":1500},0,90000,90000,-1,950,30,0,80,{"$f":"A1546","v":1543},{"$f":"A1548","v":1545},null,"○","○"]
[1545,{"$f":"B1547+100","v":1600},0,90000,90000,-1,830,30,0,80,{"$f":"A1547","v":1544},-1,null,{"$f":"IF(K1548=A1547,\"○\",IF(M1548<>0,\"先頭\",\"つなぎまちがい\"))","v":"○"},{"$f":"IF(L1548=A1549,\"○\",IF(L1548<>K1549,\"つなぎまちがい\",\"終端\"))","v":"終端"}]
[1546,1500,0,40000,40000,-1,1800,30,0,80,-1,{"$f":"A1550","v":1547},"ISDB-LX-400-40","先頭","○"]
[1547,{"$f":"B1549+100","v":1600},0,40000,40000,-1,1660,30,0,80,{"$f":"A1549","v":1546},-1,null,"○","終端"]
[{"$f":"A1550+1","v":1548},1100,0,45000,45000,-1,1200,30,0,80,-1,{"$f":"A1552","v":1549},"ISDBCR-MX-200-20","先頭","○"]
[1549,{"$f":"B1551+100","v":1200},0,45000,45000,-1,1100,30,0,80,{"$f":"A1551","v":1548},1550,null,"○","○"]
[1550,1300,0,45000,45000,-1,1000,30,0,80,1549,1551,null,"○","○"]
[1551,1400,0,45000,45000,-1,950,30,0,80,1550,1552,null,"○","○"]
[1552,1500,0,45000,45000,-1,800,30,0,80,1551,1553,null,"○","○"]
[1553,1600,0,45000,45000,-1,700,30,0,80,1552,1554,null,"○","○"]
[1554,1700,0,45000,45000,-1,600,30,0,80,1553,1555,null,"○","○"]
[1555,1800,0,45000,45000,-1,550,30,0,80,1554,1556,null,"○","○"]
[1556,1900,0,45000,45000,-1,500,30,0,80,1555,1557,null,"○","○"]
[1557,2000,0,45000,45000,-1,450,30,0,80,1556,-1,null,"○","終端"]
[1558,1100,0,30000,30000,-1,1800,30,0,80,-1,{"$f":"A1562","v":1559},"ISDBCR-MX-200-30","先頭","○"]
[1559,{"$f":"B1561+100","v":1200},0,30000,30000,-1,1650,30,0,80,{"$f":"A1561","v":1558},1560,null,"○","○"]
[1560,1300,0,30000,30000,-1,1500,30,0,80,1559,1561,null,"○","○"]
[1561,1400,0,30000,30000,-1,1425,30,0,80,1560,1562,null,"○","○"]
[1562,1500,0,30000,30000,-1,1200,30,0,80,1561,1563,null,"○","○"]
[1563,1600,0,30000,30000,-1,1050,30,0,80,1562,1564,null,"○","○"]
[1564,1700,0,30000,30000,-1,900,30,0,80,1563,1565,null,"○","○"]
[1565,1800,0,30000,30000,-1,825,30,0,80,1564,1566,null,"○","○"]
[1566,1900,0,30000,{"$f":"D1569","v":30000},-1,750,30,0,80,1565,1567,null,"○","○"]
[1567,2000,0,30000,{"$f":"D1570","v":30000},-1,675,30,0,80,1566,-1,null,"○","終端"]
[{"$f":"A1570+1","v":1568},1200,0,45000,{"$f":"D1571","v":45000},-1,1200,30,0,80,-1,{"$f":"A1572","v":1569},"ISDBCR-LX-200-20","先頭","○"]
[1569,{"$f":"B1571+100","v":1300},0,45000,45000,-1,1150,30,0,80,{"$f":"A1571","v":1568},1570,null,"○","○"]
[1570,1400,0,45000,45000,-1,1000,30,0,80,1569,1571,null,"○","○"]
[1571,1500,0,45000,45000,-1,950,30,0,80,1570,1572,null,"○","○"]
[1572,1600,0,45000,45000,-1,830,30,0,80,1571,1573,null,"○","○"]
[1573,1700,0,45000,45000,-1,740,30,0,80,1572,1574,null,"○","○"]
[1574,1800,0,45000,45000,-1,650,30,0,80,1573,1575,null,"○","○"]
[1575,1900,0,45000,45000,-1,590,30,0,80,1574,1576,null,"○","○"]
[1576,2000,0,45000,45000,-1,540,30,0,80,1575,1577,null,"○","○"]
[1577,2100,0,45000,45000,-1,490,30,0,80,1576,1578,null,"○","○"]
[1578,2200,0,45000,45000,-1,440,30,0,80,1577,1579,null,"○","○"]
[1579,2300,0,45000,45000,-1,410,30,0,80,1578,1580,null,"○","○"]
[1580,2400,0,45000,45000,-1,370,30,0,80,1579,1581,null,"○","○"]
[1581,2500,0,45000,45000,-1,340,30,0,80,1580,-1,null,"○","終端"]
[1582,1500,0,15000,15000,-1,1800,30,0,80,-1,{"$f":"A1586","v":1583},"ISDBCR-LX-200-40","先頭","○"]
[1583,{"$f":"B1585+100","v":1600},0,15000,15000,-1,1660,30,0,80,{"$f":"A1585","v":1582},1584,null,"○","○"]
[1584,1700,0,15000,15000,-1,1480,30,0,80,1583,1585,null,"○","○"]
[1585,1800,0,15000,15000,-1,1300,30,0,80,1584,1586,null,"○","○"]
[1586,1900,0,15000,15000,-1,1180,30,0,80,1585,1587,null,"○","○"]
[1587,2000,0,15000,15000,-1,1080,30,0,80,1586,1588,null,"○","○"]
[1588,2100,0,15000,15000,-1,980,30,0,80,1587,1589,null,"○","○"]
[1589,2200,0,15000,15000,-1,880,30,0,80,1588,1590,null,"○","○"]
[1590,2300,0,15000,15000,-1,820,30,0,80,1589,1591,null,"○","○"]
[1591,2400,0,15000,15000,-1,740,30,0,80,1590,1592,null,"○","○"]
[1592,2500,0,15000,15000,-1,680,30,0,80,1591,-1,null,"○","終端"]
[{"$f":"A1595+1","v":1593},1200,0,90000,90000,-1,1200,30,0,80,-1,{"$f":"A1597","v":1594},"ISDBCR-LX-400-20","先頭","○"]
[1594,{"$f":"B1596+100","v":1300},0,90000,90000,-1,1150,30,0,80,{"$f":"A1596","v":1593},1595,null,"○","○"]
[1595,1400,0,90000,90000,-1,1000,30,0,80,1594,1596,null,"○","○"]
[1596,1500,0,90000,90000,-1,950,30,0,80,1595,1597,null,"○","○"]
[1597,1600,0,90000,90000,-1,830,30,0,80,1596,1598,null,"○","○"]
[1598,1700,0,90000,90000,-1,740,30,0,80,1597,1599,null,"○","○"]
[1599,1800,0,90000,90000,-1,650,30,0,80,1598,1600,null,"○","○"]
[1600,1900,0,90000,90000,-1,590,30,0,80,1599,1601,null,"○","○"]
[1601,2000,0,90000,90000,-1,540,30,0,80,1600,1602,null,"○","○"]
[1602,2100,0,90000,90000,-1,490,30,0,80,1601,1603,null,"○","○"]
[1603,2200,0,90000,90000,-1,440,30,0,80,1602,1604,null,"○","○"]
[1604,2300,0,90000,90000,-1,410,30,0,80,1603,1605,null,"○","○"]
[1605,2400,0,90000,90000,-1,370,30,0,80,1604,1606,null,"○","○"]
[1606,2500,0,90000,90000,-1,340,30,0,80,1605,-1,null,"○","終端"]
[1607,1500,0,40000,40000,-1,1800,30,0,80,-1,{"$f":"A1611","v":1608},"ISDBCR-LX-400-40","先頭","○"]
[1608,{"$f":"B1610+100","v":1600},0,40000,40000,-1,1660,30,0,80,{"$f":"A1610","v":1607},1609,null,"○","○"]
[1609,1700,0,40000,40000,-1,1480,30,0,80,1608,1610,null,{"$f":"IF(K1612=A1611,\"○\",IF(M1612<>0,\"先頭\",\"つなぎまちがい\"))","v":"○"},{"$f":"IF(L1612=A1613,\"○\",IF(L1612<>K1613,\"つなぎまちがい\",\"終端\"))","v":"○"}]
[1610,1800,0,40000,40000,-1,1300,30,0,80,1609,1611,null,"○","○"]
[1611,1900,0,40000,40000,-1,1180,30,0,80,1610,1612,null,"○","○"]
[1612,2000,0,40000,40000,-1,1080,30,0,80,1611,1613,null,"○","○"]
[1613,2100,0,40000,40000,-1,980,30,0,80,1612,1614,null,"○","○"]
[1614,2200,0,40000,40000,-1,880,30,0,80,1613,1615,null,"○","○"]
[1615,2300,0,40000,40000,-1,820,30,0,80,1614,1616,null,"○","○"]
[1616,2400,0,40000,40000,-1,740,30,0,80,1615,1617,null,"○","○"]
[1617,2500,0,40000,40000,-1,680,30,0,80,1616,-1,null,"○","終端"]
[1618,550,0,10000,10000,2000,2160,30,0,80,-1,{"$f":"A1622","v":1619},"ISB-SXM-100-36",{"$f":"IF(K1621=A1620,\"○\",IF(M1621<>0,\"先頭\",\"つなぎまちがい\"))","v":"先頭"},{"$f":"IF(L1621=A1622,\"○\",IF(L1621<>K1622,\"つなぎまちがい\",\"終端\"))","v":"○"}]
[1619,{"$f":"B1621+50","v":600},0,10000,10000,2000,2000,30,0,80,{"$f":"A1621","v":1618},1620,null,"○","○"]
[1620,650,0,10000,10000,2000,1740,30,0,80,1619,1621,null,"○","○"]
[1621,700,0,10000,10000,2000,1520,30,0,80,1620,1622,null,"○","○"]
[1622,750,0,10000,10000,2000,1340,30,0,80,1621,1623,null,"○","○"]
[1623,800,0,10000,10000,2000,1190,30,0,80,1622,1624,null,"○","○"]
[1624,850,0,10000,10000,2000,1065,30,0,80,1623,1625,null,"○","○"]
[1625,900,0,10000,10000,2000,960,30,0,80,1624,1626,null,"○","○"]
[1626,950,0,10000,10000,2000,865,30,0,80,1625,1627,null,"○","○"]
[1627,1000,0,10000,10000,2000,790,30,0,80,1626,1628,null,"○","○"]
[1628,1050,0,10000,10000,2000,721,30,0,80,1627,1629,null,"○","○"]
[1629,1100,0,10000,10000,2000,660,30,0,80,1628,-1,null,"○","終端"]
[1630,700,0,20000,20000,6000,2500,30,0,80,-1,{"$f":"A1634","v":1631},"ISB-MXM-400-48","先頭","○"]
[1631,{"$f":"B1633+50","v":750},0,20000,20000,6000,2270,30,0,80,{"$f":"A1633","v":1630},1632,null,"○","○"]
[1632,800,0,20000,20000,6000,2030,30,0,80,1631,1633,null,"○","○"]
[1633,850,0,20000,20000,6000,1825,30,0,80,1632,1634,null,"○","○"]
[1634,900,0,20000,20000,6000,1645,30,0,80,1633,1635,null,"○","○"]
[1635,950,0,20000,20000,6000,1495,30,0,80,1634,1636,null,"○","○"]
[1636,1000,0,20000,20000,6000,1365,30,0,80,1635,1637,null,"○","○"]
[1637,1050,0,20000,20000,6000,1250,30,0,80,1636,1638,null,"○","○"]
[1638,1100,0,20000,20000,6000,1150,30,0,80,1637,1639,null,"○","○"]
[1639,1150,0,20000,20000,6000,1060,30,0,80,1638,1640,null,"○","○"]
[1640,1200,0,20000,20000,6000,980,30,0,80,1639,1641,null,"○","○"]
[1641,1250,0,20000,20000,6000,910,30,0,80,1640,1642,null,"○","○"]
[1642,1300,0,20000,20000,6000,845,30,0,80,1641,-1,null,"○","終端"]
[1643,530,0,10000,10000,2000,2160,30,0,80,-1,{"$f":"A1647","v":1644},"ISB-SXL-100-36","先頭","○"]
[1644,{"$f":"B1646+50","v":580},0,10000,10000,2000,2000,30,0,80,{"$f":"A1646","v":1643},1645,null,"○","○"]
[1645,630,0,10000,10000,2000,1740,30,0,80,1644,1646,null,"○","○"]
[1646,680,0,10000,10000,2000,1520,30,0,80,1645,1647,null,"○","○"]
[1647,730,0,10000,10000,2000,1340,30,0,80,1646,1648,null,"○","○"]
[1648,780,0,10000,10000,2000,1190,30,0,80,1647,1649,null,"○","○"]
[1649,830,0,10000,10000,2000,1065,30,0,80,1648,1650,null,"○","○"]
[1650,880,0,10000,10000,2000,960,30,0,80,1649,1651,null,"○","○"]
[1651,930,0,10000,10000,2000,865,30,0,80,1650,1652,null,"○","○"]
[1652,980,0,10000,10000,2000,790,30,0,80,1651,1653,null,"○","○"]
[1653,1030,0,10000,10000,2000,721,30,0,80,1652,1654,null,"○","○"]
[1654,1080,0,10000,10000,2000,660,30,0,80,1653,-1,null,"○","終端"]
[1655,670,0,20000,20000,6000,2500,30,0,80,-1,{"$f":"A1659","v":1656},"ISB-MXL-400-48","先頭","○"]
[1656,{"$f":"B1658+50","v":720},0,20000,20000,6000,2270,30,0,80,{"$f":"A1658","v":1655},1657,null,"○","○"]
[{"$f":"A1659+1","v":1657},770,0,20000,20000,6000,2030,30,0,80,1656,1658,null,"○","○"]
[1658,820,0,20000,20000,6000,1825,30,0,80,1657,1659,null,"○","○"]
[1659,870,0,20000,20000,6000,1645,30,0,80,1658,1660,null,"○","○"]
[1660,920,0,20000,20000,6000,1495,30,0,80,1659,1661,null,"○","○"]
[1661,970,0,20000,20000,6000,1365,30,0,80,1660,1662,null,"○","○"]
[1662,1020,0,20000,20000,6000,1250,30,0,80,1661,1663,null,"○","○"]
[1663,1070,0,20000,20000,6000,1150,30,0,80,1662,1664,null,"○","○"]
[1664,1120,0,20000,20000,6000,1060,30,0,80,1663,1665,null,"○","○"]
[1665,1170,0,20000,20000,6000,980,30,0,80,1664,1666,null,"○","○"]
[1666,1220,0,20000,20000,6000,910,30,0,80,1665,1667,null,"○","○"]
[1667,1270,0,20000,20000,6000,845,30,0,80,1666,-1,null,"○","終端"]
[1668,550,0,10000,10000,2000,2000,30,0,80,-1,{"$f":"A1672","v":1669},"ISDB-S-100-36","先頭","○"]
[1669,{"$f":"B1671+50","v":600},0,10000,10000,2000,1825,30,0,80,{"$f":"A1671","v":1668},{"$f":"A1673","v":1670},null,"○","○"]
[1670,{"$f":"B1672+50","v":650},0,10000,10000,2000,1590,30,0,80,{"$f":"A1672","v":1669},{"$f":"A1674","v":1671},null,"○","○"]
[1671,{"$f":"B1673+50","v":700},0,10000,10000,2000,1400,30,0,80,{"$f":"A1673","v":1670},{"$f":"A1675","v":1672},null,"○","○"]
[1672,{"$f":"B1674+50","v":750},0,10000,10000,2000,1240,30,0,80,{"$f":"A1674","v":1671},{"$f":"A1676","v":1673},null,"○","○"]
[1673,{"$f":"B1675+50","v":800},0,10000,10000,2000,1105,30,0,80,{"$f":"A1675","v":1672},-1,null,"○","終端"]
[1674,700,0,20000,20000,6000,2200,30,0,80,-1,{"$f":"A1678","v":1675},"ISDB-M-400-48","先頭","○"]
[1675,{"$f":"B1677+50","v":750},0,20000,20000,6000,2145,30,0,80,{"$f":"A1677","v":1674},1676,null,"○","○"]
[1676,800,0,20000,20000,6000,1920,30,0,80,1675,1677,null,"○","○"]
[1677,850,0,20000,20000,6000,1730,30,0,80,1676,1678,null,"○","○"]
[1678,900,0,20000,20000,6000,1570,30,0,80,1677,1679,null,"○","○"]
[1679,950,0,20000,20000,6000,1430,30,0,80,1678,1680,null,"○","○"]
[1680,1000,0,20000,20000,6000,1305,30,0,80,1679,1681,null,"○","○"]
[1681,1050,0,20000,20000,6000,1195,30,0,80,1680,{"$f":"A1685","v":1682},null,"○","○"]
[{"$f":"A1684+1","v":1682},1100,0,20000,20000,6000,1105,30,0,80,{"$f":"A1684","v":1681},-1,null,{"$f":"IF(K1685=A1684,\"○\",IF(M1685<>0,\"先頭\",\"つなぎまちがい\"))","v":"○"},{"$f":"IF(L1685=A1686,\"○\",IF(L1685<>K1686,\"つなぎまちがい\",\"終端\"))","v":"終端"}]
[1683,1300,0,20000,20000,-1,2200,30,0,80,-1,{"$f":"A1687","v":1684},"ISB-MXMX-400-48",{"$f":"IF(K1686=A1685,\"○\",IF(M1686<>0,\"先頭\",\"つなぎまちがい\"))","v":"先頭"},{"$f":"IF(L1686=A1687,\"○\",IF(L1686<>K1687,\"つなぎまちがい\",\"終端\"))","v":"○"}]
[1684,{"$f":"B1686+50","v":1350},0,20000,20000,-1,2065,30,0,80,{"$f":"A1686","v":1683},1685,null,"○","○"]
[1685,1400,0,20000,20000,-1,1925,30,0,80,1684,1686,null,"○","○"]
[1686,1450,0,20000,20000,-1,1805,30,0,80,1685,1687,null,"○","○"]
[1687,1500,0,20000,20000,-1,1690,30,0,80,1686,1688,null,"○","○"]
[1688,1550,0,20000,20000,-1,1590,30,0,80,1687,1689,null,"○","○"]
[1689,1600,0,20000,20000,-1,1495,30,0,80,1688,1690,null,"○","○"]
[1690,1650,0,20000,20000,-1,1410,30,0,80,1689,1691,null,"○","○"]
[1691,1700,0,20000,20000,-1,1335,30,0,80,1690,1692,null,"○","○"]
[1692,1750,0,20000,20000,-1,1265,30,0,80,1691,1693,null,"○","○"]
[1693,1800,0,20000,20000,-1,1195,30,0,80,1692,1694,null,"○","○"]
[1694,1850,0,20000,20000,-1,1135,30,0,80,1693,1695,null,"○","○"]
[1695,1900,0,20000,20000,-1,1080,30,0,80,1694,1696,null,"○","○"]
[1696,1950,0,20000,20000,-1,1025,30,0,80,1695,1697,null,"○","○"]
[{"$f":"A1699+1","v":1697},2000,0,20000,20000,-1,980,30,0,80,{"$f":"A1699","v":1696},-1,null,"○","終端"]
[1698,1300,0,20000,20000,-1,2200,30,0,80,-1,{"$f":"A1702","v":1699},"ISDB-MX-400-48","先頭","○"]
[1699,{"$f":"B1701+50","v":1350},0,20000,20000,-1,1990,30,0,80,{"$f":"A1701","v":1698},1700,null,"○","○"]
[1700,1400,0,20000,20000,-1,1860,30,0,80,1699,1701,null,"○","○"]
[1701,1450,0,20000,20000,-1,1745,30,0,80,1700,1702,null,"○","○"]
[1702,1500,0,20000,20000,-1,1640,30,0,80,1701,1703,null,"○","○"]
[1703,1550,0,20000,20000,-1,1540,30,0,80,1702,1704,null,"○","○"]
[1704,1600,0,20000,20000,-1,1450,30,0,80,1703,-1,null,{"$f":"IF(K1707=A1706,\"○\",IF(M1707<>0,\"先頭\",\"つなぎまちがい\"))","v":"○"},{"$f":"IF(L1707=A1708,\"○\",IF(L1707<>K1708,\"つなぎまちがい\",\"終端\"))","v":"終端"}]
[1705,200,0,40000,40000,10000,125,30,0,270,-1,-1,"RCS4-RA4C-60-2.5","先頭","終端"]
[1706,200,0,30000,30000,6000,250,30,0,170,-1,-1,"RCS4-RA4C-60-5","先頭","終端"]
[1707,200,0,18000,18000,4000,500,30,0,97,-1,-1,"RCS4-RA4C-60-10","先頭","終端"]
[1708,200,0,8000,8000,2000,800,30,0,78,-1,-1,"RCS4-RA4C-60-16","先頭","終端"]
[1709,300,0,60000,60000,20000,150,30,0,135,-1,-1,"RCS4-RA6C-100-3","先頭","終端"]
[1710,300,0,50000,50000,20000,300,30,0,145,-1,-1,"RCS4-RA6C-100-6","先頭","終端"]
[1711,300,0,25000,25000,10000,600,30,0,77,-1,-1,"RCS4-RA6C-100-12","先頭","終端"]
[1712,300,0,15000,15000,4000,1000,30,0,98,-1,-1,"RCS4-RA6C-100-20","先頭","終端"]
[1713,300,0,80000,80000,35000,200,30,0,134,-1,-1,"RCS4-RA7C-200-4","先頭","終端"]
[1714,300,0,60000,60000,25000,400,30,0,119,-1,-1,"RCS4-RA7C-200-8",{"$f":"IF(K1717=A1716,\"○\",IF(M1717<>0,\"先頭\",\"つなぎまちがい\"))","v":"先頭"},{"$f":"IF(L1717=A1718,\"○\",IF(L1717<>K1718,\"つなぎまちがい\",\"終端\"))","v":"終端"}]
[1715,300,0,45000,45000,12000,800,30,0,87,-1,-1,"RCS4-RA7C-200-16","先頭","終端"]
[1716,300,0,20000,20000,6000,1200,30,0,78,-1,-1,"RCS4-RA7C-200-24","先頭","終端"]
[1717,300,0,100000,100000,72000,250,30,0,138,-1,-1,"RCS4-RA8C-400-5","先頭","終端"]
[1718,300,0,80000,80000,40000,500,30,0,112,-1,-1,"RCS4-RA8C-400-10","先頭","終端"]
[1719,300,0,60000,60000,20000,1000,30,0,92,-1,-1,"RCS4-RA8C-400-20","先頭","終端"]
[1720,450,0,20000,20000,12000,150,30,0,245,-1,{"$f":"A1724","v":1721},"RCS4-SA4C-60-2.5","先頭","○"]
[1721,500,0,20000,20000,12000,135,30,0,245,{"$f":"A1723","v":1720},-1,null,"○","終端"]
[1722,450,0,17000,17000,8000,300,30,0,135,-1,{"$f":"A1726","v":1723},"RCS4-SA4C-60-5","先頭","○"]
[1723,500,0,17000,17000,8000,275,30,0,135,{"$f":"A1725","v":1722},-1,null,"○","終端"]
[1724,450,0,14000,14000,5000,600,30,0,87,-1,{"$f":"A1728","v":1725},"RCS4-SA4C-60-10","先頭","○"]
[1725,500,0,14000,14000,5000,555,30,0,87,{"$f":"A1727","v":1724},-1,null,"○","終端"]
[1726,450,0,10000,10000,3000,960,30,0,78,-1,{"$f":"A1730","v":1727},"RCS4-SA4C-60-16","先頭","○"]
[1727,500,0,10000,10000,3000,875,30,0,78,{"$f":"A1729","v":1726},-1,null,"○",{"$f":"IF(L1730=A1731,\"○\",IF(L1730<>K1731,\"つなぎまちがい\",\"終端\"))","v":"終端"}]
[1728,500,0,45000,45000,15000,180,30,0,135,-1,{"$f":"A1732","v":1729},"RCS4-SA6C-100-3",{"$f":"IF(K1731=A1730,\"○\",IF(M1731<>0,\"先頭\",\"つなぎまちがい\"))","v":"先頭"},"○"]
[1729,550,0,45000,45000,15000,150,30,0,135,{"$f":"A1731","v":1728},1730,null,"○","○"]
[1730,600,0,45000,45000,15000,130,30,0,135,1729,1731,null,"○","○"]
[1731,650,0,45000,45000,15000,115,30,0,135,1730,1732,null,"○","○"]
[1732,700,0,45000,45000,15000,100,30,0,135,1731,1733,null,"○","○"]
[1733,750,0,45000,45000,15000,85,30,0,135,1732,1734,null,"○","○"]
[1734,800,0,45000,45000,15000,75,30,0,135,1733,-1,null,"○","終端"]
[1735,500,0,45000,45000,15000,360,30,0,150,-1,{"$f":"A1739","v":1736},"RCS4-SA6C-100-6","先頭","○"]
[1736,550,0,45000,45000,15000,305,30,0,150,1735,1737,null,"○","○"]
[1737,600,0,45000,45000,15000,265,30,0,150,1736,1738,null,"○","○"]
[1738,650,0,45000,45000,15000,230,30,0,150,1737,1739,null,"○","○"]
[1739,700,0,45000,45000,15000,200,30,0,150,1738,1740,null,"○","○"]
[1740,750,0,45000,45000,15000,175,30,0,150,1739,1741,null,"○","○"]
[1741,800,0,45000,45000,15000,155,30,0,150,1740,-1,null,"○","終端"]
[1742,500,0,30000,30000,11000,720,30,0,95,-1,{"$f":"A1746","v":1743},"RCS4-SA6C-100-12","先頭","○"]
[1743,550,0,30000,30000,11000,620,30,0,95,1742,1744,null,"○","○"]
[1744,600,0,30000,30000,11000,535,30,0,95,1743,1745,null,"○","○"]
[1745,650,0,30000,30000,11000,460,30,0,95,1744,1746,null,"○","○"]
[1746,700,0,30000,30000,11000,405,30,0,95,1745,1747,null,"○","○"]
[1747,750,0,30000,30000,11000,355,30,0,95,1746,1748,null,"○","○"]
[1748,800,0,30000,30000,11000,315,30,0,95,1747,-1,null,{"$f":"IF(K1751=A1750,\"○\",IF(M1751<>0,\"先頭\",\"つなぎまちがい\"))","v":"○"},{"$f":"IF(L1751=A1752,\"○\",IF(L1751<>K1752,\"つなぎまちがい\",\"終端\"))","v":"終端"}]
[1749,500,0,18000,18000,6000,1200,30,0,70,-1,{"$f":"A1753","v":1750},"RCS4-SA6C-100-20","先頭","○"]
[1750,550,0,18000,18000,6000,1130,30,0,70,{"$f":"A1752","v":1749},{"$f":"A1754","v":1751},null,"○","○"]
[1751,600,0,18000,18000,6000,970,30,0,70,{"$f":"A1753","v":1750},1752,null,"○","○"]
[1752,650,0,18000,18000,6000,840,30,0,70,{"$f":"A1754","v":1751},1753,null,"○","○"]
[1753,700,0,18000,18000,6000,735,30,0,70,{"$f":"A1755","v":1752},1754,null,"○","○"]
[1754,750,0,18000,18000,6000,650,30,0,70,{"$f":"A1756","v":1753},1755,null,"○","○"]
[1755,800,0,18000,18000,6000,575,30,0,70,1754,-1,null,"○","終端"]
[1756,550,0,11000,11000,3500,1600,30,0,60,-1,1757,"RCS4-SA6C-100-30","先頭","○"]
[1757,600,0,11000,11000,3500,1450,30,0,60,{"$f":"A1759","v":1756},1758,null,"○","○"]
[1758,650,0,11000,11000,3500,1260,30,0,60,{"$f":"A1760","v":1757},1759,null,"○","○"]
[1759,700,0,11000,11000,3500,1100,30,0,60,{"$f":"A1761","v":1758},1760,null,"○","○"]
[1760,750,0,11000,11000,3500,970,30,0,60,{"$f":"A1762","v":1759},1761,null,"○","○"]
[{"$f":"A1763+1","v":1761},800,0,11000,11000,3500,860,30,0,60,{"$f":"A1763","v":1760},-1,null,"○","終端"]
[1762,500,0,50000,50000,25000,240,30,0,140,-1,{"$f":"A1766","v":1763},"RCS4-SA7C-200-4","先頭","○"]
[{"$f":"A1765+1","v":1763},550,0,50000,50000,25000,235,30,0,140,{"$f":"A1765","v":1762},1764,null,"○","○"]
[1764,600,0,50000,50000,25000,205,30,0,140,1763,1765,null,"○","○"]
[1765,650,0,50000,50000,25000,175,30,0,140,1764,1766,null,"○","○"]
[1766,700,0,50000,50000,25000,155,30,0,140,1765,1767,null,"○","○"]
[1767,750,0,50000,50000,25000,135,30,0,140,1766,1768,null,"○","○"]
[1768,800,0,50000,50000,25000,120,30,0,140,1767,-1,null,"○","終端"]
[1769,500,0,45000,45000,20000,500,30,0,145,-1,{"$f":"A1773","v":1770},"RCS4-SA7C-200-8","先頭","○"]
[1770,550,0,45000,45000,20000,475,30,0,145,{"$f":"A1772","v":1769},1771,null,"○","○"]
[1771,600,0,45000,45000,20000,410,30,0,145,1770,1772,null,"○","○"]
[1772,650,0,45000,45000,20000,355,30,0,145,1771,1773,null,"○","○"]
[1773,700,0,45000,45000,20000,315,30,0,145,1772,1774,null,"○","○"]
[1774,750,0,45000,45000,20000,275,30,0,145,1773,1775,null,"○","○"]
[1775,800,0,45000,45000,20000,245,30,0,145,1774,-1,null,"○","終端"]
[1776,500,0,40000,40000,12000,1000,30,0,105,-1,{"$f":"A1780","v":1777},"RCS4-SA7C-200-16","先頭","○"]
[1777,550,0,40000,40000,12000,965,30,0,105,{"$f":"A1779","v":1776},1778,null,"○","○"]
[1778,600,0,40000,40000,12000,830,30,0,105,1777,1779,null,"○","○"]
[1779,650,0,40000,40000,12000,720,30,0,105,1778,1780,null,"○","○"]
[1780,700,0,40000,40000,12000,635,30,0,105,1779,1781,null,"○","○"]
[1781,750,0,40000,40000,12000,560,30,0,105,1780,1782,null,"○","○"]
[1782,800,0,40000,40000,12000,500,30,0,105,1781,-1,null,"○","終端"]
[1783,500,0,30000,30000,7000,1500,30,0,83,-1,{"$f":"A1787","v":1784},"RCS4-SA7C-200-24","先頭","○"]
[1784,550,0,30000,30000,7000,1440,30,0,83,{"$f":"A1786","v":1783},1785,null,"○","○"]
[1785,600,0,30000,30000,7000,1240,30,0,83,1784,1786,null,"○","○"]
[1786,650,0,30000,30000,7000,1095,30,0,83,1785,1787,null,"○","○"]
[1787,700,0,30000,30000,7000,965,30,0,83,1786,1788,null,"○","○"]
[1788,750,0,30000,30000,7000,850,30,0,83,1787,1789,null,"○","○"]
[1789,800,0,30000,30000,7000,760,30,0,83,1788,-1,null,"○","終端"]
[1790,600,0,7000,7000,4000,1800,30,0,92,-1,{"$f":"A1794","v":1791},"RCS4-SA7C-200-36","先頭","○"]
[1791,650,0,7000,7000,4000,1620,30,0,92,{"$f":"A1793","v":1790},{"$f":"A1795","v":1792},null,"○","○"]
[1792,700,0,7000,7000,4000,1420,30,0,92,{"$f":"A1794","v":1791},{"$f":"A1796","v":1793},null,"○","○"]
[1793,750,0,7000,7000,4000,1260,30,0,92,{"$f":"A1795","v":1792},{"$f":"A1797","v":1794},null,"○","○"]
[1794,800,0,7000,7000,4000,1120,30,0,92,{"$f":"A1796","v":1793},-1,null,"○","終端"]
[1795,600,0,90000,90000,45000,300,30,0,130,-1,{"$f":"A1799","v":1796},"RCS4-SA8C-400-5","先頭","○"]
[1796,650,0,90000,90000,45000,270,30,0,130,{"$f":"A1798","v":1795},1797,null,"○","○"]
[1797,700,0,90000,90000,45000,240,30,0,130,1796,1798,null,"○","○"]
[1798,750,0,90000,90000,45000,215,30,0,130,1797,1799,null,"○","○"]
[1799,800,0,90000,90000,45000,190,30,0,130,1798,1800,null,"○","○"]
[1800,850,0,90000,90000,45000,175,30,0,130,1799,1801,null,"○","○"]
[1801,900,0,90000,90000,45000,155,30,0,130,1800,1802,null,"○","○"]
[1802,950,0,90000,90000,45000,140,30,0,130,1801,1803,null,"○","○"]
[1803,1000,0,90000,90000,45000,130,30,0,130,1802,1804,null,"○","○"]
[1804,1050,0,90000,90000,45000,120,30,0,130,1803,1805,null,"○","○"]
[1805,1100,0,90000,90000,45000,110,30,0,130,1804,-1,null,"○",{"$f":"IF(L1808=A1820,\"○\",IF(L1808<>K1820,\"つなぎまちがい\",\"終端\"))","v":"終端"}]
[1806,600,0,80000,80000,35000,600,30,0,116,-1,{"$f":"A1810","v":1807},"RCS4-SA8C-400-10",{"$f":"IF(K1809=A1797,\"○\",IF(M1809<>0,\"先頭\",\"つなぎまちがい\"))","v":"先頭"},{"$f":"IF(L1809=A1810,\"○\",IF(L1809<>K1810,\"つなぎまちがい\",\"終端\"))","v":"○"}]
[1807,650,0,80000,80000,35000,540,30,0,116,{"$f":"A1809","v":1806},1808,null,{"$f":"IF(K1810=A1809,\"○\",IF(M1810<>0,\"先頭\",\"つなぎまちがい\"))","v":"○"},"○"]
[1808,700,0,80000,80000,35000,480,30,0,116,1807,1809,null,"○","○"]
[1809,750,0,80000,80000,35000,430,30,0,116,1808,1810,null,"○","○"]
[1810,800,0,80000,80000,35000,385,30,0,116,1809,1811,null,"○","○"]
[1811,850,0,80000,80000,35000,345,30,0,116,1810,1812,null,"○","○"]
[1812,900,0,80000,80000,35000,310,30,0,116,1811,1813,null,"○","○"]
[1813,950,0,80000,80000,35000,285,30,0,116,1812,1814,null,"○","○"]
[1814,1000,0,80000,80000,35000,260,30,0,116,1813,1815,null,"○","○"]
[1815,1050,0,80000,80000,35000,235,30,0,116,1814,1816,null,"○","○"]
[1816,1100,0,80000,80000,35000,220,30,0,116,1815,-1,null,"○","終端"]
[1817,600,0,60000,60000,20000,1200,30,0,74,-1,{"$f":"A1821","v":1818},"RCS4-SA8C-400-20",{"$f":"IF(K1820=A1808,\"○\",IF(M1820<>0,\"先頭\",\"つなぎまちがい\"))","v":"先頭"},"○"]
[1818,650,0,60000,60000,20000,1090,30,0,74,{"$f":"A1820","v":1817},1819,null,"○","○"]
[1819,700,0,60000,60000,20000,960,30,0,74,1818,1820,null,"○","○"]
[1820,750,0,60000,60000,20000,860,30,0,74,1819,1821,null,"○","○"]
[1821,800,0,60000,60000,20000,770,30,0,74,1820,1822,null,"○","○"]
[1822,850,0,60000,60000,20000,695,30,0,74,1821,1823,null,"○","○"]
[1823,900,0,60000,60000,20000,630,30,0,74,1822,1824,null,{"$f":"IF(K1826=A1825,\"○\",IF(M1826<>0,\"先頭\",\"つなぎまちがい\"))","v":"○"},{"$f":"IF(L1826=A1827,\"○\",IF(L1826<>K1827,\"つなぎまちがい\",\"終端\"))","v":"○"}]
[1824,950,0,60000,60000,20000,570,30,0,74,1823,1825,null,"○","○"]
[1825,1000,0,60000,60000,20000,520,30,0,74,1824,1826,null,"○","○"]
[1826,1050,0,60000,60000,20000,480,30,0,74,1825,1827,null,"○","○"]
[1827,1100,0,60000,60000,20000,440,30,0,74,1826,-1,null,"○","終端"]
[1828,600,0,30000,30000,12000,1800,30,0,79,-1,{"$f":"A1832","v":1829},"RCS4-SA8C-400-30","先頭","○"]
[1829,650,0,30000,30000,12000,1640,30,0,79,{"$f":"A1831","v":1828},1830,null,"○","○"]
[1830,700,0,30000,30000,12000,1440,30,0,79,1829,1831,null,"○","○"]
[1831,750,0,30000,30000,12000,1280,30,0,79,1830,1832,null,"○","○"]
[1832,800,0,30000,30000,12000,1155,30,0,79,1831,1833,null,{"$f":"IF(K1835=A1834,\"○\",IF(M1835<>0,\"先頭\",\"つなぎまちがい\"))","v":"○"},{"$f":"IF(L1835=A1836,\"○\",IF(L1835<>K1836,\"つなぎまちがい\",\"終端\"))","v":"○"}]
[1833,850,0,30000,30000,12000,1040,30,0,79,1832,1834,null,"○","○"]
[1834,900,0,30000,30000,12000,940,30,0,79,1833,1835,null,"○","○"]
[1835,950,0,30000,30000,12000,855,30,0,79,1834,1836,null,"○","○"]
[1836,1000,0,30000,30000,12000,780,30,0,79,1835,1837,null,"○","○"]
[1837,1050,0,30000,30000,12000,715,30,0,79,1836,1838,null,"○","○"]
[1838,1100,0,30000,30000,12000,660,30,0,79,1837,-1,null,"○","終端"]
[{"$f":"A1841+1","v":1839},700,0,8000,8000,-1,2200,30,0,134,-1,{"$f":"A1843","v":1840},"RCS4-SA8C-400-48","先頭","○"]
[1840,750,0,8000,8000,-1,2180,30,0,134,{"$f":"A1842","v":1839},1841,null,"○","○"]
[1841,800,0,8000,8000,-1,1950,30,0,134,1840,1842,null,"○","○"]
[1842,850,0,8000,8000,-1,1760,30,0,134,1841,1843,null,"○","○"]
[1843,900,0,8000,8000,-1,1590,30,0,134,1842,1844,null,"○","○"]
[1844,950,0,8000,8000,-1,1450,30,0,134,1843,1845,null,"○","○"]
[1845,1000,0,8000,8000,-1,1320,30,0,134,1844,1846,null,"○","○"]
[1846,1050,0,8000,8000,-1,1210,30,0,134,1845,1847,null,{"$f":"IF(K1849=A1848,\"○\",IF(M1849<>0,\"先頭\",\"つなぎまちがい\"))","v":"○"},{"$f":"IF(L1849=A1850,\"○\",IF(L1849<>K1850,\"つなぎまちがい\",\"終端\"))","v":"○"}]
[1847,1100,0,8000,8000,-1,1110,30,0,134,1846,-1,null,"○","終端"]
[1848,350,0,40000,40000,10000,150,30,0,175,-1,{"$f":"A1852","v":1849},"RCS4-WSA10C-60-2.5","先頭","○"]
[1849,400,0,40000,40000,10000,145,30,0,175,{"$f":"A1851","v":1848},{"$f":"A1853","v":1850},null,"○","○"]
[1850,450,0,40000,40000,10000,120,30,0,175,1849,1851,null,"○","○"]
[1851,500,0,40000,40000,10000,100,30,0,175,1850,-1,null,"○","終端"]
[1852,350,0,27000,27000,5000,300,30,0,150,-1,1853,"RCS4-WSA10C-60-5","先頭","○"]
[1853,400,0,27000,27000,5000,290,30,0,150,1852,1854,null,"○","○"]
[1854,450,0,27000,27000,5000,245,30,0,150,1853,1855,null,"○","○"]
[1855,500,0,27000,27000,5000,205,30,0,150,1854,-1,null,"○","終端"]
[1856,350,0,16000,16000,3000,600,30,0,117,-1,1857,"RCS4-WSA10C-60-10","先頭","○"]
[1857,400,0,16000,16000,3000,590,30,0,117,1856,1858,null,"○","○"]
[1858,450,0,16000,16000,3000,490,30,0,117,1857,1859,null,"○","○"]
[1859,500,0,16000,16000,3000,415,30,0,117,1858,-1,null,"○","終端"]
[1860,350,0,7000,7000,-1,960,30,0,97,-1,1861,"RCS4-WSA10C-60-16","先頭","○"]
[1861,400,0,7000,7000,-1,930,30,0,97,1860,1862,null,"○","○"]
[1862,450,0,7000,7000,-1,775,30,0,97,1861,1863,null,"○","○"]
[1863,500,0,7000,7000,-1,660,30,0,97,1862,-1,null,{"$f":"IF(K1866=A1865,\"○\",IF(M1866<>0,\"先頭\",\"つなぎまちがい\"))","v":"○"},{"$f":"IF(L1866=A1867,\"○\",IF(L1866<>K1867,\"つなぎまちがい\",\"終端\"))","v":"終端"}]
[1864,450,0,55000,55000,15000,180,30,0,135,-1,{"$f":"A1868","v":1865},"RCS4-WSA12C-100-3","先頭","○"]
[1865,500,0,55000,55000,15000,150,30,0,135,{"$f":"A1867","v":1864},{"$f":"A1869","v":1866},null,"○","○"]
[1866,550,0,55000,55000,15000,130,30,0,135,1865,1867,null,"○","○"]
[1867,600,0,55000,55000,15000,115,30,0,135,1866,1868,null,"○","○"]
[1868,650,0,55000,55000,15000,100,30,0,135,1867,1869,null,"○","○"]
[1869,700,0,55000,55000,15000,85,30,0,135,1868,1870,null,"○","○"]
[1870,750,0,55000,55000,15000,75,30,0,135,1869,1871,null,{"$f":"IF(K1873=A1872,\"○\",IF(M1873<>0,\"先頭\",\"つなぎまちがい\"))","v":"○"},{"$f":"IF(L1873=A1874,\"○\",IF(L1873<>K1874,\"つなぎまちがい\",\"終端\"))","v":"○"}]
[1871,800,0,55000,55000,15000,70,30,0,135,1870,-1,null,"○","終端"]
[1872,450,0,45000,45000,15000,360,30,0,131,-1,{"$f":"A1876","v":1873},"RCS4-WSA12C-100-6","先頭","○"]
[1873,500,0,45000,45000,15000,310,30,0,131,{"$f":"A1875","v":1872},{"$f":"A1877","v":1874},null,"○","○"]
[1874,550,0,45000,45000,15000,265,30,0,131,1873,1875,null,"○","○"]
[1875,600,0,45000,45000,15000,230,30,0,131,1874,1876,null,"○","○"]
[1876,650,0,45000,45000,15000,200,30,0,131,1875,1877,null,"○","○"]
[1877,700,0,45000,45000,15000,175,30,0,131,1876,1878,null,"○","○"]
[1878,750,0,45000,45000,15000,155,30,0,131,1877,1879,null,"○","○"]
[1879,800,0,45000,45000,15000,140,30,0,131,{"$f":"A1881","v":1878},-1,null,"○","終端"]
[1880,450,0,25000,25000,8000,720,30,0,97,-1,{"$f":"A1884","v":1881},"RCS4-WSA12C-100-12",{"$f":"IF(K1883=A1882,\"○\",IF(M1883<>0,\"先頭\",\"つなぎまちがい\"))","v":"先頭"},{"$f":"IF(L1883=A1885,\"○\",IF(L1883<>K1885,\"つなぎまちがい\",\"終端\"))","v":"終端"}]
[1881,500,0,25000,25000,8000,610,30,0,97,{"$f":"A1883","v":1880},{"$f":"A1885","v":1882}]
[1882,550,0,25000,25000,8000,535,30,0,97,1881,1883,null,{"$f":"IF(K1885=A1883,\"○\",IF(M1885<>0,\"先頭\",\"つなぎまちがい\"))","v":"つなぎまちがい"},{"$f":"IF(L1885=A1886,\"○\",IF(L1885<>K1886,\"つなぎまちがい\",\"終端\"))","v":"○"}]
[1883,600,0,25000,25000,8000,465,30,0,97,1882,1884,null,"○","○"]
[1884,650,0,25000,25000,8000,405,30,0,97,1883,1885,null,"○","○"]
[1885,700,0,25000,25000,8000,355,30,0,97,1884,1886,null,"○","○"]
[1886,750,0,25000,25000,8000,315,30,0,97,1885,1887,null,"○","○"]
[1887,800,0,25000,25000,8000,285,30,0,97,{"$f":"A1889","v":1886},-1,null,"○","終端"]
[1888,450,0,15000,15000,3000,1200,30,0,78,-1,{"$f":"A1892","v":1889},"RCS4-WSA12C-100-20","先頭",{"$f":"IF(L1891=A1893,\"○\",IF(L1891<>K1893,\"つなぎまちがい\",\"終端\"))","v":"終端"}]
[1889,500,0,15000,15000,3000,1130,30,0,78,{"$f":"A1891","v":1888},{"$f":"A1893","v":1890}]
[1890,550,0,15000,15000,3000,970,30,0,78,1889,1891,null,{"$f":"IF(K1893=A1891,\"○\",IF(M1893<>0,\"先頭\",\"つなぎまちがい\"))","v":"つなぎまちがい"},"○"]
[1891,600,0,15000,15000,3000,840,30,0,78,1890,1892,null,"○","○"]
[1892,650,0,15000,15000,3000,740,30,0,78,1891,1893,null,{"$f":"IF(K1895=A1894,\"○\",IF(M1895<>0,\"先頭\",\"つなぎまちがい\"))","v":"○"},{"$f":"IF(L1895=A1896,\"○\",IF(L1895<>K1896,\"つなぎまちがい\",\"終端\"))","v":"○"}]
[1893,700,0,15000,15000,3000,650,30,0,78,1892,1894,null,"○","○"]
[1894,750,0,15000,15000,3000,580,30,0,78,1893,1895,null,"○","○"]
[1895,800,0,15000,15000,3000,520,30,0,78,{"$f":"A1897","v":1894},-1,null,"○","終端"]
[1896,500,0,5000,5000,-1,1600,30,0,114,-1,{"$f":"A1900","v":1897},"RCS4-WSA12C-100-30","先頭","○"]
[1897,550,0,5000,5000,-1,1450,30,0,114,{"$f":"A1899","v":1896},1898,null,"○","○"]
[1898,600,0,5000,5000,-1,1260,30,0,114,1897,1899,null,"○","○"]
[1899,650,0,5000,5000,-1,1100,30,0,114,1898,1900,null,"○","○"]
[1900,700,0,5000,5000,-1,970,30,0,114,1899,1901,null,"○","○"]
[1901,750,0,5000,5000,-1,860,30,0,114,1900,1902,null,"○","○"]
[1902,800,0,5000,5000,-1,770,30,0,114,1901,-1,null,"○","終端"]
[1903,450,0,80000,80000,25000,240,30,0,120,-1,{"$f":"A1907","v":1904},"RCS4-WSA14C-200-4",{"$f":"IF(K1906=A1905,\"○\",IF(M1906<>0,\"先頭\",\"つなぎまちがい\"))","v":"先頭"},{"$f":"IF(L1906=A1907,\"○\",IF(L1906<>K1907,\"つなぎまちがい\",\"終端\"))","v":"○"}]
[1904,500,0,80000,80000,25000,230,30,0,120,{"$f":"A1906","v":1903},1905,null,"○","○"]
[1905,550,0,80000,80000,25000,200,30,0,120,1904,1906,null,"○","○"]
[1906,600,0,80000,80000,25000,170,30,0,120,1905,1907,null,"○","○"]
[1907,650,0,80000,80000,25000,150,30,0,120,1906,1908,null,"○","○"]
[1908,700,0,80000,80000,25000,135,30,0,120,1907,1909,null,"○","○"]
[1909,750,0,80000,80000,25000,120,30,0,120,1908,1910,null,"○","○"]
[1910,800,0,80000,80000,25000,105,30,0,120,{"$f":"A1912","v":1909},-1,null,"○","終端"]
[1911,450,0,65000,65000,10000,480,30,0,110,-1,{"$f":"A1915","v":1912},"RCS4-WSA14C-200-8","先頭","○"]
[1912,500,0,65000,65000,10000,460,30,0,110,{"$f":"A1914","v":1911},1913,null,"○","○"]
[1913,550,0,65000,65000,10000,400,30,0,110,1912,1914,null,"○","○"]
[1914,600,0,65000,65000,10000,350,30,0,110,1913,1915,null,"○","○"]
[1915,650,0,65000,65000,10000,305,30,0,110,1914,1916,null,"○","○"]
[1916,700,0,65000,65000,10000,270,30,0,110,1915,1917,null,"○","○"]
[1917,750,0,65000,65000,10000,240,30,0,110,1916,1918,null,"○","○"]
[1918,800,0,65000,65000,10000,215,30,0,110,{"$f":"A1920","v":1917},-1,null,"○","終端"]
[1919,450,0,45000,45000,8000,960,30,0,92,-1,{"$f":"A1923","v":1920},"RCS4-WSA14C-200-16","先頭","○"]
[1920,500,0,45000,45000,8000,920,30,0,92,{"$f":"A1922","v":1919},1921,null,"○","○"]
[1921,550,0,45000,45000,8000,790,30,0,92,1920,1922,null,"○","○"]
[1922,600,0,45000,45000,8000,690,30,0,92,1921,1923,null,"○","○"]
[1923,650,0,45000,45000,8000,610,30,0,92,1922,1924,null,"○","○"]
[1924,700,0,45000,45000,8000,550,30,0,92,1923,1925,null,"○","○"]
[1925,750,0,45000,45000,8000,490,30,0,92,1924,1926,null,"○","○"]
[1926,800,0,45000,45000,8000,440,30,0,92,{"$f":"A1928","v":1925},-1,null,"○","終端"]
[1927,450,0,20000,20000,2500,1440,30,0,77,-1,{"$f":"A1931","v":1928},"RCS4-WSA14C-200-24","先頭","○"]
[1928,500,0,20000,20000,2500,1420,30,0,77,{"$f":"A1930","v":1927},1929,null,"○","○"]
[1929,550,0,20000,20000,2500,1220,30,0,77,1928,1930,null,"○","○"]
[1930,600,0,20000,20000,2500,1060,30,0,77,1929,1931,null,"○","○"]
[1931,650,0,20000,20000,2500,930,30,0,77,1930,1932,null,"○","○"]
[1932,700,0,20000,20000,2500,830,30,0,77,1931,1933,null,"○","○"]
[1933,750,0,20000,20000,2500,740,30,0,77,1932,1934,null,"○","○"]
[1934,800,0,20000,20000,2500,665,30,0,77,{"$f":"A1936","v":1933},-1,null,"○","終端"]
[1935,550,0,7000,7000,-1,1800,30,0,87,-1,{"$f":"A1939","v":1936},"RCS4-WSA14C-200-36","先頭","○"]
[1936,600,0,7000,7000,-1,1590,30,0,87,{"$f":"A1938","v":1935},{"$f":"A1940","v":1937},null,"○","○"]
[1937,650,0,7000,7000,-1,1400,30,0,87,{"$f":"A1939","v":1936},{"$f":"A1941","v":1938},null,"○","○"]
[1938,700,0,7000,7000,-1,1240,30,0,87,{"$f":"A1940","v":1937},{"$f":"A1942","v":1939},null,"○","○"]
[1939,750,0,7000,7000,-1,1110,30,0,87,{"$f":"A1941","v":1938},{"$f":"A1943","v":1940},null,"○","○"]
[1940,800,0,7000,7000,-1,990,30,0,87,{"$f":"A1942","v":1939},-1,null,"○","終端"]
[1941,550,0,100000,100000,50000,300,30,0,140,-1,{"$f":"A1945","v":1942},"RCS4-WSA16C-400-5","先頭","○"]
[1942,600,0,100000,100000,50000,280,30,0,140,{"$f":"A1944","v":1941},{"$f":"A1946","v":1943},null,"○","○"]
[1943,650,0,100000,100000,50000,240,30,0,140,{"$f":"A1945","v":1942},{"$f":"A1947","v":1944},null,"○","○"]
[1944,700,0,100000,100000,50000,220,30,0,140,{"$f":"A1946","v":1943},{"$f":"A1948","v":1945},null,"○","○"]
[{"$f":"A1947+1","v":1945},750,0,100000,100000,50000,195,30,0,140,1944,1946,null,"○","○"]
[1946,800,0,100000,100000,50000,175,30,0,140,1945,1947,null,"○","○"]
[1947,850,0,100000,100000,50000,160,30,0,140,1946,1948,null,"○","○"]
[1948,900,0,100000,100000,50000,145,30,0,140,1947,1949,null,"○","○"]
[1949,950,0,100000,100000,50000,130,30,0,140,1948,1950,null,"○","○"]
[1950,1000,0,100000,100000,50000,120,30,0,140,1949,1951,null,"○","○"]
[1951,1050,0,100000,100000,50000,110,30,0,140,1950,1952,null,"○","○"]
[1952,1100,0,100000,100000,50000,100,30,0,140,1951,-1,null,"○","終端"]
[1953,550,0,80000,80000,35000,600,30,0,140,-1,1954,"RCS4-WSA16C-400-10","先頭","○"]
[1954,600,0,80000,80000,35000,560,30,0,140,1953,1955,null,"○","○"]
[1955,650,0,80000,80000,35000,490,30,0,140,1954,1956,null,"○","○"]
[1956,700,0,80000,80000,35000,440,30,0,140,1955,1957,null,"○","○"]
[1957,750,0,80000,80000,35000,395,30,0,140,1956,1958,null,"○","○"]
[1958,800,0,80000,80000,35000,355,30,0,140,1957,1959,null,"○","○"]
[1959,850,0,80000,80000,35000,320,30,0,140,1958,1960,null,"○","○"]
[1960,900,0,80000,80000,35000,290,30,0,140,1959,1961,null,"○","○"]
[1961,950,0,80000,80000,35000,265,30,0,140,1960,1962,null,"○","○"]
[1962,1000,0,80000,80000,35000,240,30,0,140,1961,1963,null,"○","○"]
[1963,1050,0,80000,80000,35000,225,30,0,140,1962,1964,null,"○","○"]
[1964,1100,0,80000,80000,35000,205,30,0,140,1963,-1,null,{"$f":"IF(K1967=A1966,\"○\",IF(M1967<>0,\"先頭\",\"つなぎまちがい\"))","v":"○"},{"$f":"IF(L1967=A1968,\"○\",IF(L1967<>K1968,\"つなぎまちがい\",\"終端\"))","v":"終端"}]
[1965,550,0,60000,60000,20000,1200,30,0,76,-1,1966,"RCS4-WSA16C-400-20","先頭","○"]
[1966,600,0,60000,60000,20000,1120,30,0,76,1965,1967,null,"○","○"]
[1967,650,0,60000,60000,20000,990,30,0,76,1966,1968,null,"○","○"]
[1968,700,0,60000,60000,20000,880,30,0,76,1967,1969,null,"○","○"]
[1969,750,0,60000,60000,20000,780,30,0,76,1968,1970,null,"○","○"]
[1970,800,0,60000,60000,20000,715,30,0,76,1969,1971,null,"○","○"]
[1971,850,0,60000,60000,20000,645,30,0,76,1970,1972,null,"○","○"]
[1972,900,0,60000,60000,20000,590,30,0,76,1971,1973,null,"○","○"]
[1973,950,0,60000,60000,20000,535,30,0,76,1972,1974,null,"○","○"]
[1974,1000,0,60000,60000,20000,490,30,0,76,1973,1975,null,"○","○"]
[1975,1050,0,60000,60000,20000,450,30,0,76,1974,1976,null,"○","○"]
[1976,1100,0,60000,60000,20000,415,30,0,76,1975,-1,null,"○","終端"]
[1977,550,0,30000,30000,12000,1800,30,0,78,-1,1978,"RCS4-WSA16C-400-30","先頭","○"]
[1978,600,0,30000,30000,12000,1680,30,0,78,1977,1979,null,"○","○"]
[1979,650,0,30000,30000,12000,1480,30,0,78,1978,1980,null,"○","○"]
[1980,700,0,30000,30000,12000,1320,30,0,78,1979,1981,null,"○","○"]
[1981,750,0,30000,30000,12000,1180,30,0,78,1980,1982,null,"○","○"]
[1982,800,0,30000,30000,12000,1060,30,0,78,1981,1983,null,"○","○"]
[1983,850,0,30000,30000,12000,960,30,0,78,1982,1984,null,"○","○"]
[1984,900,0,30000,30000,12000,870,30,0,78,1983,1985,null,"○","○"]
[1985,950,0,30000,30000,12000,790,30,0,78,1984,1986,null,"○","○"]
[1986,1000,0,30000,30000,12000,730,30,0,78,1985,1987,null,"○","○"]
[1987,1050,0,30000,30000,12000,670,30,0,78,1986,1988,null,"○","○"]
[1988,1100,0,30000,30000,12000,620,30,0,78,1987,-1,null,"○","終端",null,"↓↓↓ チェック結 果 ↓↓↓",null,null,null,"最大搬送重量","水平可搬質量","垂直可搬質量"]
[1989,150,0,9000,5000,9000,150,30,0,230,-1,-1,"RCS4-TA4C(SB)-60-2.5","先頭","終端",null,{"$f":"IF(D1992=U1992, \"○\", \"●\")","v":"○"},{"$f":"IF(E1992=V1992, \"○\", \"●\")","v":"○"},{"$f":"IF(F1992=W1992, \"○\", \"●\")","v":"○"},null,9000,5000,9000]
[1990,150,0,6000,5000,6000,300,30,0,265,-1,-1,"RCS4-TA4C(SB)-60-5","先頭","終端",null,{"$f":"IF(D1993=U1993, \"○\", \"●\")","v":"○"},"○","○",null,6000,5000,6000]
[1991,150,0,5000,5000,3000,600,30,0,185,-1,-1,"RCS4-TA4C(SB)-60-10","先頭","終端",null,"○","○","○",null,5000,5000,3000]
[1992,150,0,4000,4000,1500,900,30,0,160,-1,-1,"RCS4-TA4C(SB)-60-16","先頭","終端",null,"○","○","○",null,4000,4000,1500]
[1993,200,0,12000,10000,12000,180,30,0,225,-1,-1,"RCS4-TA6C(SB)-100-3","先頭","終端",null,"○","○",{"$f":"IF(F1996=W1996, \"○\", \"●\")","v":"○"},null,12000,10000,12000]
[1994,200,0,10000,8000,10000,360,30,0,163,-1,-1,"RCS4-TA6C(SB)-100-6","先頭","終端",null,"○","○","○",null,10000,8000,10000]
[1995,200,0,8000,8000,6000,720,30,0,154,-1,-1,"RCS4-TA6C(SB)-100-12","先頭","終端",null,"○","○","○",null,8000,8000,6000]
[1996,200,0,8000,8000,4000,1100,30,0,175,-1,-1,"RCS4-TA6C(SB)-100-20","先頭","終端",null,"○","○","○",null,8000,8000,4000]
[1997,300,0,20000,15000,20000,240,30,0,194,-1,-1,"RCS4-TA7C(SB)-200-4",{"$f":"IF(K2000=A1999,\"○\",IF(M2000<>0,\"先頭\",\"つなぎまちがい\"))","v":"先頭"},"終端",null,"○","○","○",null,20000,15000,20000]
[1998,300,0,18000,15000,18000,480,30,0,158,-1,-1,"RCS4-TA7C(SB)-200-8",{"$f":"IF(K2001=A2000,\"○\",IF(M2001<>0,\"先頭\",\"つなぎまちがい\"))","v":"先頭"},"終端",null,"○","○","○",null,18000,15000,18000]
[1999,300,0,15000,15000,10000,960,30,0,120,-1,-1,"RCS4-TA7C(SB)-200-16",{"$f":"IF(K2002=A2001,\"○\",IF(M2002<>0,\"先頭\",\"つなぎまちがい\"))","v":"先頭"},"終端",null,"○","○","○",null,15000,15000,10000]
[2000,300,0,12000,12000,5000,1300,30,0,105,-1,-1,"RCS4-TA7C(SB)-200-24",{"$f":"IF(K2003=A2002,\"○\",IF(M2003<>0,\"先頭\",\"つなぎまちがい\"))","v":"先頭"},{"$f":"IF(L2003=A2004,\"○\",IF(L2003<>K2004,\"つなぎまちがい\",\"終端\"))","v":"終端"},null,"○","○","○",null,12000,12000,5000]
[2001,240,0,10000,10000,9000,150,30,0,265,-1,-1,"RCS4-TA4C(DB)-60-2.5","先頭","終端",null,"○","○","○",null,10000,10000,9000]
[2002,240,0,10000,10000,6000,300,30,0,200,-1,-1,"RCS4-TA4C(DB)-60-5","先頭","終端",null,"○","○","○",null,10000,10000,6000]
[2003,240,0,8000,8000,3000,600,30,0,150,-1,-1,"RCS4-TA4C(DB)-60-10","先頭","終端",null,"○","○","○",null,8000,8000,3000]
[2004,270,0,20000,20000,12000,180,30,0,240,-1,{"$f":"A2008","v":2005},"RCS4-TA6C(DB)-100-3","先頭","○",null,"○","○","○",null,20000,20000,12000]
[2005,320,0,20000,20000,12000,140,30,0,240,{"$f":"A2007","v":2004},-1,null,"○","終端",null,"○","○","○",null,20000,20000,12000]
[2006,270,0,20000,20000,10000,360,30,0,190,-1,{"$f":"A2010","v":2007},"RCS4-TA6C(DB)-100-6","先頭","○",null,"○","○","○",null,20000,20000,10000]
[2007,320,0,20000,20000,10000,285,30,0,190,2006,-1,null,"○","終端",null,"○","○","○",null,20000,20000,10000]
[2008,270,0,14000,14000,6000,720,30,0,150,-1,2009,"RCS4-TA6C(DB)-100-12","先頭","○",null,"○","○","○",null,14000,14000,6000]
[2009,320,0,14000,14000,6000,575,30,0,150,2008,-1,null,"○","終端",null,"○","○","○",null,14000,14000,6000]
[{"$f":"A2012+1","v":2010},290,0,30000,30000,24000,240,30,0,270,-1,2011,"RCS4-TA7C(DB)-200-4","先頭","○",null,"○","○","○",null,30000,30000,24000]
[2011,340,0,30000,30000,24000,180,30,0,270,2010,2012,null,"○","○",null,"○","○","○",null,30000,30000,24000]
[2012,390,0,30000,30000,24000,150,30,0,270,2011,-1,null,"○","終端",null,"○","○","○",null,30000,30000,24000]
[2013,290,0,30000,30000,18000,480,30,0,150,-1,2014,"RCS4-TA7C(DB)-200-8","先頭","○",null,"○","○","○",null,30000,30000,18000]
[2014,340,0,30000,30000,18000,365,30,0,150,2013,2015,null,{"$f":"IF(K2017=A2016,\"○\",IF(M2017<>0,\"先頭\",\"つなぎまちがい\"))","v":"○"},{"$f":"IF(L2017=A2018,\"○\",IF(L2017<>K2018,\"つなぎまちがい\",\"終端\"))","v":"○"},null,"○","○","○",null,30000,30000,18000]
[2015,390,0,30000,30000,18000,300,30,0,150,2014,-1,null,"○","終端",null,"○","○","○",null,30000,30000,18000]
[2016,290,0,25000,25000,8000,960,30,0,133,-1,2017,"RCS4-TA7C(DB)-200-16","先頭","○",null,"○",{"$f":"IF(E2019=V2019, \"○\", \"●\")","v":"○"},"○",null,25000,25000,8000]
[2017,340,0,25000,25000,8000,730,30,0,133,2016,2018,null,"○","○",null,"○","○","○",null,25000,25000,8000]
[2018,390,0,25000,25000,8000,600,30,0,133,2017,-1,null,"○","終端",null,"○","○","○",null,25000,25000,8000]
[2019,410,0,40000,40000,10000,150,30,0,140,-1,-1,"RCS4-RRA4C-60-2.5","先頭","終端",null,"○","○","○",null,40000,40000,10000]
[2020,410,0,30000,30000,6000,300,30,0,132,-1,-1,"RCS4-RRA4C-60-5","先頭","終端",null,"○","○","○",null,30000,30000,6000]
[2021,410,0,18000,18000,4000,600,30,0,97,-1,-1,"RCS4-RRA4C-60-10","先頭","終端",null,"○","○","○",null,18000,18000,4000]
[2022,410,0,8000,8000,2000,960,30,0,97,-1,-1,"RCS4-RRA4C-60-16","先頭","終端",null,{"$f":"IF(D2025=U2025, \"○\", \"●\")","v":"○"},"○","○",null,8000,8000,2000]
[2023,415,0,60000,60000,20000,180,30,0,140,-1,-1,"RCS4-RRA6C-100-3","先頭","終端",null,"○","○","○",null,60000,60000,20000]
[2024,415,0,50000,50000,20000,360,30,0,96,-1,-1,"RCS4-RRA6C-100-6","先頭","終端",null,"○","○","○",null,50000,50000,20000]
[2025,415,0,25000,25000,10000,720,30,0,97,-1,-1,"RCS4-RRA6C-100-12","先頭","終端",null,"○","○","○",null,25000,25000,10000]
[2026,415,0,15000,15000,4000,1200,30,0,78,-1,-1,"RCS4-RRA6C-100-20","先頭","終端",null,"○","○","○",null,15000,15000,4000]
[2027,520,0,80000,80000,35000,240,30,0,134,-1,-1,"RCS4-RRA7C-200-4","先頭","終端",null,"○","○","○",null,80000,80000,35000]
[2028,520,0,60000,60000,25000,480,30,0,128,-1,-1,"RCS4-RRA7C-200-8","先頭","終端",null,"○","○","○",null,60000,60000,25000]
[2029,520,0,45000,45000,12000,960,30,0,87,-1,-1,"RCS4-RRA7C-200-16","先頭","終端",null,"○","○","○",null,45000,45000,12000]
[2030,520,0,20000,20000,6000,1440,30,0,87,-1,-1,"RCS4-RRA7C-200-24","先頭","終端",null,"○","○","○",null,20000,20000,6000]
[2031,250,0,100000,100000,72000,275,30,0,137,-1,{"$f":"A2035","v":2032},"RCS4-RRA8C-400-5","先頭","○",null,"○","○","○",null,100000,100000,72000]
[2032,300,0,100000,100000,72000,250,30,0,137,{"$f":"A2034","v":2031},{"$f":"A2036","v":2033},null,"○","○",null,"○","○","○",null,100000,100000,72000]
[2033,350,0,100000,100000,72000,190,30,0,137,{"$f":"A2035","v":2032},{"$f":"A2037","v":2034},null,"○","○",null,"○","○","○",null,100000,100000,72000]
[2034,400,0,100000,100000,72000,150,30,0,137,{"$f":"A2036","v":2033},{"$f":"A2038","v":2035},null,"○","○",null,"○","○","○",null,100000,100000,72000]
[2035,450,0,100000,100000,72000,120,30,0,137,2034,2036,null,"○","○",null,"○","○","○",null,100000,100000,72000]
[2036,500,0,100000,100000,72000,100,30,0,137,2035,2037,null,"○","○",null,"○","○","○",null,100000,100000,72000]
[2037,550,0,100000,100000,72000,80,30,0,137,2036,2038,null,"○","○",null,"○","○","○",null,100000,100000,72000]
[2038,600,0,100000,100000,72000,70,30,0,137,2037,2039,null,"○","○",null,"○","○","○",null,100000,100000,72000]
[2039,650,0,100000,100000,72000,60,30,0,137,2038,2040,null,"○","○",null,"○","○","○",null,100000,100000,72000]
[2040,700,0,100000,100000,72000,55,30,0,137,2039,-1,null,"○","終端",null,"○","○","○",null,100000,100000,72000]
[2041,250,0,80000,80000,40000,550,30,0,121,-1,{"$f":"A2045","v":2042},"RCS4-RRA8C-400-10","先頭","○",null,"○","○","○",null,80000,80000,40000]
[2042,300,0,80000,80000,40000,520,30,0,121,{"$f":"A2044","v":2041},2043,null,"○","○",null,"○","○","○",null,80000,80000,40000]
[2043,350,0,80000,80000,40000,400,30,0,121,2042,2044,null,"○","○",null,"○","○","○",null,80000,80000,40000]
[2044,400,0,80000,80000,40000,310,30,0,121,2043,2045,null,"○","○",null,"○","○","○",null,80000,80000,40000]
[2045,450,0,80000,80000,40000,250,30,0,121,2044,2046,null,"○","○",null,"○","○","○",null,80000,80000,40000]
[2046,500,0,80000,80000,40000,210,30,0,121,2045,2047,null,"○","○",null,"○","○","○",null,80000,80000,40000]
[2047,550,0,80000,80000,40000,180,30,0,121,2046,2048,null,"○","○",null,"○","○","○",null,80000,80000,40000]
[2048,600,0,80000,80000,40000,150,30,0,121,2047,2049,null,"○","○",null,"○","○","○",null,80000,80000,40000]
[2049,650,0,80000,80000,40000,130,30,0,121,2048,2050,null,"○","○",null,"○","○","○",null,80000,80000,40000]
[2050,700,0,80000,80000,40000,110,30,0,121,2049,-1,null,"○","終端",null,"○","○","○",null,80000,80000,40000]
[2051,250,0,60000,60000,20000,1100,30,0,97,-1,{"$f":"A2055","v":2052},"RCS4-RRA8C-400-20","先頭","○",null,"○","○","○",null,60000,60000,20000]
[2052,300,0,60000,60000,20000,1070,30,0,97,{"$f":"A2054","v":2051},2053,null,"○","○",null,"○","○","○",null,60000,60000,20000]
[2053,350,0,60000,60000,20000,820,30,0,97,2052,2054,null,"○","○",null,"○","○","○",null,60000,60000,20000]
[2054,400,0,60000,60000,20000,650,30,0,97,2053,2055,null,"○","○",null,{"$f":"IF(D2057=U2057, \"○\", \"●\")","v":"○"},"○","○",null,60000,60000,20000]
[2055,450,0,60000,60000,20000,520,30,0,97,2054,2056,null,"○","○",null,"○","○","○",null,60000,60000,20000]
[2056,500,0,60000,60000,20000,430,30,0,97,2055,2057,null,"○","○",null,"○","○","○",null,60000,60000,20000]
[2057,550,0,60000,60000,20000,360,30,0,97,2056,2058,null,"○","○",null,"○","○","○",null,60000,60000,20000]
[2058,600,0,60000,60000,20000,310,30,0,97,2057,2059,null,"○","○",null,"○","○","○",null,60000,60000,20000]
[2059,650,0,60000,60000,20000,260,30,0,97,2058,2060,null,"○","○",null,"○","○","○",null,60000,60000,20000]
[2060,700,0,60000,60000,20000,230,30,0,97,2059,-1,null,"○","終端",null,"○","○","○",null,60000,60000,20000]
[2061,300,0,30000,30000,8000,1500,30,0,117,-1,{"$f":"A2065","v":2062},"RCS4-RRA8C-400-30","先頭","○",null,"○","○","○",null,30000,30000,8000]
[2062,350,0,30000,30000,8000,1230,30,0,117,{"$f":"A2064","v":2061},2063,null,"○","○",null,"○","○","○",null,30000,30000,8000]
[2063,400,0,30000,30000,8000,970,30,0,117,2062,2064,null,"○","○",null,"○","○","○",null,30000,30000,8000]
[2064,450,0,30000,30000,8000,790,30,0,117,2063,2065,null,"○","○",null,"○","○","○",null,30000,30000,8000]
[2065,500,0,30000,30000,8000,650,30,0,117,2064,2066,null,"○","○",null,"○","○","○",null,30000,30000,8000]
[2066,550,0,30000,30000,8000,540,30,0,117,2065,2067,null,"○","○",null,"○","○","○",null,30000,30000,8000]
[2067,600,0,30000,30000,8000,460,30,0,117,2066,2068,null,"○","○",null,"○","○","○",null,30000,30000,8000]
[2068,650,0,30000,30000,8000,400,30,0,117,2067,2069,null,"○","○",null,"○","○","○",null,30000,30000,8000]
[2069,700,0,30000,30000,8000,350,30,0,117,2068,-1,null,"○","終端",null,"○","○","○",null,30000,30000,8000]
[2070,400,0,40000,40000,10000,150,30,0,175,-1,2071,"RCS4-WRA10C-60-2.5","先頭","○",null,"○","○","○",null,40000,40000,10000]
[2071,450,0,40000,40000,10000,145,30,0,175,{"$f":"A2073","v":2070},{"$f":"A2075","v":2072},null,"○","○",null,"○","○","○",null,40000,40000,10000]
[2072,500,0,40000,40000,10000,120,30,0,175,{"$f":"A2074","v":2071},-1,null,"○","終端",null,"○","○","○",null,40000,40000,10000]
[2073,400,0,25000,25000,5000,300,30,0,120,-1,{"$f":"A2077","v":2074},"RCS4-WRA10C-60-5","先頭","○",null,"○","○","○",null,25000,25000,5000]
[2074,450,0,25000,25000,5000,290,30,0,120,{"$f":"A2076","v":2073},{"$f":"A2078","v":2075},null,"○","○",null,"○","○","○",null,25000,25000,5000]
[{"$f":"A2077+1","v":2075},500,0,25000,25000,5000,240,30,0,120,{"$f":"A2077","v":2074},-1,null,"○","終端",null,"○","○","○",null,25000,25000,5000]
[2076,400,0,16000,16000,3000,600,30,0,96,-1,{"$f":"A2080","v":2077},"RCS4-WRA10C-60-10","先頭","○",null,"○","○","○",null,16000,16000,3000]
[2077,450,0,16000,16000,3000,580,30,0,96,{"$f":"A2079","v":2076},{"$f":"A2081","v":2078},null,"○","○",null,"○","○","○",null,16000,16000,3000]
[2078,500,0,16000,16000,3000,490,30,0,96,{"$f":"A2080","v":2077},-1,null,{"$f":"IF(K2081=A2080,\"○\",IF(M2081<>0,\"先頭\",\"つなぎまちがい\"))","v":"○"},{"$f":"IF(L2081=A2082,\"○\",IF(L2081<>K2082,\"つなぎまちがい\",\"終端\"))","v":"終端"},null,"○","○","○",null,16000,16000,3000]
[2079,450,0,5000,5000,-1,800,30,0,97,-1,{"$f":"A2083","v":2080},"RCS4-WRA10C-60-16","先頭","○",null,"○","○","○",null,5000,5000,-1]
[2080,500,0,5000,5000,-1,770,30,0,97,{"$f":"A2082","v":2079},-1,null,"○","終端",null,"○","○","○",null,5000,5000,-1]
[2081,500,0,60000,60000,20000,180,30,0,137,-1,-1,"RCS4-WRA12C-100-3","先頭","終端",null,"○","○","○",null,60000,60000,20000]
[2082,500,0,40000,40000,15000,360,30,0,150,-1,-1,"RCS4-WRA12C-100-6","先頭","終端",null,"○","○","○",null,40000,40000,15000]
[2083,500,0,25000,25000,6000,720,30,0,126,-1,-1,"RCS4-WRA12C-100-12","先頭","終端",null,"○","○","○",null,25000,25000,6000]
[2084,500,0,12000,12000,2000,1000,30,0,141,-1,-1,"RCS4-WRA12C-100-20","先頭","終端",null,"○","○","○",null,12000,12000,2000]
[2085,500,0,85000,85000,30000,240,30,0,134,-1,{"$f":"A2089","v":2086},"RCS4-WRA14C-200-2.5","先頭","○",null,"○","○","○",null,85000,85000,30000]
[2086,550,0,85000,85000,30000,220,30,0,134,{"$f":"A2088","v":2085},{"$f":"A2090","v":2087},null,"○","○",null,{"$f":"IF(D2089=U2089, \"○\", \"●\")","v":"○"},"○","○",null,85000,85000,30000]
[2087,600,0,85000,85000,30000,190,30,0,134,{"$f":"A2089","v":2086},-1,null,"○","終端",null,"○","○","○",null,85000,85000,30000]
[2088,500,0,65000,65000,20000,480,30,0,110,-1,{"$f":"A2092","v":2089},"RCS4-WRA14C-200-5","先頭","○",null,"○","○","○",null,65000,65000,20000]
[2089,550,0,65000,65000,20000,450,30,0,110,{"$f":"A2091","v":2088},{"$f":"A2093","v":2090},null,"○","○",null,"○","○","○",null,65000,65000,20000]
[2090,600,0,65000,65000,20000,390,30,0,110,{"$f":"A2092","v":2089},-1,null,"○","終端",null,"○","○","○",null,65000,65000,20000]
[2091,600,0,50000,50000,8000,800,30,0,83,-1,-1,"RCS4-WRA14C-200-10","先頭","終端",null,"○","○","○",null,50000,50000,8000]
[2092,600,0,25000,25000,3000,1200,30,0,92,-1,-1,"RCS4-WRA14C-200-16","先頭","終端",null,"○","○","○",null,25000,25000,3000]
[2093,250,0,100000,100000,50000,250,30,0,140,-1,{"$f":"A2097","v":2094},"RCS4-WRA16C-400-5","先頭",{"$f":"IF(L2096=A2097,\"○\",IF(L2096<>K2097,\"つなぎまちがい\",\"終端\"))","v":"○"},null,"○","○","○",null,100000,100000,50000]
[2094,300,0,100000,100000,50000,210,30,0,140,{"$f":"A2096","v":2093},{"$f":"A2098","v":2095},null,"○","○",null,"○","○","○",null,100000,100000,50000]
[2095,350,0,100000,100000,50000,170,30,0,140,2094,2096,null,"○","○",null,"○","○","○",null,100000,100000,50000]
[2096,400,0,100000,100000,50000,130,30,0,140,2095,2097,null,"○","○",null,"○","○","○",null,100000,100000,50000]
[2097,450,0,100000,100000,50000,115,30,0,140,2096,2098,null,"○","○",null,{"$f":"IF(D2100=U2100, \"○\", \"●\")","v":"○"},{"$f":"IF(E2100=V2100, \"○\", \"●\")","v":"○"},{"$f":"IF(F2100=W2100, \"○\", \"●\")","v":"○"},null,100000,100000,50000]
[2098,500,0,100000,100000,50000,95,30,0,140,2097,2099,null,"○","○",null,"○","○","○",null,100000,100000,50000]
[2099,550,0,100000,100000,50000,80,30,0,140,2098,{"$f":"A2103","v":2100},null,"○","○",null,"○","○","○",null,100000,100000,50000]
[2100,600,0,100000,100000,50000,70,30,0,140,2099,2101,null,"○","○",null,"○","○","○",null,100000,100000,50000]
[2101,650,0,100000,100000,50000,60,30,0,140,2100,2102,null,"○","○",null,"○","○","○",null,100000,100000,50000]
[2102,700,0,100000,100000,50000,55,30,0,140,2101,2103,null,"○","○",null,"○","○","○",null,100000,100000,50000]
[2103,750,0,100000,100000,50000,50,30,0,140,2102,2104,null,"○","○",null,"○","○","○",null,100000,100000,50000]
[2104,800,0,100000,100000,50000,45,30,0,140,2103,-1,null,"○","終端",null,"○","○","○",null,100000,100000,50000]
[2105,250,0,80000,80000,35000,500,30,0,131,-1,{"$f":"A2109","v":2106},"RCS4-WRA16C-400-10","先頭","○",null,"○","○","○",null,80000,80000,35000]
[2106,300,0,80000,80000,35000,430,30,0,131,{"$f":"A2108","v":2105},2107,null,"○","○",null,"○","○","○",null,80000,80000,35000]
[2107,350,0,80000,80000,35000,340,30,0,131,2106,2108,null,"○","○",null,"○","○","○",null,80000,80000,35000]
[2108,400,0,80000,80000,35000,280,30,0,131,2107,2109,null,"○","○",null,"○","○","○",null,80000,80000,35000]
[2109,450,0,80000,80000,35000,230,30,0,131,2108,2110,null,"○","○",null,"○","○","○",null,80000,80000,35000]
[2110,500,0,80000,80000,35000,195,30,0,131,2109,2111,null,"○","○",null,"○","○","○",null,80000,80000,35000]
[2111,550,0,80000,80000,35000,165,30,0,131,2110,2112,null,"○","○",null,"○","○","○",null,80000,80000,35000]
[2112,600,0,80000,80000,35000,145,30,0,131,2111,2113,null,"○","○",null,"○","○","○",null,80000,80000,35000]
[2113,650,0,80000,80000,35000,125,30,0,131,2112,2114,null,"○","○",null,"○","○","○",null,80000,80000,35000]
[2114,700,0,80000,80000,35000,110,30,0,131,2113,2115,null,"○","○",null,"○","○","○",null,80000,80000,35000]
[2115,750,0,80000,80000,35000,100,30,0,131,2114,2116,null,"○","○",null,"○","○","○",null,80000,80000,35000]
[2116,800,0,80000,80000,35000,90,30,0,131,2115,-1,null,"○","終端",null,"○","○","○",null,80000,80000,35000]
[2117,250,0,60000,60000,12000,1000,30,0,78,-1,{"$f":"A2121","v":2118},"RCS4-WRA16C-400-20","先頭","○",null,"○","○","○",null,60000,60000,12000]
[2118,300,0,60000,60000,12000,880,30,0,78,{"$f":"A2120","v":2117},2119,null,"○","○",null,{"$f":"IF(D2121=U2121, \"○\", \"●\")","v":"○"},"○","○",null,60000,60000,12000]
[2119,350,0,60000,60000,12000,700,30,0,78,2118,2120,null,"○","○",null,"○","○","○",null,60000,60000,12000]
[2120,400,0,60000,60000,12000,570,30,0,78,2119,2121,null,"○","○",null,"○","○","○",null,60000,60000,12000]
[2121,450,0,60000,60000,12000,470,30,0,78,2120,2122,null,"○","○",null,"○","○","○",null,60000,60000,12000]
[2122,500,0,60000,60000,12000,400,30,0,78,2121,2123,null,"○","○",null,"○","○","○",null,60000,60000,12000]
[2123,550,0,60000,60000,12000,340,30,0,78,2122,2124,null,"○","○",null,"○","○","○",null,60000,60000,12000]
[2124,600,0,60000,60000,12000,295,30,0,78,2123,2125,null,"○","○",null,"○","○","○",null,60000,60000,12000]
[2125,650,0,60000,60000,12000,260,30,0,78,2124,2126,null,"○","○",null,"○","○","○",null,60000,60000,12000]
[2126,700,0,60000,60000,12000,225,30,0,78,2125,2127,null,"○","○",null,"○","○","○",null,60000,60000,12000]
[2127,750,0,60000,60000,12000,200,30,0,78,2126,2128,null,"○","○",null,"○","○","○",null,60000,60000,12000]
[2128,800,0,60000,60000,12000,180,30,0,78,2127,-1,null,"○","終端",null,"○","○","○",null,60000,60000,12000]
[2129,300,0,30000,30000,6000,1300,30,0,98,-1,{"$f":"A2133","v":2130},"RCS4-WRA16C-400-30","先頭","○",null,"○","○","○",null,30000,30000,6000]
[2130,350,0,30000,30000,6000,1050,30,0,98,{"$f":"A2132","v":2129},{"$f":"A2134","v":2131},null,"○","○",null,"○","○","○",null,30000,30000,6000]
[2131,400,0,30000,30000,6000,860,30,0,98,{"$f":"A2133","v":2130},{"$f":"A2135","v":2132},null,"○","○",null,"○","○","○",null,30000,30000,6000]
[2132,450,0,30000,30000,6000,710,30,0,98,2131,2133,null,"○","○",null,"○","○","○",null,30000,30000,6000]
[2133,500,0,30000,30000,6000,600,30,0,98,2132,2134,null,"○","○",null,"○","○","○",null,30000,30000,6000]
[2134,550,0,30000,30000,6000,510,30,0,98,2133,2135,null,"○","○",null,"○","○","○",null,30000,30000,6000]
[2135,600,0,30000,30000,6000,440,30,0,98,2134,2136,null,"○","○",null,"○","○","○",null,30000,30000,6000]
[2136,650,0,30000,30000,6000,390,30,0,98,2135,2137,null,"○","○",null,"○","○","○",null,30000,30000,6000]
[2137,700,0,30000,30000,6000,340,30,0,98,2136,2138,null,"○","○",null,"○","○","○",null,30000,30000,6000]
[2138,750,0,30000,30000,6000,300,30,0,98,{"$f":"A2140","v":2137},{"$f":"A2142","v":2139},null,"○","○",null,"○","○","○",null,30000,30000,6000]
[2139,800,0,30000,30000,6000,270,30,0,98,{"$f":"A2141","v":2138},-1,null,"○","終端",null,"○","○","○",null,30000,30000,6000]
[2140,200,0,40000,40000,10000,125,30,0,262,-1,-1,"RCS4-RA4R-60-2.5",{"$f":"IF(K2143=A2142,\"○\",IF(M2143<>0,\"先頭\",\"つなぎまちがい\"))","v":"先頭"},{"$f":"IF(L2143=A2144,\"○\",IF(L2143<>K2144,\"つなぎまちがい\",\"終端\"))","v":"終端"}]
[{"$f":"A2143+1","v":2141},200,0,30000,30000,6000,250,30,0,168,-1,-1,"RCS4-RA4R-60-5","先頭","終端"]
[2142,200,0,18000,18000,4000,500,30,0,94,-1,-1,"RCS4-RA4R-60-10","先頭","終端"]
[2143,200,0,8000,8000,2000,800,30,0,80,-1,-1,"RCS4-RA4R-60-16","先頭","終端"]
[2144,300,0,60000,60000,20000,150,30,0,125,-1,-1,"RCS4-RA6R-100-3","先頭","終端"]
[2145,300,0,50000,50000,19000,300,30,0,140,-1,-1,"RCS4-RA6R-100-6","先頭","終端"]
[2146,300,0,25000,25000,9000,600,30,0,74,-1,-1,"RCS4-RA6R-100-12","先頭","終端"]
[2147,300,0,15000,15000,4000,1000,30,0,99,-1,-1,"RCS4-RA6R-100-20","先頭","終端"]
[2148,300,0,80000,80000,35000,200,30,0,128,-1,-1,"RCS4-RA7R-200-4","先頭","終端"]
[2149,300,0,60000,60000,25000,400,30,0,117,-1,-1,"RCS4-RA7R-200-8","先頭","終端"]
[2150,300,0,45000,45000,12000,800,30,0,84,-1,-1,"RCS4-RA7R-200-16","先頭","終端"]
[2151,300,0,20000,20000,6000,1200,30,0,79,-1,-1,"RCS4-RA7R-200-24","先頭","終端"]
[2152,300,0,100000,100000,72000,250,30,0,140,-1,-1,"RCS4-RA8R-400-5","先頭","終端"]
[2153,300,0,80000,80000,40000,500,30,0,110,-1,-1,"RCS4-RA8R-400-10","先頭","終端"]
[2154,300,0,60000,60000,20000,1000,30,0,90,-1,-1,"RCS4-RA8R-400-20","先頭","終端"]
[2155,450,0,20000,20000,12000,150,30,0,236,-1,{"$f":"A2159","v":2156},"RCS4-SA4R-60-2.5","先頭","○"]
[2156,500,0,20000,20000,12000,135,30,0,236,{"$f":"A2158","v":2155},2157,"RCS4-SA4R-60-2.5","○","○"]
[2157,550,0,20000,20000,12000,115,30,0,236,2156,2158,"RCS4-SA4R-60-2.5","○","○"]
[2158,600,0,20000,20000,12000,95,30,0,236,2157,2159,"RCS4-SA4R-60-2.5","○","○"]
[2159,650,0,20000,20000,12000,85,30,0,236,2158,2160,"RCS4-SA4R-60-2.5","○","○"]
[2160,700,0,20000,20000,12000,70,30,0,236,2159,2161,"RCS4-SA4R-60-2.5","○","○"]
[2161,750,0,20000,20000,12000,65,30,0,236,2160,2162,"RCS4-SA4R-60-2.5","○","○"]
[2162,800,0,20000,20000,12000,55,30,0,236,2161,-1,"RCS4-SA4R-60-2.5","○","終端"]
[2163,450,0,17000,17000,8000,300,30,0,166,-1,{"$f":"A2167","v":2164},"RCS4-SA4R-60-5","先頭","○"]
[2164,500,0,17000,17000,8000,275,30,0,166,{"$f":"A2166","v":2163},{"$f":"A2168","v":2165},"RCS4-SA4R-60-5","○","○"]
[2165,550,0,17000,17000,8000,230,30,0,166,2164,2166,"RCS4-SA4R-60-5",{"$f":"IF(K2168=A2167,\"○\",IF(M2168<>0,\"先頭\",\"つなぎまちがい\"))","v":"○"},{"$f":"IF(L2168=A2169,\"○\",IF(L2168<>K2169,\"つなぎまちがい\",\"終端\"))","v":"○"}]
[2166,600,0,17000,17000,8000,195,30,0,166,2165,2167,"RCS4-SA4R-60-5","○","○"]
[2167,650,0,17000,17000,8000,170,30,0,166,2166,2168,"RCS4-SA4R-60-5","○","○"]
[2168,700,0,17000,17000,8000,145,30,0,166,2167,2169,"RCS4-SA4R-60-5","○","○"]
[2169,750,0,17000,17000,8000,130,30,0,166,2168,2170,"RCS4-SA4R-60-5","○","○"]
[2170,800,0,17000,17000,8000,115,30,0,166,{"$f":"A2172","v":2169},-1,"RCS4-SA4R-60-5","○","終端"]
[2171,450,0,14000,14000,4500,600,30,0,109,-1,{"$f":"A2175","v":2172},"RCS4-SA4R-60-10","先頭","○"]
[2172,500,0,14000,14000,4500,555,30,0,109,{"$f":"A2174","v":2171},2173,"RCS4-SA4R-60-10","○","○"]
[2173,550,0,14000,14000,4500,465,30,0,109,2172,2174,"RCS4-SA4R-60-10","○","○"]
[2174,600,0,14000,14000,4500,395,30,0,109,2173,2175,"RCS4-SA4R-60-10","○","○"]
[2175,650,0,14000,14000,4500,340,30,0,109,2174,2176,"RCS4-SA4R-60-10","○","○"]
[2176,700,0,14000,14000,4500,300,30,0,109,2175,2177,"RCS4-SA4R-60-10","○","○"]
[2177,750,0,14000,14000,4500,260,30,0,109,2176,2178,"RCS4-SA4R-60-10","○","○"]
[2178,800,0,14000,14000,4500,230,30,0,109,2177,-1,"RCS4-SA4R-60-10","○","終端"]
[2179,450,0,10000,10000,2500,960,30,0,80,-1,{"$f":"A2183","v":2180},"RCS4-SA4R-60-16","先頭","○"]
[2180,500,0,10000,10000,2500,875,30,0,80,{"$f":"A2182","v":2179},{"$f":"A2184","v":2181},"RCS4-SA4R-60-16","○","○"]
[2181,550,0,10000,10000,2500,735,30,0,80,2180,2182,"RCS4-SA4R-60-16","○","○"]
[2182,600,0,10000,10000,2500,630,30,0,80,2181,2183,"RCS4-SA4R-60-16","○","○"]
[2183,650,0,10000,10000,2500,540,30,0,80,2182,2184,"RCS4-SA4R-60-16","○","○"]
[2184,700,0,10000,10000,2500,470,30,0,80,2183,2185,"RCS4-SA4R-60-16","○","○"]
[2185,750,0,10000,10000,2500,415,30,0,80,2184,2186,"RCS4-SA4R-60-16","○","○"]
[2186,800,0,10000,10000,2500,365,30,0,80,{"$f":"A2188","v":2185},-1,"RCS4-SA4R-60-16","○","終端"]
[2187,500,0,45000,45000,15000,180,30,0,122,-1,{"$f":"A2191","v":2188},"RCS4-SA6R-100-3","先頭","○"]
[2188,550,0,45000,45000,15000,150,30,0,122,{"$f":"A2190","v":2187},2189,"RCS4-SA6R-100-3","○","○"]
[2189,600,0,45000,45000,15000,130,30,0,122,2188,2190,"RCS4-SA6R-100-3","○","○"]
[2190,650,0,45000,45000,15000,115,30,0,122,2189,2191,"RCS4-SA6R-100-3","○","○"]
[2191,700,0,45000,45000,15000,100,30,0,122,2190,2192,"RCS4-SA6R-100-3","○","○"]
[2192,750,0,45000,45000,15000,85,30,0,122,2191,2193,"RCS4-SA6R-100-3","○","○"]
[2193,800,0,45000,45000,15000,75,30,0,122,2192,-1,"RCS4-SA6R-100-3","○","終端"]
[2194,500,0,45000,45000,15000,360,30,0,145,-1,{"$f":"A2198","v":2195},"RCS4-SA6R-100-6","先頭","○"]
[2195,550,0,45000,45000,15000,305,30,0,145,{"$f":"A2197","v":2194},2196,"RCS4-SA6R-100-6","○","○"]
[2196,600,0,45000,45000,15000,265,30,0,145,2195,2197,"RCS4-SA6R-100-6","○","○"]
[2197,650,0,45000,45000,15000,230,30,0,145,2196,2198,"RCS4-SA6R-100-6","○","○"]
[2198,700,0,45000,45000,15000,200,30,0,145,2197,2199,"RCS4-SA6R-100-6","○","○"]
[2199,750,0,45000,45000,15000,175,30,0,145,2198,2200,"RCS4-SA6R-100-6","○","○"]
[2200,800,0,45000,45000,15000,155,30,0,145,2199,-1,"RCS4-SA6R-100-6","○","終端"]
[2201,500,0,30000,30000,9000,720,30,0,94,-1,{"$f":"A2205","v":2202},"RCS4-SA6R-100-12","先頭","○"]
[2202,550,0,30000,30000,9000,620,30,0,94,{"$f":"A2204","v":2201},2203,"RCS4-SA6R-100-12","○","○"]
[2203,600,0,30000,30000,9000,535,30,0,94,2202,2204,"RCS4-SA6R-100-12","○","○"]
[2204,650,0,30000,30000,9000,460,30,0,94,2203,2205,"RCS4-SA6R-100-12","○","○"]
[{"$f":"A2207+1","v":2205},700,0,30000,30000,9000,405,30,0,94,2204,2206,"RCS4-SA6R-100-12","○","○"]
[2206,750,0,30000,30000,9000,355,30,0,94,2205,2207,"RCS4-SA6R-100-12","○","○"]
[2207,800,0,30000,30000,9000,315,30,0,94,2206,-1,"RCS4-SA6R-100-12","○","終端"]
[2208,500,0,18000,18000,5000,1200,30,0,74,-1,{"$f":"A2212","v":2209},"RCS4-SA6R-100-20","先頭","○"]
[2209,550,0,18000,18000,5000,1130,30,0,74,{"$f":"A2211","v":2208},2210,"RCS4-SA6R-100-20","○","○"]
[2210,600,0,18000,18000,5000,970,30,0,74,2209,2211,"RCS4-SA6R-100-20","○","○"]
[2211,650,0,18000,18000,5000,840,30,0,74,2210,2212,"RCS4-SA6R-100-20","○","○"]
[2212,700,0,18000,18000,5000,735,30,0,74,2211,2213,"RCS4-SA6R-100-20","○","○"]
[2213,750,0,18000,18000,5000,650,30,0,74,2212,2214,"RCS4-SA6R-100-20","○","○"]
[2214,800,0,18000,18000,5000,575,30,0,74,2213,-1,"RCS4-SA6R-100-20","○","終端"]
[2215,550,0,11000,11000,3000,1600,30,0,60,-1,{"$f":"A2219","v":2216},"RCS4-SA6R-100-30","先頭","○"]
[2216,600,0,11000,11000,3000,1450,30,0,60,{"$f":"A2218","v":2215},{"$f":"A2220","v":2217},"RCS4-SA6R-100-30","○","○"]
[2217,650,0,11000,11000,3000,1260,30,0,60,{"$f":"A2219","v":2216},{"$f":"A2221","v":2218},"RCS4-SA6R-100-30","○","○"]
[2218,700,0,11000,11000,3000,1100,30,0,60,{"$f":"A2220","v":2217},{"$f":"A2222","v":2219},"RCS4-SA6R-100-30","○","○"]
[2219,750,0,11000,11000,3000,970,30,0,60,{"$f":"A2221","v":2218},{"$f":"A2223","v":2220},"RCS4-SA6R-100-30","○","○"]
[2220,800,0,11000,11000,3000,860,30,0,60,{"$f":"A2222","v":2219},-1,"RCS4-SA6R-100-30","○","終端"]
[2221,500,0,50000,50000,25000,240,30,0,132,-1,{"$f":"A2225","v":2222},"RCS4-SA7R-200-4","先頭","○"]
[2222,550,0,50000,50000,25000,235,30,0,132,{"$f":"A2224","v":2221},2223,"RCS4-SA7R-200-4","○","○"]
[2223,600,0,50000,50000,25000,205,30,0,132,2222,2224,"RCS4-SA7R-200-4","○","○"]
[2224,650,0,50000,50000,25000,175,30,0,132,2223,2225,"RCS4-SA7R-200-4","○","○"]
[2225,700,0,50000,50000,25000,155,30,0,132,2224,2226,"RCS4-SA7R-200-4","○","○"]
[2226,750,0,50000,50000,25000,135,30,0,132,2225,2227,"RCS4-SA7R-200-4","○","○"]
[2227,800,0,50000,50000,25000,120,30,0,132,2226,-1,"RCS4-SA7R-200-4","○","終端"]
[2228,500,0,45000,45000,18000,500,30,0,140,-1,{"$f":"A2232","v":2229},"RCS4-SA7R-200-8","先頭","○"]
[2229,550,0,45000,45000,18000,475,30,0,140,{"$f":"A2231","v":2228},2230,"RCS4-SA7R-200-8",{"$f":"IF(K2232=A2231,\"○\",IF(M2232<>0,\"先頭\",\"つなぎまちがい\"))","v":"○"},{"$f":"IF(L2232=A2233,\"○\",IF(L2232<>K2233,\"つなぎまちがい\",\"終端\"))","v":"○"}]
[2230,600,0,45000,45000,18000,410,30,0,140,2229,2231,"RCS4-SA7R-200-8","○","○"]
[2231,650,0,45000,45000,18000,355,30,0,140,2230,2232,"RCS4-SA7R-200-8","○","○"]
[2232,700,0,45000,45000,18000,315,30,0,140,2231,2233,"RCS4-SA7R-200-8","○","○"]
[2233,750,0,45000,45000,18000,275,30,0,140,2232,2234,"RCS4-SA7R-200-8","○","○"]
[2234,800,0,45000,45000,18000,245,30,0,140,2233,-1,"RCS4-SA7R-200-8","○","終端"]
[2235,500,0,38000,38000,12000,1000,30,0,109,-1,{"$f":"A2239","v":2236},"RCS4-SA7R-200-16","先頭","○"]
[2236,550,0,38000,38000,12000,965,30,0,109,{"$f":"A2238","v":2235},2237,"RCS4-SA7R-200-16","○","○"]
[2237,600,0,38000,38000,12000,830,30,0,109,2236,2238,"RCS4-SA7R-200-16","○","○"]
[2238,650,0,38000,38000,12000,720,30,0,109,2237,2239,"RCS4-SA7R-200-16","○","○"]
[2239,700,0,38000,38000,12000,635,30,0,109,2238,2240,"RCS4-SA7R-200-16","○","○"]
[2240,750,0,38000,38000,12000,560,30,0,109,2239,2241,"RCS4-SA7R-200-16","○","○"]
[2241,800,0,38000,38000,12000,500,30,0,109,2240,-1,"RCS4-SA7R-200-16","○","終端"]
[2242,500,0,30000,30000,6000,1500,30,0,84,-1,{"$f":"A2246","v":2243},"RCS4-SA7R-200-24","先頭","○"]
[2243,550,0,30000,30000,6000,1440,30,0,84,{"$f":"A2245","v":2242},2244,"RCS4-SA7R-200-24","○","○"]
[2244,600,0,30000,30000,6000,1240,30,0,84,2243,2245,"RCS4-SA7R-200-24","○","○"]
[2245,650,0,30000,30000,6000,1095,30,0,84,2244,2246,"RCS4-SA7R-200-24","○","○"]
[2246,700,0,30000,30000,6000,965,30,0,84,2245,2247,"RCS4-SA7R-200-24","○","○"]
[2247,750,0,30000,30000,6000,850,30,0,84,2246,2248,"RCS4-SA7R-200-24","○","○"]
[2248,800,0,30000,30000,6000,760,30,0,84,2247,-1,"RCS4-SA7R-200-24","○","終端"]
[2249,600,0,7000,7000,4000,1800,30,0,89,-1,{"$f":"A2253","v":2250},"RCS4-SA7R-200-36","先頭","○"]
[2250,650,0,7000,7000,4000,1620,30,0,89,{"$f":"A2252","v":2249},{"$f":"A2254","v":2251},"RCS4-SA7R-200-36","○","○"]
[2251,700,0,7000,7000,4000,1420,30,0,89,{"$f":"A2253","v":2250},{"$f":"A2255","v":2252},"RCS4-SA7R-200-36","○","○"]
[2252,750,0,7000,7000,4000,1260,30,0,89,{"$f":"A2254","v":2251},{"$f":"A2256","v":2253},"RCS4-SA7R-200-36","○","○"]
[2253,800,0,7000,7000,4000,1120,30,0,89,{"$f":"A2255","v":2252},-1,"RCS4-SA7R-200-36","○","終端"]
[2254,600,0,90000,90000,45000,300,30,0,127,-1,{"$f":"A2258","v":2255},"RCS4-SA8R-400-5","先頭","○"]
[2255,650,0,90000,90000,45000,270,30,0,127,{"$f":"A2257","v":2254},{"$f":"A2259","v":2256},"RCS4-SA8R-400-5","○","○"]
[2256,700,0,90000,90000,45000,240,30,0,127,2255,2257,"RCS4-SA8R-400-5","○","○"]
[2257,750,0,90000,90000,45000,215,30,0,127,2256,2258,"RCS4-SA8R-400-5","○","○"]
[2258,800,0,90000,90000,45000,190,30,0,127,2257,2259,"RCS4-SA8R-400-5","○","○"]
[2259,850,0,90000,90000,45000,175,30,0,127,2258,2260,"RCS4-SA8R-400-5","○","○"]
[2260,900,0,90000,90000,45000,155,30,0,127,2259,2261,"RCS4-SA8R-400-5","○","○"]
[2261,950,0,90000,90000,45000,140,30,0,127,2260,2262,"RCS4-SA8R-400-5","○","○"]
[2262,1000,0,90000,90000,45000,130,30,0,127,2261,2263,"RCS4-SA8R-400-5","○","○"]
[2263,1050,0,90000,90000,45000,120,30,0,127,2262,2264,"RCS4-SA8R-400-5","○","○"]
[2264,1100,0,90000,90000,45000,110,30,0,127,{"$f":"A2266","v":2263},-1,"RCS4-SA8R-400-5","○","終端"]
[2265,600,0,80000,80000,35000,600,30,0,114,-1,{"$f":"A2269","v":2266},"RCS4-SA8R-400-10","先頭","○"]
[2266,650,0,80000,80000,35000,540,30,0,114,{"$f":"A2268","v":2265},{"$f":"A2270","v":2267},"RCS4-SA8R-400-10","○","○"]
[2267,700,0,80000,80000,35000,480,30,0,114,2266,2268,"RCS4-SA8R-400-10","○","○"]
[2268,750,0,80000,80000,35000,430,30,0,114,2267,2269,"RCS4-SA8R-400-10","○","○"]
[{"$f":"A2271+1","v":2269},800,0,80000,80000,35000,385,30,0,114,2268,2270,"RCS4-SA8R-400-10","○","○"]
[2270,850,0,80000,80000,35000,345,30,0,114,2269,2271,"RCS4-SA8R-400-10","○","○"]
[2271,900,0,80000,80000,35000,310,30,0,114,2270,2272,"RCS4-SA8R-400-10","○","○"]
[2272,950,0,80000,80000,35000,285,30,0,114,2271,2273,"RCS4-SA8R-400-10","○","○"]
[2273,1000,0,80000,80000,35000,260,30,0,114,2272,2274,"RCS4-SA8R-400-10","○","○"]
[2274,1050,0,80000,80000,35000,235,30,0,114,2273,2275,"RCS4-SA8R-400-10","○","○"]
[2275,1100,0,80000,80000,35000,220,30,0,114,{"$f":"A2277","v":2274},-1,"RCS4-SA8R-400-10","○","終端"]
[2276,600,0,60000,60000,20000,1200,30,0,75,-1,{"$f":"A2280","v":2277},"RCS4-SA8R-400-20","先頭","○"]
[2277,650,0,60000,60000,20000,1090,30,0,75,{"$f":"A2279","v":2276},{"$f":"A2281","v":2278},"RCS4-SA8R-400-20","○","○"]
[2278,700,0,60000,60000,20000,960,30,0,75,2277,2279,"RCS4-SA8R-400-20","○","○"]
[2279,750,0,60000,60000,20000,860,30,0,75,2278,2280,"RCS4-SA8R-400-20","○","○"]
[2280,800,0,60000,60000,20000,770,30,0,75,2279,2281,"RCS4-SA8R-400-20","○","○"]
[2281,850,0,60000,60000,20000,695,30,0,75,2280,2282,"RCS4-SA8R-400-20","○","○"]
[2282,900,0,60000,60000,20000,630,30,0,75,2281,2283,"RCS4-SA8R-400-20","○","○"]
[2283,950,0,60000,60000,20000,570,30,0,75,2282,2284,"RCS4-SA8R-400-20","○","○"]
[2284,1000,0,60000,60000,20000,520,30,0,75,2283,2285,"RCS4-SA8R-400-20","○","○"]
[2285,1050,0,60000,60000,20000,480,30,0,75,2284,2286,"RCS4-SA8R-400-20","○","○"]
[2286,1100,0,60000,60000,20000,440,30,0,75,{"$f":"A2288","v":2285},-1,"RCS4-SA8R-400-20","○","終端"]
[2287,600,0,30000,30000,12000,1800,30,0,80,-1,{"$f":"A2291","v":2288},"RCS4-SA8R-400-30","先頭","○"]
[2288,650,0,30000,30000,12000,1640,30,0,80,{"$f":"A2290","v":2287},{"$f":"A2292","v":2289},"RCS4-SA8R-400-30","○","○"]
[2289,700,0,30000,30000,12000,1440,30,0,80,2288,2290,"RCS4-SA8R-400-30","○","○"]
[2290,750,0,30000,30000,12000,1280,30,0,80,2289,2291,"RCS4-SA8R-400-30","○","○"]
[2291,800,0,30000,30000,12000,1155,30,0,80,2290,2292,"RCS4-SA8R-400-30","○","○"]
[2292,850,0,30000,30000,12000,1040,30,0,80,2291,2293,"RCS4-SA8R-400-30","○","○"]
[2293,900,0,30000,30000,12000,940,30,0,80,2292,2294,"RCS4-SA8R-400-30",{"$f":"IF(K2296=A2295,\"○\",IF(M2296<>0,\"先頭\",\"つなぎまちがい\"))","v":"○"},{"$f":"IF(L2296=A2297,\"○\",IF(L2296<>K2297,\"つなぎまちがい\",\"終端\"))","v":"○"}]
[2294,950,0,30000,30000,12000,855,30,0,80,2293,2295,"RCS4-SA8R-400-30","○","○"]
[2295,1000,0,30000,30000,12000,780,30,0,80,2294,2296,"RCS4-SA8R-400-30","○","○"]
[2296,1050,0,30000,30000,12000,715,30,0,80,2295,2297,"RCS4-SA8R-400-30","○","○"]
[2297,1100,0,30000,30000,12000,660,30,0,80,{"$f":"A2299","v":2296},-1,"RCS4-SA8R-400-30","○","終端"]
[2298,750,0,8000,8000,-1,2100,30,0,134,-1,{"$f":"A2302","v":2299},"RCS4-SA8R-400-48","先頭","○"]
[2299,800,0,8000,8000,-1,1950,30,0,134,{"$f":"A2301","v":2298},{"$f":"A2303","v":2300},"RCS4-SA8R-400-48","○","○"]
[2300,850,0,8000,8000,-1,1760,30,0,134,2299,2301,"RCS4-SA8R-400-48","○","○"]
[2301,900,0,8000,8000,-1,1590,30,0,134,2300,2302,"RCS4-SA8R-400-48","○","○"]
[2302,950,0,8000,8000,-1,1450,30,0,134,2301,2303,"RCS4-SA8R-400-48","○","○"]
[2303,1000,0,8000,8000,-1,1320,30,0,134,2302,2304,"RCS4-SA8R-400-48","○","○"]
[2304,1050,0,8000,8000,-1,1210,30,0,134,2303,2305,"RCS4-SA8R-400-48","○","○"]
[2305,1100,0,8000,8000,-1,1110,30,0,134,{"$f":"A2307","v":2304},-1,"RCS4-SA8R-400-48","○","終端"]
[2306,350,0,40000,40000,10000,150,30,0,171,-1,{"$f":"A2310","v":2307},"RCS4-WSA10R-60-2.5","先頭","○"]
[2307,400,0,40000,40000,10000,145,30,0,171,{"$f":"A2309","v":2306},{"$f":"A2311","v":2308},"RCS4-WSA10R-60-2.5","○","○"]
[2308,450,0,40000,40000,10000,120,30,0,171,{"$f":"A2310","v":2307},{"$f":"A2312","v":2309},"RCS4-WSA10R-60-2.5","○","○"]
[2309,500,0,40000,40000,10000,100,30,0,171,{"$f":"A2311","v":2308},-1,"RCS4-WSA10R-60-2.5","○","終端"]
[2310,350,0,27000,27000,5000,300,30,0,148,-1,{"$f":"A2314","v":2311},"RCS4-WSA10R-60-5","先頭","○"]
[2311,400,0,27000,27000,5000,290,30,0,148,{"$f":"A2313","v":2310},{"$f":"A2315","v":2312},"RCS4-WSA10R-60-5","○","○"]
[2312,450,0,27000,27000,5000,245,30,0,148,{"$f":"A2314","v":2311},{"$f":"A2316","v":2313},"RCS4-WSA10R-60-5","○","○"]
[2313,500,0,27000,27000,5000,205,30,0,148,{"$f":"A2315","v":2312},-1,"RCS4-WSA10R-60-5","○","終端"]
[2314,350,0,16000,16000,3000,600,30,0,114,-1,{"$f":"A2318","v":2315},"RCS4-WSA10R-60-10","先頭","○"]
[2315,400,0,16000,16000,3000,590,30,0,114,{"$f":"A2317","v":2314},{"$f":"A2319","v":2316},"RCS4-WSA10R-60-10","○","○"]
[2316,450,0,16000,16000,3000,490,30,0,114,{"$f":"A2318","v":2315},{"$f":"A2320","v":2317},"RCS4-WSA10R-60-10","○","○"]
[2317,500,0,16000,16000,3000,415,30,0,114,{"$f":"A2319","v":2316},-1,"RCS4-WSA10R-60-10","○","終端"]
[2318,350,0,7000,7000,-1,960,30,0,119,-1,{"$f":"A2322","v":2319},"RCS4-WSA10R-60-16","先頭","○"]
[2319,400,0,7000,7000,-1,930,30,0,119,{"$f":"A2321","v":2318},{"$f":"A2323","v":2320},"RCS4-WSA10R-60-16","○","○"]
[2320,450,0,7000,7000,-1,775,30,0,119,{"$f":"A2322","v":2319},{"$f":"A2324","v":2321},"RCS4-WSA10R-60-16","○","○"]
[2321,500,0,7000,7000,-1,660,30,0,119,{"$f":"A2323","v":2320},-1,"RCS4-WSA10R-60-16","○","終端"]
[2322,450,0,55000,55000,15000,180,30,0,124,-1,{"$f":"A2326","v":2323},"RCS4-WSA12R-100-3","先頭","○"]
[2323,500,0,55000,55000,15000,150,30,0,124,{"$f":"A2325","v":2322},{"$f":"A2327","v":2324},"RCS4-WSA12R-100-3","○","○"]
[2324,550,0,55000,55000,15000,130,30,0,124,2323,2325,"RCS4-WSA12R-100-3","○","○"]
[2325,600,0,55000,55000,15000,115,30,0,124,2324,2326,"RCS4-WSA12R-100-3","○","○"]
[2326,650,0,55000,55000,15000,100,30,0,124,2325,2327,"RCS4-WSA12R-100-3","○","○"]
[2327,700,0,55000,55000,15000,85,30,0,124,2326,2328,"RCS4-WSA12R-100-3","○","○"]
[2328,750,0,55000,55000,15000,75,30,0,124,2327,2329,"RCS4-WSA12R-100-3","○","○"]
[2329,800,0,55000,55000,15000,70,30,0,124,{"$f":"A2331","v":2328},-1,"RCS4-WSA12R-100-3","○","終端"]
[2330,450,0,43000,43000,15000,360,30,0,130,-1,{"$f":"A2334","v":2331},"RCS4-WSA12R-100-6","先頭","○"]
[2331,500,0,43000,43000,15000,310,30,0,130,{"$f":"A2333","v":2330},{"$f":"A2335","v":2332},"RCS4-WSA12R-100-6","○","○"]
[2332,550,0,43000,43000,15000,265,30,0,130,2331,2333,"RCS4-WSA12R-100-6","○","○"]
[2333,600,0,43000,43000,15000,230,30,0,130,2332,2334,"RCS4-WSA12R-100-6","○","○"]
[2334,650,0,43000,43000,15000,200,30,0,130,2333,2335,"RCS4-WSA12R-100-6","○","○"]
[{"$f":"A2337+1","v":2335},700,0,43000,43000,15000,175,30,0,130,2334,2336,"RCS4-WSA12R-100-6","○","○"]
[2336,750,0,43000,43000,15000,155,30,0,130,2335,2337,"RCS4-WSA12R-100-6","○","○"]
[2337,800,0,43000,43000,15000,140,30,0,130,{"$f":"A2339","v":2336},-1,"RCS4-WSA12R-100-6","○","終端"]
[2338,450,0,23000,23000,8000,720,30,0,116,-1,{"$f":"A2342","v":2339},"RCS4-WSA12R-100-12","先頭","○"]
[2339,500,0,23000,23000,8000,610,30,0,116,{"$f":"A2341","v":2338},{"$f":"A2343","v":2340},"RCS4-WSA12R-100-12","○","○"]
[2340,550,0,23000,23000,8000,535,30,0,116,2339,2341,"RCS4-WSA12R-100-12","○","○"]
[2341,600,0,23000,23000,8000,465,30,0,116,2340,2342,"RCS4-WSA12R-100-12","○","○"]
[2342,650,0,23000,23000,8000,405,30,0,116,2341,2343,"RCS4-WSA12R-100-12","○","○"]
[2343,700,0,23000,23000,8000,355,30,0,116,2342,2344,"RCS4-WSA12R-100-12","○","○"]
[2344,750,0,23000,23000,8000,315,30,0,116,2343,2345,"RCS4-WSA12R-100-12","○","○"]
[2345,800,0,23000,23000,8000,285,30,0,116,{"$f":"A2347","v":2344},-1,"RCS4-WSA12R-100-12","○","終端"]
[2346,450,0,13000,13000,3000,1200,30,0,90,-1,{"$f":"A2350","v":2347},"RCS4-WSA12R-100-20","先頭","○"]
[2347,500,0,13000,13000,3000,1130,30,0,90,{"$f":"A2349","v":2346},{"$f":"A2351","v":2348},"RCS4-WSA12R-100-20","○","○"]
[2348,550,0,13000,13000,3000,970,30,0,90,{"$f":"A2350","v":2347},2349,"RCS4-WSA12R-100-20","○","○"]
[2349,600,0,13000,13000,3000,840,30,0,90,2348,2350,"RCS4-WSA12R-100-20","○","○"]
[2350,650,0,13000,13000,3000,740,30,0,90,2349,2351,"RCS4-WSA12R-100-20","○","○"]
[2351,700,0,13000,13000,3000,650,30,0,90,2350,2352,"RCS4-WSA12R-100-20","○","○"]
[2352,750,0,13000,13000,3000,580,30,0,90,2351,2353,"RCS4-WSA12R-100-20","○","○"]
[2353,800,0,13000,13000,3000,520,30,0,90,{"$f":"A2355","v":2352},-1,"RCS4-WSA12R-100-20","○","終端"]
[2354,500,0,5000,5000,-1,1600,30,0,113,-1,{"$f":"A2358","v":2355},"RCS4-WSA12R-100-30","先頭","○"]
[2355,550,0,5000,5000,-1,1450,30,0,113,{"$f":"A2357","v":2354},2356,"RCS4-WSA12R-100-30","○","○"]
[2356,600,0,5000,5000,-1,1260,30,0,113,2355,2357,"RCS4-WSA12R-100-30","○","○"]
[{"$f":"A2359+1","v":2357},650,0,5000,5000,-1,1100,30,0,113,2356,2358,"RCS4-WSA12R-100-30","○","○"]
[2358,700,0,5000,5000,-1,970,30,0,113,2357,2359,"RCS4-WSA12R-100-30","○","○"]
[2359,750,0,5000,5000,-1,860,30,0,113,2358,2360,"RCS4-WSA12R-100-30","○","○"]
[{"$f":"A2362+1","v":2360},800,0,5000,5000,-1,770,30,0,113,2359,-1,"RCS4-WSA12R-100-30","○","終端"]
[2361,450,0,75000,75000,25000,240,30,0,118,-1,{"$f":"A2365","v":2362},"RCS4-WSA14R-200-4",{"$f":"IF(K2364=A2363,\"○\",IF(M2364<>0,\"先頭\",\"つなぎまちがい\"))","v":"先頭"},{"$f":"IF(L2364=A2365,\"○\",IF(L2364<>K2365,\"つなぎまちがい\",\"終端\"))","v":"○"}]
[2362,500,0,75000,75000,25000,230,30,0,118,{"$f":"A2364","v":2361},{"$f":"A2366","v":2363},"RCS4-WSA14R-200-4","○","○"]
[2363,550,0,75000,75000,25000,200,30,0,118,2362,2364,"RCS4-WSA14R-200-4","○","○"]
[2364,600,0,75000,75000,25000,170,30,0,118,2363,2365,"RCS4-WSA14R-200-4","○","○"]
[2365,650,0,75000,75000,25000,150,30,0,118,2364,2366,"RCS4-WSA14R-200-4","○","○"]
[2366,700,0,75000,75000,25000,135,30,0,118,2365,2367,"RCS4-WSA14R-200-4","○","○"]
[2367,750,0,75000,75000,25000,120,30,0,118,2366,2368,"RCS4-WSA14R-200-4","○","○"]
[2368,800,0,75000,75000,25000,105,30,0,118,{"$f":"A2370","v":2367},-1,"RCS4-WSA14R-200-4","○","終端"]
[2369,450,0,65000,65000,10000,480,30,0,107,-1,{"$f":"A2373","v":2370},"RCS4-WSA14R-200-8","先頭","○"]
[2370,500,0,65000,65000,10000,460,30,0,107,{"$f":"A2372","v":2369},{"$f":"A2374","v":2371},"RCS4-WSA14R-200-8","○","○"]
[2371,550,0,65000,65000,10000,400,30,0,107,2370,2372,"RCS4-WSA14R-200-8","○","○"]
[2372,600,0,65000,65000,10000,350,30,0,107,2371,2373,"RCS4-WSA14R-200-8","○","○"]
[2373,650,0,65000,65000,10000,305,30,0,107,2372,2374,"RCS4-WSA14R-200-8","○","○"]
[2374,700,0,65000,65000,10000,270,30,0,107,2373,2375,"RCS4-WSA14R-200-8","○","○"]
[2375,750,0,65000,65000,10000,240,30,0,107,2374,2376,"RCS4-WSA14R-200-8","○","○"]
[2376,800,0,65000,65000,10000,215,30,0,107,2375,-1,"RCS4-WSA14R-200-8","○","終端"]
[2377,450,0,45000,45000,8000,960,30,0,74,-1,{"$f":"A2381","v":2378},"RCS4-WSA14R-200-16","先頭","○"]
[2378,500,0,45000,45000,8000,920,30,0,74,{"$f":"A2380","v":2377},{"$f":"A2382","v":2379},"RCS4-WSA14R-200-16","○","○"]
[2379,550,0,45000,45000,8000,790,30,0,74,2378,2380,"RCS4-WSA14R-200-16","○","○"]
[2380,600,0,45000,45000,8000,690,30,0,74,2379,2381,"RCS4-WSA14R-200-16","○","○"]
[2381,650,0,45000,45000,8000,610,30,0,74,2380,2382,"RCS4-WSA14R-200-16","○","○"]
[2382,700,0,45000,45000,8000,550,30,0,74,2381,2383,"RCS4-WSA14R-200-16","○","○"]
[2383,750,0,45000,45000,8000,490,30,0,74,2382,2384,"RCS4-WSA14R-200-16","○","○"]
[2384,800,0,45000,45000,8000,440,30,0,74,2383,-1,"RCS4-WSA14R-200-16","○","終端"]
[2385,450,0,20000,20000,2500,1440,30,0,75,-1,{"$f":"A2389","v":2386},"RCS4-WSA14R-200-24","先頭","○"]
[2386,500,0,20000,20000,2500,1420,30,0,75,{"$f":"A2388","v":2385},{"$f":"A2390","v":2387},"RCS4-WSA14R-200-24","○","○"]
[2387,550,0,20000,20000,2500,1220,30,0,75,2386,{"$f":"A2391","v":2388},"RCS4-WSA14R-200-24","○","○"]
[2388,600,0,20000,20000,2500,1060,30,0,75,2387,2389,"RCS4-WSA14R-200-24","○","○"]
[2389,650,0,20000,20000,2500,930,30,0,75,2388,2390,"RCS4-WSA14R-200-24","○","○"]
[2390,700,0,20000,20000,2500,830,30,0,75,2389,2391,"RCS4-WSA14R-200-24","○","○"]
[2391,750,0,20000,20000,2500,740,30,0,75,2390,2392,"RCS4-WSA14R-200-24","○","○"]
[2392,800,0,20000,20000,2500,665,30,0,75,2391,-1,"RCS4-WSA14R-200-24","○","終端"]
[2393,550,0,7000,7000,-1,1710,30,0,84,-1,{"$f":"A2397","v":2394},"RCS4-WSA14R-200-36","先頭","○"]
[2394,600,0,7000,7000,-1,1590,30,0,84,{"$f":"A2396","v":2393},{"$f":"A2398","v":2395},"RCS4-WSA14R-200-36","○","○"]
[2395,650,0,7000,7000,-1,1400,30,0,84,{"$f":"A2397","v":2394},{"$f":"A2399","v":2396},"RCS4-WSA14R-200-36","○","○"]
[2396,700,0,7000,7000,-1,1240,30,0,84,{"$f":"A2398","v":2395},{"$f":"A2400","v":2397},"RCS4-WSA14R-200-36","○","○"]
[2397,750,0,7000,7000,-1,1110,30,0,84,{"$f":"A2399","v":2396},{"$f":"A2401","v":2398},"RCS4-WSA14R-200-36","○","○"]
[2398,800,0,7000,7000,-1,990,30,0,84,{"$f":"A2400","v":2397},-1,"RCS4-WSA14R-200-36","○","終端"]
[2399,550,0,100000,100000,50000,300,30,0,140,-1,{"$f":"A2403","v":2400},"RCS4-WSA16R-400-5","先頭","○"]
[2400,600,0,100000,100000,50000,280,30,0,140,{"$f":"A2402","v":2399},{"$f":"A2404","v":2401},"RCS4-WSA16R-400-5",{"$f":"IF(K2403=A2402,\"○\",IF(M2403<>0,\"先頭\",\"つなぎまちがい\"))","v":"○"},{"$f":"IF(L2403=A2404,\"○\",IF(L2403<>K2404,\"つなぎまちがい\",\"終端\"))","v":"○"}]
[2401,650,0,100000,100000,50000,240,30,0,140,2400,2402,"RCS4-WSA16R-400-5","○","○"]
[2402,700,0,100000,100000,50000,220,30,0,140,2401,2403,"RCS4-WSA16R-400-5","○","○"]
[2403,750,0,100000,100000,50000,195,30,0,140,2402,2404,"RCS4-WSA16R-400-5","○","○"]
[2404,800,0,100000,100000,50000,175,30,0,140,2403,2405,"RCS4-WSA16R-400-5","○","○"]
[2405,850,0,100000,100000,50000,160,30,0,140,2404,2406,"RCS4-WSA16R-400-5","○","○"]
[2406,900,0,100000,100000,50000,145,30,0,140,2405,2407,"RCS4-WSA16R-400-5","○","○"]
[2407,950,0,100000,100000,50000,130,30,0,140,2406,2408,"RCS4-WSA16R-400-5","○","○"]
[2408,1000,0,100000,100000,50000,120,30,0,140,2407,2409,"RCS4-WSA16R-400-5","○","○"]
[{"$f":"A2411+1","v":2409},1050,0,100000,100000,50000,110,30,0,140,2408,2410,"RCS4-WSA16R-400-5","○","○"]
[2410,1100,0,100000,100000,50000,100,30,0,140,{"$f":"A2412","v":2409},-1,"RCS4-WSA16R-400-5","○","終端"]
[2411,550,0,80000,80000,35000,600,30,0,140,-1,{"$f":"A2415","v":2412},"RCS4-WSA16R-400-10","先頭","○"]
[2412,600,0,80000,80000,35000,560,30,0,140,{"$f":"A2414","v":2411},{"$f":"A2416","v":2413},"RCS4-WSA16R-400-10","○","○"]
[2413,650,0,80000,80000,35000,490,30,0,140,2412,2414,"RCS4-WSA16R-400-10","○","○"]
[2414,700,0,80000,80000,35000,440,30,0,140,2413,2415,"RCS4-WSA16R-400-10","○","○"]
[2415,750,0,80000,80000,35000,395,30,0,140,2414,2416,"RCS4-WSA16R-400-10","○","○"]
[2416,800,0,80000,80000,35000,355,30,0,140,2415,2417,"RCS4-WSA16R-400-10","○","○"]
[2417,850,0,80000,80000,35000,320,30,0,140,2416,2418,"RCS4-WSA16R-400-10","○","○"]
[2418,900,0,80000,80000,35000,290,30,0,140,2417,2419,"RCS4-WSA16R-400-10","○","○"]
[2419,950,0,80000,80000,35000,265,30,0,140,2418,2420,"RCS4-WSA16R-400-10","○","○"]
[2420,1000,0,80000,80000,35000,240,30,0,140,2419,2421,"RCS4-WSA16R-400-10","○","○"]
[2421,1050,0,80000,80000,35000,225,30,0,140,2420,2422,"RCS4-WSA16R-400-10","○","○"]
[2422,1100,0,80000,80000,35000,205,30,0,140,{"$f":"A2424","v":2421},-1,"RCS4-WSA16R-400-10","○","終端"]
[2423,550,0,60000,60000,18000,1200,30,0,75,-1,{"$f":"A2427","v":2424},"RCS4-WSA16R-400-20","先頭","○"]
[2424,600,0,60000,60000,18000,1120,30,0,75,{"$f":"A2426","v":2423},{"$f":"A2428","v":2425},"RCS4-WSA16R-400-20","○","○"]
[2425,650,0,60000,60000,18000,990,30,0,75,2424,2426,"RCS4-WSA16R-400-20","○","○"]
[2426,700,0,60000,60000,18000,880,30,0,75,2425,2427,"RCS4-WSA16R-400-20","○","○"]
[2427,750,0,60000,60000,18000,780,30,0,75,2426,2428,"RCS4-WSA16R-400-20","○","○"]
[2428,800,0,60000,60000,18000,715,30,0,75,2427,2429,"RCS4-WSA16R-400-20","○","○"]
[2429,850,0,60000,60000,18000,645,30,0,75,2428,2430,"RCS4-WSA16R-400-20","○","○"]
[2430,900,0,60000,60000,18000,590,30,0,75,2429,2431,"RCS4-WSA16R-400-20","○","○"]
[2431,950,0,60000,60000,18000,535,30,0,75,2430,2432,"RCS4-WSA16R-400-20","○","○"]
[2432,1000,0,60000,60000,18000,490,30,0,75,2431,2433,"RCS4-WSA16R-400-20","○","○"]
[2433,1050,0,60000,60000,18000,450,30,0,75,2432,2434,"RCS4-WSA16R-400-20",{"$f":"IF(K2436=A2435,\"○\",IF(M2436<>0,\"先頭\",\"つなぎまちがい\"))","v":"○"},{"$f":"IF(L2436=A2437,\"○\",IF(L2436<>K2437,\"つなぎまちがい\",\"終端\"))","v":"○"}]
[2434,1100,0,60000,60000,18000,415,30,0,75,{"$f":"A2436","v":2433},-1,"RCS4-WSA16R-400-20","○","終端"]
[2435,550,0,30000,30000,12000,1800,30,0,80,-1,{"$f":"A2439","v":2436},"RCS4-WSA16R-400-30","先頭","○"]
[2436,600,0,30000,30000,12000,1680,30,0,80,{"$f":"A2438","v":2435},{"$f":"A2440","v":2437},"RCS4-WSA16R-400-30","○","○"]
[2437,650,0,30000,30000,12000,1480,30,0,80,2436,2438,"RCS4-WSA16R-400-30","○","○"]
[2438,700,0,30000,30000,12000,1320,30,0,80,2437,2439,"RCS4-WSA16R-400-30","○","○"]
[2439,750,0,30000,30000,12000,1180,30,0,80,2438,2440,"RCS4-WSA16R-400-30","○","○"]
[2440,800,0,30000,30000,12000,1060,30,0,80,2439,2441,"RCS4-WSA16R-400-30","○","○"]
[2441,850,0,30000,30000,12000,960,30,0,80,2440,2442,"RCS4-WSA16R-400-30","○","○"]
[2442,900,0,30000,30000,12000,870,30,0,80,2441,2443,"RCS4-WSA16R-400-30","○","○"]
[2443,950,0,30000,30000,12000,790,30,0,80,2442,2444,"RCS4-WSA16R-400-30","○","○"]
[2444,1000,0,30000,30000,12000,730,30,0,80,2443,2445,"RCS4-WSA16R-400-30","○","○"]
[2445,1050,0,30000,30000,12000,670,30,0,80,2444,2446,"RCS4-WSA16R-400-30","○","○"]
[2446,1100,0,30000,30000,12000,620,30,0,80,{"$f":"A2448","v":2445},-1,"RCS4-WSA16R-400-30","○","終端"]
[2447,150,0,9000,5000,9000,150,30,0,219,-1,-1,"RCS4-TA4R(SB)-60-2.5","先頭","終端"]
[2448,150,0,6000,5000,6000,300,30,0,256,-1,-1,"RCS4-TA4R(SB)-60-5","先頭","終端"]
[2449,150,0,5000,5000,3000,600,30,0,182,-1,-1,"RCS4-TA4R(SB)-60-10","先頭","終端"]
[2450,150,0,4000,4000,1500,800,30,0,159,-1,-1,"RCS4-TA4R(SB)-60-16","先頭","終端"]
[2451,200,0,10000,10000,10000,180,30,0,199,-1,-1,"RCS4-TA6R(SB)-100-3","先頭","終端"]
[2452,200,0,8000,8000,10000,360,30,0,195,-1,-1,"RCS4-TA6R(SB)-100-6","先頭","終端"]
[2453,200,0,8000,8000,6000,720,30,0,172,-1,-1,"RCS4-TA6R(SB)-100-12","先頭","終端"]
[2454,200,0,8000,8000,4000,1000,30,0,172,-1,-1,"RCS4-TA6R(SB)-100-20","先頭","終端"]
[2455,300,0,20000,15000,20000,240,30,0,180,-1,-1,"RCS4-TA7R(SB)-200-4","先頭","終端"]
[2456,300,0,18000,15000,18000,480,30,0,152,-1,-1,"RCS4-TA7R(SB)-200-8","先頭","終端"]
[2457,300,0,15000,15000,10000,960,30,0,117,-1,-1,"RCS4-TA7R(SB)-200-16","先頭","終端"]
[2458,300,0,12000,12000,5000,1200,30,0,103,-1,-1,"RCS4-TA7R(SB)-200-24","先頭","終端"]
[2459,240,0,10000,10000,9000,150,30,0,254,-1,-1,"RCS4-TA4R(DB)-60-2.5","先頭","終端"]
[2460,240,0,10000,10000,6000,300,30,0,194,-1,-1,"RCS4-TA4R(DB)-60-5","先頭","終端"]
[2461,240,0,8000,8000,3000,600,30,0,148,-1,-1,"RCS4-TA4R(DB)-60-10","先頭","終端"]
[2462,270,0,20000,20000,12000,180,30,0,210,-1,{"$f":"A2466","v":2463},"RCS4-TA6R(DB)-100-3","先頭","○"]
[2463,295,0,20000,20000,12000,160,30,0,210,{"$f":"A2465","v":2462},{"$f":"A2467","v":2464},"RCS4-TA6R(DB)-100-3","○","○"]
[2464,320,0,20000,20000,12000,140,30,0,210,{"$f":"A2466","v":2463},-1,"RCS4-TA6R(DB)-100-3","○","終端"]
[2465,270,0,20000,20000,10000,360,30,0,178,-1,{"$f":"A2469","v":2466},"RCS4-TA6R(DB)-100-6","先頭","○"]
[2466,295,0,20000,20000,10000,325,30,0,178,{"$f":"A2468","v":2465},{"$f":"A2470","v":2467},"RCS4-TA6R(DB)-100-6","○","○"]
[2467,320,0,20000,20000,10000,285,30,0,178,{"$f":"A2469","v":2466},-1,"RCS4-TA6R(DB)-100-6","○","終端"]
[2468,270,0,14000,14000,6000,720,30,0,146,-1,{"$f":"A2472","v":2469},"RCS4-TA6R(DB)-100-12","先頭","○"]
[2469,295,0,14000,14000,6000,650,30,0,146,{"$f":"A2471","v":2468},{"$f":"A2473","v":2470},"RCS4-TA6R(DB)-100-12","○","○"]
[2470,320,0,14000,14000,6000,575,30,0,146,{"$f":"A2472","v":2469},-1,"RCS4-TA6R(DB)-100-12","○","終端"]
[2471,290,0,30000,30000,24000,240,30,0,252,-1,{"$f":"A2475","v":2472},"RCS4-TA7R(DB)-200-4","先頭","○"]
[2472,315,0,30000,30000,24000,200,30,0,252,{"$f":"A2474","v":2471},{"$f":"A2476","v":2473},"RCS4-TA7R(DB)-200-4","○","○"]
[{"$f":"A2475+1","v":2473},340,0,30000,30000,24000,180,30,0,252,{"$f":"A2475","v":2472},{"$f":"A2477","v":2474},"RCS4-TA7R(DB)-200-4","○","○"]
[2474,365,0,30000,30000,24000,165,30,0,252,{"$f":"A2476","v":2473},{"$f":"A2478","v":2475},"RCS4-TA7R(DB)-200-4","○","○"]
[2475,390,0,30000,30000,24000,150,30,0,252,{"$f":"A2477","v":2474},-1,"RCS4-TA7R(DB)-200-4","○","終端"]
[2476,290,0,30000,30000,18000,480,30,0,192,-1,{"$f":"A2480","v":2477},"RCS4-TA7R(DB)-200-8","先頭","○"]
[2477,315,0,30000,30000,18000,405,30,0,192,{"$f":"A2479","v":2476},{"$f":"A2481","v":2478},"RCS4-TA7R(DB)-200-8","○","○"]
[2478,340,0,30000,30000,18000,365,30,0,192,{"$f":"A2480","v":2477},{"$f":"A2482","v":2479},"RCS4-TA7R(DB)-200-8","○","○"]
[2479,365,0,30000,30000,18000,330,30,0,192,{"$f":"A2481","v":2478},{"$f":"A2483","v":2480},"RCS4-TA7R(DB)-200-8","○","○"]
[2480,390,0,30000,30000,18000,300,30,0,192,{"$f":"A2482","v":2479},-1,"RCS4-TA7R(DB)-200-8","○","終端"]
[2481,315,0,25000,25000,8000,960,30,0,131,-1,{"$f":"A2485","v":2482},"RCS4-TA7R(DB)-200-16","先頭","○"]
[2482,340,0,25000,25000,8000,730,30,0,131,{"$f":"A2484","v":2481},{"$f":"A2486","v":2483},"RCS4-TA7R(DB)-200-16","○","○"]
[2483,365,0,25000,25000,8000,660,30,0,131,{"$f":"A2485","v":2482},{"$f":"A2487","v":2484},"RCS4-TA7R(DB)-200-16","○","○"]
[2484,390,0,25000,25000,8000,600,30,0,131,{"$f":"A2486","v":2483},-1,"RCS4-TA7R(DB)-200-16","○","終端"]
[2485,410,0,40000,40000,10000,150,30,0,195,-1,-1,"RCS4-RRA4R-60-2.5","先頭","終端"]
[2486,410,0,30000,30000,6000,300,30,0,129,-1,-1,"RCS4-RRA4R-60-5","先頭","終端"]
[2487,410,0,18000,18000,4000,600,30,0,94,-1,-1,"RCS4-RRA4R-60-10","先頭","終端"]
[2488,410,0,8000,8000,2000,960,30,0,109,-1,-1,"RCS4-RRA4R-60-16","先頭","終端"]
[2489,415,0,60000,60000,20000,180,30,0,129,-1,-1,"RCS4-RRA6R-100-3","先頭","終端"]
[2490,415,0,50000,50000,19000,360,30,0,92,-1,-1,"RCS4-RRA6R-100-6","先頭","終端"]
[2491,415,0,25000,25000,9000,720,30,0,93,-1,-1,"RCS4-RRA6R-100-12","先頭","終端"]
[2492,415,0,15000,15000,4000,1200,30,0,79,-1,-1,"RCS4-RRA6R-100-20","先頭","終端"]
[2493,520,0,80000,80000,35000,240,30,0,128,-1,-1,"RCS4-RRA7R-200-4","先頭","終端"]
[2494,520,0,60000,60000,25000,480,30,0,127,-1,-1,"RCS4-RRA7R-200-8","先頭","終端"]
[2495,520,0,45000,45000,12000,960,30,0,84,-1,-1,"RCS4-RRA7R-200-16","先頭","終端"]
[2496,520,0,20000,20000,6000,1440,30,0,84,-1,-1,"RCS4-RRA7R-200-24","先頭","終端"]
[2497,250,0,100000,100000,72000,275,30,0,170,-1,{"$f":"A2501","v":2498},"RCS4-RRA8R-400-5",{"$f":"IF(K2500=A2499,\"○\",IF(M2500<>0,\"先頭\",\"つなぎまちがい\"))","v":"先頭"},{"$f":"IF(L2500=A2501,\"○\",IF(L2500<>K2501,\"つなぎまちがい\",\"終端\"))","v":"○"}]
[2498,300,0,100000,100000,72000,250,30,0,170,{"$f":"A2500","v":2497},{"$f":"A2502","v":2499},"RCS4-RRA8R-400-5","○","○"]
[2499,350,0,100000,100000,72000,190,30,0,170,2498,2500,"RCS4-RRA8R-400-5","○","○"]
[2500,400,0,100000,100000,72000,150,30,0,170,2499,2501,"RCS4-RRA8R-400-5","○","○"]
[2501,450,0,100000,100000,72000,120,30,0,170,2500,2502,"RCS4-RRA8R-400-5","○","○"]
[2502,500,0,100000,100000,72000,100,30,0,170,2501,2503,"RCS4-RRA8R-400-5","○","○"]
[2503,550,0,100000,100000,72000,80,30,0,170,2502,2504,"RCS4-RRA8R-400-5","○","○"]
[2504,600,0,100000,100000,72000,70,30,0,170,2503,2505,"RCS4-RRA8R-400-5","○","○"]
[2505,650,0,100000,100000,72000,60,30,0,170,2504,2506,"RCS4-RRA8R-400-5","○","○"]
[2506,700,0,100000,100000,72000,55,30,0,170,{"$f":"A2508","v":2505},-1,"RCS4-RRA8R-400-5","○","終端"]
[2507,250,0,80000,80000,34000,550,30,0,120,-1,{"$f":"A2511","v":2508},"RCS4-RRA8R-400-10","先頭","○"]
[2508,300,0,80000,80000,34000,520,30,0,120,{"$f":"A2510","v":2507},{"$f":"A2512","v":2509},"RCS4-RRA8R-400-10","○","○"]
[2509,350,0,80000,80000,34000,400,30,0,120,2508,2510,"RCS4-RRA8R-400-10","○","○"]
[2510,400,0,80000,80000,34000,310,30,0,120,2509,2511,"RCS4-RRA8R-400-10","○","○"]
[2511,450,0,80000,80000,34000,250,30,0,120,2510,2512,"RCS4-RRA8R-400-10","○","○"]
[2512,500,0,80000,80000,34000,210,30,0,120,2511,2513,"RCS4-RRA8R-400-10","○","○"]
[2513,550,0,80000,80000,34000,180,30,0,120,2512,2514,"RCS4-RRA8R-400-10","○","○"]
[2514,600,0,80000,80000,34000,150,30,0,120,2513,2515,"RCS4-RRA8R-400-10","○","○"]
[2515,650,0,80000,80000,34000,130,30,0,120,2514,2516,"RCS4-RRA8R-400-10","○","○"]
[2516,700,0,80000,80000,34000,110,30,0,120,{"$f":"A2518","v":2515},-1,"RCS4-RRA8R-400-10","○","終端"]
[2517,300,0,60000,60000,17000,1000,30,0,95,-1,{"$f":"A2521","v":2518},"RCS4-RRA8R-400-20","先頭","○"]
[2518,350,0,60000,60000,17000,820,30,0,95,{"$f":"A2520","v":2517},{"$f":"A2522","v":2519},"RCS4-RRA8R-400-20","○","○"]
[2519,400,0,60000,60000,17000,650,30,0,95,2518,2520,"RCS4-RRA8R-400-20","○","○"]
[2520,450,0,60000,60000,17000,520,30,0,95,2519,2521,"RCS4-RRA8R-400-20","○","○"]
[2521,500,0,60000,60000,17000,430,30,0,95,2520,2522,"RCS4-RRA8R-400-20","○","○"]
[2522,550,0,60000,60000,17000,360,30,0,95,2521,2523,"RCS4-RRA8R-400-20","○","○"]
[2523,600,0,60000,60000,17000,310,30,0,95,2522,2524,"RCS4-RRA8R-400-20","○","○"]
[2524,650,0,60000,60000,17000,260,30,0,95,2523,2525,"RCS4-RRA8R-400-20","○","○"]
[2525,700,0,60000,60000,17000,230,30,0,95,{"$f":"A2527","v":2524},-1,"RCS4-RRA8R-400-20","○","終端"]
[2526,300,0,30000,30000,8000,1300,30,0,115,-1,{"$f":"A2530","v":2527},"RCS4-RRA8R-400-30","先頭","○"]
[2527,350,0,30000,30000,8000,1230,30,0,115,{"$f":"A2529","v":2526},{"$f":"A2531","v":2528},"RCS4-RRA8R-400-30","○","○"]
[2528,400,0,30000,30000,8000,970,30,0,115,2527,2529,"RCS4-RRA8R-400-30","○","○"]
[2529,450,0,30000,30000,8000,790,30,0,115,2528,2530,"RCS4-RRA8R-400-30","○","○"]
[2530,500,0,30000,30000,8000,650,30,0,115,2529,2531,"RCS4-RRA8R-400-30","○","○"]
[2531,550,0,30000,30000,8000,540,30,0,115,2530,2532,"RCS4-RRA8R-400-30","○","○"]
[2532,600,0,30000,30000,8000,460,30,0,115,2531,2533,"RCS4-RRA8R-400-30","○","○"]
[2533,650,0,30000,30000,8000,400,30,0,115,2532,2534,"RCS4-RRA8R-400-30","○","○"]
[2534,700,0,30000,30000,8000,350,30,0,115,{"$f":"A2536","v":2533},-1,"RCS4-RRA8R-400-30","○","終端"]
[2535,400,0,40000,40000,10000,150,30,0,170,-1,{"$f":"A2539","v":2536},"RCS4-WRA10R-60-2.5","先頭","○"]
[2536,450,0,40000,40000,10000,145,30,0,170,{"$f":"A2538","v":2535},{"$f":"A2540","v":2537},"RCS4-WRA10R-60-2.5","○","○"]
[{"$f":"A2539+1","v":2537},500,0,40000,40000,10000,120,30,0,170,{"$f":"A2539","v":2536},-1,"RCS4-WRA10R-60-2.5","○","終端"]
[2538,400,0,25000,25000,5000,300,30,0,119,-1,{"$f":"A2542","v":2539},"RCS4-WRA10R-60-5","先頭","○"]
[2539,450,0,25000,25000,5000,290,30,0,119,{"$f":"A2541","v":2538},{"$f":"A2543","v":2540},"RCS4-WRA10R-60-5","○","○"]
[2540,500,0,25000,25000,5000,240,30,0,119,{"$f":"A2542","v":2539},-1,"RCS4-WRA10R-60-5","○","終端"]
[2541,400,0,13000,13000,2500,600,30,0,136,-1,{"$f":"A2545","v":2542},"RCS4-WRA10R-60-10","先頭","○"]
[2542,450,0,13000,13000,2500,580,30,0,136,{"$f":"A2544","v":2541},{"$f":"A2546","v":2543},"RCS4-WRA10R-60-10","○","○"]
[2543,500,0,13000,13000,2500,490,30,0,136,{"$f":"A2545","v":2542},-1,"RCS4-WRA10R-60-10","○","終端"]
[2544,450,0,5000,5000,-1,800,30,0,95,-1,{"$f":"A2548","v":2545},"RCS4-WRA10R-60-16","先頭","○"]
[2545,500,0,5000,5000,-1,770,30,0,95,{"$f":"A2547","v":2544},-1,"RCS4-WRA10R-60-16","○","終端"]
[2546,500,0,60000,60000,20000,180,30,0,124,-1,-1,"RCS4-WRA12R-100-3","先頭","終端"]
[2547,500,0,40000,40000,15000,360,30,0,144,-1,-1,"RCS4-WRA12R-100-6","先頭","終端"]
[2548,500,0,25000,25000,6000,720,30,0,123,-1,-1,"RCS4-WRA12R-100-12","先頭","終端"]
[2549,500,0,12000,12000,2000,1000,30,0,138,-1,-1,"RCS4-WRA12R-100-20","先頭","終端"]
[2550,500,0,85000,85000,30000,240,30,0,129,-1,{"$f":"A2554","v":2551},"RCS4-WRA14R-200-4","先頭","○"]
[2551,550,0,85000,85000,30000,220,30,0,129,{"$f":"A2553","v":2550},{"$f":"A2555","v":2552},"RCS4-WRA14R-200-4","○","○"]
[2552,600,0,85000,85000,30000,190,30,0,129,{"$f":"A2554","v":2551},-1,"RCS4-WRA14R-200-4","○","終端"]
[2553,500,0,65000,65000,20000,480,30,0,108,-1,{"$f":"A2557","v":2554},"RCS4-WRA14R-200-8","先頭","○"]
[2554,550,0,65000,65000,20000,450,30,0,108,{"$f":"A2556","v":2553},{"$f":"A2558","v":2555},"RCS4-WRA14R-200-8","○","○"]
[2555,600,0,65000,65000,20000,390,30,0,108,{"$f":"A2557","v":2554},-1,"RCS4-WRA14R-200-8","○","終端"]
[2556,600,0,50000,50000,8000,800,30,0,84,-1,-1,"RCS4-WRA14R-200-16","先頭","終端"]
[2557,600,0,25000,25000,3000,1200,30,0,89,-1,-1,"RCS4-WRA14R-200-24","先頭","終端"]
[2558,250,0,100000,100000,50000,250,30,0,140,-1,{"$f":"A2562","v":2559},"RCS4-WRA16R-400-5","先頭","○"]
[2559,300,0,100000,100000,50000,210,30,0,140,{"$f":"A2561","v":2558},{"$f":"A2563","v":2560},"RCS4-WRA16R-400-5","○","○"]
[2560,350,0,100000,100000,50000,170,30,0,140,2559,2561,"RCS4-WRA16R-400-5","○","○"]
[2561,400,0,100000,100000,50000,130,30,0,140,2560,2562,"RCS4-WRA16R-400-5",{"$f":"IF(K2564=A2563,\"○\",IF(M2564<>0,\"先頭\",\"つなぎまちがい\"))","v":"○"},{"$f":"IF(L2564=A2565,\"○\",IF(L2564<>K2565,\"つなぎまちがい\",\"終端\"))","v":"○"}]
[2562,450,0,100000,100000,50000,115,30,0,140,2561,2563,"RCS4-WRA16R-400-5","○","○"]
[2563,500,0,100000,100000,50000,95,30,0,140,2562,2564,"RCS4-WRA16R-400-5","○","○"]
[2564,550,0,100000,100000,50000,80,30,0,140,2563,2565,"RCS4-WRA16R-400-5","○","○"]
[2565,600,0,100000,100000,50000,70,30,0,140,2564,2566,"RCS4-WRA16R-400-5","○","○"]
[2566,650,0,100000,100000,50000,60,30,0,140,2565,2567,"RCS4-WRA16R-400-5","○","○"]
[2567,700,0,100000,100000,50000,55,30,0,140,2566,2568,"RCS4-WRA16R-400-5","○","○"]
[2568,750,0,100000,100000,50000,50,30,0,140,2567,2569,"RCS4-WRA16R-400-5","○","○"]
[2569,800,0,100000,100000,50000,45,30,0,140,{"$f":"A2571","v":2568},-1,"RCS4-WRA16R-400-5","○","終端"]
[2570,250,0,80000,80000,35000,500,30,0,130,-1,{"$f":"A2574","v":2571},"RCS4-WRA16R-400-10","先頭","○"]
[2571,300,0,80000,80000,35000,430,30,0,130,{"$f":"A2573","v":2570},{"$f":"A2575","v":2572},"RCS4-WRA16R-400-10","○","○"]
[2572,350,0,80000,80000,35000,340,30,0,130,2571,2573,"RCS4-WRA16R-400-10","○","○"]
[2573,400,0,80000,80000,35000,280,30,0,130,2572,2574,"RCS4-WRA16R-400-10","○","○"]
[2574,450,0,80000,80000,35000,230,30,0,130,2573,2575,"RCS4-WRA16R-400-10","○","○"]
[2575,500,0,80000,80000,35000,195,30,0,130,2574,2576,"RCS4-WRA16R-400-10","○","○"]
[2576,550,0,80000,80000,35000,165,30,0,130,2575,2577,"RCS4-WRA16R-400-10","○","○"]
[2577,600,0,80000,80000,35000,145,30,0,130,2576,2578,"RCS4-WRA16R-400-10","○","○"]
[2578,650,0,80000,80000,35000,125,30,0,130,2577,2579,"RCS4-WRA16R-400-10","○","○"]
[2579,700,0,80000,80000,35000,110,30,0,130,2578,2580,"RCS4-WRA16R-400-10","○","○"]
[2580,750,0,80000,80000,35000,100,30,0,130,2579,2581,"RCS4-WRA16R-400-10","○","○"]
[2581,800,0,80000,80000,35000,90,30,0,130,{"$f":"A2583","v":2580},-1,"RCS4-WRA16R-400-10","○","終端"]
[2582,250,0,60000,60000,12000,1000,30,0,80,-1,{"$f":"A2586","v":2583},"RCS4-WRA16R-400-20","先頭","○"]
[2583,300,0,60000,60000,12000,880,30,0,80,{"$f":"A2585","v":2582},{"$f":"A2587","v":2584},"RCS4-WRA16R-400-20","○","○"]
[2584,350,0,60000,60000,12000,700,30,0,80,2583,2585,"RCS4-WRA16R-400-20","○","○"]
[2585,400,0,60000,60000,12000,570,30,0,80,2584,2586,"RCS4-WRA16R-400-20","○","○"]
[2586,450,0,60000,60000,12000,470,30,0,80,2585,2587,"RCS4-WRA16R-400-20","○","○"]
[2587,500,0,60000,60000,12000,400,30,0,80,2586,2588,"RCS4-WRA16R-400-20","○","○"]
[2588,550,0,60000,60000,12000,340,30,0,80,2587,2589,"RCS4-WRA16R-400-20","○","○"]
[2589,600,0,60000,60000,12000,295,30,0,80,2588,2590,"RCS4-WRA16R-400-20","○","○"]
[2590,650,0,60000,60000,12000,260,30,0,80,2589,2591,"RCS4-WRA16R-400-20","○","○"]
[2591,700,0,60000,60000,12000,225,30,0,80,2590,2592,"RCS4-WRA16R-400-20","○","○"]
[2592,750,0,60000,60000,12000,200,30,0,80,2591,2593,"RCS4-WRA16R-400-20","○","○"]
[2593,800,0,60000,60000,12000,180,30,0,80,{"$f":"A2595","v":2592},-1,"RCS4-WRA16R-400-20","○","終端"]
[2594,300,0,30000,30000,6000,1300,30,0,100,-1,{"$f":"A2598","v":2595},"RCS4-WRA16R-400-30","先頭","○"]
[2595,350,0,30000,30000,6000,1050,30,0,100,{"$f":"A2597","v":2594},{"$f":"A2599","v":2596},"RCS4-WRA16R-400-30","○","○"]
[2596,400,0,30000,30000,6000,860,30,0,100,2595,2597,"RCS4-WRA16R-400-30","○","○"]
[2597,450,0,30000,30000,6000,710,30,0,100,2596,2598,"RCS4-WRA16R-400-30","○","○"]
[2598,500,0,30000,30000,6000,600,30,0,100,2597,2599,"RCS4-WRA16R-400-30","○","○"]
[2599,550,0,30000,30000,6000,510,30,0,100,2598,2600,"RCS4-WRA16R-400-30","○","○"]
[2600,600,0,30000,30000,6000,440,30,0,100,2599,2601,"RCS4-WRA16R-400-30","○","○"]
[{"$f":"A2603+1","v":2601},650,0,30000,30000,6000,390,30,0,100,2600,2602,"RCS4-WRA16R-400-30","○","○"]
[{"$f":"A2604+1","v":2602},700,0,30000,30000,6000,340,30,0,100,2601,2603,"RCS4-WRA16R-400-30","○","○"]
[{"$f":"A2605+1","v":2603},750,0,30000,30000,6000,300,30,0,100,2602,2604,"RCS4-WRA16R-400-30","○","○"]
[{"$f":"A2606+1","v":2604},800,0,30000,30000,6000,270,30,0,100,{"$f":"A2606","v":2603},-1,"RCS4-WRA16R-400-30","○","終端"]
[2605,800,0,200000,200000,65000,600,30,0,150,-1,2606,"ISB-WXM-750-10","↓ Ver3.12 ISB-WXM/WXMXは垂直搬送重量変更の為上書き",null,null,2605,800,0,200000,200000,65000,600,30,0,150,-1,2606,"ISB-WXM-750-10"]
[2606,900,0,200000,200000,65000,460,30,0,150,2605,2607,"ISB-WXM-750-10",null,null,null,2606,900,0,200000,200000,65000,460,30,0,150,2605,2607,"ISB-WXM-750-10"]
[2607,1000,0,200000,200000,65000,380,30,0,150,2606,2608,"ISB-WXM-750-10",null,null,null,2607,1000,0,200000,200000,65000,380,30,0,150,2606,2608,"ISB-WXM-750-10"]
[2608,1100,0,200000,200000,65000,320,30,0,150,2607,2609,"ISB-WXM-750-10",null,null,null,2608,1100,0,200000,200000,65000,320,30,0,150,2607,2609,"ISB-WXM-750-10"]
[2609,1200,0,200000,200000,65000,270,30,0,150,2608,2610,"ISB-WXM-750-10",null,null,null,2609,1200,0,200000,200000,65000,270,30,0,150,2608,2610,"ISB-WXM-750-10"]
[2610,1300,0,200000,200000,65000,235,30,0,150,2609,-1,"ISB-WXM-750-10","水平Max[kg]","垂直Max[kg]",null,2610,1300,0,200000,200000,65000,235,30,0,150,2609,-1,"ISB-WXM-750-10"]
[2611,900,0,160000,160000,32000,1250,35,30,80,-1,2612,"ISB-WXM-750-25",{"$f":"E2614/1000","v":160},{"$f":"F2614/1000","v":32},null,2611,900,0,160000,160000,32000,1250,35,30,80,-1,2612,"ISB-WXM-750-25"]
[2612,1000,0,160000,160000,32000,1130,35,30,80,2611,2613,"ISB-WXM-750-25",{"$f":"E2615/1000","v":160},{"$f":"F2615/1000","v":32},null,2612,1000,0,160000,160000,32000,1130,35,30,80,2611,2613,"ISB-WXM-750-25"]
[2613,1100,0,160000,160000,32000,920,35,30,80,2612,2614,"ISB-WXM-750-25",160,32,null,2613,1100,0,160000,160000,32000,920,35,30,80,2612,2614,"ISB-WXM-750-25"]
[2614,1200,0,160000,160000,32000,785,35,30,80,2613,2615,"ISB-WXM-750-25",160,32,null,2614,1200,0,160000,160000,32000,785,35,30,80,2613,2615,"ISB-WXM-750-25"]
[2615,1300,0,160000,160000,32000,680,35,30,80,2614,-1,"ISB-WXM-750-25",160,32,null,2615,1300,0,160000,160000,32000,680,35,30,80,2614,-1,"ISB-WXM-750-25"]
[2616,900,0,80000,80000,14000,2500,35,30,80,-1,2617,"ISB-WXM-750-50",80,14,null,2616,900,0,80000,80000,14000,2500,35,30,80,-1,2617,"ISB-WXM-750-50"]
[2617,1000,0,80000,80000,14000,2260,35,30,80,2616,2618,"ISB-WXM-750-50",80,14,null,2617,1000,0,80000,80000,14000,2260,35,30,80,2616,2618,"ISB-WXM-750-50"]
[2618,1100,0,80000,80000,14000,1840,35,30,80,2617,2619,"ISB-WXM-750-50",80,14,null,2618,1100,0,80000,80000,14000,1840,35,30,80,2617,2619,"ISB-WXM-750-50"]
[2619,1200,0,80000,80000,14000,1570,35,30,80,2618,2620,"ISB-WXM-750-50",80,14,null,2619,1200,0,80000,80000,14000,1570,35,30,80,2618,2620,"ISB-WXM-750-50"]
[2620,1300,0,80000,80000,14000,1360,35,30,80,2619,-1,"ISB-WXM-750-50",80,14,null,2620,1300,0,80000,80000,14000,1360,35,30,80,2619,-1,"ISB-WXM-750-50"]
[2621,800,0,400000,400000,80000,600,30,0,100,-1,2622,"ISPB-WXM-750-HLA-10",400,80,null,2621,800,0,400000,400000,80000,600,30,0,100,-1,2622,"ISPB-WXM-750-HLA-10"]
[2622,900,0,400000,400000,80000,460,30,0,100,2621,2623,"ISPB-WXM-750-HLA-10",400,80,null,2622,900,0,400000,400000,80000,460,30,0,100,2621,2623,"ISPB-WXM-750-HLA-10"]
[2623,1000,0,400000,400000,80000,380,30,0,100,2622,2624,"ISPB-WXM-750-HLA-10",400,80,null,2623,1000,0,400000,400000,80000,380,30,0,100,2622,2624,"ISPB-WXM-750-HLA-10"]
[2624,1100,0,400000,400000,80000,320,30,0,100,2623,2625,"ISPB-WXM-750-HLA-10",400,80,null,2624,1100,0,400000,400000,80000,320,30,0,100,2623,2625,"ISPB-WXM-750-HLA-10"]
[2625,1200,0,400000,400000,80000,270,30,0,100,2624,2626,"ISPB-WXM-750-HLA-10",400,80,null,2625,1200,0,400000,400000,80000,270,30,0,100,2624,2626,"ISPB-WXM-750-HLA-10"]
[2626,1300,0,400000,400000,80000,235,30,0,100,2625,-1,"ISPB-WXM-750-HLA-10",400,80,null,2626,1300,0,400000,400000,80000,235,30,0,100,2625,-1,"ISPB-WXM-750-HLA-10"]
[2627,3000,0,160000,160000,32000,1250,35,30,80,-1,-1,"ISB-WXMX-750-25",160,32,null,2627,3000,0,160000,160000,32000,1250,35,30,80,-1,-1,"ISB-WXMX-750-25"]
[2628,3000,0,80000,80000,14000,2500,35,30,80,-1,-1,"ISB-WXMX-750-50",80,14,null,2628,3000,0,80000,80000,14000,2500,35,30,80,-1,-1,"ISB-WXMX-750-50"]
[2629,800,0,200000,190000,56000,600,30,0,150,-1,2630,"ISB-WXM-750-W-10",190,56,null,2629,800,0,200000,190000,56000,600,30,0,150,-1,2630,"ISB-WXM-750-W-10"]
[2630,900,0,200000,190000,56000,460,30,0,150,2629,2631,"ISB-WXM-750-W-10",190,56,null,2630,900,0,200000,190000,56000,460,30,0,150,2629,2631,"ISB-WXM-750-W-10"]
[2631,1000,0,200000,190000,56000,380,30,0,150,2630,2632,"ISB-WXM-750-W-10",190,56,null,2631,1000,0,200000,190000,56000,380,30,0,150,2630,2632,"ISB-WXM-750-W-10"]
[2632,1100,0,200000,190000,56000,320,30,0,150,2631,2633,"ISB-WXM-750-W-10",190,56,null,2632,1100,0,200000,190000,56000,320,30,0,150,2631,2633,"ISB-WXM-750-W-10"]
[2633,1200,0,200000,190000,56000,270,30,0,150,2632,2634,"ISB-WXM-750-W-10",190,56,null,2633,1200,0,200000,190000,56000,270,30,0,150,2632,2634,"ISB-WXM-750-W-10"]
[2634,1300,0,200000,190000,56000,235,30,0,150,2633,-1,"ISB-WXM-750-W-10",190,56,null,2634,1300,0,200000,190000,56000,235,30,0,150,2633,-1,"ISB-WXM-750-W-10"]
[2635,900,0,160000,150000,25000,1250,35,30,80,-1,2636,"ISB-WXM-750-W-25",150,25,null,2635,900,0,160000,150000,25000,1250,35,30,80,-1,2636,"ISB-WXM-750-W-25"]
[2636,1000,0,160000,150000,25000,1130,35,30,80,2635,2637,"ISB-WXM-750-W-25",150,25,null,2636,1000,0,160000,150000,25000,1130,35,30,80,2635,2637,"ISB-WXM-750-W-25"]
[2637,1100,0,160000,150000,25000,920,35,30,80,2636,2638,"ISB-WXM-750-W-25",150,25,null,2637,1100,0,160000,150000,25000,920,35,30,80,2636,2638,"ISB-WXM-750-W-25"]
[2638,1200,0,160000,150000,25000,785,35,30,80,2637,2639,"ISB-WXM-750-W-25",150,25,null,2638,1200,0,160000,150000,25000,785,35,30,80,2637,2639,"ISB-WXM-750-W-25"]
[2639,1300,0,160000,150000,25000,680,35,30,80,2638,-1,"ISB-WXM-750-W-25",150,25,null,2639,1300,0,160000,150000,25000,680,35,30,80,2638,-1,"ISB-WXM-750-W-25"]
[2640,900,0,80000,70000,10000,2500,35,30,80,-1,2641,"ISB-WXM-750-W-50",70,10,null,2640,900,0,80000,70000,10000,2500,35,30,80,-1,2641,"ISB-WXM-750-W-50"]
[2641,1000,0,80000,70000,10000,2260,35,30,80,2640,2642,"ISB-WXM-750-W-50",70,10,null,2641,1000,0,80000,70000,10000,2260,35,30,80,2640,2642,"ISB-WXM-750-W-50"]
[2642,1100,0,80000,70000,10000,1840,35,30,80,2641,2643,"ISB-WXM-750-W-50",70,10,null,2642,1100,0,80000,70000,10000,1840,35,30,80,2641,2643,"ISB-WXM-750-W-50"]
[2643,1200,0,80000,70000,10000,1570,35,30,80,2642,2644,"ISB-WXM-750-W-50",70,10,null,2643,1200,0,80000,70000,10000,1570,35,30,80,2642,2644,"ISB-WXM-750-W-50"]
[2644,1300,0,80000,70000,10000,1360,35,30,80,2643,-1,"ISB-WXM-750-W-50",70,10,null,2644,1300,0,80000,70000,10000,1360,35,30,80,2643,-1,"ISB-WXM-750-W-50"]
[2645,800,0,400000,390000,70000,600,30,0,100,-1,2646,"ISPB-WXM-750-HLA-W-10",390,70,null,2645,800,0,400000,390000,70000,600,30,0,100,-1,2646,"ISPB-WXM-750-HLA-W-10"]
[2646,900,0,400000,390000,70000,460,30,0,100,2645,2647,"ISPB-WXM-750-HLA-W-10",390,70,null,2646,900,0,400000,390000,70000,460,30,0,100,2645,2647,"ISPB-WXM-750-HLA-W-10"]
[2647,1000,0,400000,390000,70000,380,30,0,100,2646,2648,"ISPB-WXM-750-HLA-W-10",390,70,null,2647,1000,0,400000,390000,70000,380,30,0,100,2646,2648,"ISPB-WXM-750-HLA-W-10"]
[2648,1100,0,400000,390000,70000,320,30,0,100,2647,2649,"ISPB-WXM-750-HLA-W-10",390,70,null,2648,1100,0,400000,390000,70000,320,30,0,100,2647,2649,"ISPB-WXM-750-HLA-W-10"]
[2649,1200,0,400000,390000,70000,270,30,0,100,2648,2650,"ISPB-WXM-750-HLA-W-10",390,70,null,2649,1200,0,400000,390000,70000,270,30,0,100,2648,2650,"ISPB-WXM-750-HLA-W-10"]
[2650,1300,0,400000,390000,70000,235,30,0,100,2649,-1,"ISPB-WXM-750-HLA-W-10",390,70,null,2650,1300,0,400000,390000,70000,235,30,0,100,2649,-1,"ISPB-WXM-750-HLA-W-10"]
[2651,3000,0,160000,150000,25000,1250,35,30,80,-1,-1,"ISB-WXMX-750-W-25",150,25,null,2651,3000,0,160000,150000,25000,1250,35,30,80,-1,-1,"ISB-WXMX-750-W-25"]
[2652,3000,0,80000,70000,10000,2500,35,30,80,-1,-1,"ISB-WXMX-750-W-50",70,10,null,2652,3000,0,80000,70000,10000,2500,35,30,80,-1,-1,"ISB-WXMX-750-W-50"]
[2653,700,0,85000,85000,21000,250,30,0,100,-1,2654,"EC-S10L-5"]
[2654,750,0,85000,85000,21000,221,30,0,100,2653,2655,"EC-S10L-5"]
[2655,800,0,85000,85000,21000,198,30,0,100,2654,2656,"EC-S10L-5"]
[2656,850,0,85000,85000,21000,178,30,0,100,2655,2657,"EC-S10L-5"]
[2657,900,0,85000,85000,21000,161,30,0,100,2656,2658,"EC-S10L-5"]
[2658,950,0,85000,85000,21000,146,30,0,100,2657,2659,"EC-S10L-5"]
[2659,1000,0,85000,85000,21000,133,30,0,100,2658,2660,"EC-S10L-5"]
[2660,1050,0,85000,85000,21000,122,30,0,100,2659,2661,"EC-S10L-5"]
[2661,1100,0,85000,85000,21000,112,30,0,100,2660,-1,"EC-S10L-5"]
[2662,700,0,65000,65000,11000,500,30,0,100,-1,2663,"EC-S10M-10"]
[2663,750,0,65000,65000,11000,443,30,0,100,2662,2664,"EC-S10M-10"]
[2664,800,0,65000,65000,11000,396,30,0,100,2663,2665,"EC-S10M-10"]
[2665,850,0,65000,65000,11000,356,30,0,100,2664,2666,"EC-S10M-10"]
[2666,900,0,65000,65000,11000,322,30,0,100,2665,2667,"EC-S10M-10"]
[2667,950,0,65000,65000,11000,292,30,0,100,2666,2668,"EC-S10M-10"]
[2668,1000,0,65000,65000,11000,267,30,0,100,2667,2669,"EC-S10M-10"]
[2669,1050,0,65000,65000,11000,244,30,0,100,2668,2670,"EC-S10M-10"]
[2670,1100,0,65000,65000,11000,225,30,0,100,2669,-1,"EC-S10M-10"]
[2671,700,0,30000,30000,5000,1000,30,0,80,-1,2672,"EC-S10H-20"]
[2672,750,0,30000,30000,5000,886,30,0,80,2671,2673,"EC-S10H-20"]
[2673,800,0,30000,30000,5000,792,30,0,80,2672,2674,"EC-S10H-20"]
[2674,850,0,30000,30000,5000,712,30,0,80,2673,2675,"EC-S10H-20"]
[2675,900,0,30000,30000,5000,644,30,0,80,2674,2676,"EC-S10H-20"]
[2676,950,0,30000,30000,5000,585,30,0,80,2675,2677,"EC-S10H-20"]
[2677,1000,0,30000,30000,5000,533,30,0,80,2676,2678,"EC-S10H-20"]
[2678,1050,0,30000,30000,5000,489,30,0,80,2677,2679,"EC-S10H-20"]
[2679,1100,0,30000,30000,5000,449,30,0,80,2678,-1,"EC-S10H-20"]
[2680,100,0,17000,17000,2000,1500,30,0,80,-1,2681,"EC-S10S-30"]
[2681,200,0,17000,17000,2000,1500,30,0,80,2680,2682,"EC-S10S-30"]
[2682,300,0,17000,17000,2000,1500,30,0,80,2681,2683,"EC-S10S-30"]
[2683,400,0,17000,17000,2000,1500,30,0,80,2682,2684,"EC-S10S-30"]
[2684,500,0,17000,17000,2000,1500,30,0,80,2683,2685,"EC-S10S-30"]
[2685,600,0,17000,17000,2000,1500,30,0,80,2684,2686,"EC-S10S-30"]
[2686,700,0,17000,17000,2000,1500,30,0,80,2685,2687,"EC-S10S-30"]
[2687,750,0,17000,17000,2000,1328,30,0,80,2686,2688,"EC-S10S-30"]
[2688,800,0,17000,17000,2000,1187,30,0,80,2687,2689,"EC-S10S-30"]
[2689,850,0,17000,17000,2000,1068,30,0,80,2688,2690,"EC-S10S-30"]
[2690,900,0,17000,17000,2000,965,30,0,80,2689,2691,"EC-S10S-30"]
[2691,950,0,17000,17000,2000,877,30,0,80,2690,2692,"EC-S10S-30"]
[2692,1000,0,17000,17000,2000,800,30,0,80,2691,2693,"EC-S10S-30"]
[2693,1050,0,17000,17000,2000,733,30,0,80,2692,2694,"EC-S10S-30"]
[2694,1100,0,17000,17000,2000,674,30,0,80,2693,-1,"EC-S10S-30"]
[2695,1250,0,85000,85000,21000,250,30,0,100,-1,2696,"EC-S10XL-5"]
[2696,1300,0,85000,85000,21000,238,30,0,100,2695,2697,"EC-S10XL-5"]
[2697,1350,0,85000,85000,21000,221,30,0,100,2696,2698,"EC-S10XL-5"]
[2698,1400,0,85000,85000,21000,206,30,0,100,2697,2699,"EC-S10XL-5"]
[2699,1450,0,85000,85000,21000,192,30,0,100,2698,2700,"EC-S10XL-5"]
[2700,1500,0,85000,85000,21000,180,30,0,100,2699,2701,"EC-S10XL-5"]
[2701,1550,0,85000,85000,21000,169,30,0,100,2700,2702,"EC-S10XL-5"]
[2702,1600,0,85000,85000,21000,159,30,0,100,2701,2703,"EC-S10XL-5"]
[2703,1650,0,85000,85000,21000,149,30,0,100,2702,2704,"EC-S10XL-5"]
[2704,1700,0,85000,85000,21000,141,30,0,100,2703,2705,"EC-S10XL-5"]
[2705,1750,0,85000,85000,21000,133,30,0,100,2704,2706,"EC-S10XL-5"]
[2706,1800,0,85000,85000,21000,126,30,0,100,2705,2707,"EC-S10XL-5"]
[2707,1850,0,85000,85000,21000,119,30,0,100,2706,2708,"EC-S10XL-5"]
[2708,1900,0,85000,85000,21000,113,30,0,100,2707,2709,"EC-S10XL-5"]
[2709,1950,0,85000,85000,21000,107,30,0,100,2708,2710,"EC-S10XL-5"]
[2710,2000,0,85000,85000,21000,102,30,0,100,2709,-1,"EC-S10XL-5"]
[2711,800,0,65000,65000,11000,500,30,0,100,-1,2712,"EC-S10XM-10"]
[2712,900,0,65000,65000,11000,500,30,0,100,2711,2713,"EC-S10XM-10"]
[2713,1000,0,65000,65000,11000,500,30,0,100,2712,2714,"EC-S10XM-10"]
[2714,1100,0,65000,65000,11000,500,30,0,100,2713,2715,"EC-S10XM-10"]
[2715,1250,0,65000,65000,11000,500,30,0,100,2714,2716,"EC-S10XM-10"]
[2716,1300,0,65000,65000,11000,476,30,0,100,2715,2717,"EC-S10XM-10"]
[2717,1350,0,65000,65000,11000,443,30,0,100,2716,2718,"EC-S10XM-10"]
[2718,1400,0,65000,65000,11000,412,30,0,100,2717,2719,"EC-S10XM-10"]
[2719,1450,0,65000,65000,11000,385,30,0,100,2718,2720,"EC-S10XM-10"]
[2720,1500,0,65000,65000,11000,360,30,0,100,2719,2721,"EC-S10XM-10"]
[2721,1550,0,65000,65000,11000,338,30,0,100,2720,2722,"EC-S10XM-10"]
[2722,1600,0,65000,65000,11000,317,30,0,100,2721,2723,"EC-S10XM-10"]
[2723,1650,0,65000,65000,11000,299,30,0,100,2722,2724,"EC-S10XM-10"]
[2724,1700,0,65000,65000,11000,282,30,0,100,2723,2725,"EC-S10XM-10"]
[2725,1750,0,65000,65000,11000,266,30,0,100,2724,2726,"EC-S10XM-10"]
[2726,1800,0,65000,65000,11000,252,30,0,100,2725,2727,"EC-S10XM-10"]
[2727,1850,0,65000,65000,11000,238,30,0,100,2726,2728,"EC-S10XM-10"]
[2728,1900,0,65000,65000,11000,226,30,0,100,2727,2729,"EC-S10XM-10"]
[2729,1950,0,65000,65000,11000,215,30,0,100,2728,2730,"EC-S10XM-10"]
[2730,2000,0,65000,65000,11000,205,30,0,100,2729,-1,"EC-S10XM-10"]
[2731,1250,0,30000,30000,5000,1000,30,0,80,-1,2732,"EC-S10XH-20"]
[2732,1300,0,30000,30000,5000,953,30,0,80,2731,2733,"EC-S10XH-20"]
[2733,1350,0,30000,30000,5000,885,30,0,80,2732,2734,"EC-S10XH-20"]
[2734,1400,0,30000,30000,5000,824,30,0,80,2733,2735,"EC-S10XH-20"]
[2735,1450,0,30000,30000,5000,770,30,0,80,2734,2736,"EC-S10XH-20"]
[2736,1500,0,30000,30000,5000,720,30,0,80,2735,2737,"EC-S10XH-20"]
[2737,1550,0,30000,30000,5000,675,30,0,80,2736,2738,"EC-S10XH-20"]
[2738,1600,0,30000,30000,5000,634,30,0,80,2737,2739,"EC-S10XH-20"]
[2739,1650,0,30000,30000,5000,597,30,0,80,2738,2740,"EC-S10XH-20"]
[2740,1700,0,30000,30000,5000,563,30,0,80,2739,2741,"EC-S10XH-20"]
[2741,1750,0,30000,30000,5000,532,30,0,80,2740,2742,"EC-S10XH-20"]
[2742,1800,0,30000,30000,5000,503,30,0,80,2741,2743,"EC-S10XH-20"]
[2743,1850,0,30000,30000,5000,477,30,0,80,2742,2744,"EC-S10XH-20"]
[2744,1900,0,30000,30000,5000,453,30,0,80,2743,2745,"EC-S10XH-20"]
[2745,1950,0,30000,30000,5000,430,30,0,80,2744,2746,"EC-S10XH-20"]
[2746,2000,0,30000,30000,5000,409,30,0,80,2745,-1,"EC-S10XH-20"]
[2747,1250,0,17000,17000,2000,1500,30,0,80,-1,2748,"EC-S10XS-30"]
[2748,1300,0,17000,17000,2000,1429,30,0,80,2747,2749,"EC-S10XS-30"]
[2749,1350,0,17000,17000,2000,1328,30,0,80,2748,2750,"EC-S10XS-30"]
[2750,1400,0,17000,17000,2000,1236,30,0,80,2749,2751,"EC-S10XS-30"]
[2751,1450,0,17000,17000,2000,1154,30,0,80,2750,2752,"EC-S10XS-30"]
[2752,1500,0,17000,17000,2000,1080,30,0,80,2751,2753,"EC-S10XS-30"]
[2753,1550,0,17000,17000,2000,1013,30,0,80,2752,2754,"EC-S10XS-30"]
[2754,1600,0,17000,17000,2000,952,30,0,80,2753,2755,"EC-S10XS-30"]
[2755,1650,0,17000,17000,2000,896,30,0,80,2754,2756,"EC-S10XS-30"]
[2756,1700,0,17000,17000,2000,845,30,0,80,2755,2757,"EC-S10XS-30"]
[2757,1750,0,17000,17000,2000,798,30,0,80,2756,2758,"EC-S10XS-30"]
[2758,1800,0,17000,17000,2000,755,30,0,80,2757,2759,"EC-S10XS-30"]
[2759,1850,0,17000,17000,2000,715,30,0,80,2758,2760,"EC-S10XS-30"]
[2760,1900,0,17000,17000,2000,679,30,0,80,2759,2761,"EC-S10XS-30"]
[2761,1950,0,17000,17000,2000,645,30,0,80,2760,2762,"EC-S10XS-30"]
[2762,2000,0,17000,17000,2000,614,30,0,80,2761,-1,"EC-S10XS-30"]
[2763,650,0,90000,90000,30600,250,30,0,120,-1,2764,"EC-S13L-5"]
[2764,700,0,90000,90000,30600,243,30,0,120,2763,2765,"EC-S13L-5"]
[2765,750,0,90000,90000,30600,216,30,0,120,2764,2766,"EC-S13L-5"]
[2766,800,0,90000,90000,30600,193,30,0,120,2765,2767,"EC-S13L-5"]
[2767,850,0,90000,90000,30600,174,30,0,120,2766,2768,"EC-S13L-5"]
[2768,900,0,90000,90000,30600,158,30,0,120,2767,2769,"EC-S13L-5"]
[2769,950,0,90000,90000,30600,143,30,0,120,2768,2770,"EC-S13L-5"]
[2770,1000,0,90000,90000,30600,131,30,0,120,2769,2771,"EC-S13L-5"]
[2771,1050,0,90000,90000,30600,120,30,0,120,2770,2772,"EC-S13L-5"]
[2772,1100,0,90000,90000,30600,110,30,0,120,2771,-1,"EC-S13L-5"]
[2773,300,0,81000,81000,18000,500,30,0,85,-1,2774,"EC-S13M-10"]
[2774,400,0,81000,81000,18000,500,30,0,85,2773,2775,"EC-S13M-10"]
[2775,500,0,81000,81000,18000,500,30,0,85,2774,2776,"EC-S13M-10"]
[2776,600,0,81000,81000,18000,500,30,0,85,2775,2777,"EC-S13M-10"]
[2777,650,0,81000,81000,18000,500,30,0,85,2776,2778,"EC-S13M-10"]
[2778,700,0,81000,81000,18000,486,30,0,85,2777,2779,"EC-S13M-10"]
[2779,750,0,81000,81000,18000,432,30,0,85,2778,2780,"EC-S13M-10"]
[2780,800,0,81000,81000,18000,387,30,0,85,2779,2781,"EC-S13M-10"]
[2781,850,0,81000,81000,18000,348,30,0,85,2780,2782,"EC-S13M-10"]
[2782,900,0,81000,81000,18000,315,30,0,85,2781,2783,"EC-S13M-10"]
[2783,950,0,81000,81000,18000,287,30,0,85,2782,2784,"EC-S13M-10"]
[2784,1000,0,81000,81000,18000,262,30,0,85,2783,2785,"EC-S13M-10"]
[2785,1050,0,81000,81000,18000,240,30,0,85,2784,2786,"EC-S13M-10"]
[2786,1100,0,81000,81000,18000,221,30,0,85,2785,-1,"EC-S13M-10"]
[2787,200,0,40500,40500,9000,1000,35,0,93,-1,2788,"EC-S13H-20"]
[2788,300,0,40500,40500,9000,1000,35,0,93,2787,2789,"EC-S13H-20"]
[2789,400,0,40500,40500,9000,1000,35,0,93,2788,2790,"EC-S13H-20"]
[2790,600,0,40500,40500,9000,1000,35,0,93,2789,2791,"EC-S13H-20"]
[2791,650,0,40500,40500,9000,1000,35,0,93,2790,2792,"EC-S13H-20"]
[2792,700,0,40500,40500,9000,972,35,0,93,2791,2793,"EC-S13H-20"]
[2793,750,0,40500,40500,9000,865,35,0,93,2792,2794,"EC-S13H-20"]
[2794,800,0,40500,40500,9000,774,35,0,93,2793,2795,"EC-S13H-20"]
[2795,850,0,40500,40500,9000,697,35,0,93,2794,2796,"EC-S13H-20"]
[2796,900,0,40500,40500,9000,630,35,0,93,2795,2797,"EC-S13H-20"]
[2797,950,0,40500,40500,9000,573,35,0,93,2796,2798,"EC-S13H-20"]
[2798,1000,0,40500,40500,9000,524,35,0,93,2797,2799,"EC-S13H-20"]
[2799,1050,0,40500,40500,9000,480,35,0,93,2798,2800,"EC-S13H-20"]
[2800,1100,0,40500,40500,9000,442,35,0,93,2799,-1,"EC-S13H-20"]
[2801,100,0,27000,27000,5400,1500,30,0,85,-1,2802,"EC-S13S-30"]
[2802,200,0,27000,27000,5400,1500,30,0,85,2801,2803,"EC-S13S-30"]
[2803,400,0,27000,27000,5400,1500,30,0,85,2802,2804,"EC-S13S-30"]
[2804,500,0,27000,27000,5400,1500,30,0,85,2803,2805,"EC-S13S-30"]
[2805,600,0,27000,27000,5400,1500,30,0,85,2804,2806,"EC-S13S-30"]
[2806,650,0,27000,27000,5400,1500,30,0,85,2805,2807,"EC-S13S-30"]
[2807,700,0,27000,27000,5400,1458,30,0,85,2806,2808,"EC-S13S-30"]
[2808,750,0,27000,27000,5400,1297,30,0,85,2807,2809,"EC-S13S-30"]
[2809,800,0,27000,27000,5400,1161,30,0,85,2808,2810,"EC-S13S-30"]
[2810,850,0,27000,27000,5400,1045,30,0,85,2809,2811,"EC-S13S-30"]
[2811,900,0,27000,27000,5400,946,30,0,85,2810,2812,"EC-S13S-30"]
[2812,950,0,27000,27000,5400,860,30,0,85,2811,2813,"EC-S13S-30"]
[2813,1000,0,27000,27000,5400,785,30,0,85,2812,2814,"EC-S13S-30"]
[2814,1050,0,27000,27000,5400,720,30,0,85,2813,2815,"EC-S13S-30"]
[2815,1100,0,27000,27000,5400,663,30,0,85,2814,-1,"EC-S13S-30"]
[2816,1500,0,90000,90000,30600,250,35,0,120,-1,2817,"EC-S13XL-5"]
[2817,1550,0,90000,90000,30600,242,35,0,120,2816,2818,"EC-S13XL-5"]
[2818,1600,0,90000,90000,30600,230,35,0,120,2817,2819,"EC-S13XL-5"]
[2819,1650,0,90000,90000,30600,219,35,0,120,2818,2820,"EC-S13XL-5"]
[2820,1700,0,90000,90000,30600,209,35,0,120,2819,2821,"EC-S13XL-5"]
[2821,1750,0,90000,90000,30600,200,35,0,120,2820,2822,"EC-S13XL-5"]
[2822,1800,0,90000,90000,30600,191,35,0,120,2821,2823,"EC-S13XL-5"]
[2823,1850,0,90000,90000,30600,182,35,0,120,2822,2824,"EC-S13XL-5"]
[2824,1900,0,90000,90000,30600,175,35,0,120,2823,2825,"EC-S13XL-5"]
[2825,1950,0,90000,90000,30600,168,35,0,120,2824,2826,"EC-S13XL-5"]
[2826,2000,0,90000,90000,30600,161,35,0,120,2825,-1,"EC-S13XL-5"]
[2827,1500,0,81000,81000,18000,500,35,0,85,-1,2828,"EC-S13XM-10"]
[2828,1550,0,81000,81000,18000,483,35,0,85,2827,2829,"EC-S13XM-10"]
[2829,1600,0,81000,81000,18000,460,35,0,85,2828,2830,"EC-S13XM-10"]
[2830,1650,0,81000,81000,18000,438,35,0,85,2829,2831,"EC-S13XM-10"]
[2831,1700,0,81000,81000,18000,418,35,0,85,2830,2832,"EC-S13XM-10"]
[2832,1750,0,81000,81000,18000,399,35,0,85,2831,2833,"EC-S13XM-10"]
[2833,1800,0,81000,81000,18000,381,35,0,85,2832,2834,"EC-S13XM-10"]
[2834,1850,0,81000,81000,18000,365,35,0,85,2833,2835,"EC-S13XM-10"]
[2835,1900,0,81000,81000,18000,350,35,0,85,2834,2836,"EC-S13XM-10"]
[2836,1950,0,81000,81000,18000,335,35,0,85,2835,2837,"EC-S13XM-10"]
[2837,2000,0,81000,81000,18000,321,35,0,85,2836,-1,"EC-S13XM-10"]
[2838,1000,0,40500,40500,9000,1000,35,0,93,-1,2839,"EC-S13XH-20"]
[2839,1500,0,40500,40500,9000,1000,35,0,93,2838,2840,"EC-S13XH-20"]
[2840,1550,0,40500,40500,9000,966,35,0,93,2839,2841,"EC-S13XH-20"]
[2841,1600,0,40500,40500,9000,920,35,0,93,2840,2842,"EC-S13XH-20"]
[2842,1650,0,40500,40500,9000,876,35,0,93,2841,2843,"EC-S13XH-20"]
[2843,1700,0,40500,40500,9000,836,35,0,93,2842,2844,"EC-S13XH-20"]
[2844,1750,0,40500,40500,9000,798,35,0,93,2843,2845,"EC-S13XH-20"]
[2845,1800,0,40500,40500,9000,763,35,0,93,2844,2846,"EC-S13XH-20"]
[2846,1850,0,40500,40500,9000,730,35,0,93,2845,2847,"EC-S13XH-20"]
[2847,1900,0,40500,40500,9000,699,35,0,93,2846,2848,"EC-S13XH-20"]
[2848,1950,0,40500,40500,9000,670,35,0,93,2847,2849,"EC-S13XH-20"]
[2849,2000,0,40500,40500,9000,643,35,0,93,2848,-1,"EC-S13XH-20"]
[2850,800,0,27000,27000,5400,1500,35,0,85,-1,2851,"EC-S13XS-30"]
[2851,1500,0,27000,27000,5400,1500,35,0,85,2850,2852,"EC-S13XS-30"]
[2852,1550,0,27000,27000,5400,1450,35,0,85,2851,2853,"EC-S13XS-30"]
[2853,1600,0,27000,27000,5400,1380,35,0,85,2852,2854,"EC-S13XS-30"]
[2854,1650,0,27000,27000,5400,1314,35,0,85,2853,2855,"EC-S13XS-30"]
[2855,1700,0,27000,27000,5400,1254,35,0,85,2854,2856,"EC-S13XS-30"]
[2856,1750,0,27000,27000,5400,1197,35,0,85,2855,2857,"EC-S13XS-30"]
[2857,1800,0,27000,27000,5400,1144,35,0,85,2856,2858,"EC-S13XS-30"]
[2858,1850,0,27000,27000,5400,1095,35,0,85,2857,2859,"EC-S13XS-30"]
[2859,1900,0,27000,27000,5400,1049,35,0,85,2858,2860,"EC-S13XS-30"]
[2860,1950,0,27000,27000,5400,1005,35,0,85,2859,2861,"EC-S13XS-30"]
[2861,2000,0,27000,27000,5400,964,35,0,85,2860,-1,"EC-S13XS-30"]
[2862,500,0,108000,108000,36000,500,30,0,85,-1,2863,"EC-S15L-10"]
[2863,750,0,108000,108000,36000,500,30,0,85,2862,2864,"EC-S15L-10"]
[2864,800,0,108000,108000,36000,481,30,0,85,2863,2865,"EC-S15L-10"]
[2865,850,0,108000,108000,36000,434,30,0,85,2864,2866,"EC-S15L-10"]
[2866,900,0,108000,108000,36000,394,30,0,85,2865,2867,"EC-S15L-10"]
[2867,950,0,108000,108000,36000,359,30,0,85,2866,2868,"EC-S15L-10"]
[2868,1000,0,108000,108000,36000,329,30,0,85,2867,2869,"EC-S15L-10"]
[2869,1050,0,108000,108000,36000,302,30,0,85,2868,2870,"EC-S15L-10"]
[2870,1100,0,108000,108000,36000,278,30,0,85,2869,2871,"EC-S15L-10"]
[2871,1150,0,108000,108000,36000,258,30,0,85,2870,2872,"EC-S15L-10"]
[2872,1200,0,108000,108000,36000,239,30,0,85,2871,2873,"EC-S15L-10"]
[2873,1250,0,108000,108000,36000,222,30,0,85,2872,2874,"EC-S15L-10"]
[2874,1300,0,108000,108000,36000,207,30,0,85,2873,-1,"EC-S15L-10"]
[2875,200,0,81000,81000,18000,1000,30,0,85,-1,2876,"EC-S15M-20"]
[2876,750,0,81000,81000,18000,1000,30,0,85,2875,2877,"EC-S15M-20"]
[2877,800,0,81000,81000,18000,961,30,0,85,2876,2878,"EC-S15M-20"]
[2878,850,0,81000,81000,18000,868,30,0,85,2877,2879,"EC-S15M-20"]
[2879,900,0,81000,81000,18000,788,30,0,85,2878,2880,"EC-S15M-20"]
[2880,950,0,81000,81000,18000,718,30,0,85,2879,2881,"EC-S15M-20"]
[2881,1000,0,81000,81000,18000,657,30,0,85,2880,2882,"EC-S15M-20"]
[2882,1050,0,81000,81000,18000,604,30,0,85,2881,2883,"EC-S15M-20"]
[2883,1100,0,81000,81000,18000,557,30,0,85,2882,2884,"EC-S15M-20"]
[2884,1150,0,81000,81000,18000,515,30,0,85,2883,2885,"EC-S15M-20"]
[2885,1200,0,81000,81000,18000,478,30,0,85,2884,2886,"EC-S15M-20"]
[2886,1250,0,81000,81000,18000,444,30,0,85,2885,2887,"EC-S15M-20"]
[2887,1300,0,81000,81000,18000,414,30,0,85,2886,-1,"EC-S15M-20"]
[2888,200,0,36000,36000,9000,2000,30,0,93,-1,2889,"EC-S15H-40"]
[2889,400,0,36000,36000,9000,2000,30,0,93,2888,2890,"EC-S15H-40"]
[2890,600,0,36000,36000,9000,2000,30,0,93,2889,2891,"EC-S15H-40"]
[2891,750,0,36000,36000,9000,2000,30,0,93,2890,2892,"EC-S15H-40"]
[2892,800,0,36000,36000,9000,1922,30,0,93,2891,2893,"EC-S15H-40"]
[2893,850,0,36000,36000,9000,1736,30,0,93,2892,2894,"EC-S15H-40"]
[2894,900,0,36000,36000,9000,1575,30,0,93,2893,2895,"EC-S15H-40"]
[2895,950,0,36000,36000,9000,1436,30,0,93,2894,2896,"EC-S15H-40"]
[2896,1000,0,36000,36000,9000,1315,30,0,93,2895,2897,"EC-S15H-40"]
[2897,1050,0,36000,36000,9000,1208,30,0,93,2896,2898,"EC-S15H-40"]
[2898,1100,0,36000,36000,9000,1114,30,0,93,2897,2899,"EC-S15H-40"]
[2899,1150,0,36000,36000,9000,1030,30,0,93,2898,2900,"EC-S15H-40"]
[2900,1200,0,36000,36000,9000,955,30,0,93,2899,2901,"EC-S15H-40"]
[2901,1250,0,36000,36000,9000,889,30,0,93,2900,2902,"EC-S15H-40"]
[2902,1300,0,36000,36000,9000,829,30,0,93,2901,-1,"EC-S15H-40"]
[2903,1300,0,108000,108000,36000,500,35,0,115,-1,2904,"EC-S15XL-10"]
[2904,1400,0,108000,108000,36000,500,35,0,115,2903,2905,"EC-S15XL-10"]
[2905,1600,0,108000,108000,36000,500,35,0,115,2904,2906,"EC-S15XL-10"]
[2906,1750,0,108000,108000,36000,500,35,0,115,2905,2907,"EC-S15XL-10"]
[2907,1800,0,108000,108000,36000,495,35,0,115,2906,2908,"EC-S15XL-10"]
[2908,1850,0,108000,108000,36000,474,35,0,115,2907,2909,"EC-S15XL-10"]
[2909,1900,0,108000,108000,36000,454,35,0,115,2908,2910,"EC-S15XL-10"]
[2910,1950,0,108000,108000,36000,436,35,0,115,2909,2911,"EC-S15XL-10"]
[2911,2000,0,108000,108000,36000,418,35,0,115,2910,2912,"EC-S15XL-10"]
[2912,2050,0,108000,108000,36000,402,35,0,115,2911,2913,"EC-S15XL-10"]
[2913,2100,0,108000,108000,36000,386,35,0,115,2912,2914,"EC-S15XL-10"]
[2914,2150,0,108000,108000,36000,371,35,0,115,2913,2915,"EC-S15XL-10"]
[2915,2200,0,108000,108000,36000,358,35,0,115,2914,2916,"EC-S15XL-10"]
[2916,2250,0,108000,108000,36000,345,35,0,115,2915,2917,"EC-S15XL-10"]
[2917,2300,0,108000,108000,36000,332,35,0,115,2916,2918,"EC-S15XL-10"]
[2918,2350,0,108000,108000,36000,320,35,0,115,2917,2919,"EC-S15XL-10"]
[2919,2400,0,108000,108000,36000,309,35,0,115,2918,2920,"EC-S15XL-10"]
[2920,2450,0,108000,108000,36000,299,35,0,115,2919,2921,"EC-S15XL-10"]
[2921,2500,0,108000,108000,36000,289,35,0,115,2920,-1,"EC-S15XL-10"]
[2922,1400,0,81000,81000,18000,1000,35,0,93,-1,2923,"EC-S15XM-20"]
[2923,1600,0,81000,81000,18000,1000,35,0,93,2922,2924,"EC-S15XM-20"]
[2924,1750,0,81000,81000,18000,1000,35,0,93,2923,2925,"EC-S15XM-20"]
[2925,1800,0,81000,81000,18000,991,35,0,93,2924,2926,"EC-S15XM-20"]
[2926,1850,0,81000,81000,18000,948,35,0,93,2925,2927,"EC-S15XM-20"]
[2927,1900,0,81000,81000,18000,909,35,0,93,2926,2928,"EC-S15XM-20"]
[2928,1950,0,81000,81000,18000,871,35,0,93,2927,2929,"EC-S15XM-20"]
[2929,2000,0,81000,81000,18000,836,35,0,93,2928,2930,"EC-S15XM-20"]
[2930,2050,0,81000,81000,18000,803,35,0,93,2929,2931,"EC-S15XM-20"]
[2931,2100,0,81000,81000,18000,772,35,0,93,2930,2932,"EC-S15XM-20"]
[2932,2150,0,81000,81000,18000,743,35,0,93,2931,2933,"EC-S15XM-20"]
[2933,2200,0,81000,81000,18000,715,35,0,93,2932,2934,"EC-S15XM-20"]
[2934,2250,0,81000,81000,18000,689,35,0,93,2933,2935,"EC-S15XM-20"]
[2935,2300,0,81000,81000,18000,664,35,0,93,2934,2936,"EC-S15XM-20"]
[2936,2350,0,81000,81000,18000,641,35,0,93,2935,2937,"EC-S15XM-20"]
[2937,2400,0,81000,81000,18000,619,35,0,93,2936,2938,"EC-S15XM-20"]
[2938,2450,0,81000,81000,18000,598,35,0,93,2937,2939,"EC-S15XM-20"]
[2939,2500,0,81000,81000,18000,578,35,0,93,2938,-1,"EC-S15XM-20"]
[2940,1400,0,36000,36000,9000,1500,35,0,93,-1,2941,"EC-S15XH-40"]
[2941,1600,0,36000,36000,9000,1500,35,0,93,2940,2942,"EC-S15XH-40"]
[2942,1750,0,36000,36000,9000,1500,35,0,93,2941,2943,"EC-S15XH-40"]
[2943,1800,0,36000,36000,9000,1500,35,0,93,2942,2944,"EC-S15XH-40"]
[2944,1850,0,36000,36000,9000,1500,35,0,93,2943,2945,"EC-S15XH-40"]
[2945,1900,0,36000,36000,9000,1500,35,0,93,2944,2946,"EC-S15XH-40"]
[2946,1950,0,36000,36000,9000,1500,35,0,93,2945,2947,"EC-S15XH-40"]
[2947,2000,0,36000,36000,9000,1500,35,0,93,2946,2948,"EC-S15XH-40"]
[2948,2050,0,36000,36000,9000,1500,35,0,93,2947,2949,"EC-S15XH-40"]
[2949,2100,0,36000,36000,9000,1500,35,0,93,2948,2950,"EC-S15XH-40"]
[2950,2150,0,36000,36000,9000,1486,35,0,93,2949,2951,"EC-S15XH-40"]
[2951,2200,0,36000,36000,9000,1431,35,0,93,2950,2952,"EC-S15XH-40"]
[2952,2250,0,36000,36000,9000,1378,35,0,93,2951,2953,"EC-S15XH-40"]
[2953,2300,0,36000,36000,9000,1329,35,0,93,2952,2954,"EC-S15XH-40"]
[2954,2350,0,36000,36000,9000,1282,35,0,93,2953,2955,"EC-S15XH-40"]
[2955,2400,0,36000,36000,9000,1237,35,0,93,2954,2956,"EC-S15XH-40"]
[2956,2450,0,36000,36000,9000,1195,35,0,93,2955,2957,"EC-S15XH-40"]
[2957,2500,0,36000,36000,9000,1155,35,0,93,2956,-1,"EC-S15XH-40"]
[2958,700,0,85000,80000,16000,250,30,0,100,-1,2959,"EC-S10L-W-5"]
[2959,750,0,85000,80000,16000,221,30,0,100,2958,2960,"EC-S10L-W-5"]
[2960,800,0,85000,80000,16000,198,30,0,100,2959,2961,"EC-S10L-W-5"]
[2961,850,0,85000,80000,16000,178,30,0,100,2960,2962,"EC-S10L-W-5"]
[2962,900,0,85000,80000,16000,161,30,0,100,2961,2963,"EC-S10L-W-5"]
[2963,950,0,85000,80000,16000,146,30,0,100,2962,2964,"EC-S10L-W-5"]
[2964,1000,0,85000,80000,16000,133,30,0,100,2963,2965,"EC-S10L-W-5"]
[2965,1050,0,85000,80000,16000,122,30,0,100,2964,2966,"EC-S10L-W-5"]
[2966,1100,0,85000,80000,16000,112,30,0,100,2965,-1,"EC-S10L-W-5"]
[2967,700,0,65000,60000,6000,500,30,0,100,-1,2968,"EC-S10M-W-10"]
[2968,750,0,65000,60000,6000,443,30,0,100,2967,2969,"EC-S10M-W-10"]
[2969,800,0,65000,60000,6000,396,30,0,100,2968,2970,"EC-S10M-W-10"]
[2970,850,0,65000,60000,6000,356,30,0,100,2969,2971,"EC-S10M-W-10"]
[2971,900,0,65000,60000,6000,322,30,0,100,2970,2972,"EC-S10M-W-10"]
[2972,950,0,65000,60000,6000,292,30,0,100,2971,2973,"EC-S10M-W-10"]
[2973,1000,0,65000,60000,6000,267,30,0,100,2972,2974,"EC-S10M-W-10"]
[2974,1050,0,65000,60000,6000,244,30,0,100,2973,2975,"EC-S10M-W-10"]
[2975,1100,0,65000,60000,6000,225,30,0,100,2974,-1,"EC-S10M-W-10"]
[2976,700,0,30000,25000,-1,1000,30,0,80,-1,2977,"EC-S10H-W-20"]
[2977,750,0,30000,25000,-1,886,30,0,80,2976,2978,"EC-S10H-W-20"]
[2978,800,0,30000,25000,-1,792,30,0,80,2977,2979,"EC-S10H-W-20"]
[2979,850,0,30000,25000,-1,712,30,0,80,2978,2980,"EC-S10H-W-20"]
[2980,900,0,30000,25000,-1,644,30,0,80,2979,2981,"EC-S10H-W-20"]
[2981,950,0,30000,25000,-1,585,30,0,80,2980,2982,"EC-S10H-W-20"]
[2982,1000,0,30000,25000,-1,533,30,0,80,2981,2983,"EC-S10H-W-20"]
[2983,1050,0,30000,25000,-1,489,30,0,80,2982,2984,"EC-S10H-W-20"]
[2984,1100,0,30000,25000,-1,449,30,0,80,2983,-1,"EC-S10H-W-20"]
[2985,300,0,17000,12000,-1,1500,30,0,80,-1,2986,"EC-S10S-W-30"]
[2986,400,0,17000,12000,-1,1500,30,0,80,2985,2987,"EC-S10S-W-30"]
[2987,500,0,17000,12000,-1,1500,30,0,80,2986,2988,"EC-S10S-W-30"]
[2988,600,0,17000,12000,-1,1500,30,0,80,2987,2989,"EC-S10S-W-30"]
[2989,700,0,17000,12000,-1,1500,30,0,80,2988,2990,"EC-S10S-W-30"]
[2990,750,0,17000,12000,-1,1328,30,0,80,2989,2991,"EC-S10S-W-30"]
[2991,800,0,17000,12000,-1,1187,30,0,80,2990,2992,"EC-S10S-W-30"]
[2992,850,0,17000,12000,-1,1068,30,0,80,2991,2993,"EC-S10S-W-30"]
[2993,900,0,17000,12000,-1,965,30,0,80,2992,2994,"EC-S10S-W-30"]
[2994,950,0,17000,12000,-1,877,30,0,80,2993,2995,"EC-S10S-W-30"]
[2995,1000,0,17000,12000,-1,800,30,0,80,2994,2996,"EC-S10S-W-30"]
[2996,1050,0,17000,12000,-1,733,30,0,80,2995,2997,"EC-S10S-W-30"]
[2997,1100,0,17000,12000,-1,674,30,0,80,2996,-1,"EC-S10S-W-30"]
[2998,1250,0,85000,80000,16000,250,30,0,100,-1,2999,"EC-S10XL-W-5"]
[2999,1300,0,85000,80000,16000,238,30,0,100,2998,3000,"EC-S10XL-W-5"]
[3000,1350,0,85000,80000,16000,221,30,0,100,2999,3001,"EC-S10XL-W-5"]
[3001,1400,0,85000,80000,16000,206,30,0,100,3000,3002,"EC-S10XL-W-5"]
[3002,1450,0,85000,80000,16000,192,30,0,100,3001,3003,"EC-S10XL-W-5"]
[3003,1500,0,85000,80000,16000,180,30,0,100,3002,3004,"EC-S10XL-W-5"]
[3004,1550,0,85000,80000,16000,169,30,0,100,3003,3005,"EC-S10XL-W-5"]
[3005,1600,0,85000,80000,16000,159,30,0,100,3004,3006,"EC-S10XL-W-5"]
[3006,1650,0,85000,80000,16000,149,30,0,100,3005,3007,"EC-S10XL-W-5"]
[3007,1700,0,85000,80000,16000,141,30,0,100,3006,3008,"EC-S10XL-W-5"]
[3008,1750,0,85000,80000,16000,133,30,0,100,3007,3009,"EC-S10XL-W-5"]
[3009,1800,0,85000,80000,16000,126,30,0,100,3008,3010,"EC-S10XL-W-5"]
[3010,1850,0,85000,80000,16000,119,30,0,100,3009,3011,"EC-S10XL-W-5"]
[3011,1900,0,85000,80000,16000,113,30,0,100,3010,3012,"EC-S10XL-W-5"]
[3012,1950,0,85000,80000,16000,107,30,0,100,3011,3013,"EC-S10XL-W-5"]
[3013,2000,0,85000,80000,16000,102,30,0,100,3012,-1,"EC-S10XL-W-5"]
[3014,800,0,65000,60000,6000,500,30,0,100,-1,3015,"EC-S10XM-W-10"]
[3015,900,0,65000,60000,6000,500,30,0,100,3014,3016,"EC-S10XM-W-10"]
[3016,1000,0,65000,60000,6000,500,30,0,100,3015,3017,"EC-S10XM-W-10"]
[3017,1100,0,65000,60000,6000,500,30,0,100,3016,3018,"EC-S10XM-W-10"]
[3018,1250,0,65000,60000,6000,500,30,0,100,3017,3019,"EC-S10XM-W-10"]
[3019,1300,0,65000,60000,6000,476,30,0,100,3018,3020,"EC-S10XM-W-10"]
[3020,1350,0,65000,60000,6000,443,30,0,100,3019,3021,"EC-S10XM-W-10"]
[3021,1400,0,65000,60000,6000,412,30,0,100,3020,3022,"EC-S10XM-W-10"]
[3022,1450,0,65000,60000,6000,385,30,0,100,3021,3023,"EC-S10XM-W-10"]
[3023,1500,0,65000,60000,6000,360,30,0,100,3022,3024,"EC-S10XM-W-10"]
[3024,1550,0,65000,60000,6000,338,30,0,100,3023,3025,"EC-S10XM-W-10"]
[3025,1600,0,65000,60000,6000,317,30,0,100,3024,3026,"EC-S10XM-W-10"]
[3026,1650,0,65000,60000,6000,299,30,0,100,3025,3027,"EC-S10XM-W-10"]
[3027,1700,0,65000,60000,6000,282,30,0,100,3026,3028,"EC-S10XM-W-10"]
[3028,1750,0,65000,60000,6000,266,30,0,100,3027,3029,"EC-S10XM-W-10"]
[3029,1800,0,65000,60000,6000,252,30,0,100,3028,3030,"EC-S10XM-W-10"]
[3030,1850,0,65000,60000,6000,238,30,0,100,3029,3031,"EC-S10XM-W-10"]
[3031,1900,0,65000,60000,6000,226,30,0,100,3030,3032,"EC-S10XM-W-10"]
[3032,1950,0,65000,60000,6000,215,30,0,100,3031,3033,"EC-S10XM-W-10"]
[3033,2000,0,65000,60000,6000,205,30,0,100,3032,-1,"EC-S10XM-W-10"]
[3034,1250,0,30000,25000,-1,1000,30,0,80,-1,3035,"EC-S10XH-W-20"]
[3035,1300,0,30000,25000,-1,953,30,0,80,3034,3036,"EC-S10XH-W-20"]
[3036,1350,0,30000,25000,-1,885,30,0,80,3035,3037,"EC-S10XH-W-20"]
[3037,1400,0,30000,25000,-1,824,30,0,80,3036,3038,"EC-S10XH-W-20"]
[3038,1450,0,30000,25000,-1,770,30,0,80,3037,3039,"EC-S10XH-W-20"]
[3039,1500,0,30000,25000,-1,720,30,0,80,3038,3040,"EC-S10XH-W-20"]
[3040,1550,0,30000,25000,-1,675,30,0,80,3039,3041,"EC-S10XH-W-20"]
[3041,1600,0,30000,25000,-1,634,30,0,80,3040,3042,"EC-S10XH-W-20"]
[3042,1650,0,30000,25000,-1,597,30,0,80,3041,3043,"EC-S10XH-W-20"]
[3043,1700,0,30000,25000,-1,563,30,0,80,3042,3044,"EC-S10XH-W-20"]
[3044,1750,0,30000,25000,-1,532,30,0,80,3043,3045,"EC-S10XH-W-20"]
[3045,1800,0,30000,25000,-1,503,30,0,80,3044,3046,"EC-S10XH-W-20"]
[3046,1850,0,30000,25000,-1,477,30,0,80,3045,3047,"EC-S10XH-W-20"]
[3047,1900,0,30000,25000,-1,453,30,0,80,3046,3048,"EC-S10XH-W-20"]
[3048,1950,0,30000,25000,-1,430,30,0,80,3047,3049,"EC-S10XH-W-20"]
[3049,2000,0,30000,25000,-1,409,30,0,80,3048,-1,"EC-S10XH-W-20"]
[3050,1250,0,17000,12000,-1,1500,30,0,80,-1,3051,"EC-S10XS-W-30"]
[3051,1300,0,17000,12000,-1,1429,30,0,80,3050,3052,"EC-S10XS-W-30"]
[3052,1350,0,17000,12000,-1,1328,30,0,80,3051,3053,"EC-S10XS-W-30"]
[3053,1400,0,17000,12000,-1,1236,30,0,80,3052,3054,"EC-S10XS-W-30"]
[3054,1450,0,17000,12000,-1,1154,30,0,80,3053,3055,"EC-S10XS-W-30"]
[3055,1500,0,17000,12000,-1,1080,30,0,80,3054,3056,"EC-S10XS-W-30"]
[3056,1550,0,17000,12000,-1,1013,30,0,80,3055,3057,"EC-S10XS-W-30"]
[3057,1600,0,17000,12000,-1,952,30,0,80,3056,3058,"EC-S10XS-W-30"]
[3058,1650,0,17000,12000,-1,896,30,0,80,3057,3059,"EC-S10XS-W-30"]
[3059,1700,0,17000,12000,-1,845,30,0,80,3058,3060,"EC-S10XS-W-30"]
[3060,1750,0,17000,12000,-1,798,30,0,80,3059,3061,"EC-S10XS-W-30"]
[3061,1800,0,17000,12000,-1,755,30,0,80,3060,3062,"EC-S10XS-W-30"]
[3062,1850,0,17000,12000,-1,715,30,0,80,3061,3063,"EC-S10XS-W-30"]
[3063,1900,0,17000,12000,-1,679,30,0,80,3062,3064,"EC-S10XS-W-30"]
[3064,1950,0,17000,12000,-1,645,30,0,80,3063,3065,"EC-S10XS-W-30"]
[3065,2000,0,17000,12000,-1,614,30,0,80,3064,-1,"EC-S10XS-W-30"]
[3066,650,0,90000,85000,25600,250,30,0,120,-1,3067,"EC-S13L-W-5"]
[3067,700,0,90000,85000,25600,243,30,0,120,3066,3068,"EC-S13L-W-5"]
[3068,750,0,90000,85000,25600,216,30,0,120,3067,3069,"EC-S13L-W-5"]
[3069,800,0,90000,85000,25600,193,30,0,120,3068,3070,"EC-S13L-W-5"]
[3070,850,0,90000,85000,25600,174,30,0,120,3069,3071,"EC-S13L-W-5"]
[3071,900,0,90000,85000,25600,158,30,0,120,3070,3072,"EC-S13L-W-5"]
[3072,950,0,90000,85000,25600,143,30,0,120,3071,3073,"EC-S13L-W-5"]
[3073,1000,0,90000,85000,25600,131,30,0,120,3072,3074,"EC-S13L-W-5"]
[3074,1050,0,90000,85000,25600,120,30,0,120,3073,3075,"EC-S13L-W-5"]
[3075,1100,0,90000,85000,25600,110,30,0,120,3074,-1,"EC-S13L-W-5"]
[3076,300,0,81000,76000,13000,500,30,0,85,-1,3077,"EC-S13M-W-10"]
[3077,400,0,81000,76000,13000,500,30,0,85,3076,3078,"EC-S13M-W-10"]
[3078,500,0,81000,76000,13000,500,30,0,85,3077,3079,"EC-S13M-W-10"]
[3079,600,0,81000,76000,13000,500,30,0,85,3078,3080,"EC-S13M-W-10"]
[3080,650,0,81000,76000,13000,500,30,0,85,3079,3081,"EC-S13M-W-10"]
[3081,700,0,81000,76000,13000,486,30,0,85,3080,3082,"EC-S13M-W-10"]
[3082,750,0,81000,76000,13000,432,30,0,85,3081,3083,"EC-S13M-W-10"]
[3083,800,0,81000,76000,13000,387,30,0,85,3082,3084,"EC-S13M-W-10"]
[3084,850,0,81000,76000,13000,348,30,0,85,3083,3085,"EC-S13M-W-10"]
[3085,900,0,81000,76000,13000,315,30,0,85,3084,3086,"EC-S13M-W-10"]
[3086,950,0,81000,76000,13000,287,30,0,85,3085,3087,"EC-S13M-W-10"]
[3087,1000,0,81000,76000,13000,262,30,0,85,3086,3088,"EC-S13M-W-10"]
[3088,1050,0,81000,76000,13000,240,30,0,85,3087,3089,"EC-S13M-W-10"]
[3089,1100,0,81000,76000,13000,221,30,0,85,3088,-1,"EC-S13M-W-10"]
[3090,300,0,40500,35500,4000,1000,35,0,93,-1,3091,"EC-S13H-W-20"]
[3091,400,0,40500,35500,4000,1000,35,0,93,3090,3092,"EC-S13H-W-20"]
[3092,600,0,40500,35500,4000,1000,35,0,93,3091,3093,"EC-S13H-W-20"]
[3093,650,0,40500,35500,4000,1000,35,0,93,3092,3094,"EC-S13H-W-20"]
[3094,700,0,40500,35500,4000,972,35,0,93,3093,3095,"EC-S13H-W-20"]
[3095,750,0,40500,35500,4000,865,35,0,93,3094,3096,"EC-S13H-W-20"]
[3096,800,0,40500,35500,4000,774,35,0,93,3095,3097,"EC-S13H-W-20"]
[3097,850,0,40500,35500,4000,697,35,0,93,3096,3098,"EC-S13H-W-20"]
[3098,900,0,40500,35500,4000,630,35,0,93,3097,3099,"EC-S13H-W-20"]
[3099,950,0,40500,35500,4000,573,35,0,93,3098,3100,"EC-S13H-W-20"]
[3100,1000,0,40500,35500,4000,524,35,0,93,3099,3101,"EC-S13H-W-20"]
[3101,1050,0,40500,35500,4000,480,35,0,93,3100,3102,"EC-S13H-W-20"]
[3102,1100,0,40500,35500,4000,442,35,0,93,3101,-1,"EC-S13H-W-20"]
[3103,400,0,27000,22000,-1,1500,30,0,85,-1,3104,"EC-S13S-W-30"]
[3104,500,0,27000,22000,-1,1500,30,0,85,3103,3105,"EC-S13S-W-30"]
[3105,600,0,27000,22000,-1,1500,30,0,85,3104,3106,"EC-S13S-W-30"]
[3106,650,0,27000,22000,-1,1500,30,0,85,3105,3107,"EC-S13S-W-30"]
[3107,700,0,27000,22000,-1,1458,30,0,85,3106,3108,"EC-S13S-W-30"]
[3108,750,0,27000,22000,-1,1297,30,0,85,3107,3109,"EC-S13S-W-30"]
[3109,800,0,27000,22000,-1,1161,30,0,85,3108,3110,"EC-S13S-W-30"]
[3110,850,0,27000,22000,-1,1045,30,0,85,3109,3111,"EC-S13S-W-30"]
[3111,900,0,27000,22000,-1,946,30,0,85,3110,3112,"EC-S13S-W-30"]
[3112,950,0,27000,22000,-1,860,30,0,85,3111,3113,"EC-S13S-W-30"]
[3113,1000,0,27000,22000,-1,785,30,0,85,3112,3114,"EC-S13S-W-30"]
[3114,1050,0,27000,22000,-1,720,30,0,85,3113,3115,"EC-S13S-W-30"]
[3115,1100,0,27000,22000,-1,663,30,0,85,3114,-1,"EC-S13S-W-30"]
[3116,1500,0,90000,85000,25600,250,35,0,120,-1,3117,"EC-S13XL-W-5"]
[3117,1550,0,90000,85000,25600,242,35,0,120,3116,3118,"EC-S13XL-W-5"]
[3118,1600,0,90000,85000,25600,230,35,0,120,3117,3119,"EC-S13XL-W-5"]
[3119,1650,0,90000,85000,25600,219,35,0,120,3118,3120,"EC-S13XL-W-5"]
[3120,1700,0,90000,85000,25600,209,35,0,120,3119,3121,"EC-S13XL-W-5"]
[3121,1750,0,90000,85000,25600,200,35,0,120,3120,3122,"EC-S13XL-W-5"]
[3122,1800,0,90000,85000,25600,191,35,0,120,3121,3123,"EC-S13XL-W-5"]
[3123,1850,0,90000,85000,25600,182,35,0,120,3122,3124,"EC-S13XL-W-5"]
[3124,1900,0,90000,85000,25600,175,35,0,120,3123,3125,"EC-S13XL-W-5"]
[3125,1950,0,90000,85000,25600,168,35,0,120,3124,3126,"EC-S13XL-W-5"]
[3126,2000,0,90000,85000,25600,161,35,0,120,3125,-1,"EC-S13XL-W-5"]
[3127,1500,0,81000,76000,13000,500,35,0,85,-1,3128,"EC-S13XM-W-10"]
[3128,1550,0,81000,76000,13000,483,35,0,85,3127,3129,"EC-S13XM-W-10"]
[3129,1600,0,81000,76000,13000,460,35,0,85,3128,3130,"EC-S13XM-W-10"]
[3130,1650,0,81000,76000,13000,438,35,0,85,3129,3131,"EC-S13XM-W-10"]
[3131,1700,0,81000,76000,13000,418,35,0,85,3130,3132,"EC-S13XM-W-10"]
[3132,1750,0,81000,76000,13000,399,35,0,85,3131,3133,"EC-S13XM-W-10"]
[3133,1800,0,81000,76000,13000,381,35,0,85,3132,3134,"EC-S13XM-W-10"]
[3134,1850,0,81000,76000,13000,365,35,0,85,3133,3135,"EC-S13XM-W-10"]
[3135,1900,0,81000,76000,13000,350,35,0,85,3134,3136,"EC-S13XM-W-10"]
[3136,1950,0,81000,76000,13000,335,35,0,85,3135,3137,"EC-S13XM-W-10"]
[3137,2000,0,81000,76000,13000,321,35,0,85,3136,-1,"EC-S13XM-W-10"]
[3138,1000,0,40500,35500,4000,1000,35,0,93,-1,3139,"EC-S13XH-W-20"]
[3139,1500,0,40500,35500,4000,1000,35,0,93,3138,3140,"EC-S13XH-W-20"]
[3140,1550,0,40500,35500,4000,966,35,0,93,3139,3141,"EC-S13XH-W-20"]
[3141,1600,0,40500,35500,4000,920,35,0,93,3140,3142,"EC-S13XH-W-20"]
[3142,1650,0,40500,35500,4000,876,35,0,93,3141,3143,"EC-S13XH-W-20"]
[3143,1700,0,40500,35500,4000,836,35,0,93,3142,3144,"EC-S13XH-W-20"]
[3144,1750,0,40500,35500,4000,798,35,0,93,3143,3145,"EC-S13XH-W-20"]
[3145,1800,0,40500,35500,4000,763,35,0,93,3144,3146,"EC-S13XH-W-20"]
[3146,1850,0,40500,35500,4000,730,35,0,93,3145,3147,"EC-S13XH-W-20"]
[3147,1900,0,40500,35500,4000,699,35,0,93,3146,3148,"EC-S13XH-W-20"]
[3148,1950,0,40500,35500,4000,670,35,0,93,3147,3149,"EC-S13XH-W-20"]
[3149,2000,0,40500,35500,4000,643,35,0,93,3148,-1,"EC-S13XH-W-20"]
[3150,800,0,27000,22000,-1,1500,35,0,85,-1,3151,"EC-S13XS-W-30"]
[3151,1500,0,27000,22000,-1,1500,35,0,85,3150,3152,"EC-S13XS-W-30"]
[3152,1550,0,27000,22000,-1,1450,35,0,85,3151,3153,"EC-S13XS-W-30"]
[3153,1600,0,27000,22000,-1,1380,35,0,85,3152,3154,"EC-S13XS-W-30"]
[3154,1650,0,27000,22000,-1,1314,35,0,85,3153,3155,"EC-S13XS-W-30"]
[3155,1700,0,27000,22000,-1,1254,35,0,85,3154,3156,"EC-S13XS-W-30"]
[3156,1750,0,27000,22000,-1,1197,35,0,85,3155,3157,"EC-S13XS-W-30"]
[3157,1800,0,27000,22000,-1,1144,35,0,85,3156,3158,"EC-S13XS-W-30"]
[3158,1850,0,27000,22000,-1,1095,35,0,85,3157,3159,"EC-S13XS-W-30"]
[3159,1900,0,27000,22000,-1,1049,35,0,85,3158,3160,"EC-S13XS-W-30"]
[3160,1950,0,27000,22000,-1,1005,35,0,85,3159,3161,"EC-S13XS-W-30"]
[3161,2000,0,27000,22000,-1,964,35,0,85,3160,-1,"EC-S13XS-W-30"]
[3162,500,0,108000,103000,31000,500,30,0,85,-1,3163,"EC-S15L-W-10"]
[3163,750,0,108000,103000,31000,500,30,0,85,3162,3164,"EC-S15L-W-10"]
[3164,800,0,108000,103000,31000,481,30,0,85,3163,3165,"EC-S15L-W-10"]
[3165,850,0,108000,103000,31000,434,30,0,85,3164,3166,"EC-S15L-W-10"]
[3166,900,0,108000,103000,31000,394,30,0,85,3165,3167,"EC-S15L-W-10"]
[3167,950,0,108000,103000,31000,359,30,0,85,3166,3168,"EC-S15L-W-10"]
[3168,1000,0,108000,103000,31000,329,30,0,85,3167,3169,"EC-S15L-W-10"]
[3169,1050,0,108000,103000,31000,302,30,0,85,3168,3170,"EC-S15L-W-10"]
[3170,1100,0,108000,103000,31000,278,30,0,85,3169,3171,"EC-S15L-W-10"]
[3171,1150,0,108000,103000,31000,258,30,0,85,3170,3172,"EC-S15L-W-10"]
[3172,1200,0,108000,103000,31000,239,30,0,85,3171,3173,"EC-S15L-W-10"]
[3173,1250,0,108000,103000,31000,222,30,0,85,3172,3174,"EC-S15L-W-10"]
[3174,1300,0,108000,103000,31000,207,30,0,85,3173,-1,"EC-S15L-W-10"]
[3175,750,0,81000,76000,13000,1000,30,0,85,-1,3176,"EC-S15M-W-20"]
[3176,800,0,81000,76000,13000,961,30,0,85,3175,3177,"EC-S15M-W-20"]
[3177,850,0,81000,76000,13000,868,30,0,85,3176,3178,"EC-S15M-W-20"]
[3178,900,0,81000,76000,13000,788,30,0,85,3177,3179,"EC-S15M-W-20"]
[3179,950,0,81000,76000,13000,718,30,0,85,3178,3180,"EC-S15M-W-20"]
[3180,1000,0,81000,76000,13000,657,30,0,85,3179,3181,"EC-S15M-W-20"]
[3181,1050,0,81000,76000,13000,604,30,0,85,3180,3182,"EC-S15M-W-20"]
[3182,1100,0,81000,76000,13000,557,30,0,85,3181,3183,"EC-S15M-W-20"]
[3183,1150,0,81000,76000,13000,515,30,0,85,3182,3184,"EC-S15M-W-20"]
[3184,1200,0,81000,76000,13000,478,30,0,85,3183,3185,"EC-S15M-W-20"]
[3185,1250,0,81000,76000,13000,444,30,0,85,3184,3186,"EC-S15M-W-20"]
[3186,1300,0,81000,76000,13000,414,30,0,85,3185,-1,"EC-S15M-W-20"]
[3187,400,0,36000,31000,4000,2000,30,0,93,-1,3188,"EC-S15H-W-40"]
[3188,600,0,36000,31000,4000,2000,30,0,93,3187,3189,"EC-S15H-W-40"]
[3189,750,0,36000,31000,4000,2000,30,0,93,3188,3190,"EC-S15H-W-40"]
[3190,800,0,36000,31000,4000,1922,30,0,93,3189,3191,"EC-S15H-W-40"]
[3191,850,0,36000,31000,4000,1736,30,0,93,3190,3192,"EC-S15H-W-40"]
[3192,900,0,36000,31000,4000,1575,30,0,93,3191,3193,"EC-S15H-W-40"]
[3193,950,0,36000,31000,4000,1436,30,0,93,3192,3194,"EC-S15H-W-40"]
[3194,1000,0,36000,31000,4000,1315,30,0,93,3193,3195,"EC-S15H-W-40"]
[3195,1050,0,36000,31000,4000,1208,30,0,93,3194,3196,"EC-S15H-W-40"]
[3196,1100,0,36000,31000,4000,1114,30,0,93,3195,3197,"EC-S15H-W-40"]
[3197,1150,0,36000,31000,4000,1030,30,0,93,3196,3198,"EC-S15H-W-40"]
[3198,1200,0,36000,31000,4000,955,30,0,93,3197,3199,"EC-S15H-W-40"]
[3199,1250,0,36000,31000,4000,889,30,0,93,3198,3200,"EC-S15H-W-40"]
[3200,1300,0,36000,31000,4000,829,30,0,93,3199,-1,"EC-S15H-W-40"]
[3201,1300,0,108000,103000,31000,500,35,0,115,-1,3202,"EC-S15XL-W-10"]
[3202,1400,0,108000,103000,31000,500,35,0,115,3201,3203,"EC-S15XL-W-10"]
[3203,1600,0,108000,103000,31000,500,35,0,115,3202,3204,"EC-S15XL-W-10"]
[3204,1750,0,108000,103000,31000,500,35,0,115,3203,3205,"EC-S15XL-W-10"]
[3205,1800,0,108000,103000,31000,495,35,0,115,3204,3206,"EC-S15XL-W-10"]
[3206,1850,0,108000,103000,31000,474,35,0,115,3205,3207,"EC-S15XL-W-10"]
[3207,1900,0,108000,103000,31000,454,35,0,115,3206,3208,"EC-S15XL-W-10"]
[3208,1950,0,108000,103000,31000,436,35,0,115,3207,3209,"EC-S15XL-W-10"]
[3209,2000,0,108000,103000,31000,418,35,0,115,3208,3210,"EC-S15XL-W-10"]
[3210,2050,0,108000,103000,31000,402,35,0,115,3209,3211,"EC-S15XL-W-10"]
[3211,2100,0,108000,103000,31000,386,35,0,115,3210,3212,"EC-S15XL-W-10"]
[3212,2150,0,108000,103000,31000,371,35,0,115,3211,3213,"EC-S15XL-W-10"]
[3213,2200,0,108000,103000,31000,358,35,0,115,3212,3214,"EC-S15XL-W-10"]
[3214,2250,0,108000,103000,31000,345,35,0,115,3213,3215,"EC-S15XL-W-10"]
[3215,2300,0,108000,103000,31000,332,35,0,115,3214,3216,"EC-S15XL-W-10"]
[3216,2350,0,108000,103000,31000,320,35,0,115,3215,3217,"EC-S15XL-W-10"]
[3217,2400,0,108000,103000,31000,309,35,0,115,3216,3218,"EC-S15XL-W-10"]
[3218,2450,0,108000,103000,31000,299,35,0,115,3217,3219,"EC-S15XL-W-10"]
[3219,2500,0,108000,103000,31000,289,35,0,115,3218,-1,"EC-S15XL-W-10"]
[3220,1400,0,81000,76000,13000,1000,35,0,93,-1,3221,"EC-S15XM-W-20"]
[3221,1600,0,81000,76000,13000,1000,35,0,93,3220,3222,"EC-S15XM-W-20"]
[3222,1750,0,81000,76000,13000,1000,35,0,93,3221,3223,"EC-S15XM-W-20"]
[3223,1800,0,81000,76000,13000,991,35,0,93,3222,3224,"EC-S15XM-W-20"]
[3224,1850,0,81000,76000,13000,948,35,0,93,3223,3225,"EC-S15XM-W-20"]
[3225,1900,0,81000,76000,13000,909,35,0,93,3224,3226,"EC-S15XM-W-20"]
[3226,1950,0,81000,76000,13000,871,35,0,93,3225,3227,"EC-S15XM-W-20"]
[3227,2000,0,81000,76000,13000,836,35,0,93,3226,3228,"EC-S15XM-W-20"]
[3228,2050,0,81000,76000,13000,803,35,0,93,3227,3229,"EC-S15XM-W-20"]
[3229,2100,0,81000,76000,13000,772,35,0,93,3228,3230,"EC-S15XM-W-20"]
[3230,2150,0,81000,76000,13000,743,35,0,93,3229,3231,"EC-S15XM-W-20"]
[3231,2200,0,81000,76000,13000,715,35,0,93,3230,3232,"EC-S15XM-W-20"]
[3232,2250,0,81000,76000,13000,689,35,0,93,3231,3233,"EC-S15XM-W-20"]
[3233,2300,0,81000,76000,13000,664,35,0,93,3232,3234,"EC-S15XM-W-20"]
[3234,2350,0,81000,76000,13000,641,35,0,93,3233,3235,"EC-S15XM-W-20"]
[3235,2400,0,81000,76000,13000,619,35,0,93,3234,3236,"EC-S15XM-W-20"]
[3236,2450,0,81000,76000,13000,598,35,0,93,3235,3237,"EC-S15XM-W-20"]
[3237,2500,0,81000,76000,13000,578,35,0,93,3236,-1,"EC-S15XM-W-20"]
[3238,1400,0,36000,31000,4000,1500,35,0,93,-1,3239,"EC-S15XH-W-40"]
[3239,1600,0,36000,31000,4000,1500,35,0,93,3238,3240,"EC-S15XH-W-40"]
[3240,1750,0,36000,31000,4000,1500,35,0,93,3239,3241,"EC-S15XH-W-40"]
[3241,1800,0,36000,31000,4000,1500,35,0,93,3240,3242,"EC-S15XH-W-40"]
[3242,1850,0,36000,31000,4000,1500,35,0,93,3241,3243,"EC-S15XH-W-40"]
[3243,1900,0,36000,31000,4000,1500,35,0,93,3242,3244,"EC-S15XH-W-40"]
[3244,1950,0,36000,31000,4000,1500,35,0,93,3243,3245,"EC-S15XH-W-40"]
[3245,2000,0,36000,31000,4000,1500,35,0,93,3244,3246,"EC-S15XH-W-40"]
[3246,2050,0,36000,31000,4000,1500,35,0,93,3245,3247,"EC-S15XH-W-40"]
[3247,2100,0,36000,31000,4000,1500,35,0,93,3246,3248,"EC-S15XH-W-40"]
[3248,2150,0,36000,31000,4000,1486,35,0,93,3247,3249,"EC-S15XH-W-40"]
[3249,2200,0,36000,31000,4000,1431,35,0,93,3248,3250,"EC-S15XH-W-40"]
[3250,2250,0,36000,31000,4000,1378,35,0,93,3249,3251,"EC-S15XH-W-40"]
[3251,2300,0,36000,31000,4000,1329,35,0,93,3250,3252,"EC-S15XH-W-40"]
[3252,2350,0,36000,31000,4000,1282,35,0,93,3251,3253,"EC-S15XH-W-40"]
[3253,2400,0,36000,31000,4000,1237,35,0,93,3252,3254,"EC-S15XH-W-40"]
[3254,2450,0,36000,31000,4000,1195,35,0,93,3253,3255,"EC-S15XH-W-40"]
[3255,2500,0,36000,31000,4000,1155,35,0,93,3254,-1,"EC-S15XH-W-40","↑ Ver3.12"]
[3256,1450,0,20000,20000,-1,2000,30,0,40,-1,-1,"IFA-SA-100(-1450st)-28","↓ Ver3.13"]
[3257,2600,0,15000,15000,-1,2000,30,0,40,-1,-1,"IFA-SA-100(1500st-)-28"]
[3258,3200,0,25000,25000,-1,3000,30,0,40,-1,-1,"IFA-MA-200-42"]
[3259,3200,0,40000,40000,-1,3000,30,0,50,-1,-1,"IFA-MA-400-42"]
[3260,3200,0,25000,17000,-1,3000,30,0,40,-1,-1,"IFA-MA-200-AC100V-42"]
[3261,1450,0,20000,18000,-1,2000,30,0,40,-1,-1,"IFA-SA-100-W(-1450st)-28"]
[3262,2600,0,15000,13000,-1,2000,30,0,40,-1,-1,"IFA-SA-100-W(1500st-)-28"]
[3263,3200,0,25000,21000,-1,3000,30,0,40,-1,-1,"IFA-MA-200-W-42"]
[3264,3200,0,40000,36500,-1,3000,30,0,50,-1,-1,"IFA-MA-400-W-42"]
[3265,3200,0,25000,13000,-1,3000,30,0,40,-1,-1,"IFA-MA-200-W-AC100V-42","↑ Ver3.13"]
[3266,100,0,150000,150000,60000,500,30,0,80,-1,3267,"EC-S18L (～1350st)-10","↓ Ver.3.15"]
[3267,200,0,150000,150000,60000,500,30,0,80,3266,3268,"EC-S18L (～1350st)-10"]
[3268,300,0,150000,150000,60000,500,30,0,80,3267,3269,"EC-S18L (～1350st)-10"]
[3269,400,0,150000,150000,60000,500,30,0,80,3268,3270,"EC-S18L (～1350st)-10"]
[3270,500,0,150000,150000,60000,500,30,0,80,3269,3271,"EC-S18L (～1350st)-10"]
[3271,600,0,150000,150000,60000,500,30,0,80,3270,3272,"EC-S18L (～1350st)-10"]
[3272,700,0,150000,150000,60000,500,30,0,80,3271,3273,"EC-S18L (～1350st)-10"]
[3273,750,0,150000,150000,60000,500,30,0,80,3272,3274,"EC-S18L (～1350st)-10"]
[3274,800,0,150000,150000,60000,453,30,0,80,3273,3275,"EC-S18L (～1350st)-10"]
[3275,850,0,150000,150000,60000,410,30,0,80,3274,3276,"EC-S18L (～1350st)-10"]
[3276,900,0,150000,150000,60000,373,30,0,80,3275,3277,"EC-S18L (～1350st)-10"]
[3277,950,0,150000,150000,60000,341,30,0,80,3276,3278,"EC-S18L (～1350st)-10"]
[3278,1000,0,150000,150000,60000,313,30,0,80,3277,3279,"EC-S18L (～1350st)-10"]
[3279,1050,0,150000,150000,60000,288,30,0,80,3278,3280,"EC-S18L (～1350st)-10"]
[3280,1100,0,150000,150000,60000,266,30,0,80,3279,3281,"EC-S18L (～1350st)-10"]
[3281,1150,0,150000,150000,60000,246,30,0,80,3280,3282,"EC-S18L (～1350st)-10"]
[3282,1200,0,150000,150000,60000,229,30,0,80,3281,3283,"EC-S18L (～1350st)-10"]
[3283,1250,0,150000,150000,60000,213,30,0,80,3282,3284,"EC-S18L (～1350st)-10"]
[3284,1300,0,150000,150000,60000,199,30,0,80,3283,3285,"EC-S18L (～1350st)-10"]
[3285,1350,0,150000,150000,60000,186,30,0,80,3284,-1,"EC-S18L (～1350st)-10"]
[3286,1400,0,150000,150000,60000,175,30,0,80,-1,3287,"EC-S18L (1400st～)-10"]
[3287,1450,0,150000,150000,60000,164,30,0,80,3286,3288,"EC-S18L (1400st～)-10"]
[3288,1500,0,150000,150000,60000,155,30,0,80,3287,3289,"EC-S18L (1400st～)-10"]
[3289,1550,0,150000,150000,60000,146,30,0,80,3288,3290,"EC-S18L (1400st～)-10"]
[3290,1600,0,150000,150000,60000,138,30,0,80,3289,-1,"EC-S18L (1400st～)-10"]
[3291,100,0,120000,120000,29000,1000,30,0,70,-1,3292,"EC-S18M (～1350st)-20"]
[3292,200,0,120000,120000,29000,1000,30,0,70,3291,3293,"EC-S18M (～1350st)-20"]
[3293,300,0,120000,120000,29000,1000,30,0,70,3292,3294,"EC-S18M (～1350st)-20"]
[3294,400,0,120000,120000,29000,1000,30,0,70,3293,3295,"EC-S18M (～1350st)-20"]
[3295,500,0,120000,120000,29000,1000,30,0,70,3294,3296,"EC-S18M (～1350st)-20"]
[3296,600,0,120000,120000,29000,1000,30,0,70,3295,3297,"EC-S18M (～1350st)-20"]
[3297,700,0,120000,120000,29000,1000,30,0,70,3296,3298,"EC-S18M (～1350st)-20"]
[3298,750,0,120000,120000,29000,1000,30,0,70,3297,3299,"EC-S18M (～1350st)-20"]
[3299,800,0,120000,120000,29000,905,30,0,70,3298,3300,"EC-S18M (～1350st)-20"]
[3300,850,0,120000,120000,29000,820,30,0,70,3299,3301,"EC-S18M (～1350st)-20"]
[3301,900,0,120000,120000,29000,746,30,0,70,3300,3302,"EC-S18M (～1350st)-20"]
[3302,950,0,120000,120000,29000,682,30,0,70,3301,3303,"EC-S18M (～1350st)-20"]
[3303,1000,0,120000,120000,29000,626,30,0,70,3302,3304,"EC-S18M (～1350st)-20"]
[3304,1050,0,120000,120000,29000,576,30,0,70,3303,3305,"EC-S18M (～1350st)-20"]
[3305,1100,0,120000,120000,29000,532,30,0,70,3304,3306,"EC-S18M (～1350st)-20"]
[3306,1150,0,120000,120000,29000,493,30,0,70,3305,3307,"EC-S18M (～1350st)-20"]
[3307,1200,0,120000,120000,29000,458,30,0,70,3306,3308,"EC-S18M (～1350st)-20"]
[3308,1250,0,120000,120000,29000,427,30,0,70,3307,3309,"EC-S18M (～1350st)-20"]
[3309,1300,0,120000,120000,29000,398,30,0,70,3308,3310,"EC-S18M (～1350st)-20"]
[3310,1350,0,120000,120000,29000,373,30,0,70,3309,-1,"EC-S18M (～1350st)-20"]
[3311,1400,0,120000,120000,29000,350,30,0,70,-1,3312,"EC-S18M (1400st～)-20"]
[3312,1450,0,120000,120000,29000,329,30,0,70,3311,3313,"EC-S18M (1400st～)-20"]
[3313,1500,0,120000,120000,29000,309,30,0,70,3312,3314,"EC-S18M (1400st～)-20"]
[3314,1550,0,120000,120000,29000,292,30,0,70,3313,3315,"EC-S18M (1400st～)-20"]
[3315,1600,0,120000,120000,29000,276,30,0,70,3314,-1,"EC-S18M (1400st～)-20"]
[3316,100,0,60000,60000,14000,2000,30,0,80,-1,3317,"EC-S18H (～1350st)-40"]
[3317,200,0,60000,60000,14000,2000,30,0,80,3316,3318,"EC-S18H (～1350st)-40"]
[3318,300,0,60000,60000,14000,2000,30,0,80,3317,3319,"EC-S18H (～1350st)-40"]
[3319,400,0,60000,60000,14000,2000,30,0,80,3318,3320,"EC-S18H (～1350st)-40"]
[3320,500,0,60000,60000,14000,2000,30,0,80,3319,3321,"EC-S18H (～1350st)-40"]
[3321,600,0,60000,60000,14000,2000,30,0,80,3320,3322,"EC-S18H (～1350st)-40"]
[3322,700,0,60000,60000,14000,2000,30,0,80,3321,3323,"EC-S18H (～1350st)-40"]
[3323,750,0,60000,60000,14000,2000,30,0,80,3322,3324,"EC-S18H (～1350st)-40"]
[3324,800,0,60000,60000,14000,1811,30,0,80,3323,3325,"EC-S18H (～1350st)-40"]
[3325,850,0,60000,60000,14000,1640,30,0,80,3324,3326,"EC-S18H (～1350st)-40"]
[3326,900,0,60000,60000,14000,1492,30,0,80,3325,3327,"EC-S18H (～1350st)-40"]
[3327,950,0,60000,60000,14000,1364,30,0,80,3326,3328,"EC-S18H (～1350st)-40"]
[3328,1000,0,60000,60000,14000,1251,30,0,80,3327,3329,"EC-S18H (～1350st)-40"]
[3329,1050,0,60000,60000,14000,1152,30,0,80,3328,3330,"EC-S18H (～1350st)-40"]
[3330,1100,0,60000,60000,14000,1064,30,0,80,3329,3331,"EC-S18H (～1350st)-40"]
[3331,1150,0,60000,60000,14000,986,30,0,80,3330,3332,"EC-S18H (～1350st)-40"]
[3332,1200,0,60000,60000,14000,916,30,0,80,3331,3333,"EC-S18H (～1350st)-40"]
[3333,1250,0,60000,60000,14000,853,30,0,80,3332,3334,"EC-S18H (～1350st)-40"]
[3334,1300,0,60000,60000,14000,797,30,0,80,3333,3335,"EC-S18H (～1350st)-40"]
[3335,1350,0,60000,60000,14000,746,30,0,80,3334,-1,"EC-S18H (～1350st)-40"]
[3336,1400,0,60000,60000,14000,699,30,0,80,-1,3337,"EC-S18H (1400st～)-40"]
[3337,1450,0,60000,60000,14000,657,30,0,80,3336,3338,"EC-S18H (1400st～)-40"]
[3338,1500,0,60000,60000,14000,619,30,0,80,3337,3339,"EC-S18H (1400st～)-40"]
[3339,1550,0,60000,60000,14000,584,30,0,80,3338,3340,"EC-S18H (1400st～)-40"]
[3340,1600,0,60000,60000,14000,551,30,0,80,3339,-1,"EC-S18H (1400st～)-40"]
[3341,100,0,400000,400000,80000,500,30,0,80,-1,3342,"EC-S18LP (～1350st)-10"]
[3342,200,0,400000,400000,80000,500,30,0,80,3341,3343,"EC-S18LP (～1350st)-10"]
[3343,300,0,400000,400000,80000,500,30,0,80,3342,3344,"EC-S18LP (～1350st)-10"]
[3344,400,0,400000,400000,80000,500,30,0,80,3343,3345,"EC-S18LP (～1350st)-10"]
[3345,500,0,400000,400000,80000,500,30,0,80,3344,3346,"EC-S18LP (～1350st)-10"]
[3346,600,0,400000,400000,80000,500,30,0,80,3345,3347,"EC-S18LP (～1350st)-10"]
[3347,700,0,400000,400000,80000,500,30,0,80,3346,3348,"EC-S18LP (～1350st)-10"]
[3348,750,0,400000,400000,80000,500,30,0,80,3347,3349,"EC-S18LP (～1350st)-10"]
[3349,800,0,400000,400000,80000,453,30,0,80,3348,3350,"EC-S18LP (～1350st)-10"]
[3350,850,0,400000,400000,80000,410,30,0,80,3349,3351,"EC-S18LP (～1350st)-10"]
[3351,900,0,400000,400000,80000,373,30,0,80,3350,3352,"EC-S18LP (～1350st)-10"]
[3352,950,0,400000,400000,80000,341,30,0,80,3351,3353,"EC-S18LP (～1350st)-10"]
[3353,1000,0,400000,400000,80000,313,30,0,80,3352,3354,"EC-S18LP (～1350st)-10"]
[3354,1050,0,400000,400000,80000,288,30,0,80,3353,3355,"EC-S18LP (～1350st)-10"]
[3355,1100,0,400000,400000,80000,266,30,0,80,3354,3356,"EC-S18LP (～1350st)-10"]
[3356,1150,0,400000,400000,80000,246,30,0,80,3355,3357,"EC-S18LP (～1350st)-10"]
[3357,1200,0,400000,400000,80000,229,30,0,80,3356,3358,"EC-S18LP (～1350st)-10"]
[3358,1250,0,400000,400000,80000,213,30,0,80,3357,3359,"EC-S18LP (～1350st)-10"]
[3359,1300,0,400000,400000,80000,199,30,0,80,3358,3360,"EC-S18LP (～1350st)-10"]
[3360,1350,0,400000,400000,80000,186,30,0,80,3359,-1,"EC-S18LP (～1350st)-10"]
[3361,1400,0,400000,400000,80000,175,30,0,80,-1,3362,"EC-S18LP (1400st～)-10"]
[3362,1450,0,400000,400000,80000,164,30,0,80,3361,3363,"EC-S18LP (1400st～)-10"]
[3363,1500,0,400000,400000,80000,155,30,0,80,3362,3364,"EC-S18LP (1400st～)-10"]
[3364,1550,0,400000,400000,80000,146,30,0,80,3363,3365,"EC-S18LP (1400st～)-10"]
[3365,1600,0,400000,400000,80000,138,30,0,80,3364,-1,"EC-S18LP (1400st～)-10"]
[3366,800,0,150000,150000,60000,500,30,0,80,-1,3367,"EC-S18XL (～2200st)-10"]
[3367,900,0,150000,150000,60000,500,30,0,80,3366,3368,"EC-S18XL (～2200st)-10"]
[3368,1000,0,150000,150000,60000,500,30,0,80,3367,3369,"EC-S18XL (～2200st)-10"]
[3369,1100,0,150000,150000,60000,500,30,0,80,3368,3370,"EC-S18XL (～2200st)-10"]
[3370,1200,0,150000,150000,60000,500,30,0,80,3369,3371,"EC-S18XL (～2200st)-10"]
[3371,1300,0,150000,150000,60000,500,30,0,80,3370,3372,"EC-S18XL (～2200st)-10"]
[3372,1400,0,150000,150000,60000,500,30,0,80,3371,3373,"EC-S18XL (～2200st)-10"]
[3373,1500,0,150000,150000,60000,500,30,0,80,3372,3374,"EC-S18XL (～2200st)-10"]
[3374,1600,0,150000,150000,60000,500,30,0,80,3373,3375,"EC-S18XL (～2200st)-10"]
[3375,1700,0,150000,150000,60000,500,30,0,80,3374,3376,"EC-S18XL (～2200st)-10"]
[3376,1750,0,150000,150000,60000,500,30,0,80,3375,3377,"EC-S18XL (～2200st)-10"]
[3377,1800,0,150000,150000,60000,480,30,0,80,3376,3378,"EC-S18XL (～2200st)-10"]
[3378,1850,0,150000,150000,60000,460,30,0,80,3377,3379,"EC-S18XL (～2200st)-10"]
[3379,1900,0,150000,150000,60000,441,30,0,80,3378,3380,"EC-S18XL (～2200st)-10"]
[3380,1950,0,150000,150000,60000,423,30,0,80,3379,3381,"EC-S18XL (～2200st)-10"]
[3381,2000,0,150000,150000,60000,406,30,0,80,3380,3382,"EC-S18XL (～2200st)-10"]
[3382,2050,0,150000,150000,60000,391,30,0,80,3381,3383,"EC-S18XL (～2200st)-10"]
[3383,2100,0,150000,150000,60000,376,30,0,80,3382,3384,"EC-S18XL (～2200st)-10"]
[3384,2150,0,150000,150000,60000,362,30,0,80,3383,3385,"EC-S18XL (～2200st)-10"]
[3385,2200,0,150000,150000,60000,348,30,0,80,3384,-1,"EC-S18XL (～2200st)-10"]
[3386,2250,0,150000,150000,60000,336,30,0,80,-1,3387,"EC-S18XL (2250st～)-10"]
[3387,2300,0,150000,150000,60000,324,30,0,80,3386,3388,"EC-S18XL (2250st～)-10"]
[3388,2350,0,150000,150000,60000,313,30,0,80,3387,3389,"EC-S18XL (2250st～)-10"]
[3389,2400,0,150000,150000,60000,302,30,0,80,3388,3390,"EC-S18XL (2250st～)-10"]
[3390,2450,0,150000,150000,60000,292,30,0,80,3389,3391,"EC-S18XL (2250st～)-10"]
[3391,2500,0,150000,150000,60000,282,30,0,80,3390,3392,"EC-S18XL (2250st～)-10"]
[3392,2550,0,150000,150000,60000,273,30,0,80,3391,3393,"EC-S18XL (2250st～)-10"]
[3393,2600,0,150000,150000,60000,264,30,0,80,3392,3394,"EC-S18XL (2250st～)-10"]
[3394,2650,0,150000,150000,60000,256,30,0,80,3393,3395,"EC-S18XL (2250st～)-10"]
[3395,2700,0,150000,150000,60000,248,30,0,80,3394,3396,"EC-S18XL (2250st～)-10"]
[3396,2750,0,150000,150000,60000,240,30,0,80,3395,3397,"EC-S18XL (2250st～)-10"]
[3397,2800,0,150000,150000,60000,233,30,0,80,3396,-1,"EC-S18XL (2250st～)-10"]
[3398,800,0,120000,120000,29000,1000,30,0,80,-1,3399,"EC-S18XM (～2200st)-20"]
[3399,900,0,120000,120000,29000,1000,30,0,80,3398,3400,"EC-S18XM (～2200st)-20"]
[3400,1000,0,120000,120000,29000,1000,30,0,80,3399,3401,"EC-S18XM (～2200st)-20"]
[3401,1100,0,120000,120000,29000,1000,30,0,80,3400,3402,"EC-S18XM (～2200st)-20"]
[3402,1200,0,120000,120000,29000,1000,30,0,80,3401,3403,"EC-S18XM (～2200st)-20"]
[3403,1300,0,120000,120000,29000,1000,30,0,80,3402,3404,"EC-S18XM (～2200st)-20"]
[3404,1400,0,120000,120000,29000,1000,30,0,80,3403,3405,"EC-S18XM (～2200st)-20"]
[3405,1500,0,120000,120000,29000,1000,30,0,80,3404,3406,"EC-S18XM (～2200st)-20"]
[3406,1600,0,120000,120000,29000,1000,30,0,80,3405,3407,"EC-S18XM (～2200st)-20"]
[3407,1700,0,120000,120000,29000,1000,30,0,80,3406,3408,"EC-S18XM (～2200st)-20"]
[3408,1750,0,120000,120000,29000,1000,30,0,80,3407,3409,"EC-S18XM (～2200st)-20"]
[3409,1800,0,120000,120000,29000,960,30,0,80,3408,3410,"EC-S18XM (～2200st)-20"]
[3410,1850,0,120000,120000,29000,920,30,0,80,3409,3411,"EC-S18XM (～2200st)-20"]
[3411,1900,0,120000,120000,29000,882,30,0,80,3410,3412,"EC-S18XM (～2200st)-20"]
[3412,1950,0,120000,120000,29000,846,30,0,80,3411,3413,"EC-S18XM (～2200st)-20"]
[3413,2000,0,120000,120000,29000,813,30,0,80,3412,3414,"EC-S18XM (～2200st)-20"]
[3414,2050,0,120000,120000,29000,781,30,0,80,3413,3415,"EC-S18XM (～2200st)-20"]
[3415,2100,0,120000,120000,29000,751,30,0,80,3414,3416,"EC-S18XM (～2200st)-20"]
[3416,2150,0,120000,120000,29000,723,30,0,80,3415,3417,"EC-S18XM (～2200st)-20"]
[3417,2200,0,120000,120000,29000,697,30,0,80,3416,-1,"EC-S18XM (～2200st)-20"]
[3418,2250,0,120000,120000,29000,671,30,0,80,-1,3419,"EC-S18XM (2250st～)-20"]
[3419,2300,0,120000,120000,29000,648,30,0,80,3418,3420,"EC-S18XM (2250st～)-20"]
[3420,2350,0,120000,120000,29000,625,30,0,80,3419,3421,"EC-S18XM (2250st～)-20"]
[3421,2400,0,120000,120000,29000,604,30,0,80,3420,3422,"EC-S18XM (2250st～)-20"]
[3422,2450,0,120000,120000,29000,583,30,0,80,3421,3423,"EC-S18XM (2250st～)-20"]
[3423,2500,0,120000,120000,29000,564,30,0,80,3422,3424,"EC-S18XM (2250st～)-20"]
[3424,2550,0,120000,120000,29000,546,30,0,80,3423,3425,"EC-S18XM (2250st～)-20"]
[3425,2600,0,120000,120000,29000,528,30,0,80,3424,3426,"EC-S18XM (2250st～)-20"]
[3426,2650,0,120000,120000,29000,512,30,0,80,3425,3427,"EC-S18XM (2250st～)-20"]
[3427,2700,0,120000,120000,29000,496,30,0,80,3426,3428,"EC-S18XM (2250st～)-20"]
[3428,2750,0,120000,120000,29000,480,30,0,80,3427,3429,"EC-S18XM (2250st～)-20"]
[3429,2800,0,120000,120000,29000,466,30,0,80,3428,-1,"EC-S18XM (2250st～)-20"]
[3430,800,0,60000,60000,14000,1500,30,0,80,-1,3431,"EC-S18XH (～2200st)-40"]
[3431,900,0,60000,60000,14000,1500,30,0,80,3430,3432,"EC-S18XH (～2200st)-40"]
[3432,1000,0,60000,60000,14000,1500,30,0,80,3431,3433,"EC-S18XH (～2200st)-40"]
[3433,1100,0,60000,60000,14000,1500,30,0,80,3432,3434,"EC-S18XH (～2200st)-40"]
[3434,1200,0,60000,60000,14000,1500,30,0,80,3433,3435,"EC-S18XH (～2200st)-40"]
[3435,1300,0,60000,60000,14000,1500,30,0,80,3434,3436,"EC-S18XH (～2200st)-40"]
[3436,1400,0,60000,60000,14000,1500,30,0,80,3435,3437,"EC-S18XH (～2200st)-40"]
[3437,1500,0,60000,60000,14000,1500,30,0,80,3436,3438,"EC-S18XH (～2200st)-40"]
[3438,1600,0,60000,60000,14000,1500,30,0,80,3437,3439,"EC-S18XH (～2200st)-40"]
[3439,1700,0,60000,60000,14000,1500,30,0,80,3438,3440,"EC-S18XH (～2200st)-40"]
[3440,1800,0,60000,60000,14000,1500,30,0,80,3439,3441,"EC-S18XH (～2200st)-40"]
[3441,1900,0,60000,60000,14000,1500,30,0,80,3440,3442,"EC-S18XH (～2200st)-40"]
[3442,2000,0,60000,60000,14000,1500,30,0,80,3441,3443,"EC-S18XH (～2200st)-40"]
[3443,2100,0,60000,60000,14000,1500,30,0,80,3442,3444,"EC-S18XH (～2200st)-40"]
[3444,2150,0,60000,60000,14000,1446,30,0,80,3443,3445,"EC-S18XH (～2200st)-40"]
[3445,2200,0,60000,60000,14000,1393,30,0,80,3444,-1,"EC-S18XH (～2200st)-40"]
[3446,2250,0,60000,60000,14000,1343,30,0,80,-1,3447,"EC-S18XH (2250st～)-40"]
[3447,2300,0,60000,60000,14000,1295,30,0,80,3446,3448,"EC-S18XH (2250st～)-40"]
[3448,2350,0,60000,60000,14000,1250,30,0,80,3447,3449,"EC-S18XH (2250st～)-40"]
[3449,2400,0,60000,60000,14000,1207,30,0,80,3448,3450,"EC-S18XH (2250st～)-40"]
[3450,2450,0,60000,60000,14000,1167,30,0,80,3449,3451,"EC-S18XH (2250st～)-40"]
[3451,2500,0,60000,60000,14000,1128,30,0,80,3450,3452,"EC-S18XH (2250st～)-40"]
[3452,2550,0,60000,60000,14000,1091,30,0,80,3451,3453,"EC-S18XH (2250st～)-40"]
[3453,2600,0,60000,60000,14000,1056,30,0,80,3452,3454,"EC-S18XH (2250st～)-40"]
[3454,2650,0,60000,60000,14000,1023,30,0,80,3453,3455,"EC-S18XH (2250st～)-40"]
[3455,2700,0,60000,60000,14000,991,30,0,80,3454,3456,"EC-S18XH (2250st～)-40"]
[3456,2750,0,60000,60000,14000,961,30,0,80,3455,3457,"EC-S18XH (2250st～)-40"]
[3457,2800,0,60000,60000,14000,932,30,0,80,3456,-1,"EC-S18XH (2250st～)-40"]
[3458,800,0,400000,400000,80000,500,30,0,80,-1,3459,"EC-S18XLP-10"]
[3459,900,0,400000,400000,80000,500,30,0,80,3458,3460,"EC-S18XLP-10"]
[3460,1000,0,400000,400000,80000,500,30,0,80,3459,3461,"EC-S18XLP-10"]
[3461,1100,0,400000,400000,80000,500,30,0,80,3460,3462,"EC-S18XLP-10"]
[3462,1200,0,400000,400000,80000,500,30,0,80,3461,3463,"EC-S18XLP-10"]
[3463,1300,0,400000,400000,80000,500,30,0,80,3462,3464,"EC-S18XLP-10"]
[3464,1400,0,400000,400000,80000,500,30,0,80,3463,3465,"EC-S18XLP-10"]
[3465,1500,0,400000,400000,80000,500,30,0,80,3464,3466,"EC-S18XLP-10"]
[3466,1600,0,400000,400000,80000,500,30,0,80,3465,3467,"EC-S18XLP-10"]
[3467,1700,0,400000,400000,80000,500,30,0,80,3466,3468,"EC-S18XLP-10"]
[3468,1750,0,400000,400000,80000,500,30,0,80,3467,3469,"EC-S18XLP-10"]
[3469,1800,0,400000,400000,80000,480,30,0,80,3468,3470,"EC-S18XLP-10"]
[3470,1850,0,400000,400000,80000,460,30,0,80,3469,3471,"EC-S18XLP-10"]
[3471,1900,0,400000,400000,80000,441,30,0,80,3470,3472,"EC-S18XLP-10"]
[3472,1950,0,400000,400000,80000,423,30,0,80,3471,3473,"EC-S18XLP-10"]
[3473,2000,0,400000,400000,80000,406,30,0,80,3472,3474,"EC-S18XLP-10"]
[3474,2050,0,400000,400000,80000,391,30,0,80,3473,3475,"EC-S18XLP-10"]
[3475,2100,0,400000,400000,80000,376,30,0,80,3474,3476,"EC-S18XLP-10"]
[3476,2150,0,400000,400000,80000,362,30,0,80,3475,3477,"EC-S18XLP-10"]
[3477,2200,0,400000,400000,80000,348,30,0,80,3476,-1,"EC-S18XLP-10"]
[3478,400,0,146000,146000,56000,500,30,0,80,-1,3479,"EC-S18L-W (～1350st)-10"]
[3479,500,0,146000,146000,56000,500,30,0,80,3478,3480,"EC-S18L-W (～1350st)-10"]
[3480,600,0,146000,146000,56000,500,30,0,80,3479,3481,"EC-S18L-W (～1350st)-10"]
[3481,700,0,146000,146000,56000,500,30,0,80,3480,3482,"EC-S18L-W (～1350st)-10"]
[3482,750,0,146000,146000,56000,500,30,0,80,3481,3483,"EC-S18L-W (～1350st)-10"]
[3483,800,0,146000,146000,56000,453,30,0,80,3482,3484,"EC-S18L-W (～1350st)-10"]
[3484,850,0,146000,146000,56000,410,30,0,80,3483,3485,"EC-S18L-W (～1350st)-10"]
[3485,900,0,146000,146000,56000,373,30,0,80,3484,3486,"EC-S18L-W (～1350st)-10"]
[3486,950,0,146000,146000,56000,341,30,0,80,3485,3487,"EC-S18L-W (～1350st)-10"]
[3487,1000,0,146000,146000,56000,313,30,0,80,3486,3488,"EC-S18L-W (～1350st)-10"]
[3488,1050,0,146000,146000,56000,288,30,0,80,3487,3489,"EC-S18L-W (～1350st)-10"]
[3489,1100,0,146000,146000,56000,266,30,0,80,3488,3490,"EC-S18L-W (～1350st)-10"]
[3490,1150,0,146000,146000,56000,246,30,0,80,3489,3491,"EC-S18L-W (～1350st)-10"]
[3491,1200,0,146000,146000,56000,229,30,0,80,3490,3492,"EC-S18L-W (～1350st)-10"]
[3492,1250,0,146000,146000,56000,213,30,0,80,3491,3493,"EC-S18L-W (～1350st)-10"]
[3493,1300,0,146000,146000,56000,199,30,0,80,3492,3494,"EC-S18L-W (～1350st)-10"]
[3494,1350,0,146000,146000,56000,186,30,0,80,3493,-1,"EC-S18L-W (～1350st)-10"]
[3495,1400,0,146000,146000,56000,175,30,0,80,-1,3496,"EC-S18L-W (1400st～)-10"]
[3496,1450,0,146000,146000,56000,164,30,0,80,3495,3497,"EC-S18L-W (1400st～)-10"]
[3497,1500,0,146000,146000,56000,155,30,0,80,3496,3498,"EC-S18L-W (1400st～)-10"]
[3498,1550,0,146000,146000,56000,146,30,0,80,3497,3499,"EC-S18L-W (1400st～)-10"]
[3499,1600,0,146000,146000,56000,138,30,0,80,3498,-1,"EC-S18L-W (1400st～)-10"]
[3500,400,0,116000,116000,25000,1000,30,0,70,-1,3501,"EC-S18M-W (～1350st)-20"]
[3501,500,0,116000,116000,25000,1000,30,0,70,3500,3502,"EC-S18M-W (～1350st)-20"]
[3502,600,0,116000,116000,25000,1000,30,0,70,3501,3503,"EC-S18M-W (～1350st)-20"]
[3503,700,0,116000,116000,25000,1000,30,0,70,3502,3504,"EC-S18M-W (～1350st)-20"]
[3504,750,0,116000,116000,25000,1000,30,0,70,3503,3505,"EC-S18M-W (～1350st)-20"]
[3505,800,0,116000,116000,25000,905,30,0,70,3504,3506,"EC-S18M-W (～1350st)-20"]
[3506,850,0,116000,116000,25000,820,30,0,70,3505,3507,"EC-S18M-W (～1350st)-20"]
[3507,900,0,116000,116000,25000,746,30,0,70,3506,3508,"EC-S18M-W (～1350st)-20"]
[3508,950,0,116000,116000,25000,682,30,0,70,3507,3509,"EC-S18M-W (～1350st)-20"]
[3509,1000,0,116000,116000,25000,626,30,0,70,3508,3510,"EC-S18M-W (～1350st)-20"]
[3510,1050,0,116000,116000,25000,576,30,0,70,3509,3511,"EC-S18M-W (～1350st)-20"]
[3511,1100,0,116000,116000,25000,532,30,0,70,3510,3512,"EC-S18M-W (～1350st)-20"]
[3512,1150,0,116000,116000,25000,493,30,0,70,3511,3513,"EC-S18M-W (～1350st)-20"]
[3513,1200,0,116000,116000,25000,458,30,0,70,3512,3514,"EC-S18M-W (～1350st)-20"]
[3514,1250,0,116000,116000,25000,427,30,0,70,3513,3515,"EC-S18M-W (～1350st)-20"]
[3515,1300,0,116000,116000,25000,398,30,0,70,3514,3516,"EC-S18M-W (～1350st)-20"]
[3516,1350,0,116000,116000,25000,373,30,0,70,3515,-1,"EC-S18M-W (～1350st)-20"]
[3517,1400,0,116000,116000,25000,350,30,0,70,-1,3518,"EC-S18M-W (1400st～)-20"]
[3518,1450,0,116000,116000,25000,329,30,0,70,3517,3519,"EC-S18M-W (1400st～)-20"]
[3519,1500,0,116000,116000,25000,309,30,0,70,3518,3520,"EC-S18M-W (1400st～)-20"]
[3520,1550,0,116000,116000,25000,292,30,0,70,3519,3521,"EC-S18M-W (1400st～)-20"]
[3521,1600,0,116000,116000,25000,276,30,0,70,3520,-1,"EC-S18M-W (1400st～)-20"]
[3522,400,0,56000,56000,10000,2000,30,0,80,-1,3523,"EC-S18H-W (～1350st)-40"]
[3523,500,0,56000,56000,10000,2000,30,0,80,3522,3524,"EC-S18H-W (～1350st)-40"]
[3524,600,0,56000,56000,10000,2000,30,0,80,3523,3525,"EC-S18H-W (～1350st)-40"]
[3525,700,0,56000,56000,10000,2000,30,0,80,3524,3526,"EC-S18H-W (～1350st)-40"]
[3526,750,0,56000,56000,10000,2000,30,0,80,3525,3527,"EC-S18H-W (～1350st)-40"]
[3527,800,0,56000,56000,10000,1811,30,0,80,3526,3528,"EC-S18H-W (～1350st)-40"]
[3528,850,0,56000,56000,10000,1640,30,0,80,3527,3529,"EC-S18H-W (～1350st)-40"]
[3529,900,0,56000,56000,10000,1492,30,0,80,3528,3530,"EC-S18H-W (～1350st)-40"]
[3530,950,0,56000,56000,10000,1364,30,0,80,3529,3531,"EC-S18H-W (～1350st)-40"]
[3531,1000,0,56000,56000,10000,1251,30,0,80,3530,3532,"EC-S18H-W (～1350st)-40"]
[3532,1050,0,56000,56000,10000,1152,30,0,80,3531,3533,"EC-S18H-W (～1350st)-40"]
[3533,1100,0,56000,56000,10000,1064,30,0,80,3532,3534,"EC-S18H-W (～1350st)-40"]
[3534,1150,0,56000,56000,10000,986,30,0,80,3533,3535,"EC-S18H-W (～1350st)-40"]
[3535,1200,0,56000,56000,10000,916,30,0,80,3534,3536,"EC-S18H-W (～1350st)-40"]
[3536,1250,0,56000,56000,10000,853,30,0,80,3535,3537,"EC-S18H-W (～1350st)-40"]
[3537,1300,0,56000,56000,10000,797,30,0,80,3536,3538,"EC-S18H-W (～1350st)-40"]
[3538,1350,0,56000,56000,10000,746,30,0,80,3537,-1,"EC-S18H-W (～1350st)-40"]
[3539,1400,0,56000,56000,10000,699,30,0,80,-1,3540,"EC-S18H-W (1400st～)-40"]
[3540,1450,0,56000,56000,10000,657,30,0,80,3539,3541,"EC-S18H-W (1400st～)-40"]
[3541,1500,0,56000,56000,10000,619,30,0,80,3540,3542,"EC-S18H-W (1400st～)-40"]
[3542,1550,0,56000,56000,10000,584,30,0,80,3541,3543,"EC-S18H-W (1400st～)-40"]
[3543,1600,0,56000,56000,10000,551,30,0,80,3542,-1,"EC-S18H-W (1400st～)-40"]
[3544,400,0,396000,396000,76000,500,30,0,80,-1,3545,"EC-S18LP-W (～1350st)-10"]
[3545,500,0,396000,396000,76000,500,30,0,80,3544,3546,"EC-S18LP-W (～1350st)-10"]
[3546,600,0,396000,396000,76000,500,30,0,80,3545,3547,"EC-S18LP-W (～1350st)-10"]
[3547,700,0,396000,396000,76000,500,30,0,80,3546,3548,"EC-S18LP-W (～1350st)-10"]
[3548,750,0,396000,396000,76000,500,30,0,80,3547,3549,"EC-S18LP-W (～1350st)-10"]
[3549,800,0,396000,396000,76000,453,30,0,80,3548,3550,"EC-S18LP-W (～1350st)-10"]
[3550,850,0,396000,396000,76000,410,30,0,80,3549,3551,"EC-S18LP-W (～1350st)-10"]
[3551,900,0,396000,396000,76000,373,30,0,80,3550,3552,"EC-S18LP-W (～1350st)-10"]
[3552,950,0,396000,396000,76000,341,30,0,80,3551,3553,"EC-S18LP-W (～1350st)-10"]
[3553,1000,0,396000,396000,76000,313,30,0,80,3552,3554,"EC-S18LP-W (～1350st)-10"]
[3554,1050,0,396000,396000,76000,288,30,0,80,3553,3555,"EC-S18LP-W (～1350st)-10"]
[3555,1100,0,396000,396000,76000,266,30,0,80,3554,3556,"EC-S18LP-W (～1350st)-10"]
[3556,1150,0,396000,396000,76000,246,30,0,80,3555,3557,"EC-S18LP-W (～1350st)-10"]
[3557,1200,0,396000,396000,76000,229,30,0,80,3556,3558,"EC-S18LP-W (～1350st)-10"]
[3558,1250,0,396000,396000,76000,213,30,0,80,3557,3559,"EC-S18LP-W (～1350st)-10"]
[3559,1300,0,396000,396000,76000,199,30,0,80,3558,3560,"EC-S18LP-W (～1350st)-10"]
[3560,1350,0,396000,396000,76000,186,30,0,80,3559,-1,"EC-S18LP-W (～1350st)-10"]
[3561,1400,0,396000,396000,76000,175,30,0,80,-1,3562,"EC-S18LP-W (1400st～)-10"]
[3562,1450,0,396000,396000,76000,164,30,0,80,3561,3563,"EC-S18LP-W (1400st～)-10"]
[3563,1500,0,396000,396000,76000,155,30,0,80,3562,3564,"EC-S18LP-W (1400st～)-10"]
[3564,1550,0,396000,396000,76000,146,30,0,80,3563,3565,"EC-S18LP-W (1400st～)-10"]
[3565,1600,0,396000,396000,76000,138,30,0,80,3564,-1,"EC-S18LP-W (1400st～)-10"]
[3566,800,0,146000,146000,56000,500,30,0,80,-1,3567,"EC-S18XL-W (～2200st)-10"]
[3567,900,0,146000,146000,56000,500,30,0,80,3566,3568,"EC-S18XL-W (～2200st)-10"]
[3568,1000,0,146000,146000,56000,500,30,0,80,3567,3569,"EC-S18XL-W (～2200st)-10"]
[3569,1100,0,146000,146000,56000,500,30,0,80,3568,3570,"EC-S18XL-W (～2200st)-10"]
[3570,1200,0,146000,146000,56000,500,30,0,80,3569,3571,"EC-S18XL-W (～2200st)-10"]
[3571,1300,0,146000,146000,56000,500,30,0,80,3570,3572,"EC-S18XL-W (～2200st)-10"]
[3572,1400,0,146000,146000,56000,500,30,0,80,3571,3573,"EC-S18XL-W (～2200st)-10"]
[3573,1500,0,146000,146000,56000,500,30,0,80,3572,3574,"EC-S18XL-W (～2200st)-10"]
[3574,1600,0,146000,146000,56000,500,30,0,80,3573,3575,"EC-S18XL-W (～2200st)-10"]
[3575,1700,0,146000,146000,56000,500,30,0,80,3574,3576,"EC-S18XL-W (～2200st)-10"]
[3576,1750,0,146000,146000,56000,500,30,0,80,3575,3577,"EC-S18XL-W (～2200st)-10"]
[3577,1800,0,146000,146000,56000,480,30,0,80,3576,3578,"EC-S18XL-W (～2200st)-10"]
[3578,1850,0,146000,146000,56000,460,30,0,80,3577,3579,"EC-S18XL-W (～2200st)-10"]
[3579,1900,0,146000,146000,56000,441,30,0,80,3578,3580,"EC-S18XL-W (～2200st)-10"]
[3580,1950,0,146000,146000,56000,423,30,0,80,3579,3581,"EC-S18XL-W (～2200st)-10"]
[3581,2000,0,146000,146000,56000,406,30,0,80,3580,3582,"EC-S18XL-W (～2200st)-10"]
[3582,2050,0,146000,146000,56000,391,30,0,80,3581,3583,"EC-S18XL-W (～2200st)-10"]
[3583,2100,0,146000,146000,56000,376,30,0,80,3582,3584,"EC-S18XL-W (～2200st)-10"]
[3584,2150,0,146000,146000,56000,362,30,0,80,3583,3585,"EC-S18XL-W (～2200st)-10"]
[3585,2200,0,146000,146000,56000,348,30,0,80,3584,-1,"EC-S18XL-W (～2200st)-10"]
[3586,2250,0,146000,146000,56000,336,30,0,80,-1,3587,"EC-S18XL-W (2250st～)-10"]
[3587,2300,0,146000,146000,56000,324,30,0,80,3586,3588,"EC-S18XL-W (2250st～)-10"]
[3588,2350,0,146000,146000,56000,313,30,0,80,3587,3589,"EC-S18XL-W (2250st～)-10"]
[3589,2400,0,146000,146000,56000,302,30,0,80,3588,3590,"EC-S18XL-W (2250st～)-10"]
[3590,2450,0,146000,146000,56000,292,30,0,80,3589,3591,"EC-S18XL-W (2250st～)-10"]
[3591,2500,0,146000,146000,56000,282,30,0,80,3590,3592,"EC-S18XL-W (2250st～)-10"]
[3592,2550,0,146000,146000,56000,273,30,0,80,3591,3593,"EC-S18XL-W (2250st～)-10"]
[3593,2600,0,146000,146000,56000,264,30,0,80,3592,3594,"EC-S18XL-W (2250st～)-10"]
[3594,2650,0,146000,146000,56000,256,30,0,80,3593,3595,"EC-S18XL-W (2250st～)-10"]
[3595,2700,0,146000,146000,56000,248,30,0,80,3594,3596,"EC-S18XL-W (2250st～)-10"]
[3596,2750,0,146000,146000,56000,240,30,0,80,3595,3597,"EC-S18XL-W (2250st～)-10"]
[3597,2800,0,146000,146000,56000,233,30,0,80,3596,-1,"EC-S18XL-W (2250st～)-10"]
[3598,800,0,116000,116000,25000,1000,30,0,80,-1,3599,"EC-S18XM-W (～2200st)-20"]
[3599,900,0,116000,116000,25000,1000,30,0,80,3598,3600,"EC-S18XM-W (～2200st)-20"]
[3600,1000,0,116000,116000,25000,1000,30,0,80,3599,3601,"EC-S18XM-W (～2200st)-20"]
[3601,1100,0,116000,116000,25000,1000,30,0,80,3600,3602,"EC-S18XM-W (～2200st)-20"]
[3602,1200,0,116000,116000,25000,1000,30,0,80,3601,3603,"EC-S18XM-W (～2200st)-20"]
[3603,1300,0,116000,116000,25000,1000,30,0,80,3602,3604,"EC-S18XM-W (～2200st)-20"]
[3604,1400,0,116000,116000,25000,1000,30,0,80,3603,3605,"EC-S18XM-W (～2200st)-20"]
[3605,1500,0,116000,116000,25000,1000,30,0,80,3604,3606,"EC-S18XM-W (～2200st)-20"]
[3606,1600,0,116000,116000,25000,1000,30,0,80,3605,3607,"EC-S18XM-W (～2200st)-20"]
[3607,1700,0,116000,116000,25000,1000,30,0,80,3606,3608,"EC-S18XM-W (～2200st)-20"]
[3608,1750,0,116000,116000,25000,1000,30,0,80,3607,3609,"EC-S18XM-W (～2200st)-20"]
[3609,1800,0,116000,116000,25000,960,30,0,80,3608,3610,"EC-S18XM-W (～2200st)-20"]
[3610,1850,0,116000,116000,25000,920,30,0,80,3609,3611,"EC-S18XM-W (～2200st)-20"]
[3611,1900,0,116000,116000,25000,882,30,0,80,3610,3612,"EC-S18XM-W (～2200st)-20"]
[3612,1950,0,116000,116000,25000,846,30,0,80,3611,3613,"EC-S18XM-W (～2200st)-20"]
[3613,2000,0,116000,116000,25000,813,30,0,80,3612,3614,"EC-S18XM-W (～2200st)-20"]
[3614,2050,0,116000,116000,25000,781,30,0,80,3613,3615,"EC-S18XM-W (～2200st)-20"]
[3615,2100,0,116000,116000,25000,751,30,0,80,3614,3616,"EC-S18XM-W (～2200st)-20"]
[3616,2150,0,116000,116000,25000,723,30,0,80,3615,3617,"EC-S18XM-W (～2200st)-20"]
[3617,2200,0,116000,116000,25000,697,30,0,80,3616,-1,"EC-S18XM-W (～2200st)-20"]
[3618,2250,0,116000,116000,25000,671,30,0,80,-1,3619,"EC-S18XM-W (2250st～)-20"]
[3619,2300,0,116000,116000,25000,648,30,0,80,3618,3620,"EC-S18XM-W (2250st～)-20"]
[3620,2350,0,116000,116000,25000,625,30,0,80,3619,3621,"EC-S18XM-W (2250st～)-20"]
[3621,2400,0,116000,116000,25000,604,30,0,80,3620,3622,"EC-S18XM-W (2250st～)-20"]
[3622,2450,0,116000,116000,25000,583,30,0,80,3621,3623,"EC-S18XM-W (2250st～)-20"]
[3623,2500,0,116000,116000,25000,564,30,0,80,3622,3624,"EC-S18XM-W (2250st～)-20"]
[3624,2550,0,116000,116000,25000,546,30,0,80,3623,3625,"EC-S18XM-W (2250st～)-20"]
[3625,2600,0,116000,116000,25000,528,30,0,80,3624,3626,"EC-S18XM-W (2250st～)-20"]
[3626,2650,0,116000,116000,25000,512,30,0,80,3625,3627,"EC-S18XM-W (2250st～)-20"]
[3627,2700,0,116000,116000,25000,496,30,0,80,3626,3628,"EC-S18XM-W (2250st～)-20"]
[3628,2750,0,116000,116000,25000,480,30,0,80,3627,3629,"EC-S18XM-W (2250st～)-20"]
[3629,2800,0,116000,116000,25000,466,30,0,80,3628,-1,"EC-S18XM-W (2250st～)-20"]
[3630,800,0,56000,56000,10000,1500,30,0,80,-1,3631,"EC-S18XH-W (～2200st)-40"]
[3631,900,0,56000,56000,10000,1500,30,0,80,3630,3632,"EC-S18XH-W (～2200st)-40"]
[3632,1000,0,56000,56000,10000,1500,30,0,80,3631,3633,"EC-S18XH-W (～2200st)-40"]
[3633,1100,0,56000,56000,10000,1500,30,0,80,3632,3634,"EC-S18XH-W (～2200st)-40"]
[3634,1200,0,56000,56000,10000,1500,30,0,80,3633,3635,"EC-S18XH-W (～2200st)-40"]
[3635,1300,0,56000,56000,10000,1500,30,0,80,3634,3636,"EC-S18XH-W (～2200st)-40"]
[3636,1400,0,56000,56000,10000,1500,30,0,80,3635,3637,"EC-S18XH-W (～2200st)-40"]
[3637,1500,0,56000,56000,10000,1500,30,0,80,3636,3638,"EC-S18XH-W (～2200st)-40"]
[3638,1600,0,56000,56000,10000,1500,30,0,80,3637,3639,"EC-S18XH-W (～2200st)-40"]
[3639,1700,0,56000,56000,10000,1500,30,0,80,3638,3640,"EC-S18XH-W (～2200st)-40"]
[3640,1750,0,56000,56000,10000,1500,30,0,80,3639,3641,"EC-S18XH-W (～2200st)-40"]
[3641,1800,0,56000,56000,10000,1500,30,0,80,3640,3642,"EC-S18XH-W (～2200st)-40"]
[3642,1850,0,56000,56000,10000,1500,30,0,80,3641,3643,"EC-S18XH-W (～2200st)-40"]
[3643,1900,0,56000,56000,10000,1500,30,0,80,3642,3644,"EC-S18XH-W (～2200st)-40"]
[3644,1950,0,56000,56000,10000,1500,30,0,80,3643,3645,"EC-S18XH-W (～2200st)-40"]
[3645,2000,0,56000,56000,10000,1500,30,0,80,3644,3646,"EC-S18XH-W (～2200st)-40"]
[3646,2050,0,56000,56000,10000,1500,30,0,80,3645,3647,"EC-S18XH-W (～2200st)-40"]
[3647,2100,0,56000,56000,10000,1500,30,0,80,3646,3648,"EC-S18XH-W (～2200st)-40"]
[3648,2150,0,56000,56000,10000,1446,30,0,80,3647,3649,"EC-S18XH-W (～2200st)-40"]
[3649,2200,0,56000,56000,10000,1393,30,0,80,3648,-1,"EC-S18XH-W (～2200st)-40"]
[3650,2250,0,56000,56000,10000,1343,30,0,80,-1,3651,"EC-S18XH-W (2250st～)-40"]
[3651,2300,0,56000,56000,10000,1295,30,0,80,3650,3652,"EC-S18XH-W (2250st～)-40"]
[3652,2350,0,56000,56000,10000,1250,30,0,80,3651,3653,"EC-S18XH-W (2250st～)-40"]
[3653,2400,0,56000,56000,10000,1207,30,0,80,3652,3654,"EC-S18XH-W (2250st～)-40"]
[3654,2450,0,56000,56000,10000,1167,30,0,80,3653,3655,"EC-S18XH-W (2250st～)-40"]
[3655,2500,0,56000,56000,10000,1128,30,0,80,3654,3656,"EC-S18XH-W (2250st～)-40"]
[3656,2550,0,56000,56000,10000,1091,30,0,80,3655,3657,"EC-S18XH-W (2250st～)-40"]
[3657,2600,0,56000,56000,10000,1056,30,0,80,3656,3658,"EC-S18XH-W (2250st～)-40"]
[3658,2650,0,56000,56000,10000,1023,30,0,80,3657,3659,"EC-S18XH-W (2250st～)-40"]
[3659,2700,0,56000,56000,10000,991,30,0,80,3658,3660,"EC-S18XH-W (2250st～)-40"]
[3660,2750,0,56000,56000,10000,961,30,0,80,3659,3661,"EC-S18XH-W (2250st～)-40"]
[3661,2800,0,56000,56000,10000,932,30,0,80,3660,-1,"EC-S18XH-W (2250st～)-40"]
[3662,800,0,396000,396000,76000,500,30,0,80,-1,3663,"EC-S18XLP-W-10"]
[3663,900,0,396000,396000,76000,500,30,0,80,3662,3664,"EC-S18XLP-W-10"]
[3664,1000,0,396000,396000,76000,500,30,0,80,3663,3665,"EC-S18XLP-W-10"]
[3665,1100,0,396000,396000,76000,500,30,0,80,3664,3666,"EC-S18XLP-W-10"]
[3666,1200,0,396000,396000,76000,500,30,0,80,3665,3667,"EC-S18XLP-W-10"]
[3667,1300,0,396000,396000,76000,500,30,0,80,3666,3668,"EC-S18XLP-W-10"]
[3668,1400,0,396000,396000,76000,500,30,0,80,3667,3669,"EC-S18XLP-W-10"]
[3669,1500,0,396000,396000,76000,500,30,0,80,3668,3670,"EC-S18XLP-W-10"]
[3670,1600,0,396000,396000,76000,500,30,0,80,3669,3671,"EC-S18XLP-W-10"]
[3671,1700,0,396000,396000,76000,500,30,0,80,3670,3672,"EC-S18XLP-W-10"]
[3672,1750,0,396000,396000,76000,500,30,0,80,3671,3673,"EC-S18XLP-W-10"]
[3673,1800,0,396000,396000,76000,480,30,0,80,3672,3674,"EC-S18XLP-W-10"]
[3674,1850,0,396000,396000,76000,460,30,0,80,3673,3675,"EC-S18XLP-W-10"]
[3675,1900,0,396000,396000,76000,441,30,0,80,3674,3676,"EC-S18XLP-W-10"]
[3676,1950,0,396000,396000,76000,423,30,0,80,3675,3677,"EC-S18XLP-W-10"]
[3677,2000,0,396000,396000,76000,406,30,0,80,3676,3678,"EC-S18XLP-W-10"]
[3678,2050,0,396000,396000,76000,391,30,0,80,3677,3679,"EC-S18XLP-W-10"]
[3679,2100,0,396000,396000,76000,376,30,0,80,3678,3680,"EC-S18XLP-W-10"]
[3680,2150,0,396000,396000,76000,362,30,0,80,3679,3681,"EC-S18XLP-W-10"]
[3681,2200,0,396000,396000,76000,348,30,0,80,3680,-1,"EC-S18XLP-W-10","↑ Ver.3.15"]
[3682,2600,0,15000,15000,-1,2000,15,0,33,-1,-1,"EC-B8SS-54","↓ Ver.3.16 追加"]
[3683,2600,0,15000,15000,-1,2000,15,0,33,-1,-1,"EC-B8SSU-54"]
[3684,500,0,90000,90000,30000,240,30,0,100,-1,3685,"RCS4-HSA6C-100-4"]
[3685,550,0,90000,90000,30000,235,30,0,100,3684,3686,"RCS4-HSA6C-100-4"]
[3686,600,0,90000,90000,30000,205,30,0,100,3685,3687,"RCS4-HSA6C-100-4"]
[3687,650,0,90000,90000,30000,175,30,0,100,3686,3688,"RCS4-HSA6C-100-4"]
[3688,700,0,90000,90000,30000,155,30,0,100,3687,3689,"RCS4-HSA6C-100-4"]
[3689,750,0,90000,90000,30000,135,30,0,100,3688,3690,"RCS4-HSA6C-100-4"]
[3690,800,0,90000,90000,30000,120,30,0,100,3689,-1,"RCS4-HSA6C-100-4"]
[3691,500,0,50000,50000,15000,500,30,0,150,-1,3692,"RCS4-HSA6C-100-8"]
[3692,550,0,50000,50000,15000,475,30,0,150,3691,3693,"RCS4-HSA6C-100-8"]
[3693,600,0,50000,50000,15000,410,30,0,150,3692,3694,"RCS4-HSA6C-100-8"]
[3694,650,0,50000,50000,15000,355,30,0,150,3693,3695,"RCS4-HSA6C-100-8"]
[3695,700,0,50000,50000,15000,315,30,0,150,3694,3696,"RCS4-HSA6C-100-8"]
[3696,750,0,50000,50000,15000,275,30,0,150,3695,3697,"RCS4-HSA6C-100-8"]
[3697,800,0,50000,50000,15000,245,30,0,150,3696,-1,"RCS4-HSA6C-100-8"]
[3698,500,0,33000,33000,6000,1000,30,0,55,-1,3699,"RCS4-HSA6C-100-16"]
[3699,550,0,33000,33000,6000,965,30,0,55,3698,3700,"RCS4-HSA6C-100-16"]
[3700,600,0,33000,33000,6000,830,30,0,55,3699,3701,"RCS4-HSA6C-100-16"]
[3701,650,0,33000,33000,6000,720,30,0,55,3700,3702,"RCS4-HSA6C-100-16"]
[3702,700,0,33000,33000,6000,635,30,0,55,3701,3703,"RCS4-HSA6C-100-16"]
[3703,750,0,33000,33000,6000,560,30,0,55,3702,3704,"RCS4-HSA6C-100-16"]
[3704,800,0,33000,33000,6000,500,30,0,55,3703,-1,"RCS4-HSA6C-100-16"]
[3705,500,0,18000,18000,4000,1500,35,0,70,-1,3706,"RCS4-HSA6C-100-24"]
[3706,550,0,18000,18000,4000,1440,35,0,70,3705,3707,"RCS4-HSA6C-100-24"]
[3707,600,0,18000,18000,4000,1240,35,0,70,3706,3708,"RCS4-HSA6C-100-24"]
[3708,650,0,18000,18000,4000,1095,35,0,70,3707,3709,"RCS4-HSA6C-100-24"]
[3709,700,0,18000,18000,4000,965,35,0,70,3708,3710,"RCS4-HSA6C-100-24"]
[3710,750,0,18000,18000,4000,850,35,0,70,3709,3711,"RCS4-HSA6C-100-24"]
[3711,800,0,18000,18000,4000,760,35,0,70,3710,-1,"RCS4-HSA6C-100-24"]
[3712,600,0,120000,120000,50000,300,30,0,120,-1,3713,"RCS4-HSA7C-200-5"]
[3713,650,0,120000,120000,50000,270,30,0,120,3712,3714,"RCS4-HSA7C-200-5"]
[3714,700,0,120000,120000,50000,240,30,0,120,3713,3715,"RCS4-HSA7C-200-5"]
[3715,750,0,120000,120000,50000,215,30,0,120,3714,3716,"RCS4-HSA7C-200-5"]
[3716,800,0,120000,120000,50000,190,30,0,120,3715,3717,"RCS4-HSA7C-200-5"]
[3717,850,0,120000,120000,50000,175,30,0,120,3716,3718,"RCS4-HSA7C-200-5"]
[3718,900,0,120000,120000,50000,155,30,0,120,3717,3719,"RCS4-HSA7C-200-5"]
[3719,950,0,120000,120000,50000,140,30,0,120,3718,3720,"RCS4-HSA7C-200-5"]
[3720,1000,0,120000,120000,50000,130,30,0,120,3719,-1,"RCS4-HSA7C-200-5"]
[3721,600,0,60000,60000,25000,600,30,0,150,-1,3722,"RCS4-HSA7C-200-10"]
[3722,650,0,60000,60000,25000,540,30,0,150,3721,3723,"RCS4-HSA7C-200-10"]
[3723,700,0,60000,60000,25000,480,30,0,150,3722,3724,"RCS4-HSA7C-200-10"]
[3724,750,0,60000,60000,25000,430,30,0,150,3723,3725,"RCS4-HSA7C-200-10"]
[3725,800,0,60000,60000,25000,385,30,0,150,3724,3726,"RCS4-HSA7C-200-10"]
[3726,850,0,60000,60000,25000,345,30,0,150,3725,3727,"RCS4-HSA7C-200-10"]
[3727,900,0,60000,60000,25000,310,30,0,150,3726,3728,"RCS4-HSA7C-200-10"]
[3728,950,0,60000,60000,25000,285,30,0,150,3727,3729,"RCS4-HSA7C-200-10"]
[3729,1000,0,60000,60000,25000,260,30,0,150,3728,-1,"RCS4-HSA7C-200-10"]
[3730,600,0,40000,40000,12000,1200,30,0,65,-1,3731,"RCS4-HSA7C-200-20"]
[3731,650,0,40000,40000,12000,1090,30,0,65,3730,3732,"RCS4-HSA7C-200-20"]
[3732,700,0,40000,40000,12000,960,30,0,65,3731,3733,"RCS4-HSA7C-200-20"]
[3733,750,0,40000,40000,12000,860,30,0,65,3732,3734,"RCS4-HSA7C-200-20"]
[3734,800,0,40000,40000,12000,770,30,0,65,3733,3735,"RCS4-HSA7C-200-20"]
[3735,850,0,40000,40000,12000,695,30,0,65,3734,3736,"RCS4-HSA7C-200-20"]
[3736,900,0,40000,40000,12000,630,30,0,65,3735,3737,"RCS4-HSA7C-200-20"]
[3737,950,0,40000,40000,12000,570,30,0,65,3736,3738,"RCS4-HSA7C-200-20"]
[3738,1000,0,40000,40000,12000,520,30,0,65,3737,-1,"RCS4-HSA7C-200-20"]
[3739,600,0,30000,30000,7000,1800,35,0,69,-1,3740,"RCS4-HSA7C-200-30"]
[3740,650,0,30000,30000,7000,1640,35,0,69,3739,3741,"RCS4-HSA7C-200-30"]
[3741,700,0,30000,30000,7000,1440,35,0,69,3740,3742,"RCS4-HSA7C-200-30"]
[3742,750,0,30000,30000,7000,1280,35,0,69,3741,3743,"RCS4-HSA7C-200-30"]
[3743,800,0,30000,30000,7000,1155,35,0,69,3742,3744,"RCS4-HSA7C-200-30"]
[3744,850,0,30000,30000,7000,1040,35,0,69,3743,3745,"RCS4-HSA7C-200-30"]
[3745,900,0,30000,30000,7000,940,35,0,69,3744,3746,"RCS4-HSA7C-200-30"]
[3746,950,0,30000,30000,7000,855,35,0,69,3745,3747,"RCS4-HSA7C-200-30"]
[3747,1000,0,30000,30000,7000,780,35,0,69,3746,-1,"RCS4-HSA7C-200-30"]
[3748,500,0,84000,84000,24000,240,30,0,100,-1,3749,"RCS4-HSA6C-100-W-4"]
[3749,550,0,84000,84000,24000,235,30,0,100,3748,3750,"RCS4-HSA6C-100-W-4"]
[3750,600,0,84000,84000,24000,205,30,0,100,3749,3751,"RCS4-HSA6C-100-W-4"]
[3751,650,0,84000,84000,24000,175,30,0,100,3750,3752,"RCS4-HSA6C-100-W-4"]
[3752,700,0,84000,84000,24000,155,30,0,100,3751,3753,"RCS4-HSA6C-100-W-4"]
[3753,750,0,84000,84000,24000,135,30,0,100,3752,3754,"RCS4-HSA6C-100-W-4"]
[3754,800,0,84000,84000,24000,120,30,0,100,3753,-1,"RCS4-HSA6C-100-W-4"]
[3755,500,0,44000,44000,9000,500,30,0,150,-1,3756,"RCS4-HSA6C-100-W-8"]
[3756,550,0,44000,44000,9000,475,30,0,150,3755,3757,"RCS4-HSA6C-100-W-8"]
[3757,600,0,44000,44000,9000,410,30,0,150,3756,3758,"RCS4-HSA6C-100-W-8"]
[3758,650,0,44000,44000,9000,355,30,0,150,3757,3759,"RCS4-HSA6C-100-W-8"]
[3759,700,0,44000,44000,9000,315,30,0,150,3758,3760,"RCS4-HSA6C-100-W-8"]
[3760,750,0,44000,44000,9000,275,30,0,150,3759,3761,"RCS4-HSA6C-100-W-8"]
[3761,800,0,44000,44000,9000,245,30,0,150,3760,-1,"RCS4-HSA6C-100-W-8"]
[3762,500,0,27000,27000,-1,1000,30,0,55,-1,3763,"RCS4-HSA6C-100-W-16"]
[3763,550,0,27000,27000,-1,965,30,0,55,3762,3764,"RCS4-HSA6C-100-W-16"]
[3764,600,0,27000,27000,-1,830,30,0,55,3763,3765,"RCS4-HSA6C-100-W-16"]
[3765,650,0,27000,27000,-1,720,30,0,55,3764,3766,"RCS4-HSA6C-100-W-16"]
[3766,700,0,27000,27000,-1,635,30,0,55,3765,3767,"RCS4-HSA6C-100-W-16"]
[3767,750,0,27000,27000,-1,560,30,0,55,3766,3768,"RCS4-HSA6C-100-W-16"]
[3768,800,0,27000,27000,-1,500,30,0,55,3767,-1,"RCS4-HSA6C-100-W-16"]
[3769,600,0,114000,114000,44000,300,30,0,120,-1,3770,"RCS4-HSA7C-200-W-5"]
[3770,650,0,114000,114000,44000,270,30,0,120,3769,3771,"RCS4-HSA7C-200-W-5"]
[3771,700,0,114000,114000,44000,240,30,0,120,3770,3772,"RCS4-HSA7C-200-W-5"]
[3772,750,0,114000,114000,44000,215,30,0,120,3771,3773,"RCS4-HSA7C-200-W-5"]
[3773,800,0,114000,114000,44000,190,30,0,120,3772,3774,"RCS4-HSA7C-200-W-5"]
[3774,850,0,114000,114000,44000,175,30,0,120,3773,3775,"RCS4-HSA7C-200-W-5"]
[3775,900,0,114000,114000,44000,155,30,0,120,3774,3776,"RCS4-HSA7C-200-W-5"]
[3776,950,0,114000,114000,44000,140,30,0,120,3775,3777,"RCS4-HSA7C-200-W-5"]
[3777,1000,0,114000,114000,44000,130,30,0,120,3776,-1,"RCS4-HSA7C-200-W-5"]
[3778,600,0,54000,54000,19000,600,30,0,150,-1,3779,"RCS4-HSA7C-200-W-10"]
[3779,650,0,54000,54000,19000,540,30,0,150,3778,3780,"RCS4-HSA7C-200-W-10"]
[3780,700,0,54000,54000,19000,480,30,0,150,3779,3781,"RCS4-HSA7C-200-W-10"]
[3781,750,0,54000,54000,19000,430,30,0,150,3780,3782,"RCS4-HSA7C-200-W-10"]
[3782,800,0,54000,54000,19000,385,30,0,150,3781,3783,"RCS4-HSA7C-200-W-10"]
[3783,850,0,54000,54000,19000,345,30,0,150,3782,3784,"RCS4-HSA7C-200-W-10"]
[3784,900,0,54000,54000,19000,310,30,0,150,3783,3785,"RCS4-HSA7C-200-W-10"]
[3785,950,0,54000,54000,19000,285,30,0,150,3784,3786,"RCS4-HSA7C-200-W-10"]
[3786,1000,0,54000,54000,19000,260,30,0,150,3785,-1,"RCS4-HSA7C-200-W-10"]
[3787,600,0,34000,34000,-1,1200,30,0,65,-1,3788,"RCS4-HSA7C-200-W-20"]
[3788,650,0,34000,34000,-1,1090,30,0,65,3787,3789,"RCS4-HSA7C-200-W-20"]
[3789,700,0,34000,34000,-1,960,30,0,65,3788,3790,"RCS4-HSA7C-200-W-20"]
[3790,750,0,34000,34000,-1,860,30,0,65,3789,3791,"RCS4-HSA7C-200-W-20"]
[3791,800,0,34000,34000,-1,770,30,0,65,3790,3792,"RCS4-HSA7C-200-W-20"]
[3792,850,0,34000,34000,-1,695,30,0,65,3791,3793,"RCS4-HSA7C-200-W-20"]
[3793,900,0,34000,34000,-1,630,30,0,65,3792,3794,"RCS4-HSA7C-200-W-20"]
[3794,950,0,34000,34000,-1,570,30,0,65,3793,3795,"RCS4-HSA7C-200-W-20"]
[3795,1000,0,34000,34000,-1,520,30,0,65,3794,-1,"RCS4-HSA7C-200-W-20","↑ Ver.3.16 追加"]
["EOF"]

{"sheet":"MassDataLink","index":5,"n_rows":3650,"n_cols":23,"rows_kept":3650,"cut":false,"hidden":true,"merged":[[2182,6,2184,6],[2185,6,2187,6],[2188,6,2189,6],[2190,6,2194,6],[2195,6,2197,6],[2198,6,2202,6],[2148,6,2152,6],[2153,6,2155,6],[2156,6,2158,6],[2160,6,2162,6],[2164,6,2168,6],[2169,6,2171,6],[2172,6,2176,6],[2177,6,2178,6],[2179,6,2181,6],[2118,6,2121,6],[2123,6,2126,6],[2127,6,2129,6],[2130,6,2133,6],[2134,6,2136,6],[2138,6,2140,6],[2141,6,2142,6],[2143,6,2145,6],[2146,6,2147,6],[2088,6,2091,6],[2092,6,2094,6],[2095,6,2097,6],[2098,6,2102,6],[2103,6,2105,6],[2106,6,2110,6],[2111,6,2112,6],[2113,6,2115,6],[2116,6,2117,6],[2061,6,2063,6],[2064,6,2065,6],[2066,6,2068,6],[2069,6,2070,6],[2071,6,2075,6],[2076,6,2078,6],[2083,6,2084,6],[2079,6,2082,6],[2085,6,2087,6],[2030,6,2033,6],[2034,6,2035,6],[2036,6,2038,6],[2040,6,2043,6],[2044,6,2046,6],[2047,6,2049,6],[2050,6,2052,6],[2053,6,2057,6],[2058,6,2060,6],[1993,6,1994,6],[1996,6,1998,6],[2004,6,2005,6],[2009,6,2010,6],[2012,6,2014,6],[2015,6,2016,6],[2020,6,2022,6],[2024,6,2027,6],[2028,6,2029,6],[1880,6,1882,6],[1883,6,1886,6],[1887,6,1889,6],[1890,6,1892,6],[1893,6,1894,6],[1915,6,1918,6],[1920,6,1923,6],[1925,6,1928,6],[1895,6,1899,6],[1900,6,1901,6],[1902,6,1904,6],[1905,6,1907,6],[1908,6,1910,6],[1911,6,1913,6],[1583,6,1599,6],[1601,6,1617,6],[1619,6,1633,6],[1635,6,1649,6],[1864,6,1866,6],[1868,6,1870,6],[1871,6,1872,6],[1873,6,1876,6],[1877,6,1879,6],[1660,6,1663,6],[1664,6,1665,6],[1666,6,1669,6],[1672,6,1674,6],[1670,6,1671,6],[1697,6,1699,6],[1700,6,1701,6],[1702,6,1704,6],[1705,6,1706,6],[1707,6,1711,6],[1712,6,1714,6],[1676,6,1679,6],[1683,6,1685,6],[1686,6,1688,6],[1689,6,1693,6],[1364,6,1368,6],[1335,6,1339,6],[1340,6,1342,6],[1346,6,1350,6],[1351,6,1355,6],[1343,6,1345,6],[1311,6,1313,6],[1547,6,1563,6],[1565,6,1581,6],[1322,6,1326,6],[1327,6,1334,6],[1356,6,1363,6],[1314,6,1316,6],[1317,6,1321,6],[1284,6,1288,6],[1289,6,1293,6],[1294,6,1301,6],[1302,6,1306,6],[1307,6,1308,6],[869,6,877,6],[1309,6,1310,6],[1255,6,1259,6],[1260,6,1264,6],[1265,6,1272,6],[1273,6,1277,6],[1278,6,1280,6],[1281,6,1283,6],[1219,6,1221,6],[1222,6,1226,6],[1227,6,1231,6],[1232,6,1239,6],[1240,6,1244,6],[1245,6,1246,6],[1247,6,1248,6],[1249,6,1251,6],[1252,6,1254,6],[1183,6,1184,6],[1185,6,1186,6],[1193,6,1197,6],[1198,6,1202,6],[1203,6,1210,6],[1211,6,1215,6],[1216,6,1218,6],[1136,6,1140,6],[1141,6,1148,6],[1149,6,1153,6],[1154,6,1156,6],[1157,6,1159,6],[1160,6,1164,6],[1165,6,1169,6],[1170,6,1177,6],[1178,6,1182,6],[1108,6,1115,6],[1116,6,1120,6],[1121,6,1122,6],[1123,6,1124,6],[1125,6,1127,6],[1128,6,1130,6],[1131,6,1135,6],[1187,6,1189,6],[1190,6,1192,6],[1066,6,1068,6],[1069,6,1073,6],[1074,6,1078,6],[1079,6,1086,6],[1087,6,1091,6],[1092,6,1094,6],[1095,6,1097,6],[1098,6,1102,6],[1103,6,1107,6],[1030,6,1032,6],[1033,6,1035,6],[1036,6,1040,6],[1041,6,1045,6],[1046,6,1053,6],[1054,6,1058,6],[1059,6,1060,6],[1061,6,1062,6],[1063,6,1065,6],[1012,6,1016,6],[954,6,962,6],[972,6,980,6],[990,6,996,6],[963,6,971,6],[981,6,989,6],[997,6,998,6],[1017,6,1024,6],[1025,6,1029,6],[931,6,937,6],[945,6,953,6],[915,6,923,6],[928,6,930,6],[889,6,891,6],[999,6,1000,6],[1001,6,1003,6],[1004,6,1006,6],[1007,6,1011,6],[732,6,737,6],[819,6,825,6],[777,6,779,6],[787,6,793,6],[773,6,776,6],[780,6,786,6],[938,6,944,6],[833,6,841,6],[803,6,811,6],[816,6,818,6],[826,6,832,6],[794,6,802,6],[812,6,815,6],[899,6,905,6],[860,6,868,6],[878,6,884,6],[851,6,859,6],[842,6,850,6],[738,6,741,6],[742,6,744,6],[885,6,888,6],[892,6,898,6],[906,6,914,6],[924,6,927,6],[605,6,607,6],[608,6,614,6],[615,6,619,6],[620,6,623,6],[624,6,626,6],[627,6,630,6],[631,6,633,6],[634,6,640,6],[690,6,696,6],[655,6,661,6],[683,6,689,6],[648,6,654,6],[641,6,647,6],[598,6,600,6],[532,6,538,6],[539,6,545,6],[601,6,604,6],[559,6,562,6],[563,6,565,6],[566,6,572,6],[573,6,579,6],[587,6,593,6],[580,6,586,6],[594,6,597,6],[546,6,552,6],[494,6,496,6],[497,6,503,6],[511,6,517,6],[525,6,528,6],[553,6,558,6],[504,6,510,6],[518,6,524,6],[529,6,531,6],[308,6,314,6],[324,6,332,6],[365,6,373,6],[315,6,323,6],[419,6,421,6],[422,6,425,6],[406,6,414,6],[426,6,428,6],[429,6,435,6],[333,6,336,6],[337,6,339,6],[340,6,348,6],[349,6,355,6],[356,6,364,6],[381,6,389,6],[390,6,396,6],[251,6,259,6],[267,6,275,6],[285,6,288,6],[260,6,266,6],[276,6,284,6],[289,6,291,6],[292,6,295,6],[296,6,298,6],[299,6,307,6],[213,6,215,6],[216,6,219,6],[220,6,222,6],[223,6,231,6],[232,6,236,6],[237,6,240,6],[241,6,243,6],[244,6,247,6],[248,6,250,6],[209,6,212,6],[143,6,149,6],[150,6,158,6],[168,6,171,6],[172,6,174,6],[159,6,167,6],[200,6,208,6],[175,6,183,6],[184,6,190,6],[191,6,199,6],[42,6,44,6],[45,6,53,6],[61,6,69,6],[79,6,82,6],[54,6,60,6],[70,6,78,6],[134,6,142,6],[83,6,85,6],[86,6,89,6],[90,6,92,6],[93,6,101,6],[102,6,108,6],[118,6,126,6],[109,6,117,6],[127,6,130,6],[131,6,133,6],[1,8,1,9],[38,6,41,6],[17,6,25,6],[26,6,30,6],[31,6,34,6],[35,6,37,6],[3,6,6,6],[7,6,9,6],[10,6,13,6],[14,6,16,6],[397,6,405,6],[415,6,418,6],[374,6,377,6],[378,6,380,6],[436,6,440,6],[441,6,444,6],[445,6,447,6],[448,6,451,6],[452,6,454,6],[455,6,461,6],[469,6,475,6],[483,6,486,6],[487,6,489,6],[490,6,493,6],[462,6,468,6],[476,6,482,6],[1653,6,1654,6],[1656,6,1658,6],[662,6,665,6],[666,6,668,6],[669,6,672,6],[673,6,675,6],[676,6,682,6],[766,6,772,6],[745,6,751,6],[752,6,758,6],[759,6,765,6],[718,6,724,6],[704,6,707,6],[708,6,710,6],[711,6,717,6],[697,6,703,6],[725,6,731,6],[1694,6,1696,6],[1680,6,1682,6],[1734,6,1738,6],[1739,6,1741,6],[1743,6,1744,6],[1745,6,1746,6],[1747,6,1748,6],[1749,6,1752,6],[1715,6,1718,6],[1719,6,1720,6],[1721,6,1723,6],[1724,6,1727,6],[1728,6,1730,6],[1731,6,1733,6],[1773,6,1776,6],[1777,6,1779,6],[1780,6,1784,6],[1785,6,1788,6],[1789,6,1792,6],[1793,6,1795,6],[1753,6,1755,6],[1756,6,1759,6],[1760,6,1762,6],[1763,6,1765,6],[1766,6,1768,6],[1769,6,1771,6],[1812,6,1816,6],[1817,6,1820,6],[1821,6,1824,6],[1825,6,1827,6],[1828,6,1829,6],[1830,6,1831,6],[1796,6,1797,6],[1798,6,1799,6],[1800,6,1802,6],[1803,6,1804,6],[1805,6,1808,6],[1809,6,1811,6],[1855,6,1858,6],[1832,6,1834,6],[1835,6,1836,6],[1837,6,1841,6],[1842,6,1845,6],[1846,6,1850,6],[1851,6,1854,6],[1859,6,1861,6],[1862,6,1863,6],[1971,6,1973,6],[1974,6,1976,6],[1982,6,1984,6],[1988,6,1990,6],[1985,6,1987,6],[1953,6,1955,6],[1929,6,1930,6],[1931,6,1933,6],[1934,6,1936,6],[1937,6,1938,6],[1939,6,1943,6],[1944,6,1947,6],[1948,6,1952,6]]}
[null,1,2,3,4,5,null,1000,{"$f":"COUNTIF(I4:I1527,\"つなぎまちがい\")","v":0},{"$f":"COUNTIF(J4:J1527,\"つなぎまちがい\")","v":0}]
["ﾃﾞｰﾀ№","ｱｸﾁｭｴｰﾀ姿勢","搬送負荷質量","加減速・速度ﾃﾞｰﾀ","前ﾃﾞｰﾀ№","次ﾃﾞｰﾀ№","備考",null,"ﾚｺｰﾄﾞﾘﾝｸのﾁｪｯｸ"]
[{"$f":"ModelData!A3","v":0},"0/1","1g","ﾚｺｰﾄﾞ№","ﾚｺｰﾄﾞ№","ﾚｺｰﾄﾞ№","型式-姿勢","質量","前ﾃﾞｰﾀ","次ﾃﾞｰﾀ"]
[{"$f":"A3+1","v":1},0,{"$f":"H4*$H$1","v":30000},{"$f":"AccVelDataLink!A4","v":1},-1,{"$f":"A5","v":2},{"$f":"AccVelDataLink!F4","v":"ISB-SXM-60-4-水平"},{"$f":"AccVelDataLink!G4","v":30},{"$f":"IF(E4=A3,\"○\",IF(G4=0,\"つなぎまちがい\",\"先頭\"))","v":"先頭"},{"$f":"IF(F4=A5,\"○\",IF(F4<>E5,\"つなぎまちがい\",\"終端\"))","v":"○"}]
[2,0,38000,{"$f":"AccVelDataLink!A5","v":2},{"$f":"A4","v":1},3,null,{"$f":"AccVelDataLink!G5","v":38},"○",{"$f":"IF(F5=A6,\"○\",IF(F5<>E6,\"つなぎまちがい\",\"終端\"))","v":"○"}]
[3,0,50000,{"$f":"AccVelDataLink!A6","v":3},2,4,null,{"$f":"AccVelDataLink!G6","v":50},"○",{"$f":"IF(F6=A7,\"○\",IF(F6<>E7,\"つなぎまちがい\",\"終端\"))","v":"○"}]
[{"$f":"A6+1","v":4},0,55000,{"$f":"AccVelDataLink!A7","v":4},3,5,null,{"$f":"AccVelDataLink!G7","v":55},"○",{"$f":"IF(F7=A8,\"○\",IF(F7<>E8,\"つなぎまちがい\",\"終端\"))","v":"○"}]
[{"$f":"A7+1","v":5},1,12000,{"$f":"AccVelDataLink!A8","v":5},4,6,{"$f":"AccVelDataLink!F8","v":"ISB-SXM-60-4-垂直"},{"$f":"AccVelDataLink!G8","v":12},"○",{"$f":"IF(F8=A9,\"○\",IF(F8<>E9,\"つなぎまちがい\",\"終端\"))","v":"○"}]
[6,1,13000,{"$f":"AccVelDataLink!A9","v":6},5,7,null,{"$f":"AccVelDataLink!G9","v":13},"○",{"$f":"IF(F9=A10,\"○\",IF(F9<>E10,\"つなぎまちがい\",\"終端\"))","v":"○"}]
[7,1,14000,{"$f":"AccVelDataLink!A10","v":7},6,-1,null,{"$f":"AccVelDataLink!G10","v":14},{"$f":"IF(E10=A9,\"○\",IF(G10=0,\"つなぎまちがい\",\"先頭\"))","v":"○"},"終端"]
[{"$f":"A10+1","v":8},0,12000,{"$f":"AccVelDataLink!A11","v":8},-1,{"$f":"A12","v":9},{"$f":"AccVelDataLink!F11","v":"ISB-SXM-60-8-水平"},{"$f":"AccVelDataLink!G11","v":12},"先頭","○"]
[{"$f":"A11+1","v":9},0,15000,{"$f":"AccVelDataLink!A12","v":9},{"$f":"A11","v":8},10,null,{"$f":"AccVelDataLink!G12","v":15},"○","○"]
[10,0,20000,{"$f":"AccVelDataLink!A13","v":10},9,11,null,{"$f":"AccVelDataLink!G13","v":20},"○","○"]
[{"$f":"A13+1","v":11},0,27000,{"$f":"AccVelDataLink!A14","v":11},10,12,null,{"$f":"AccVelDataLink!G14","v":27},"○","○"]
[{"$f":"A14+1","v":12},1,5000,{"$f":"AccVelDataLink!A15","v":12},11,13,{"$f":"AccVelDataLink!F15","v":"ISB-SXM-60-8-垂直"},{"$f":"AccVelDataLink!G15","v":5},"○","○"]
[13,1,6000,{"$f":"AccVelDataLink!A16","v":13},12,14,null,{"$f":"AccVelDataLink!G16","v":6},"○",{"$f":"IF(F16=A17,\"○\",IF(F16<>E17,\"つなぎまちがい\",\"終端\"))","v":"○"}]
[14,1,7000,{"$f":"AccVelDataLink!A17","v":14},13,-1,null,{"$f":"AccVelDataLink!G17","v":7},{"$f":"IF(E17=A16,\"○\",IF(G17=0,\"つなぎまちがい\",\"先頭\"))","v":"○"},"終端"]
[{"$f":"A17+1","v":15},0,3500,{"$f":"AccVelDataLink!A18","v":15},-1,{"$f":"A19","v":16},{"$f":"AccVelDataLink!F18","v":"ISB-SXM-60-16-水平"},{"$f":"AccVelDataLink!G18","v":3.5},"先頭","○"]
[{"$f":"A18+1","v":16},0,4000,{"$f":"AccVelDataLink!A19","v":16},{"$f":"A18","v":15},17,null,{"$f":"AccVelDataLink!G19","v":4},"○","○"]
[17,0,4500,{"$f":"AccVelDataLink!A20","v":17},16,18,null,{"$f":"AccVelDataLink!G20","v":4.5},"○","○"]
[18,0,5500,{"$f":"AccVelDataLink!A21","v":18},17,19,null,{"$f":"AccVelDataLink!G21","v":5.5},"○","○"]
[19,0,6000,{"$f":"AccVelDataLink!A22","v":19},18,20,null,{"$f":"AccVelDataLink!G22","v":6},"○","○"]
[20,0,7000,{"$f":"AccVelDataLink!A23","v":20},19,21,null,{"$f":"AccVelDataLink!G23","v":7},"○","○"]
[21,0,8500,{"$f":"AccVelDataLink!A24","v":21},20,22,null,{"$f":"AccVelDataLink!G24","v":8.5},"○","○"]
[22,0,10500,{"$f":"AccVelDataLink!A25","v":22},21,23,null,{"$f":"AccVelDataLink!G25","v":10.5},"○","○"]
[{"$f":"A25+1","v":23},0,13000,{"$f":"AccVelDataLink!A26","v":23},22,24,null,{"$f":"AccVelDataLink!G26","v":13},"○","○"]
[{"$f":"A26+1","v":24},1,2000,{"$f":"AccVelDataLink!A27","v":24},23,25,{"$f":"AccVelDataLink!F27","v":"ISB-SXM-60-16-垂直"},{"$f":"AccVelDataLink!G27","v":2},"○","○"]
[25,1,2300,{"$f":"AccVelDataLink!A28","v":25},24,26,null,{"$f":"AccVelDataLink!G28","v":2.2999999999999998},"○","○"]
[26,1,2600,{"$f":"AccVelDataLink!A29","v":26},25,27,null,{"$f":"AccVelDataLink!G29","v":2.6},"○","○"]
[27,1,3000,{"$f":"AccVelDataLink!A30","v":27},26,28,null,{"$f":"AccVelDataLink!G30","v":3},"○",{"$f":"IF(F30=A31,\"○\",IF(F30<>E31,\"つなぎまちがい\",\"終端\"))","v":"○"}]
[28,1,3500,{"$f":"AccVelDataLink!A31","v":28},27,-1,null,{"$f":"AccVelDataLink!G31","v":3.5},{"$f":"IF(E31=A30,\"○\",IF(G31=0,\"つなぎまちがい\",\"先頭\"))","v":"○"},"終端"]
[29,0,45000,{"$f":"AccVelDataLink!A32","v":29},-1,{"$f":"A33","v":30},{"$f":"AccVelDataLink!F32","v":"ISB-MXM-100-5-水平"},{"$f":"AccVelDataLink!G32","v":45},"先頭","○"]
[30,0,60000,{"$f":"AccVelDataLink!A33","v":30},{"$f":"A32","v":29},31,null,{"$f":"AccVelDataLink!G33","v":60},"○","○"]
[31,0,80000,{"$f":"AccVelDataLink!A34","v":31},30,32,null,{"$f":"AccVelDataLink!G34","v":80},"○","○"]
[{"$f":"A34+1","v":32},0,85000,{"$f":"AccVelDataLink!A35","v":32},31,33,null,{"$f":"AccVelDataLink!G35","v":85},"○","○"]
[{"$f":"A35+1","v":33},1,15000,{"$f":"AccVelDataLink!A36","v":33},32,34,{"$f":"AccVelDataLink!F36","v":"ISB-MXM-100-5-垂直"},{"$f":"AccVelDataLink!G36","v":15},"○","○"]
[34,1,17000,{"$f":"AccVelDataLink!A37","v":34},33,35,null,{"$f":"AccVelDataLink!G37","v":17},"○","○"]
[35,1,20000,{"$f":"AccVelDataLink!A38","v":35},34,-1,null,{"$f":"AccVelDataLink!G38","v":20},"○",{"$f":"IF(F38=A39,\"○\",IF(F38<>E39,\"つなぎまちがい\",\"終端\"))","v":"終端"}]
[{"$f":"A38+1","v":36},0,{"$f":"H39*$H$1","v":20000},{"$f":"AccVelDataLink!A39","v":36},-1,{"$f":"A40","v":37},{"$f":"AccVelDataLink!F39","v":"ISB-MXM-100-10-水平"},{"$f":"AccVelDataLink!G39","v":20},{"$f":"IF(E39=A38,\"○\",IF(G39=0,\"つなぎまちがい\",\"先頭\"))","v":"先頭"},"○"]
[37,0,23000,{"$f":"AccVelDataLink!A40","v":37},{"$f":"A39","v":36},38,null,{"$f":"AccVelDataLink!G40","v":23},"○","○"]
[38,0,30000,{"$f":"AccVelDataLink!A41","v":38},37,39,null,{"$f":"AccVelDataLink!G41","v":30},"○","○"]
[39,0,45000,{"$f":"AccVelDataLink!A42","v":39},38,40,null,{"$f":"AccVelDataLink!G42","v":45},"○","○"]
[40,1,7000,{"$f":"AccVelDataLink!A43","v":40},39,41,{"$f":"AccVelDataLink!F43","v":"ISB-MXM-100-10-垂直"},{"$f":"AccVelDataLink!G43","v":7},"○","○"]
[41,1,8000,{"$f":"AccVelDataLink!A44","v":41},40,42,null,{"$f":"AccVelDataLink!G44","v":8},"○",{"$f":"IF(F44=A45,\"○\",IF(F44<>E45,\"つなぎまちがい\",\"終端\"))","v":"○"}]
[42,1,10000,{"$f":"AccVelDataLink!A45","v":42},41,-1,null,{"$f":"AccVelDataLink!G45","v":10},{"$f":"IF(E45=A44,\"○\",IF(G45=0,\"つなぎまちがい\",\"先頭\"))","v":"○"},"終端"]
[43,0,6000,{"$f":"AccVelDataLink!A46","v":43},-1,{"$f":"A47","v":44},{"$f":"AccVelDataLink!F46","v":"ISB-MXM-100-20-水平"},{"$f":"AccVelDataLink!G46","v":6},"先頭","○"]
[44,0,7000,{"$f":"AccVelDataLink!A47","v":44},{"$f":"A46","v":43},45,null,{"$f":"AccVelDataLink!G47","v":7},"○","○"]
[45,0,8000,{"$f":"AccVelDataLink!A48","v":45},44,46,null,{"$f":"AccVelDataLink!G48","v":8},"○","○"]
[46,0,9000,{"$f":"AccVelDataLink!A49","v":46},45,47,null,{"$f":"AccVelDataLink!G49","v":9},"○","○"]
[47,0,11000,{"$f":"AccVelDataLink!A50","v":47},46,48,null,{"$f":"AccVelDataLink!G50","v":11},"○","○"]
[48,0,13000,{"$f":"AccVelDataLink!A51","v":48},47,49,null,{"$f":"AccVelDataLink!G51","v":13},"○","○"]
[49,0,15000,{"$f":"AccVelDataLink!A52","v":49},48,50,null,{"$f":"AccVelDataLink!G52","v":15},"○","○"]
[50,0,18000,{"$f":"AccVelDataLink!A53","v":50},49,51,null,{"$f":"AccVelDataLink!G53","v":18},"○","○"]
[51,0,23000,{"$f":"AccVelDataLink!A54","v":51},50,52,null,{"$f":"AccVelDataLink!G54","v":23},"○","○"]
[52,1,{"$f":"H55*$H$1","v":2500},{"$f":"AccVelDataLink!A55","v":52},51,53,{"$f":"AccVelDataLink!F55","v":"ISB-MXM-100-20-垂直"},{"$f":"AccVelDataLink!G55","v":2.5},"○","○"]
[{"$f":"A55+1","v":53},1,2800,{"$f":"AccVelDataLink!A56","v":53},52,54,null,{"$f":"AccVelDataLink!G56","v":2.8},"○","○"]
[54,1,3000,{"$f":"AccVelDataLink!A57","v":54},53,55,null,{"$f":"AccVelDataLink!G57","v":3},"○","○"]
[55,1,3500,{"$f":"AccVelDataLink!A58","v":55},54,56,null,{"$f":"AccVelDataLink!G58","v":3.5},"○","○"]
[56,1,4000,{"$f":"AccVelDataLink!A59","v":56},55,57,null,{"$f":"AccVelDataLink!G59","v":4},"○","○"]
[57,1,4500,{"$f":"AccVelDataLink!A60","v":57},56,58,null,{"$f":"AccVelDataLink!G60","v":4.5},"○",{"$f":"IF(F60=A61,\"○\",IF(F60<>E61,\"つなぎまちがい\",\"終端\"))","v":"○"}]
[58,1,5000,{"$f":"AccVelDataLink!A61","v":58},57,-1,null,{"$f":"AccVelDataLink!G61","v":5},{"$f":"IF(E61=A60,\"○\",IF(G61=0,\"つなぎまちがい\",\"先頭\"))","v":"○"},"終端"]
[{"$f":"A61+1","v":59},0,3000,{"$f":"AccVelDataLink!A62","v":59},-1,{"$f":"A63","v":60},{"$f":"AccVelDataLink!F62","v":"ISB-MXM-100-30-水平"},{"$f":"AccVelDataLink!G62","v":3},"先頭","○"]
[60,0,3500,{"$f":"AccVelDataLink!A63","v":60},{"$f":"A62","v":59},61,null,{"$f":"AccVelDataLink!G63","v":3.5},"○","○"]
[61,0,4000,{"$f":"AccVelDataLink!A64","v":61},60,62,null,{"$f":"AccVelDataLink!G64","v":4},"○","○"]
[62,0,5000,{"$f":"AccVelDataLink!A65","v":62},61,63,null,{"$f":"AccVelDataLink!G65","v":5},"○","○"]
[63,0,6000,{"$f":"AccVelDataLink!A66","v":63},62,64,null,{"$f":"AccVelDataLink!G66","v":6},"○","○"]
[64,0,7000,{"$f":"AccVelDataLink!A67","v":64},63,65,null,{"$f":"AccVelDataLink!G67","v":7},"○","○"]
[65,0,9000,{"$f":"AccVelDataLink!A68","v":65},64,66,null,{"$f":"AccVelDataLink!G68","v":9},"○","○"]
[66,0,11000,{"$f":"AccVelDataLink!A69","v":66},65,67,null,{"$f":"AccVelDataLink!G69","v":11},"○","○"]
[67,0,15000,{"$f":"AccVelDataLink!A70","v":67},66,68,null,{"$f":"AccVelDataLink!G70","v":15},"○","○"]
[68,1,{"$f":"H71*$H$1","v":1000},{"$f":"AccVelDataLink!A71","v":68},67,69,{"$f":"AccVelDataLink!F71","v":"ISB-MXM-100-30-垂直"},{"$f":"AccVelDataLink!G71","v":1},"○","○"]
[{"$f":"A71+1","v":69},1,1100,{"$f":"AccVelDataLink!A72","v":69},68,70,null,{"$f":"AccVelDataLink!G72","v":1.1000000000000001},"○","○"]
[70,1,1200,{"$f":"AccVelDataLink!A73","v":70},69,71,null,{"$f":"AccVelDataLink!G73","v":1.2},"○","○"]
[71,1,1400,{"$f":"AccVelDataLink!A74","v":71},70,72,null,{"$f":"AccVelDataLink!G74","v":1.4},"○","○"]
[72,1,1500,{"$f":"AccVelDataLink!A75","v":72},71,73,null,{"$f":"AccVelDataLink!G75","v":1.5},"○","○"]
[73,1,1700,{"$f":"AccVelDataLink!A76","v":73},72,74,null,{"$f":"AccVelDataLink!G76","v":1.7},"○","○"]
[74,1,1900,{"$f":"AccVelDataLink!A77","v":74},73,75,null,{"$f":"AccVelDataLink!G77","v":1.9},"○","○"]
[75,1,2200,{"$f":"AccVelDataLink!A78","v":75},74,76,null,{"$f":"AccVelDataLink!G78","v":2.2000000000000002},"○",{"$f":"IF(F78=A79,\"○\",IF(F78<>E79,\"つなぎまちがい\",\"終端\"))","v":"○"}]
[76,1,2500,{"$f":"AccVelDataLink!A79","v":76},75,-1,null,{"$f":"AccVelDataLink!G79","v":2.5},{"$f":"IF(E79=A78,\"○\",IF(G79=0,\"つなぎまちがい\",\"先頭\"))","v":"○"},"終端"]
[77,0,80000,{"$f":"AccVelDataLink!A80","v":77},-1,{"$f":"A81","v":78},{"$f":"AccVelDataLink!F80","v":"ISB-MXM-200-5-水平"},{"$f":"AccVelDataLink!G80","v":80},"先頭","○"]
[{"$f":"A80+1","v":78},0,90000,{"$f":"AccVelDataLink!A81","v":78},{"$f":"A80","v":77},79,null,{"$f":"AccVelDataLink!G81","v":90},"○","○"]
[79,0,100000,{"$f":"AccVelDataLink!A82","v":79},78,80,null,{"$f":"AccVelDataLink!G82","v":100},"○","○"]
[80,0,110000,{"$f":"AccVelDataLink!A83","v":80},79,81,null,{"$f":"AccVelDataLink!G83","v":110},"○","○"]
[81,1,30000,{"$f":"AccVelDataLink!A84","v":81},80,82,{"$f":"AccVelDataLink!F84","v":"ISB-MXM-200-5-垂直"},{"$f":"AccVelDataLink!G84","v":30},"○","○"]
[82,1,34000,{"$f":"AccVelDataLink!A85","v":82},81,83,null,{"$f":"AccVelDataLink!G85","v":34},"○",{"$f":"IF(F85=A86,\"○\",IF(F85<>E86,\"つなぎまちがい\",\"終端\"))","v":"○"}]
[83,1,40000,{"$f":"AccVelDataLink!A86","v":83},82,-1,null,{"$f":"AccVelDataLink!G86","v":40},"○","終端"]
[84,0,40000,{"$f":"AccVelDataLink!A87","v":84},-1,{"$f":"A88","v":85},{"$f":"AccVelDataLink!F87","v":"ISB-MXM-200-10-水平"},{"$f":"AccVelDataLink!G87","v":40},{"$f":"IF(E87=A86,\"○\",IF(G87=0,\"つなぎまちがい\",\"先頭\"))","v":"先頭"},"○"]
[85,0,51000,{"$f":"AccVelDataLink!A88","v":85},{"$f":"A87","v":84},86,null,{"$f":"AccVelDataLink!G88","v":51},"○","○"]
[86,0,66000,{"$f":"AccVelDataLink!A89","v":86},85,87,null,{"$f":"AccVelDataLink!G89","v":66},"○","○"]
[87,0,90000,{"$f":"AccVelDataLink!A90","v":87},86,88,null,{"$f":"AccVelDataLink!G90","v":90},"○","○"]
[88,1,{"$f":"H91*$H$1","v":15000},{"$f":"AccVelDataLink!A91","v":88},87,89,{"$f":"AccVelDataLink!F91","v":"ISB-MXM-200-10-垂直"},{"$f":"AccVelDataLink!G91","v":15},"○","○"]
[{"$f":"A91+1","v":89},1,17000,{"$f":"AccVelDataLink!A92","v":89},88,90,null,{"$f":"AccVelDataLink!G92","v":17},"○",{"$f":"IF(F92=A93,\"○\",IF(F92<>E93,\"つなぎまちがい\",\"終端\"))","v":"○"}]
[90,1,20000,{"$f":"AccVelDataLink!A93","v":90},89,-1,null,{"$f":"AccVelDataLink!G93","v":20},{"$f":"IF(E93=A92,\"○\",IF(G93=0,\"つなぎまちがい\",\"先頭\"))","v":"○"},"終端"]
[91,0,12000,{"$f":"AccVelDataLink!A94","v":91},-1,{"$f":"A95","v":92},{"$f":"AccVelDataLink!F94","v":"ISB-MXM-200-20-水平"},{"$f":"AccVelDataLink!G94","v":12},"先頭","○"]
[92,0,13000,{"$f":"AccVelDataLink!A95","v":92},{"$f":"A94","v":91},93,null,{"$f":"AccVelDataLink!G95","v":13},"○","○"]
[93,0,15000,{"$f":"AccVelDataLink!A96","v":93},92,94,null,{"$f":"AccVelDataLink!G96","v":15},"○","○"]
[94,0,17000,{"$f":"AccVelDataLink!A97","v":94},93,95,null,{"$f":"AccVelDataLink!G97","v":17},"○","○"]
[95,0,20000,{"$f":"AccVelDataLink!A98","v":95},94,96,null,{"$f":"AccVelDataLink!G98","v":20},"○","○"]
[96,0,23000,{"$f":"AccVelDataLink!A99","v":96},95,97,null,{"$f":"AccVelDataLink!G99","v":23},"○","○"]
[97,0,28000,{"$f":"AccVelDataLink!A100","v":97},96,98,null,{"$f":"AccVelDataLink!G100","v":28},"○","○"]
[98,0,35000,{"$f":"AccVelDataLink!A101","v":98},97,99,null,{"$f":"AccVelDataLink!G101","v":35},"○","○"]
[99,0,45000,{"$f":"AccVelDataLink!A102","v":99},98,100,null,{"$f":"AccVelDataLink!G102","v":45},"○","○"]
[100,1,{"$f":"H103*$H$1","v":5000},{"$f":"AccVelDataLink!A103","v":100},99,101,{"$f":"AccVelDataLink!F103","v":"ISB-MXM-200-20-垂直"},{"$f":"AccVelDataLink!G103","v":5},"○","○"]
[{"$f":"A103+1","v":101},1,5500,{"$f":"AccVelDataLink!A104","v":101},100,102,null,{"$f":"AccVelDataLink!G104","v":5.5},"○","○"]
[102,1,6000,{"$f":"AccVelDataLink!A105","v":102},101,103,null,{"$f":"AccVelDataLink!G105","v":6},"○","○"]
[103,1,7000,{"$f":"AccVelDataLink!A106","v":103},102,104,null,{"$f":"AccVelDataLink!G106","v":7},"○","○"]
[104,1,7500,{"$f":"AccVelDataLink!A107","v":104},103,105,null,{"$f":"AccVelDataLink!G107","v":7.5},"○","○"]
[105,1,8500,{"$f":"AccVelDataLink!A108","v":105},104,106,null,{"$f":"AccVelDataLink!G108","v":8.5},"○",{"$f":"IF(F108=A109,\"○\",IF(F108<>E109,\"つなぎまちがい\",\"終端\"))","v":"○"}]
[106,1,10000,{"$f":"AccVelDataLink!A109","v":106},105,-1,null,{"$f":"AccVelDataLink!G109","v":10},{"$f":"IF(E109=A108,\"○\",IF(G109=0,\"つなぎまちがい\",\"先頭\"))","v":"○"},"終端"]
[{"$f":"A109+1","v":107},0,9000,{"$f":"AccVelDataLink!A110","v":107},-1,{"$f":"A111","v":108},{"$f":"AccVelDataLink!F110","v":"ISB-MXM-200-30-水平"},{"$f":"AccVelDataLink!G110","v":9},"先頭","○"]
[108,0,10000,{"$f":"AccVelDataLink!A111","v":108},{"$f":"A110","v":107},109,null,{"$f":"AccVelDataLink!G111","v":10},"○","○"]
[109,0,12000,{"$f":"AccVelDataLink!A112","v":109},108,110,null,{"$f":"AccVelDataLink!G112","v":12},"○","○"]
[110,0,13000,{"$f":"AccVelDataLink!A113","v":110},109,111,null,{"$f":"AccVelDataLink!G113","v":13},"○","○"]
[111,0,15000,{"$f":"AccVelDataLink!A114","v":111},110,112,null,{"$f":"AccVelDataLink!G114","v":15},"○","○"]
[112,0,17000,{"$f":"AccVelDataLink!A115","v":112},111,113,null,{"$f":"AccVelDataLink!G115","v":17},"○","○"]
[113,0,20000,{"$f":"AccVelDataLink!A116","v":113},112,114,null,{"$f":"AccVelDataLink!G116","v":20},"○","○"]
[114,0,24000,{"$f":"AccVelDataLink!A117","v":114},113,115,null,{"$f":"AccVelDataLink!G117","v":24},"○","○"]
[115,0,30000,{"$f":"AccVelDataLink!A118","v":115},114,116,null,{"$f":"AccVelDataLink!G118","v":30},"○","○"]
[116,1,{"$f":"H119*$H$1","v":2000},{"$f":"AccVelDataLink!A119","v":116},115,117,{"$f":"AccVelDataLink!F119","v":"ISB-MXM-200-30-垂直"},{"$f":"AccVelDataLink!G119","v":2},"○","○"]
[{"$f":"A119+1","v":117},1,2500,{"$f":"AccVelDataLink!A120","v":117},116,118,null,{"$f":"AccVelDataLink!G120","v":2.5},"○","○"]
[118,1,3000,{"$f":"AccVelDataLink!A121","v":118},117,119,null,{"$f":"AccVelDataLink!G121","v":3},"○","○"]
[119,1,3500,{"$f":"AccVelDataLink!A122","v":119},118,120,null,{"$f":"AccVelDataLink!G122","v":3.5},"○","○"]
[120,1,4000,{"$f":"AccVelDataLink!A123","v":120},119,121,null,{"$f":"AccVelDataLink!G123","v":4},"○","○"]
[121,1,4500,{"$f":"AccVelDataLink!A124","v":121},120,122,null,{"$f":"AccVelDataLink!G124","v":4.5},"○","○"]
[122,1,5000,{"$f":"AccVelDataLink!A125","v":122},121,123,null,{"$f":"AccVelDataLink!G125","v":5},"○","○"]
[123,1,5500,{"$f":"AccVelDataLink!A126","v":123},122,124,null,{"$f":"AccVelDataLink!G126","v":5.5},"○","○"]
[124,1,6000,{"$f":"AccVelDataLink!A127","v":124},123,-1,null,{"$f":"AccVelDataLink!G127","v":6},{"$f":"IF(E127=A126,\"○\",IF(G127=0,\"つなぎまちがい\",\"先頭\"))","v":"○"},{"$f":"IF(F127=A128,\"○\",IF(F127<>E128,\"つなぎまちがい\",\"終端\"))","v":"終端"}]
[125,0,40000,{"$f":"AccVelDataLink!A128","v":125},-1,{"$f":"A129","v":126},{"$f":"AccVelDataLink!F128","v":"ISB-LXM-200-10-水平"},{"$f":"AccVelDataLink!G128","v":40},"先頭","○"]
[{"$f":"A128+1","v":126},0,51000,{"$f":"AccVelDataLink!A129","v":126},{"$f":"A128","v":125},127,null,{"$f":"AccVelDataLink!G129","v":51},"○","○"]
[127,0,66000,{"$f":"AccVelDataLink!A130","v":127},126,128,null,{"$f":"AccVelDataLink!G130","v":66},"○","○"]
[128,0,90000,{"$f":"AccVelDataLink!A131","v":128},127,129,null,{"$f":"AccVelDataLink!G131","v":90},"○","○"]
[129,1,14000,{"$f":"AccVelDataLink!A132","v":129},128,130,{"$f":"AccVelDataLink!F132","v":"ISB-LXM-200-10-垂直"},{"$f":"AccVelDataLink!G132","v":14},"○","○"]
[130,1,16000,{"$f":"AccVelDataLink!A133","v":130},129,131,null,{"$f":"AccVelDataLink!G133","v":16},"○",{"$f":"IF(F133=A134,\"○\",IF(F133<>E134,\"つなぎまちがい\",\"終端\"))","v":"○"}]
[131,1,20000,{"$f":"AccVelDataLink!A134","v":131},130,-1,null,{"$f":"AccVelDataLink!G134","v":20},{"$f":"IF(E134=A133,\"○\",IF(G134=0,\"つなぎまちがい\",\"先頭\"))","v":"○"},"終端"]
[132,0,12000,{"$f":"AccVelDataLink!A135","v":132},-1,{"$f":"A136","v":133},{"$f":"AccVelDataLink!F135","v":"ISB-LXM-200-20-水平"},{"$f":"AccVelDataLink!G135","v":12},"先頭","○"]
[133,0,13000,{"$f":"AccVelDataLink!A136","v":133},{"$f":"A135","v":132},134,null,{"$f":"AccVelDataLink!G136","v":13},"○","○"]
[134,0,15000,{"$f":"AccVelDataLink!A137","v":134},133,135,null,{"$f":"AccVelDataLink!G137","v":15},"○","○"]
[135,0,17000,{"$f":"AccVelDataLink!A138","v":135},134,136,null,{"$f":"AccVelDataLink!G138","v":17},"○","○"]
[{"$f":"A138+1","v":136},0,{"$f":"H139*$H$1","v":20000},{"$f":"AccVelDataLink!A139","v":136},135,137,null,{"$f":"AccVelDataLink!G139","v":20},"○","○"]
[137,0,23000,{"$f":"AccVelDataLink!A140","v":137},136,138,null,{"$f":"AccVelDataLink!G140","v":23},"○","○"]
[138,0,28000,{"$f":"AccVelDataLink!A141","v":138},137,139,null,{"$f":"AccVelDataLink!G141","v":28},"○","○"]
[139,0,35000,{"$f":"AccVelDataLink!A142","v":139},138,140,null,{"$f":"AccVelDataLink!G142","v":35},"○","○"]
[{"$f":"A142+1","v":140},0,45000,{"$f":"AccVelDataLink!A143","v":140},139,141,null,{"$f":"AccVelDataLink!G143","v":45},"○","○"]
[{"$f":"A143+1","v":141},1,5000,{"$f":"AccVelDataLink!A144","v":141},140,142,{"$f":"AccVelDataLink!F144","v":"ISB-LXM-200-20-垂直"},{"$f":"AccVelDataLink!G144","v":5},"○","○"]
[142,1,5500,{"$f":"AccVelDataLink!A145","v":142},141,143,null,{"$f":"AccVelDataLink!G145","v":5.5},"○","○"]
[143,1,6000,{"$f":"AccVelDataLink!A146","v":143},142,144,null,{"$f":"AccVelDataLink!G146","v":6},"○","○"]
[144,1,7000,{"$f":"AccVelDataLink!A147","v":144},143,145,null,{"$f":"AccVelDataLink!G147","v":7},"○","○"]
[145,1,7500,{"$f":"AccVelDataLink!A148","v":145},144,146,null,{"$f":"AccVelDataLink!G148","v":7.5},"○","○"]
[146,1,8500,{"$f":"AccVelDataLink!A149","v":146},145,147,null,{"$f":"AccVelDataLink!G149","v":8.5},"○",{"$f":"IF(F149=A150,\"○\",IF(F149<>E150,\"つなぎまちがい\",\"終端\"))","v":"○"}]
[147,1,10000,{"$f":"AccVelDataLink!A150","v":147},146,-1,null,{"$f":"AccVelDataLink!G150","v":10},{"$f":"IF(E150=A149,\"○\",IF(G150=0,\"つなぎまちがい\",\"先頭\"))","v":"○"},"終端"]
[{"$f":"A150+1","v":148},0,6000,{"$f":"AccVelDataLink!A151","v":148},-1,{"$f":"A152","v":149},{"$f":"AccVelDataLink!F151","v":"ISB-LXM-200-40-水平"},{"$f":"AccVelDataLink!G151","v":6},"先頭","○"]
[{"$f":"A151+1","v":149},0,6500,{"$f":"AccVelDataLink!A152","v":149},{"$f":"A151","v":148},150,null,{"$f":"AccVelDataLink!G152","v":6.5},"○","○"]
[150,0,7000,{"$f":"AccVelDataLink!A153","v":150},149,151,null,{"$f":"AccVelDataLink!G153","v":7},"○","○"]
[151,0,7500,{"$f":"AccVelDataLink!A154","v":151},150,152,null,{"$f":"AccVelDataLink!G154","v":7.5},"○","○"]
[152,0,8000,{"$f":"AccVelDataLink!A155","v":152},151,153,null,{"$f":"AccVelDataLink!G155","v":8},"○","○"]
[153,0,9000,{"$f":"AccVelDataLink!A156","v":153},152,154,null,{"$f":"AccVelDataLink!G156","v":9},"○","○"]
[154,0,10500,{"$f":"AccVelDataLink!A157","v":154},153,155,null,{"$f":"AccVelDataLink!G157","v":10.5},"○","○"]
[155,0,12000,{"$f":"AccVelDataLink!A158","v":155},154,156,null,{"$f":"AccVelDataLink!G158","v":12},"○","○"]
[{"$f":"A158+1","v":156},0,15000,{"$f":"AccVelDataLink!A159","v":156},155,157,null,{"$f":"AccVelDataLink!G159","v":15},"○","○"]
[{"$f":"A159+1","v":157},1,{"$f":"H160*$H$1","v":1600},{"$f":"AccVelDataLink!A160","v":157},156,158,{"$f":"AccVelDataLink!F160","v":"ISB-LXM-200-40-垂直"},{"$f":"AccVelDataLink!G160","v":1.6},"○","○"]
[{"$f":"A160+1","v":158},1,1800,{"$f":"AccVelDataLink!A161","v":158},157,159,null,{"$f":"AccVelDataLink!G161","v":1.8},"○","○"]
[159,1,2000,{"$f":"AccVelDataLink!A162","v":159},158,160,null,{"$f":"AccVelDataLink!G162","v":2},"○","○"]
[160,1,2200,{"$f":"AccVelDataLink!A163","v":160},159,161,null,{"$f":"AccVelDataLink!G163","v":2.2000000000000002},"○","○"]
[161,1,2500,{"$f":"AccVelDataLink!A164","v":161},160,162,null,{"$f":"AccVelDataLink!G164","v":2.5},"○","○"]
[162,1,2800,{"$f":"AccVelDataLink!A165","v":162},161,163,null,{"$f":"AccVelDataLink!G165","v":2.8},"○","○"]
[163,1,3100,{"$f":"AccVelDataLink!A166","v":163},162,164,null,{"$f":"AccVelDataLink!G166","v":3.1},"○","○"]
[164,1,3500,{"$f":"AccVelDataLink!A167","v":164},163,165,null,{"$f":"AccVelDataLink!G167","v":3.5},"○","○"]
[165,1,4000,{"$f":"AccVelDataLink!A168","v":165},164,-1,null,{"$f":"AccVelDataLink!G168","v":4},{"$f":"IF(E168=A167,\"○\",IF(G168=0,\"つなぎまちがい\",\"先頭\"))","v":"○"},{"$f":"IF(F168=A169,\"○\",IF(F168<>E169,\"つなぎまちがい\",\"終端\"))","v":"終端"}]
[166,0,60000,{"$f":"AccVelDataLink!A169","v":166},-1,{"$f":"A170","v":167},{"$f":"AccVelDataLink!F169","v":"ISB-LXM-400-10-水平"},{"$f":"AccVelDataLink!G169","v":60},"先頭","○"]
[167,0,73000,{"$f":"AccVelDataLink!A170","v":167},{"$f":"A169","v":166},168,null,{"$f":"AccVelDataLink!G170","v":73},"○","○"]
[168,0,92000,{"$f":"AccVelDataLink!A171","v":168},167,169,null,{"$f":"AccVelDataLink!G171","v":92},"○","○"]
[{"$f":"A171+1","v":169},0,120000,{"$f":"AccVelDataLink!A172","v":169},168,170,null,{"$f":"AccVelDataLink!G172","v":120},"○","○"]
[{"$f":"A172+1","v":170},1,30000,{"$f":"AccVelDataLink!A173","v":170},169,171,{"$f":"AccVelDataLink!F173","v":"ISB-LXM-400-10-垂直"},{"$f":"AccVelDataLink!G173","v":30},"○","○"]
[171,1,34000,{"$f":"AccVelDataLink!A174","v":171},170,172,null,{"$f":"AccVelDataLink!G174","v":34},"○",{"$f":"IF(F174=A175,\"○\",IF(F174<>E175,\"つなぎまちがい\",\"終端\"))","v":"○"}]
[172,1,40000,{"$f":"AccVelDataLink!A175","v":172},171,-1,null,{"$f":"AccVelDataLink!G175","v":40},{"$f":"IF(E175=A174,\"○\",IF(G175=0,\"つなぎまちがい\",\"先頭\"))","v":"○"},"終端"]
[{"$f":"A175+1","v":173},0,24000,{"$f":"AccVelDataLink!A176","v":173},-1,{"$f":"A177","v":174},{"$f":"AccVelDataLink!F176","v":"ISB-LXM-400-20-水平"},{"$f":"AccVelDataLink!G176","v":24},"先頭","○"]
[{"$f":"A176+1","v":174},0,27000,{"$f":"AccVelDataLink!A177","v":174},{"$f":"A176","v":173},175,null,{"$f":"AccVelDataLink!G177","v":27},"○","○"]
[175,0,30000,{"$f":"AccVelDataLink!A178","v":175},174,176,null,{"$f":"AccVelDataLink!G178","v":30},"○","○"]
[176,0,35000,{"$f":"AccVelDataLink!A179","v":176},175,177,null,{"$f":"AccVelDataLink!G179","v":35},"○","○"]
[177,0,40000,{"$f":"AccVelDataLink!A180","v":177},176,178,null,{"$f":"AccVelDataLink!G180","v":40},"○","○"]
[178,0,47000,{"$f":"AccVelDataLink!A181","v":178},177,179,null,{"$f":"AccVelDataLink!G181","v":47},"○","○"]
[{"$f":"A181+1","v":179},0,{"$f":"H182*$H$1","v":57000},{"$f":"AccVelDataLink!A182","v":179},178,180,null,{"$f":"AccVelDataLink!G182","v":57},"○","○"]
[180,0,70000,{"$f":"AccVelDataLink!A183","v":180},179,181,null,{"$f":"AccVelDataLink!G183","v":70},"○","○"]
[{"$f":"A183+1","v":181},0,90000,{"$f":"AccVelDataLink!A184","v":181},180,182,null,{"$f":"AccVelDataLink!G184","v":90},"○","○"]
[{"$f":"A184+1","v":182},1,10000,{"$f":"AccVelDataLink!A185","v":182},181,183,{"$f":"AccVelDataLink!F185","v":"ISB-LXM-400-20-垂直"},{"$f":"AccVelDataLink!G185","v":10},"○","○"]
[183,1,11000,{"$f":"AccVelDataLink!A186","v":183},182,184,null,{"$f":"AccVelDataLink!G186","v":11},"○","○"]
[184,1,12000,{"$f":"AccVelDataLink!A187","v":184},183,185,null,{"$f":"AccVelDataLink!G187","v":12},"○","○"]
[185,1,14000,{"$f":"AccVelDataLink!A188","v":185},184,186,null,{"$f":"AccVelDataLink!G188","v":14},"○","○"]
[186,1,15000,{"$f":"AccVelDataLink!A189","v":186},185,187,null,{"$f":"AccVelDataLink!G189","v":15},"○","○"]
[187,1,17000,{"$f":"AccVelDataLink!A190","v":187},186,188,null,{"$f":"AccVelDataLink!G190","v":17},{"$f":"IF(E190=A189,\"○\",IF(G190=0,\"つなぎまちがい\",\"先頭\"))","v":"○"},{"$f":"IF(F190=A191,\"○\",IF(F190<>E191,\"つなぎまちがい\",\"終端\"))","v":"○"}]
[188,1,20000,{"$f":"AccVelDataLink!A191","v":188},187,-1,null,{"$f":"AccVelDataLink!G191","v":20},"○","終端"]
[{"$f":"A191+1","v":189},0,15000,{"$f":"AccVelDataLink!A192","v":189},-1,{"$f":"A193","v":190},{"$f":"AccVelDataLink!F192","v":"ISB-LXM-400-40-水平"},{"$f":"AccVelDataLink!G192","v":15},"先頭","○"]
[{"$f":"A192+1","v":190},0,16000,{"$f":"AccVelDataLink!A193","v":190},{"$f":"A192","v":189},191,null,{"$f":"AccVelDataLink!G193","v":16},"○","○"]
[191,0,17000,{"$f":"AccVelDataLink!A194","v":191},190,192,null,{"$f":"AccVelDataLink!G194","v":17},"○","○"]
[192,0,19000,{"$f":"AccVelDataLink!A195","v":192},191,193,null,{"$f":"AccVelDataLink!G195","v":19},"○","○"]
[193,0,21000,{"$f":"AccVelDataLink!A196","v":193},192,194,null,{"$f":"AccVelDataLink!G196","v":21},"○","○"]
[194,0,23000,{"$f":"AccVelDataLink!A197","v":194},193,195,null,{"$f":"AccVelDataLink!G197","v":23},"○","○"]
[195,0,27000,{"$f":"AccVelDataLink!A198","v":195},194,196,null,{"$f":"AccVelDataLink!G198","v":27},"○","○"]
[196,0,32000,{"$f":"AccVelDataLink!A199","v":196},195,197,null,{"$f":"AccVelDataLink!G199","v":32},"○","○"]
[{"$f":"A199+1","v":197},0,40000,{"$f":"AccVelDataLink!A200","v":197},196,198,null,{"$f":"AccVelDataLink!G200","v":40},"○","○"]
[{"$f":"A200+1","v":198},1,{"$f":"H201*$H$1","v":4000},{"$f":"AccVelDataLink!A201","v":198},197,199,{"$f":"AccVelDataLink!F201","v":"ISB-LXM-400-40-垂直"},{"$f":"AccVelDataLink!G201","v":4},"○","○"]
[{"$f":"A201+1","v":199},1,4500,{"$f":"AccVelDataLink!A202","v":199},198,200,null,{"$f":"AccVelDataLink!G202","v":4.5},"○","○"]
[200,1,5000,{"$f":"AccVelDataLink!A203","v":200},199,201,null,{"$f":"AccVelDataLink!G203","v":5},"○","○"]
[201,1,5500,{"$f":"AccVelDataLink!A204","v":201},200,202,null,{"$f":"AccVelDataLink!G204","v":5.5},"○","○"]
[202,1,6000,{"$f":"AccVelDataLink!A205","v":202},201,203,null,{"$f":"AccVelDataLink!G205","v":6},"○","○"]
[203,1,7000,{"$f":"AccVelDataLink!A206","v":203},202,204,null,{"$f":"AccVelDataLink!G206","v":7},"○","○"]
[204,1,7500,{"$f":"AccVelDataLink!A207","v":204},203,205,null,{"$f":"AccVelDataLink!G207","v":7.5},"○","○"]
[205,1,8500,{"$f":"AccVelDataLink!A208","v":205},204,206,null,{"$f":"AccVelDataLink!G208","v":8.5},"○","○"]
[206,1,10000,{"$f":"AccVelDataLink!A209","v":206},205,-1,null,{"$f":"AccVelDataLink!G209","v":10},{"$f":"IF(E209=A208,\"○\",IF(G209=0,\"つなぎまちがい\",\"先頭\"))","v":"○"},{"$f":"IF(F209=A210,\"○\",IF(F209<>E210,\"つなぎまちがい\",\"終端\"))","v":"終端"}]
[207,0,30000,{"$f":"AccVelDataLink!A210","v":207},-1,{"$f":"A211","v":208},{"$f":"AccVelDataLink!F210","v":"ISB-SXL-60-4-水平"},{"$f":"AccVelDataLink!G210","v":30},"先頭","○"]
[208,0,38000,{"$f":"AccVelDataLink!A211","v":208},{"$f":"A210","v":207},209,null,{"$f":"AccVelDataLink!G211","v":38},"○","○"]
[209,0,50000,{"$f":"AccVelDataLink!A212","v":209},208,210,null,{"$f":"AccVelDataLink!G212","v":50},"○","○"]
[{"$f":"A212+1","v":210},0,55000,{"$f":"AccVelDataLink!A213","v":210},209,211,null,{"$f":"AccVelDataLink!G213","v":55},"○","○"]
[{"$f":"A213+1","v":211},1,12000,{"$f":"AccVelDataLink!A214","v":211},210,212,{"$f":"AccVelDataLink!F214","v":"ISB-SXL-60-4-垂直"},{"$f":"AccVelDataLink!G214","v":12},"○","○"]
[212,1,13000,{"$f":"AccVelDataLink!A215","v":212},211,213,null,{"$f":"AccVelDataLink!G215","v":13},"○",{"$f":"IF(F215=A216,\"○\",IF(F215<>E216,\"つなぎまちがい\",\"終端\"))","v":"○"}]
[213,1,14000,{"$f":"AccVelDataLink!A216","v":213},212,-1,null,{"$f":"AccVelDataLink!G216","v":14},{"$f":"IF(E216=A215,\"○\",IF(G216=0,\"つなぎまちがい\",\"先頭\"))","v":"○"},"終端"]
[{"$f":"A216+1","v":214},0,12000,{"$f":"AccVelDataLink!A217","v":214},-1,{"$f":"A218","v":215},{"$f":"AccVelDataLink!F217","v":"ISB-SXL-60-8-水平"},{"$f":"AccVelDataLink!G217","v":12},"先頭","○"]
[{"$f":"A217+1","v":215},0,15000,{"$f":"AccVelDataLink!A218","v":215},{"$f":"A217","v":214},216,null,{"$f":"AccVelDataLink!G218","v":15},"○","○"]
[216,0,20000,{"$f":"AccVelDataLink!A219","v":216},215,217,null,{"$f":"AccVelDataLink!G219","v":20},"○","○"]
[{"$f":"A219+1","v":217},0,27000,{"$f":"AccVelDataLink!A220","v":217},216,218,null,{"$f":"AccVelDataLink!G220","v":27},"○","○"]
[{"$f":"A220+1","v":218},1,5000,{"$f":"AccVelDataLink!A221","v":218},217,219,{"$f":"AccVelDataLink!F221","v":"ISB-SXL-60-8-垂直"},{"$f":"AccVelDataLink!G221","v":5},"○","○"]
[219,1,6000,{"$f":"AccVelDataLink!A222","v":219},218,220,null,{"$f":"AccVelDataLink!G222","v":6},"○",{"$f":"IF(F222=A223,\"○\",IF(F222<>E223,\"つなぎまちがい\",\"終端\"))","v":"○"}]
[220,1,7000,{"$f":"AccVelDataLink!A223","v":220},219,-1,null,{"$f":"AccVelDataLink!G223","v":7},{"$f":"IF(E223=A222,\"○\",IF(G223=0,\"つなぎまちがい\",\"先頭\"))","v":"○"},"終端"]
[{"$f":"A223+1","v":221},0,{"$f":"H224*$H$1","v":3500},{"$f":"AccVelDataLink!A224","v":221},-1,{"$f":"A225","v":222},{"$f":"AccVelDataLink!F224","v":"ISB-SXL-60-16-水平"},{"$f":"AccVelDataLink!G224","v":3.5},"先頭","○"]
[{"$f":"A224+1","v":222},0,4000,{"$f":"AccVelDataLink!A225","v":222},{"$f":"A224","v":221},223,null,{"$f":"AccVelDataLink!G225","v":4},"○","○"]
[{"$f":"A225+1","v":223},0,4500,{"$f":"AccVelDataLink!A226","v":223},222,224,null,{"$f":"AccVelDataLink!G226","v":4.5},"○","○"]
[224,0,5500,{"$f":"AccVelDataLink!A227","v":224},223,225,null,{"$f":"AccVelDataLink!G227","v":5.5},"○","○"]
[225,0,6000,{"$f":"AccVelDataLink!A228","v":225},224,226,null,{"$f":"AccVelDataLink!G228","v":6},"○","○"]
[226,0,7000,{"$f":"AccVelDataLink!A229","v":226},225,227,null,{"$f":"AccVelDataLink!G229","v":7},"○","○"]
[227,0,8500,{"$f":"AccVelDataLink!A230","v":227},226,228,null,{"$f":"AccVelDataLink!G230","v":8.5},"○","○"]
[228,0,10500,{"$f":"AccVelDataLink!A231","v":228},227,229,null,{"$f":"AccVelDataLink!G231","v":10.5},"○","○"]
[{"$f":"A231+1","v":229},0,13000,{"$f":"AccVelDataLink!A232","v":229},228,230,null,{"$f":"AccVelDataLink!G232","v":13},"○","○"]
[{"$f":"A232+1","v":230},1,2000,{"$f":"AccVelDataLink!A233","v":230},229,231,{"$f":"AccVelDataLink!F233","v":"ISB-SXL-60-16-垂直"},{"$f":"AccVelDataLink!G233","v":2},"○","○"]
[231,1,2300,{"$f":"AccVelDataLink!A234","v":231},230,232,null,{"$f":"AccVelDataLink!G234","v":2.2999999999999998},"○","○"]
[232,1,2600,{"$f":"AccVelDataLink!A235","v":232},231,233,null,{"$f":"AccVelDataLink!G235","v":2.6},"○","○"]
[233,1,3000,{"$f":"AccVelDataLink!A236","v":233},232,234,null,{"$f":"AccVelDataLink!G236","v":3},"○","○"]
[234,1,3500,{"$f":"AccVelDataLink!A237","v":234},233,-1,null,{"$f":"AccVelDataLink!G237","v":3.5},"○",{"$f":"IF(F237=A238,\"○\",IF(F237<>E238,\"つなぎまちがい\",\"終端\"))","v":"終端"}]
[235,0,45000,{"$f":"AccVelDataLink!A238","v":235},-1,{"$f":"A239","v":236},{"$f":"AccVelDataLink!F238","v":"ISB-MXL-100-5-水平"},{"$f":"AccVelDataLink!G238","v":45},{"$f":"IF(E238=A237,\"○\",IF(G238=0,\"つなぎまちがい\",\"先頭\"))","v":"先頭"},"○"]
[236,0,60000,{"$f":"AccVelDataLink!A239","v":236},{"$f":"A238","v":235},237,null,{"$f":"AccVelDataLink!G239","v":60},"○","○"]
[237,0,80000,{"$f":"AccVelDataLink!A240","v":237},236,238,null,{"$f":"AccVelDataLink!G240","v":80},"○","○"]
[{"$f":"A240+1","v":238},0,85000,{"$f":"AccVelDataLink!A241","v":238},237,239,null,{"$f":"AccVelDataLink!G241","v":85},"○","○"]
[{"$f":"A241+1","v":239},1,15000,{"$f":"AccVelDataLink!A242","v":239},238,240,{"$f":"AccVelDataLink!F242","v":"ISB-MXL-100-5-垂直"},{"$f":"AccVelDataLink!G242","v":15},"○","○"]
[240,1,17000,{"$f":"AccVelDataLink!A243","v":240},239,241,null,{"$f":"AccVelDataLink!G243","v":17},"○","○"]
[241,1,20000,{"$f":"AccVelDataLink!A244","v":241},240,-1,null,{"$f":"AccVelDataLink!G244","v":20},"○",{"$f":"IF(F244=A245,\"○\",IF(F244<>E245,\"つなぎまちがい\",\"終端\"))","v":"終端"}]
[242,0,20000,{"$f":"AccVelDataLink!A245","v":242},-1,{"$f":"A246","v":243},{"$f":"AccVelDataLink!F245","v":"ISB-MXL-100-10-水平"},{"$f":"AccVelDataLink!G245","v":20},{"$f":"IF(E245=A244,\"○\",IF(G245=0,\"つなぎまちがい\",\"先頭\"))","v":"先頭"},"○"]
[243,0,23000,{"$f":"AccVelDataLink!A246","v":243},{"$f":"A245","v":242},244,null,{"$f":"AccVelDataLink!G246","v":23},"○","○"]
[244,0,30000,{"$f":"AccVelDataLink!A247","v":244},243,245,null,{"$f":"AccVelDataLink!G247","v":30},"○","○"]
[{"$f":"A247+1","v":245},0,45000,{"$f":"AccVelDataLink!A248","v":245},244,246,null,{"$f":"AccVelDataLink!G248","v":45},"○","○"]
[{"$f":"A248+1","v":246},1,7000,{"$f":"AccVelDataLink!A249","v":246},245,247,{"$f":"AccVelDataLink!F249","v":"ISB-MXL-100-10-垂直"},{"$f":"AccVelDataLink!G249","v":7},"○","○"]
[247,1,8000,{"$f":"AccVelDataLink!A250","v":247},246,248,null,{"$f":"AccVelDataLink!G250","v":8},"○",{"$f":"IF(F250=A251,\"○\",IF(F250<>E251,\"つなぎまちがい\",\"終端\"))","v":"○"}]
[248,1,10000,{"$f":"AccVelDataLink!A251","v":248},247,-1,null,{"$f":"AccVelDataLink!G251","v":10},{"$f":"IF(E251=A250,\"○\",IF(G251=0,\"つなぎまちがい\",\"先頭\"))","v":"○"},"終端"]
[{"$f":"A251+1","v":249},0,6000,{"$f":"AccVelDataLink!A252","v":249},-1,{"$f":"A253","v":250},{"$f":"AccVelDataLink!F252","v":"ISB-MXL-100-20-水平"},{"$f":"AccVelDataLink!G252","v":6},"先頭","○"]
[{"$f":"A252+1","v":250},0,7000,{"$f":"AccVelDataLink!A253","v":250},{"$f":"A252","v":249},251,null,{"$f":"AccVelDataLink!G253","v":7},"○","○"]
[251,0,8000,{"$f":"AccVelDataLink!A254","v":251},250,252,null,{"$f":"AccVelDataLink!G254","v":8},"○","○"]
[252,0,9000,{"$f":"AccVelDataLink!A255","v":252},251,253,null,{"$f":"AccVelDataLink!G255","v":9},"○","○"]
[253,0,11000,{"$f":"AccVelDataLink!A256","v":253},252,254,null,{"$f":"AccVelDataLink!G256","v":11},"○","○"]
[254,0,13000,{"$f":"AccVelDataLink!A257","v":254},253,255,null,{"$f":"AccVelDataLink!G257","v":13},"○","○"]
[255,0,15000,{"$f":"AccVelDataLink!A258","v":255},254,256,null,{"$f":"AccVelDataLink!G258","v":15},"○","○"]
[256,0,18000,{"$f":"AccVelDataLink!A259","v":256},255,257,null,{"$f":"AccVelDataLink!G259","v":18},"○","○"]
[{"$f":"A259+1","v":257},0,{"$f":"H260*$H$1","v":23000},{"$f":"AccVelDataLink!A260","v":257},256,258,null,{"$f":"AccVelDataLink!G260","v":23},"○","○"]
[{"$f":"A260+1","v":258},1,{"$f":"H261*$H$1","v":2500},{"$f":"AccVelDataLink!A261","v":258},257,259,{"$f":"AccVelDataLink!F261","v":"ISB-MXL-100-20-垂直"},{"$f":"AccVelDataLink!G261","v":2.5},"○","○"]
[{"$f":"A261+1","v":259},1,2800,{"$f":"AccVelDataLink!A262","v":259},258,260,null,{"$f":"AccVelDataLink!G262","v":2.8},"○","○"]
[260,1,3000,{"$f":"AccVelDataLink!A263","v":260},259,261,null,{"$f":"AccVelDataLink!G263","v":3},"○","○"]
[261,1,3500,{"$f":"AccVelDataLink!A264","v":261},260,262,null,{"$f":"AccVelDataLink!G264","v":3.5},"○","○"]
[262,1,4000,{"$f":"AccVelDataLink!A265","v":262},261,263,null,{"$f":"AccVelDataLink!G265","v":4},"○","○"]
[263,1,4500,{"$f":"AccVelDataLink!A266","v":263},262,264,null,{"$f":"AccVelDataLink!G266","v":4.5},"○",{"$f":"IF(F266=A267,\"○\",IF(F266<>E267,\"つなぎまちがい\",\"終端\"))","v":"○"}]
[264,1,5000,{"$f":"AccVelDataLink!A267","v":264},263,-1,null,{"$f":"AccVelDataLink!G267","v":5},{"$f":"IF(E267=A266,\"○\",IF(G267=0,\"つなぎまちがい\",\"先頭\"))","v":"○"},"終端"]
[{"$f":"A267+1","v":265},0,3000,{"$f":"AccVelDataLink!A268","v":265},-1,{"$f":"A269","v":266},{"$f":"AccVelDataLink!F268","v":"ISB-MXL-100-30-水平"},{"$f":"AccVelDataLink!G268","v":3},"先頭","○"]
[{"$f":"A268+1","v":266},0,3500,{"$f":"AccVelDataLink!A269","v":266},{"$f":"A268","v":265},267,null,{"$f":"AccVelDataLink!G269","v":3.5},"○","○"]
[{"$f":"A269+1","v":267},0,4000,{"$f":"AccVelDataLink!A270","v":267},266,268,null,{"$f":"AccVelDataLink!G270","v":4},"○","○"]
[268,0,5000,{"$f":"AccVelDataLink!A271","v":268},267,269,null,{"$f":"AccVelDataLink!G271","v":5},"○","○"]
[269,0,6000,{"$f":"AccVelDataLink!A272","v":269},268,270,null,{"$f":"AccVelDataLink!G272","v":6},"○","○"]
[270,0,7000,{"$f":"AccVelDataLink!A273","v":270},269,271,null,{"$f":"AccVelDataLink!G273","v":7},"○","○"]
[271,0,9000,{"$f":"AccVelDataLink!A274","v":271},270,272,null,{"$f":"AccVelDataLink!G274","v":9},"○","○"]
[272,0,11000,{"$f":"AccVelDataLink!A275","v":272},271,273,null,{"$f":"AccVelDataLink!G275","v":11},"○","○"]
[{"$f":"A275+1","v":273},0,15000,{"$f":"AccVelDataLink!A276","v":273},272,274,null,{"$f":"AccVelDataLink!G276","v":15},"○","○"]
[{"$f":"A276+1","v":274},1,{"$f":"H277*$H$1","v":1000},{"$f":"AccVelDataLink!A277","v":274},273,275,{"$f":"AccVelDataLink!F277","v":"ISB-MXL-100-30-垂直"},{"$f":"AccVelDataLink!G277","v":1},"○","○"]
[{"$f":"A277+1","v":275},1,1100,{"$f":"AccVelDataLink!A278","v":275},274,276,null,{"$f":"AccVelDataLink!G278","v":1.1000000000000001},"○","○"]
[276,1,1200,{"$f":"AccVelDataLink!A279","v":276},275,277,null,{"$f":"AccVelDataLink!G279","v":1.2},"○","○"]
[277,1,1400,{"$f":"AccVelDataLink!A280","v":277},276,278,null,{"$f":"AccVelDataLink!G280","v":1.4},"○","○"]
[278,1,1500,{"$f":"AccVelDataLink!A281","v":278},277,279,null,{"$f":"AccVelDataLink!G281","v":1.5},"○","○"]
[279,1,1700,{"$f":"AccVelDataLink!A282","v":279},278,280,null,{"$f":"AccVelDataLink!G282","v":1.7},"○","○"]
[280,1,1900,{"$f":"AccVelDataLink!A283","v":280},279,281,null,{"$f":"AccVelDataLink!G283","v":1.9},"○","○"]
[281,1,2200,{"$f":"AccVelDataLink!A284","v":281},280,282,null,{"$f":"AccVelDataLink!G284","v":2.2000000000000002},"○","○"]
[282,1,2500,{"$f":"AccVelDataLink!A285","v":282},281,-1,null,{"$f":"AccVelDataLink!G285","v":2.5},"○","終端"]
[283,0,80000,{"$f":"AccVelDataLink!A286","v":283},-1,{"$f":"A287","v":284},{"$f":"AccVelDataLink!F286","v":"ISB-MXL-200-5-水平"},{"$f":"AccVelDataLink!G286","v":80},{"$f":"IF(E286=A285,\"○\",IF(G286=0,\"つなぎまちがい\",\"先頭\"))","v":"先頭"},{"$f":"IF(F286=A287,\"○\",IF(F286<>E287,\"つなぎまちがい\",\"終端\"))","v":"○"}]
[284,0,90000,{"$f":"AccVelDataLink!A287","v":284},{"$f":"A286","v":283},285,null,{"$f":"AccVelDataLink!G287","v":90},"○","○"]
[285,0,100000,{"$f":"AccVelDataLink!A288","v":285},284,286,null,{"$f":"AccVelDataLink!G288","v":100},"○","○"]
[{"$f":"A288+1","v":286},0,110000,{"$f":"AccVelDataLink!A289","v":286},285,287,null,{"$f":"AccVelDataLink!G289","v":110},"○","○"]
[{"$f":"A289+1","v":287},1,30000,{"$f":"AccVelDataLink!A290","v":287},286,288,{"$f":"AccVelDataLink!F290","v":"ISB-MXL-200-5-垂直"},{"$f":"AccVelDataLink!G290","v":30},"○","○"]
[288,1,34000,{"$f":"AccVelDataLink!A291","v":288},287,289,null,{"$f":"AccVelDataLink!G291","v":34},"○","○"]
[289,1,40000,{"$f":"AccVelDataLink!A292","v":289},288,-1,null,{"$f":"AccVelDataLink!G292","v":40},"○","終端"]
[290,0,40000,{"$f":"AccVelDataLink!A293","v":290},-1,{"$f":"A294","v":291},{"$f":"AccVelDataLink!F293","v":"ISB-MXL-200-10-水平"},{"$f":"AccVelDataLink!G293","v":40},{"$f":"IF(E293=A292,\"○\",IF(G293=0,\"つなぎまちがい\",\"先頭\"))","v":"先頭"},{"$f":"IF(F293=A294,\"○\",IF(F293<>E294,\"つなぎまちがい\",\"終端\"))","v":"○"}]
[291,0,51000,{"$f":"AccVelDataLink!A294","v":291},{"$f":"A293","v":290},292,null,{"$f":"AccVelDataLink!G294","v":51},"○",{"$f":"IF(F294=A295,\"○\",IF(F294<>E295,\"つなぎまちがい\",\"終端\"))","v":"○"}]
[292,0,66000,{"$f":"AccVelDataLink!A295","v":292},291,293,null,{"$f":"AccVelDataLink!G295","v":66},"○",{"$f":"IF(F295=A296,\"○\",IF(F295<>E296,\"つなぎまちがい\",\"終端\"))","v":"○"}]
[{"$f":"A295+1","v":293},0,90000,{"$f":"AccVelDataLink!A296","v":293},292,294,null,{"$f":"AccVelDataLink!G296","v":90},"○",{"$f":"IF(F296=A297,\"○\",IF(F296<>E297,\"つなぎまちがい\",\"終端\"))","v":"○"}]
[{"$f":"A296+1","v":294},1,15000,{"$f":"AccVelDataLink!A297","v":294},293,295,{"$f":"AccVelDataLink!F297","v":"ISB-MXL-200-10-垂直"},{"$f":"AccVelDataLink!G297","v":15},"○",{"$f":"IF(F297=A298,\"○\",IF(F297<>E298,\"つなぎまちがい\",\"終端\"))","v":"○"}]
[295,1,17000,{"$f":"AccVelDataLink!A298","v":295},294,296,null,{"$f":"AccVelDataLink!G298","v":17},"○",{"$f":"IF(F298=A299,\"○\",IF(F298<>E299,\"つなぎまちがい\",\"終端\"))","v":"○"}]
[296,1,20000,{"$f":"AccVelDataLink!A299","v":296},295,-1,null,{"$f":"AccVelDataLink!G299","v":20},{"$f":"IF(E299=A298,\"○\",IF(G299=0,\"つなぎまちがい\",\"先頭\"))","v":"○"},"終端"]
[{"$f":"A299+1","v":297},0,12000,{"$f":"AccVelDataLink!A300","v":297},-1,{"$f":"A301","v":298},{"$f":"AccVelDataLink!F300","v":"ISB-MXL-200-20-水平"},{"$f":"AccVelDataLink!G300","v":12},"先頭","○"]
[{"$f":"A300+1","v":298},0,13000,{"$f":"AccVelDataLink!A301","v":298},{"$f":"A300","v":297},299,null,{"$f":"AccVelDataLink!G301","v":13},"○","○"]
[299,0,15000,{"$f":"AccVelDataLink!A302","v":299},298,300,null,{"$f":"AccVelDataLink!G302","v":15},"○","○"]
[300,0,17000,{"$f":"AccVelDataLink!A303","v":300},299,301,null,{"$f":"AccVelDataLink!G303","v":17},"○","○"]
[301,0,20000,{"$f":"AccVelDataLink!A304","v":301},300,302,null,{"$f":"AccVelDataLink!G304","v":20},"○","○"]
[302,0,23000,{"$f":"AccVelDataLink!A305","v":302},301,303,null,{"$f":"AccVelDataLink!G305","v":23},"○","○"]
[303,0,28000,{"$f":"AccVelDataLink!A306","v":303},302,304,null,{"$f":"AccVelDataLink!G306","v":28},"○","○"]
[304,0,35000,{"$f":"AccVelDataLink!A307","v":304},303,305,null,{"$f":"AccVelDataLink!G307","v":35},"○","○"]
[{"$f":"A307+1","v":305},0,45000,{"$f":"AccVelDataLink!A308","v":305},304,306,null,{"$f":"AccVelDataLink!G308","v":45},"○","○"]
[{"$f":"A308+1","v":306},1,{"$f":"H309*$H$1","v":5000},{"$f":"AccVelDataLink!A309","v":306},305,307,{"$f":"AccVelDataLink!F309","v":"ISB-MXL-200-20-垂直"},{"$f":"AccVelDataLink!G309","v":5},"○","○"]
[{"$f":"A309+1","v":307},1,5500,{"$f":"AccVelDataLink!A310","v":307},306,308,null,{"$f":"AccVelDataLink!G310","v":5.5},"○","○"]
[308,1,6000,{"$f":"AccVelDataLink!A311","v":308},307,309,null,{"$f":"AccVelDataLink!G311","v":6},"○","○"]
[309,1,7000,{"$f":"AccVelDataLink!A312","v":309},308,310,null,{"$f":"AccVelDataLink!G312","v":7},"○","○"]
[310,1,7500,{"$f":"AccVelDataLink!A313","v":310},309,311,null,{"$f":"AccVelDataLink!G313","v":7.5},"○","○"]
[311,1,8500,{"$f":"AccVelDataLink!A314","v":311},310,312,null,{"$f":"AccVelDataLink!G314","v":8.5},"○",{"$f":"IF(F314=A315,\"○\",IF(F314<>E315,\"つなぎまちがい\",\"終端\"))","v":"○"}]
[312,1,10000,{"$f":"AccVelDataLink!A315","v":312},311,-1,null,{"$f":"AccVelDataLink!G315","v":10},{"$f":"IF(E315=A314,\"○\",IF(G315=0,\"つなぎまちがい\",\"先頭\"))","v":"○"},"終端"]
[{"$f":"A315+1","v":313},0,{"$f":"H316*$H$1","v":9000},{"$f":"AccVelDataLink!A316","v":313},-1,{"$f":"A317","v":314},{"$f":"AccVelDataLink!F316","v":"ISB-MXL-200-30-水平"},{"$f":"AccVelDataLink!G316","v":9},"先頭","○"]
[{"$f":"A316+1","v":314},0,10000,{"$f":"AccVelDataLink!A317","v":314},{"$f":"A316","v":313},315,null,{"$f":"AccVelDataLink!G317","v":10},"○","○"]
[{"$f":"A317+1","v":315},0,12000,{"$f":"AccVelDataLink!A318","v":315},314,316,null,{"$f":"AccVelDataLink!G318","v":12},"○","○"]
[316,0,13000,{"$f":"AccVelDataLink!A319","v":316},315,317,null,{"$f":"AccVelDataLink!G319","v":13},"○","○"]
[317,0,15000,{"$f":"AccVelDataLink!A320","v":317},316,318,null,{"$f":"AccVelDataLink!G320","v":15},"○","○"]
[318,0,17000,{"$f":"AccVelDataLink!A321","v":318},317,319,null,{"$f":"AccVelDataLink!G321","v":17},"○","○"]
[319,0,20000,{"$f":"AccVelDataLink!A322","v":319},318,320,null,{"$f":"AccVelDataLink!G322","v":20},"○","○"]
[320,0,24000,{"$f":"AccVelDataLink!A323","v":320},319,321,null,{"$f":"AccVelDataLink!G323","v":24},"○","○"]
[{"$f":"A323+1","v":321},0,30000,{"$f":"AccVelDataLink!A324","v":321},320,322,null,{"$f":"AccVelDataLink!G324","v":30},"○","○"]
[{"$f":"A324+1","v":322},1,{"$f":"H325*$H$1","v":2000},{"$f":"AccVelDataLink!A325","v":322},321,323,{"$f":"AccVelDataLink!F325","v":"ISB-MXL-200-30-垂直"},{"$f":"AccVelDataLink!G325","v":2},"○","○"]
[{"$f":"A325+1","v":323},1,2500,{"$f":"AccVelDataLink!A326","v":323},322,324,null,{"$f":"AccVelDataLink!G326","v":2.5},"○","○"]
[324,1,3000,{"$f":"AccVelDataLink!A327","v":324},323,325,null,{"$f":"AccVelDataLink!G327","v":3},"○","○"]
[325,1,3500,{"$f":"AccVelDataLink!A328","v":325},324,326,null,{"$f":"AccVelDataLink!G328","v":3.5},"○","○"]
[326,1,4000,{"$f":"AccVelDataLink!A329","v":326},325,327,null,{"$f":"AccVelDataLink!G329","v":4},"○","○"]
[327,1,4500,{"$f":"AccVelDataLink!A330","v":327},326,328,null,{"$f":"AccVelDataLink!G330","v":4.5},"○","○"]
[328,1,5000,{"$f":"AccVelDataLink!A331","v":328},327,329,null,{"$f":"AccVelDataLink!G331","v":5},"○","○"]
[329,1,5500,{"$f":"AccVelDataLink!A332","v":329},328,330,null,{"$f":"AccVelDataLink!G332","v":5.5},"○","○"]
[330,1,6000,{"$f":"AccVelDataLink!A333","v":330},329,-1,null,{"$f":"AccVelDataLink!G333","v":6},{"$f":"IF(E333=A332,\"○\",IF(G333=0,\"つなぎまちがい\",\"先頭\"))","v":"○"},{"$f":"IF(F333=A334,\"○\",IF(F333<>E334,\"つなぎまちがい\",\"終端\"))","v":"終端"}]
[331,0,40000,{"$f":"AccVelDataLink!A334","v":331},-1,{"$f":"A335","v":332},{"$f":"AccVelDataLink!F334","v":"ISB-LXL-200-10-水平"},{"$f":"AccVelDataLink!G334","v":40},"先頭","○"]
[332,0,51000,{"$f":"AccVelDataLink!A335","v":332},{"$f":"A334","v":331},333,null,{"$f":"AccVelDataLink!G335","v":51},"○","○"]
[333,0,66000,{"$f":"AccVelDataLink!A336","v":333},332,334,null,{"$f":"AccVelDataLink!G336","v":66},"○","○"]
[{"$f":"A336+1","v":334},0,90000,{"$f":"AccVelDataLink!A337","v":334},333,335,null,{"$f":"AccVelDataLink!G337","v":90},"○","○"]
[{"$f":"A337+1","v":335},1,14000,{"$f":"AccVelDataLink!A338","v":335},334,336,{"$f":"AccVelDataLink!F338","v":"ISB-LXL-200-10-垂直"},{"$f":"AccVelDataLink!G338","v":14},"○","○"]
[336,1,16000,{"$f":"AccVelDataLink!A339","v":336},335,337,null,{"$f":"AccVelDataLink!G339","v":16},"○",{"$f":"IF(F339=A340,\"○\",IF(F339<>E340,\"つなぎまちがい\",\"終端\"))","v":"○"}]
[337,1,20000,{"$f":"AccVelDataLink!A340","v":337},336,-1,null,{"$f":"AccVelDataLink!G340","v":20},{"$f":"IF(E340=A339,\"○\",IF(G340=0,\"つなぎまちがい\",\"先頭\"))","v":"○"},"終端"]
[{"$f":"A340+1","v":338},0,12000,{"$f":"AccVelDataLink!A341","v":338},-1,{"$f":"A342","v":339},{"$f":"AccVelDataLink!F341","v":"ISB-LXL-200-20-水平"},{"$f":"AccVelDataLink!G341","v":12},"先頭","○"]
[{"$f":"A341+1","v":339},0,13000,{"$f":"AccVelDataLink!A342","v":339},{"$f":"A341","v":338},340,null,{"$f":"AccVelDataLink!G342","v":13},"○","○"]
[340,0,15000,{"$f":"AccVelDataLink!A343","v":340},339,341,null,{"$f":"AccVelDataLink!G343","v":15},"○","○"]
[341,0,17000,{"$f":"AccVelDataLink!A344","v":341},340,342,null,{"$f":"AccVelDataLink!G344","v":17},"○","○"]
[342,0,20000,{"$f":"AccVelDataLink!A345","v":342},341,343,null,{"$f":"AccVelDataLink!G345","v":20},"○","○"]
[343,0,23000,{"$f":"AccVelDataLink!A346","v":343},342,344,null,{"$f":"AccVelDataLink!G346","v":23},"○","○"]
[344,0,28000,{"$f":"AccVelDataLink!A347","v":344},343,345,null,{"$f":"AccVelDataLink!G347","v":28},"○","○"]
[345,0,35000,{"$f":"AccVelDataLink!A348","v":345},344,346,null,{"$f":"AccVelDataLink!G348","v":35},"○","○"]
[{"$f":"A348+1","v":346},0,45000,{"$f":"AccVelDataLink!A349","v":346},345,347,null,{"$f":"AccVelDataLink!G349","v":45},"○","○"]
[{"$f":"A349+1","v":347},1,5000,{"$f":"AccVelDataLink!A350","v":347},346,348,{"$f":"AccVelDataLink!F350","v":"ISB-LXL-200-20-垂直"},{"$f":"AccVelDataLink!G350","v":5},"○","○"]
[348,1,5500,{"$f":"AccVelDataLink!A351","v":348},347,349,null,{"$f":"AccVelDataLink!G351","v":5.5},"○","○"]
[349,1,6000,{"$f":"AccVelDataLink!A352","v":349},348,350,null,{"$f":"AccVelDataLink!G352","v":6},"○","○"]
[350,1,7000,{"$f":"AccVelDataLink!A353","v":350},349,351,null,{"$f":"AccVelDataLink!G353","v":7},"○","○"]
[351,1,7500,{"$f":"AccVelDataLink!A354","v":351},350,352,null,{"$f":"AccVelDataLink!G354","v":7.5},"○","○"]
[352,1,8500,{"$f":"AccVelDataLink!A355","v":352},351,353,null,{"$f":"AccVelDataLink!G355","v":8.5},"○",{"$f":"IF(F355=A356,\"○\",IF(F355<>E356,\"つなぎまちがい\",\"終端\"))","v":"○"}]
[353,1,10000,{"$f":"AccVelDataLink!A356","v":353},352,-1,null,{"$f":"AccVelDataLink!G356","v":10},{"$f":"IF(E356=A355,\"○\",IF(G356=0,\"つなぎまちがい\",\"先頭\"))","v":"○"},"終端"]
[{"$f":"A356+1","v":354},0,{"$f":"H357*$H$1","v":6000},{"$f":"AccVelDataLink!A357","v":354},-1,{"$f":"A358","v":355},{"$f":"AccVelDataLink!F357","v":"ISB-LXL-200-40-水平"},{"$f":"AccVelDataLink!G357","v":6},"先頭","○"]
[{"$f":"A357+1","v":355},0,6500,{"$f":"AccVelDataLink!A358","v":355},{"$f":"A357","v":354},356,null,{"$f":"AccVelDataLink!G358","v":6.5},"○","○"]
[{"$f":"A358+1","v":356},0,7000,{"$f":"AccVelDataLink!A359","v":356},355,357,null,{"$f":"AccVelDataLink!G359","v":7},"○","○"]
[357,0,7500,{"$f":"AccVelDataLink!A360","v":357},356,358,null,{"$f":"AccVelDataLink!G360","v":7.5},"○","○"]
[358,0,8000,{"$f":"AccVelDataLink!A361","v":358},357,359,null,{"$f":"AccVelDataLink!G361","v":8},"○","○"]
[359,0,9000,{"$f":"AccVelDataLink!A362","v":359},358,360,null,{"$f":"AccVelDataLink!G362","v":9},"○","○"]
[360,0,10500,{"$f":"AccVelDataLink!A363","v":360},359,361,null,{"$f":"AccVelDataLink!G363","v":10.5},"○","○"]
[361,0,12000,{"$f":"AccVelDataLink!A364","v":361},360,362,null,{"$f":"AccVelDataLink!G364","v":12},"○","○"]
[{"$f":"A364+1","v":362},0,15000,{"$f":"AccVelDataLink!A365","v":362},361,363,null,{"$f":"AccVelDataLink!G365","v":15},"○","○"]
[{"$f":"A365+1","v":363},1,{"$f":"H366*$H$1","v":1600},{"$f":"AccVelDataLink!A366","v":363},362,364,{"$f":"AccVelDataLink!F366","v":"ISB-LXL-200-40-垂直"},{"$f":"AccVelDataLink!G366","v":1.6},"○","○"]
[{"$f":"A366+1","v":364},1,1800,{"$f":"AccVelDataLink!A367","v":364},363,365,null,{"$f":"AccVelDataLink!G367","v":1.8},"○","○"]
[365,1,2000,{"$f":"AccVelDataLink!A368","v":365},364,366,null,{"$f":"AccVelDataLink!G368","v":2},"○","○"]
[366,1,2200,{"$f":"AccVelDataLink!A369","v":366},365,367,null,{"$f":"AccVelDataLink!G369","v":2.2000000000000002},"○","○"]
[367,1,2500,{"$f":"AccVelDataLink!A370","v":367},366,368,null,{"$f":"AccVelDataLink!G370","v":2.5},"○","○"]
[368,1,2800,{"$f":"AccVelDataLink!A371","v":368},367,369,null,{"$f":"AccVelDataLink!G371","v":2.8},"○","○"]
[369,1,3100,{"$f":"AccVelDataLink!A372","v":369},368,370,null,{"$f":"AccVelDataLink!G372","v":3.1},"○","○"]
[370,1,3500,{"$f":"AccVelDataLink!A373","v":370},369,371,null,{"$f":"AccVelDataLink!G373","v":3.5},"○","○"]
[371,1,4000,{"$f":"AccVelDataLink!A374","v":371},370,-1,null,{"$f":"AccVelDataLink!G374","v":4},"○",{"$f":"IF(F374=A375,\"○\",IF(F374<>E375,\"つなぎまちがい\",\"終端\"))","v":"終端"}]
[372,0,60000,{"$f":"AccVelDataLink!A375","v":372},-1,{"$f":"A376","v":373},{"$f":"AccVelDataLink!F375","v":"ISB-LXL-400-10-水平"},{"$f":"AccVelDataLink!G375","v":60},{"$f":"IF(E375=A374,\"○\",IF(G375=0,\"つなぎまちがい\",\"先頭\"))","v":"先頭"},{"$f":"IF(F375=A376,\"○\",IF(F375<>E376,\"つなぎまちがい\",\"終端\"))","v":"○"}]
[373,0,73000,{"$f":"AccVelDataLink!A376","v":373},{"$f":"A375","v":372},374,null,{"$f":"AccVelDataLink!G376","v":73},{"$f":"IF(E376=A375,\"○\",IF(G376=0,\"つなぎまちがい\",\"先頭\"))","v":"○"},{"$f":"IF(F376=A377,\"○\",IF(F376<>E377,\"つなぎまちがい\",\"終端\"))","v":"○"}]
[374,0,92000,{"$f":"AccVelDataLink!A377","v":374},373,375,null,{"$f":"AccVelDataLink!G377","v":92},{"$f":"IF(E377=A376,\"○\",IF(G377=0,\"つなぎまちがい\",\"先頭\"))","v":"○"},{"$f":"IF(F377=A378,\"○\",IF(F377<>E378,\"つなぎまちがい\",\"終端\"))","v":"○"}]
[{"$f":"A377+1","v":375},0,120000,{"$f":"AccVelDataLink!A378","v":375},374,376,null,{"$f":"AccVelDataLink!G378","v":120},{"$f":"IF(E378=A377,\"○\",IF(G378=0,\"つなぎまちがい\",\"先頭\"))","v":"○"},{"$f":"IF(F378=A379,\"○\",IF(F378<>E379,\"つなぎまちがい\",\"終端\"))","v":"○"}]
[{"$f":"A378+1","v":376},1,30000,{"$f":"AccVelDataLink!A379","v":376},375,377,{"$f":"AccVelDataLink!F379","v":"ISB-LXL-400-10-垂直"},{"$f":"AccVelDataLink!G379","v":30},"○","○"]
[377,1,34000,{"$f":"AccVelDataLink!A380","v":377},376,378,null,{"$f":"AccVelDataLink!G380","v":34},"○","○"]
[378,1,40000,{"$f":"AccVelDataLink!A381","v":378},377,-1,null,{"$f":"AccVelDataLink!G381","v":40},"○","終端"]
[{"$f":"A381+1","v":379},0,24000,{"$f":"AccVelDataLink!A382","v":379},-1,{"$f":"A383","v":380},{"$f":"AccVelDataLink!F382","v":"ISB-LXL-400-20-水平"},{"$f":"AccVelDataLink!G382","v":24},"先頭","○"]
[{"$f":"A382+1","v":380},0,27000,{"$f":"AccVelDataLink!A383","v":380},{"$f":"A382","v":379},381,null,{"$f":"AccVelDataLink!G383","v":27},"○","○"]
[381,0,30000,{"$f":"AccVelDataLink!A384","v":381},380,382,null,{"$f":"AccVelDataLink!G384","v":30},"○","○"]
[382,0,35000,{"$f":"AccVelDataLink!A385","v":382},381,383,null,{"$f":"AccVelDataLink!G385","v":35},"○","○"]
[383,0,40000,{"$f":"AccVelDataLink!A386","v":383},382,384,null,{"$f":"AccVelDataLink!G386","v":40},"○","○"]
[384,0,47000,{"$f":"AccVelDataLink!A387","v":384},383,385,null,{"$f":"AccVelDataLink!G387","v":47},"○","○"]
[385,0,57000,{"$f":"AccVelDataLink!A388","v":385},384,386,null,{"$f":"AccVelDataLink!G388","v":57},"○","○"]
[386,0,70000,{"$f":"AccVelDataLink!A389","v":386},385,387,null,{"$f":"AccVelDataLink!G389","v":70},"○","○"]
[{"$f":"A389+1","v":387},0,90000,{"$f":"AccVelDataLink!A390","v":387},386,388,null,{"$f":"AccVelDataLink!G390","v":90},"○","○"]
[{"$f":"A390+1","v":388},1,10000,{"$f":"AccVelDataLink!A391","v":388},387,389,{"$f":"AccVelDataLink!F391","v":"ISB-LXL-400-20-垂直"},{"$f":"AccVelDataLink!G391","v":10},"○","○"]
[389,1,11000,{"$f":"AccVelDataLink!A392","v":389},388,390,null,{"$f":"AccVelDataLink!G392","v":11},"○","○"]
[390,1,12000,{"$f":"AccVelDataLink!A393","v":390},389,391,null,{"$f":"AccVelDataLink!G393","v":12},"○","○"]
[391,1,14000,{"$f":"AccVelDataLink!A394","v":391},390,392,null,{"$f":"AccVelDataLink!G394","v":14},"○","○"]
[392,1,15000,{"$f":"AccVelDataLink!A395","v":392},391,393,null,{"$f":"AccVelDataLink!G395","v":15},"○","○"]
[393,1,17000,{"$f":"AccVelDataLink!A396","v":393},392,394,null,{"$f":"AccVelDataLink!G396","v":17},{"$f":"IF(E396=A395,\"○\",IF(G396=0,\"つなぎまちがい\",\"先頭\"))","v":"○"},{"$f":"IF(F396=A397,\"○\",IF(F396<>E397,\"つなぎまちがい\",\"終端\"))","v":"○"}]
[394,1,20000,{"$f":"AccVelDataLink!A397","v":394},393,-1,null,{"$f":"AccVelDataLink!G397","v":20},"○","終端"]
[{"$f":"A397+1","v":395},0,{"$f":"H398*$H$1","v":15000},{"$f":"AccVelDataLink!A398","v":395},-1,{"$f":"A399","v":396},{"$f":"AccVelDataLink!F398","v":"ISB-LXL-400-40-水平"},{"$f":"AccVelDataLink!G398","v":15},"先頭","○"]
[396,0,16000,{"$f":"AccVelDataLink!A399","v":396},{"$f":"A398","v":395},397,null,{"$f":"AccVelDataLink!G399","v":16},"○","○"]
[397,0,17000,{"$f":"AccVelDataLink!A400","v":397},396,398,null,{"$f":"AccVelDataLink!G400","v":17},"○","○"]
[398,0,19000,{"$f":"AccVelDataLink!A401","v":398},397,399,null,{"$f":"AccVelDataLink!G401","v":19},"○","○"]
[399,0,21000,{"$f":"AccVelDataLink!A402","v":399},398,400,null,{"$f":"AccVelDataLink!G402","v":21},"○","○"]
[400,0,23000,{"$f":"AccVelDataLink!A403","v":400},399,401,null,{"$f":"AccVelDataLink!G403","v":23},"○","○"]
[401,0,27000,{"$f":"AccVelDataLink!A404","v":401},400,402,null,{"$f":"AccVelDataLink!G404","v":27},"○","○"]
[402,0,32000,{"$f":"AccVelDataLink!A405","v":402},401,403,null,{"$f":"AccVelDataLink!G405","v":32},"○","○"]
[403,0,40000,{"$f":"AccVelDataLink!A406","v":403},402,404,null,{"$f":"AccVelDataLink!G406","v":40},"○","○"]
[404,1,{"$f":"H407*$H$1","v":4000},{"$f":"AccVelDataLink!A407","v":404},403,405,{"$f":"AccVelDataLink!F407","v":"ISB-LXL-400-40-垂直"},{"$f":"AccVelDataLink!G407","v":4},"○","○"]
[{"$f":"A407+1","v":405},1,4500,{"$f":"AccVelDataLink!A408","v":405},404,406,null,{"$f":"AccVelDataLink!G408","v":4.5},"○","○"]
[406,1,5000,{"$f":"AccVelDataLink!A409","v":406},405,407,null,{"$f":"AccVelDataLink!G409","v":5},"○","○"]
[407,1,5500,{"$f":"AccVelDataLink!A410","v":407},406,408,null,{"$f":"AccVelDataLink!G410","v":5.5},"○","○"]
[408,1,6000,{"$f":"AccVelDataLink!A411","v":408},407,409,null,{"$f":"AccVelDataLink!G411","v":6},"○","○"]
[409,1,7000,{"$f":"AccVelDataLink!A412","v":409},408,410,null,{"$f":"AccVelDataLink!G412","v":7},"○","○"]
[410,1,7500,{"$f":"AccVelDataLink!A413","v":410},409,411,null,{"$f":"AccVelDataLink!G413","v":7.5},"○","○"]
[411,1,8500,{"$f":"AccVelDataLink!A414","v":411},410,412,null,{"$f":"AccVelDataLink!G414","v":8.5},"○",{"$f":"IF(F414=A415,\"○\",IF(F414<>E415,\"つなぎまちがい\",\"終端\"))","v":"○"}]
[412,1,10000,{"$f":"AccVelDataLink!A415","v":412},411,-1,null,{"$f":"AccVelDataLink!G415","v":10},{"$f":"IF(E415=A414,\"○\",IF(G415=0,\"つなぎまちがい\",\"先頭\"))","v":"○"},"終端"]
[413,0,30000,{"$f":"AccVelDataLink!A416","v":413},-1,{"$f":"A417","v":414},{"$f":"AccVelDataLink!F416","v":"ISDB-S-60-4-水平"},{"$f":"AccVelDataLink!G416","v":30},"先頭","○"]
[{"$f":"A416+1","v":414},0,38000,{"$f":"AccVelDataLink!A417","v":414},{"$f":"A416","v":413},415,null,{"$f":"AccVelDataLink!G417","v":38},"○","○"]
[415,0,50000,{"$f":"AccVelDataLink!A418","v":415},414,416,null,{"$f":"AccVelDataLink!G418","v":50},"○","○"]
[416,0,55000,{"$f":"AccVelDataLink!A419","v":416},415,417,null,{"$f":"AccVelDataLink!G419","v":55},"○","○"]
[417,1,12000,{"$f":"AccVelDataLink!A420","v":417},416,418,{"$f":"AccVelDataLink!F420","v":"ISDB-S-60-4-垂直"},{"$f":"AccVelDataLink!G420","v":12},"○","○"]
[418,1,13000,{"$f":"AccVelDataLink!A421","v":418},417,419,null,{"$f":"AccVelDataLink!G421","v":13},"○",{"$f":"IF(F421=A422,\"○\",IF(F421<>E422,\"つなぎまちがい\",\"終端\"))","v":"○"}]
[419,1,14000,{"$f":"AccVelDataLink!A422","v":419},418,-1,null,{"$f":"AccVelDataLink!G422","v":14},{"$f":"IF(E422=A421,\"○\",IF(G422=0,\"つなぎまちがい\",\"先頭\"))","v":"○"},"終端"]
[420,0,12000,{"$f":"AccVelDataLink!A423","v":420},-1,{"$f":"A424","v":421},{"$f":"AccVelDataLink!F423","v":"ISDB-S-60-8-水平"},{"$f":"AccVelDataLink!G423","v":12},"先頭","○"]
[421,0,15000,{"$f":"AccVelDataLink!A424","v":421},{"$f":"A423","v":420},422,null,{"$f":"AccVelDataLink!G424","v":15},"○","○"]
[422,0,20000,{"$f":"AccVelDataLink!A425","v":422},421,423,null,{"$f":"AccVelDataLink!G425","v":20},"○","○"]
[423,0,27000,{"$f":"AccVelDataLink!A426","v":423},422,424,null,{"$f":"AccVelDataLink!G426","v":27},"○","○"]
[424,1,5000,{"$f":"AccVelDataLink!A427","v":424},423,425,{"$f":"AccVelDataLink!F427","v":"ISDB-S-60-8-垂直"},{"$f":"AccVelDataLink!G427","v":5},"○","○"]
[425,1,5500,{"$f":"AccVelDataLink!A428","v":425},424,426,null,{"$f":"AccVelDataLink!G428","v":5.5},"○",{"$f":"IF(F428=A429,\"○\",IF(F428<>E429,\"つなぎまちがい\",\"終端\"))","v":"○"}]
[426,1,6000,{"$f":"AccVelDataLink!A429","v":426},425,-1,null,{"$f":"AccVelDataLink!G429","v":6},{"$f":"IF(E429=A428,\"○\",IF(G429=0,\"つなぎまちがい\",\"先頭\"))","v":"○"},"終端"]
[427,0,4500,{"$f":"AccVelDataLink!A430","v":427},-1,{"$f":"A431","v":428},{"$f":"AccVelDataLink!F430","v":"ISDB-S-60-16-水平"},{"$f":"AccVelDataLink!G430","v":4.5},"先頭","○"]
[428,0,5500,{"$f":"AccVelDataLink!A431","v":428},{"$f":"A430","v":427},429,null,{"$f":"AccVelDataLink!G431","v":5.5},"○","○"]
[429,0,6000,{"$f":"AccVelDataLink!A432","v":429},428,430,null,{"$f":"AccVelDataLink!G432","v":6},"○","○"]
[430,0,7000,{"$f":"AccVelDataLink!A433","v":430},429,431,null,{"$f":"AccVelDataLink!G433","v":7},"○","○"]
[431,0,8500,{"$f":"AccVelDataLink!A434","v":431},430,432,null,{"$f":"AccVelDataLink!G434","v":8.5},"○","○"]
[432,0,10500,{"$f":"AccVelDataLink!A435","v":432},431,433,null,{"$f":"AccVelDataLink!G435","v":10.5},"○","○"]
[433,0,13000,{"$f":"AccVelDataLink!A436","v":433},432,434,null,{"$f":"AccVelDataLink!G436","v":13},"○","○"]
[434,1,2000,{"$f":"AccVelDataLink!A437","v":434},433,435,{"$f":"AccVelDataLink!F437","v":"ISDB-S-60-16-垂直"},{"$f":"AccVelDataLink!G437","v":2},"○","○"]
[435,1,2300,{"$f":"AccVelDataLink!A438","v":435},434,436,null,{"$f":"AccVelDataLink!G438","v":2.2999999999999998},"○","○"]
[436,1,2500,{"$f":"AccVelDataLink!A439","v":436},435,437,null,{"$f":"AccVelDataLink!G439","v":2.5},"○","○"]
[{"$f":"A439+1","v":437},1,{"$f":"H440*$H$1","v":2800},{"$f":"AccVelDataLink!A440","v":437},436,438,null,{"$f":"AccVelDataLink!G440","v":2.8},"○","○"]
[438,1,3000,{"$f":"AccVelDataLink!A441","v":438},437,-1,null,{"$f":"AccVelDataLink!G441","v":3},"○","終端"]
[439,0,45000,{"$f":"AccVelDataLink!A442","v":439},-1,{"$f":"A443","v":440},{"$f":"AccVelDataLink!F442","v":"ISDB-M-100-5-水平"},{"$f":"AccVelDataLink!G442","v":45},{"$f":"IF(E442=A441,\"○\",IF(G442=0,\"つなぎまちがい\",\"先頭\"))","v":"先頭"},{"$f":"IF(F442=A443,\"○\",IF(F442<>E443,\"つなぎまちがい\",\"終端\"))","v":"○"}]
[440,0,60000,{"$f":"AccVelDataLink!A443","v":440},{"$f":"A442","v":439},441,null,{"$f":"AccVelDataLink!G443","v":60},"○","○"]
[441,0,80000,{"$f":"AccVelDataLink!A444","v":441},440,442,null,{"$f":"AccVelDataLink!G444","v":80},"○","○"]
[442,0,85000,{"$f":"AccVelDataLink!A445","v":442},441,443,null,{"$f":"AccVelDataLink!G445","v":85},"○","○"]
[443,1,15000,{"$f":"AccVelDataLink!A446","v":443},442,444,{"$f":"AccVelDataLink!F446","v":"ISDB-M-100-5-垂直"},{"$f":"AccVelDataLink!G446","v":15},"○","○"]
[444,1,17000,{"$f":"AccVelDataLink!A447","v":444},443,445,null,{"$f":"AccVelDataLink!G447","v":17},"○","○"]
[445,1,20000,{"$f":"AccVelDataLink!A448","v":445},444,-1,null,{"$f":"AccVelDataLink!G448","v":20},"○","終端"]
[446,0,20000,{"$f":"AccVelDataLink!A449","v":446},-1,{"$f":"A450","v":447},{"$f":"AccVelDataLink!F449","v":"ISDB-M-100-10-水平"},{"$f":"AccVelDataLink!G449","v":20},{"$f":"IF(E449=A448,\"○\",IF(G449=0,\"つなぎまちがい\",\"先頭\"))","v":"先頭"},{"$f":"IF(F449=A450,\"○\",IF(F449<>E450,\"つなぎまちがい\",\"終端\"))","v":"○"}]
[447,0,23000,{"$f":"AccVelDataLink!A450","v":447},{"$f":"A449","v":446},448,null,{"$f":"AccVelDataLink!G450","v":23},"○",{"$f":"IF(F450=A451,\"○\",IF(F450<>E451,\"つなぎまちがい\",\"終端\"))","v":"○"}]
[448,0,30000,{"$f":"AccVelDataLink!A451","v":448},447,449,null,{"$f":"AccVelDataLink!G451","v":30},"○",{"$f":"IF(F451=A452,\"○\",IF(F451<>E452,\"つなぎまちがい\",\"終端\"))","v":"○"}]
[449,0,45000,{"$f":"AccVelDataLink!A452","v":449},448,450,null,{"$f":"AccVelDataLink!G452","v":45},"○",{"$f":"IF(F452=A453,\"○\",IF(F452<>E453,\"つなぎまちがい\",\"終端\"))","v":"○"}]
[450,1,7000,{"$f":"AccVelDataLink!A453","v":450},449,451,{"$f":"AccVelDataLink!F453","v":"ISDB-M-100-10-垂直"},{"$f":"AccVelDataLink!G453","v":7},"○",{"$f":"IF(F453=A454,\"○\",IF(F453<>E454,\"つなぎまちがい\",\"終端\"))","v":"○"}]
[451,1,8000,{"$f":"AccVelDataLink!A454","v":451},450,452,null,{"$f":"AccVelDataLink!G454","v":8},"○",{"$f":"IF(F454=A455,\"○\",IF(F454<>E455,\"つなぎまちがい\",\"終端\"))","v":"○"}]
[452,1,10000,{"$f":"AccVelDataLink!A455","v":452},451,-1,null,{"$f":"AccVelDataLink!G455","v":10},{"$f":"IF(E455=A454,\"○\",IF(G455=0,\"つなぎまちがい\",\"先頭\"))","v":"○"},"終端"]
[453,0,8000,{"$f":"AccVelDataLink!A456","v":453},-1,{"$f":"A457","v":454},{"$f":"AccVelDataLink!F456","v":"ISDB-M-100-20-水平"},{"$f":"AccVelDataLink!G456","v":8},"先頭","○"]
[454,0,9000,{"$f":"AccVelDataLink!A457","v":454},{"$f":"A456","v":453},455,null,{"$f":"AccVelDataLink!G457","v":9},"○","○"]
[455,0,11000,{"$f":"AccVelDataLink!A458","v":455},454,456,null,{"$f":"AccVelDataLink!G458","v":11},"○","○"]
[456,0,13000,{"$f":"AccVelDataLink!A459","v":456},455,457,null,{"$f":"AccVelDataLink!G459","v":13},"○","○"]
[457,0,15000,{"$f":"AccVelDataLink!A460","v":457},456,458,null,{"$f":"AccVelDataLink!G460","v":15},"○","○"]
[458,0,18000,{"$f":"AccVelDataLink!A461","v":458},457,459,null,{"$f":"AccVelDataLink!G461","v":18},"○","○"]
[459,0,23000,{"$f":"AccVelDataLink!A462","v":459},458,460,null,{"$f":"AccVelDataLink!G462","v":23},"○","○"]
[460,1,{"$f":"H463*$H$1","v":2500},{"$f":"AccVelDataLink!A463","v":460},459,461,{"$f":"AccVelDataLink!F463","v":"ISDB-M-100-20-垂直"},{"$f":"AccVelDataLink!G463","v":2.5},"○","○"]
[{"$f":"A463+1","v":461},1,2800,{"$f":"AccVelDataLink!A464","v":461},460,462,null,{"$f":"AccVelDataLink!G464","v":2.8},"○","○"]
[462,1,3000,{"$f":"AccVelDataLink!A465","v":462},461,463,null,{"$f":"AccVelDataLink!G465","v":3},"○","○"]
[463,1,3300,{"$f":"AccVelDataLink!A466","v":463},462,464,null,{"$f":"AccVelDataLink!G466","v":3.3},"○","○"]
[464,1,3500,{"$f":"AccVelDataLink!A467","v":464},463,465,null,{"$f":"AccVelDataLink!G467","v":3.5},"○","○"]
[465,1,3800,{"$f":"AccVelDataLink!A468","v":465},464,466,null,{"$f":"AccVelDataLink!G468","v":3.8},{"$f":"IF(E468=A467,\"○\",IF(G468=0,\"つなぎまちがい\",\"先頭\"))","v":"○"},{"$f":"IF(F468=A469,\"○\",IF(F468<>E469,\"つなぎまちがい\",\"終端\"))","v":"○"}]
[466,1,4000,{"$f":"AccVelDataLink!A469","v":466},465,-1,null,{"$f":"AccVelDataLink!G469","v":4},"○","終端"]
[{"$f":"A469+1","v":467},0,4000,{"$f":"AccVelDataLink!A470","v":467},-1,{"$f":"A471","v":468},{"$f":"AccVelDataLink!F470","v":"ISDB-M-100-30-水平"},{"$f":"AccVelDataLink!G470","v":4},"先頭","○"]
[468,0,5000,{"$f":"AccVelDataLink!A471","v":468},{"$f":"A470","v":467},469,null,{"$f":"AccVelDataLink!G471","v":5},"○","○"]
[469,0,6000,{"$f":"AccVelDataLink!A472","v":469},468,470,null,{"$f":"AccVelDataLink!G472","v":6},"○","○"]
[470,0,7000,{"$f":"AccVelDataLink!A473","v":470},469,471,null,{"$f":"AccVelDataLink!G473","v":7},"○","○"]
[471,0,9000,{"$f":"AccVelDataLink!A474","v":471},470,472,null,{"$f":"AccVelDataLink!G474","v":9},"○","○"]
[472,0,11000,{"$f":"AccVelDataLink!A475","v":472},471,473,null,{"$f":"AccVelDataLink!G475","v":11},"○","○"]
[473,0,15000,{"$f":"AccVelDataLink!A476","v":473},472,474,null,{"$f":"AccVelDataLink!G476","v":15},"○","○"]
[474,1,{"$f":"H477*$H$1","v":1200},{"$f":"AccVelDataLink!A477","v":474},473,475,{"$f":"AccVelDataLink!F477","v":"ISDB-M-100-30-垂直"},{"$f":"AccVelDataLink!G477","v":1.2},"○","○"]
[{"$f":"A477+1","v":475},1,1300,{"$f":"AccVelDataLink!A478","v":475},474,476,null,{"$f":"AccVelDataLink!G478","v":1.3},"○","○"]
[476,1,1400,{"$f":"AccVelDataLink!A479","v":476},475,477,null,{"$f":"AccVelDataLink!G479","v":1.4},"○","○"]
[477,1,1500,{"$f":"AccVelDataLink!A480","v":477},476,478,null,{"$f":"AccVelDataLink!G480","v":1.5},"○","○"]
[478,1,1600,{"$f":"AccVelDataLink!A481","v":478},477,479,null,{"$f":"AccVelDataLink!G481","v":1.6},"○","○"]
[479,1,1800,{"$f":"AccVelDataLink!A482","v":479},478,480,null,{"$f":"AccVelDataLink!G482","v":1.8},"○","○"]
[480,1,2000,{"$f":"AccVelDataLink!A483","v":480},479,-1,null,{"$f":"AccVelDataLink!G483","v":2},"○","終端"]
[481,0,80000,{"$f":"AccVelDataLink!A484","v":481},-1,{"$f":"A485","v":482},{"$f":"AccVelDataLink!F484","v":"ISDB-M-200-5-水平"},{"$f":"AccVelDataLink!G484","v":80},{"$f":"IF(E484=A483,\"○\",IF(G484=0,\"つなぎまちがい\",\"先頭\"))","v":"先頭"},{"$f":"IF(F484=A485,\"○\",IF(F484<>E485,\"つなぎまちがい\",\"終端\"))","v":"○"}]
[{"$f":"A484+1","v":482},0,90000,{"$f":"AccVelDataLink!A485","v":482},{"$f":"A484","v":481},483,null,{"$f":"AccVelDataLink!G485","v":90},"○","○"]
[483,0,100000,{"$f":"AccVelDataLink!A486","v":483},482,484,null,{"$f":"AccVelDataLink!G486","v":100},"○","○"]
[484,0,110000,{"$f":"AccVelDataLink!A487","v":484},483,485,null,{"$f":"AccVelDataLink!G487","v":110},"○","○"]
[485,1,30000,{"$f":"AccVelDataLink!A488","v":485},484,486,{"$f":"AccVelDataLink!F488","v":"ISDB-M-200-5-垂直"},{"$f":"AccVelDataLink!G488","v":30},"○","○"]
[486,1,34000,{"$f":"AccVelDataLink!A489","v":486},485,487,null,{"$f":"AccVelDataLink!G489","v":34},"○","○"]
[487,1,40000,{"$f":"AccVelDataLink!A490","v":487},486,-1,null,{"$f":"AccVelDataLink!G490","v":40},"○",{"$f":"IF(F490=A491,\"○\",IF(F490<>E491,\"つなぎまちがい\",\"終端\"))","v":"終端"}]
[{"$f":"A490+1","v":488},0,{"$f":"H491*$H$1","v":40000},{"$f":"AccVelDataLink!A491","v":488},-1,{"$f":"A492","v":489},{"$f":"AccVelDataLink!F491","v":"ISDB-M-200-10-水平"},{"$f":"AccVelDataLink!G491","v":40},{"$f":"IF(E491=A490,\"○\",IF(G491=0,\"つなぎまちがい\",\"先頭\"))","v":"先頭"},"○"]
[489,0,51000,{"$f":"AccVelDataLink!A492","v":489},{"$f":"A491","v":488},490,null,{"$f":"AccVelDataLink!G492","v":51},{"$f":"IF(E492=A491,\"○\",IF(G492=0,\"つなぎまちがい\",\"先頭\"))","v":"○"},"○"]
[490,0,66000,{"$f":"AccVelDataLink!A493","v":490},489,491,null,{"$f":"AccVelDataLink!G493","v":66},{"$f":"IF(E493=A492,\"○\",IF(G493=0,\"つなぎまちがい\",\"先頭\"))","v":"○"},"○"]
[491,0,90000,{"$f":"AccVelDataLink!A494","v":491},490,492,null,{"$f":"AccVelDataLink!G494","v":90},{"$f":"IF(E494=A493,\"○\",IF(G494=0,\"つなぎまちがい\",\"先頭\"))","v":"○"},"○"]
[492,1,15000,{"$f":"AccVelDataLink!A495","v":492},491,493,{"$f":"AccVelDataLink!F495","v":"ISDB-M-200-10-垂直"},{"$f":"AccVelDataLink!G495","v":15},{"$f":"IF(E495=A494,\"○\",IF(G495=0,\"つなぎまちがい\",\"先頭\"))","v":"○"},"○"]
[493,1,17000,{"$f":"AccVelDataLink!A496","v":493},492,494,null,{"$f":"AccVelDataLink!G496","v":17},{"$f":"IF(E496=A495,\"○\",IF(G496=0,\"つなぎまちがい\",\"先頭\"))","v":"○"},{"$f":"IF(F496=A497,\"○\",IF(F496<>E497,\"つなぎまちがい\",\"終端\"))","v":"○"}]
[494,1,20000,{"$f":"AccVelDataLink!A497","v":494},493,-1,null,{"$f":"AccVelDataLink!G497","v":20},"○","終端"]
[495,0,16000,{"$f":"AccVelDataLink!A498","v":495},-1,{"$f":"A499","v":496},{"$f":"AccVelDataLink!F498","v":"ISDB-M-200-20-水平"},{"$f":"AccVelDataLink!G498","v":16},"先頭","○"]
[496,0,18000,{"$f":"AccVelDataLink!A499","v":496},{"$f":"A498","v":495},497,null,{"$f":"AccVelDataLink!G499","v":18},"○","○"]
[497,0,20000,{"$f":"AccVelDataLink!A500","v":497},496,498,null,{"$f":"AccVelDataLink!G500","v":20},"○","○"]
[498,0,23000,{"$f":"AccVelDataLink!A501","v":498},497,499,null,{"$f":"AccVelDataLink!G501","v":23},"○","○"]
[499,0,28000,{"$f":"AccVelDataLink!A502","v":499},498,500,null,{"$f":"AccVelDataLink!G502","v":28},"○","○"]
[500,0,35000,{"$f":"AccVelDataLink!A503","v":500},499,501,null,{"$f":"AccVelDataLink!G503","v":35},"○","○"]
[501,0,45000,{"$f":"AccVelDataLink!A504","v":501},500,502,null,{"$f":"AccVelDataLink!G504","v":45},"○","○"]
[502,1,{"$f":"H505*$H$1","v":5000},{"$f":"AccVelDataLink!A505","v":502},501,503,{"$f":"AccVelDataLink!F505","v":"ISDB-M-200-20-垂直"},{"$f":"AccVelDataLink!G505","v":5},"○","○"]
[{"$f":"A505+1","v":503},1,5500,{"$f":"AccVelDataLink!A506","v":503},502,504,null,{"$f":"AccVelDataLink!G506","v":5.5},"○","○"]
[504,1,6000,{"$f":"AccVelDataLink!A507","v":504},503,505,null,{"$f":"AccVelDataLink!G507","v":6},"○","○"]
[505,1,7000,{"$f":"AccVelDataLink!A508","v":505},504,506,null,{"$f":"AccVelDataLink!G508","v":7},"○","○"]
[506,1,7500,{"$f":"AccVelDataLink!A509","v":506},505,507,null,{"$f":"AccVelDataLink!G509","v":7.5},"○","○"]
[507,1,8500,{"$f":"AccVelDataLink!A510","v":507},506,508,null,{"$f":"AccVelDataLink!G510","v":8.5},{"$f":"IF(E510=A509,\"○\",IF(G510=0,\"つなぎまちがい\",\"先頭\"))","v":"○"},{"$f":"IF(F510=A511,\"○\",IF(F510<>E511,\"つなぎまちがい\",\"終端\"))","v":"○"}]
[508,1,10000,{"$f":"AccVelDataLink!A511","v":508},507,-1,null,{"$f":"AccVelDataLink!G511","v":10},"○","終端"]
[{"$f":"A511+1","v":509},0,12000,{"$f":"AccVelDataLink!A512","v":509},-1,{"$f":"A513","v":510},{"$f":"AccVelDataLink!F512","v":"ISDB-M-200-30-水平"},{"$f":"AccVelDataLink!G512","v":12},"先頭","○"]
[510,0,13000,{"$f":"AccVelDataLink!A513","v":510},{"$f":"A512","v":509},511,null,{"$f":"AccVelDataLink!G513","v":13},"○","○"]
[511,0,15000,{"$f":"AccVelDataLink!A514","v":511},510,512,null,{"$f":"AccVelDataLink!G514","v":15},"○","○"]
[512,0,17000,{"$f":"AccVelDataLink!A515","v":512},511,513,null,{"$f":"AccVelDataLink!G515","v":17},"○","○"]
[513,0,20000,{"$f":"AccVelDataLink!A516","v":513},512,514,null,{"$f":"AccVelDataLink!G516","v":20},"○","○"]
[514,0,24000,{"$f":"AccVelDataLink!A517","v":514},513,515,null,{"$f":"AccVelDataLink!G517","v":24},"○","○"]
[515,0,30000,{"$f":"AccVelDataLink!A518","v":515},514,516,null,{"$f":"AccVelDataLink!G518","v":30},"○","○"]
[516,1,{"$f":"H519*$H$1","v":3000},{"$f":"AccVelDataLink!A519","v":516},515,517,{"$f":"AccVelDataLink!F519","v":"ISDB-M-200-30-垂直"},{"$f":"AccVelDataLink!G519","v":3},"○","○"]
[{"$f":"A519+1","v":517},1,3500,{"$f":"AccVelDataLink!A520","v":517},516,518,null,{"$f":"AccVelDataLink!G520","v":3.5},"○","○"]
[518,1,4000,{"$f":"AccVelDataLink!A521","v":518},517,519,null,{"$f":"AccVelDataLink!G521","v":4},"○","○"]
[519,1,4500,{"$f":"AccVelDataLink!A522","v":519},518,520,null,{"$f":"AccVelDataLink!G522","v":4.5},"○","○"]
[520,1,5000,{"$f":"AccVelDataLink!A523","v":520},519,521,null,{"$f":"AccVelDataLink!G523","v":5},"○","○"]
[521,1,5500,{"$f":"AccVelDataLink!A524","v":521},520,522,null,{"$f":"AccVelDataLink!G524","v":5.5},"○","○"]
[522,1,6000,{"$f":"AccVelDataLink!A525","v":522},521,-1,null,{"$f":"AccVelDataLink!G525","v":6},{"$f":"IF(E525=A524,\"○\",IF(G525=0,\"つなぎまちがい\",\"先頭\"))","v":"○"},{"$f":"IF(F525=A526,\"○\",IF(F525<>E526,\"つなぎまちがい\",\"終端\"))","v":"終端"}]
[523,0,40000,{"$f":"AccVelDataLink!A526","v":523},-1,{"$f":"A527","v":524},{"$f":"AccVelDataLink!F526","v":"ISDB-L-200-10-水平"},{"$f":"AccVelDataLink!G526","v":40},"先頭","○"]
[{"$f":"A526+1","v":524},0,51000,{"$f":"AccVelDataLink!A527","v":524},{"$f":"A526","v":523},525,null,{"$f":"AccVelDataLink!G527","v":51},"○","○"]
[525,0,66000,{"$f":"AccVelDataLink!A528","v":525},524,526,null,{"$f":"AccVelDataLink!G528","v":66},"○","○"]
[526,0,90000,{"$f":"AccVelDataLink!A529","v":526},525,527,null,{"$f":"AccVelDataLink!G529","v":90},"○","○"]
[527,1,14000,{"$f":"AccVelDataLink!A530","v":527},526,528,{"$f":"AccVelDataLink!F530","v":"ISDB-L-200-10-垂直"},{"$f":"AccVelDataLink!G530","v":14},"○","○"]
[528,1,16000,{"$f":"AccVelDataLink!A531","v":528},527,529,null,{"$f":"AccVelDataLink!G531","v":16},{"$f":"IF(E531=A530,\"○\",IF(G531=0,\"つなぎまちがい\",\"先頭\"))","v":"○"},{"$f":"IF(F531=A532,\"○\",IF(F531<>E532,\"つなぎまちがい\",\"終端\"))","v":"○"}]
[529,1,20000,{"$f":"AccVelDataLink!A532","v":529},528,-1,null,{"$f":"AccVelDataLink!G532","v":20},"○","終端"]
[530,0,{"$f":"H533*$H$1","v":15000},{"$f":"AccVelDataLink!A533","v":530},-1,{"$f":"A534","v":531},{"$f":"AccVelDataLink!F533","v":"ISDB-L-200-20-水平"},{"$f":"AccVelDataLink!G533","v":15},"先頭","○"]
[531,0,17000,{"$f":"AccVelDataLink!A534","v":531},{"$f":"A533","v":530},532,null,{"$f":"AccVelDataLink!G534","v":17},"○","○"]
[{"$f":"A534+1","v":532},0,20000,{"$f":"AccVelDataLink!A535","v":532},531,533,null,{"$f":"AccVelDataLink!G535","v":20},"○","○"]
[533,0,23000,{"$f":"AccVelDataLink!A536","v":533},532,534,null,{"$f":"AccVelDataLink!G536","v":23},"○","○"]
[534,0,28000,{"$f":"AccVelDataLink!A537","v":534},533,535,null,{"$f":"AccVelDataLink!G537","v":28},"○","○"]
[535,0,35000,{"$f":"AccVelDataLink!A538","v":535},534,536,null,{"$f":"AccVelDataLink!G538","v":35},"○","○"]
[{"$f":"A538+1","v":536},0,45000,{"$f":"AccVelDataLink!A539","v":536},535,537,null,{"$f":"AccVelDataLink!G539","v":45},"○","○"]
[{"$f":"A539+1","v":537},1,5000,{"$f":"AccVelDataLink!A540","v":537},536,538,{"$f":"AccVelDataLink!F540","v":"ISDB-L-200-20-垂直"},{"$f":"AccVelDataLink!G540","v":5},"○","○"]
[538,1,5500,{"$f":"AccVelDataLink!A541","v":538},537,539,null,{"$f":"AccVelDataLink!G541","v":5.5},"○","○"]
[539,1,6000,{"$f":"AccVelDataLink!A542","v":539},538,540,null,{"$f":"AccVelDataLink!G542","v":6},"○","○"]
[540,1,7000,{"$f":"AccVelDataLink!A543","v":540},539,541,null,{"$f":"AccVelDataLink!G543","v":7},"○","○"]
[541,1,7500,{"$f":"AccVelDataLink!A544","v":541},540,542,null,{"$f":"AccVelDataLink!G544","v":7.5},"○","○"]
[542,1,8500,{"$f":"AccVelDataLink!A545","v":542},541,543,null,{"$f":"AccVelDataLink!G545","v":8.5},{"$f":"IF(E545=A544,\"○\",IF(G545=0,\"つなぎまちがい\",\"先頭\"))","v":"○"},{"$f":"IF(F545=A546,\"○\",IF(F545<>E546,\"つなぎまちがい\",\"終端\"))","v":"○"}]
[543,1,9000,{"$f":"AccVelDataLink!A546","v":543},542,-1,null,{"$f":"AccVelDataLink!G546","v":9},"○","終端"]
[{"$f":"A546+1","v":544},0,7000,{"$f":"AccVelDataLink!A547","v":544},-1,{"$f":"A548","v":545},{"$f":"AccVelDataLink!F547","v":"ISDB-L-200-40-水平"},{"$f":"AccVelDataLink!G547","v":7},"先頭","○"]
[{"$f":"A547+1","v":545},0,7500,{"$f":"AccVelDataLink!A548","v":545},{"$f":"A547","v":544},546,null,{"$f":"AccVelDataLink!G548","v":7.5},"○","○"]
[546,0,8000,{"$f":"AccVelDataLink!A549","v":546},545,547,null,{"$f":"AccVelDataLink!G549","v":8},"○","○"]
[547,0,9000,{"$f":"AccVelDataLink!A550","v":547},546,548,null,{"$f":"AccVelDataLink!G550","v":9},"○","○"]
[548,0,10500,{"$f":"AccVelDataLink!A551","v":548},547,549,null,{"$f":"AccVelDataLink!G551","v":10.5},"○","○"]
[549,0,12000,{"$f":"AccVelDataLink!A552","v":549},548,550,null,{"$f":"AccVelDataLink!G552","v":12},"○","○"]
[{"$f":"A552+1","v":550},0,15000,{"$f":"AccVelDataLink!A553","v":550},549,551,null,{"$f":"AccVelDataLink!G553","v":15},"○","○"]
[{"$f":"A553+1","v":551},1,{"$f":"H554*$H$1","v":2000},{"$f":"AccVelDataLink!A554","v":551},550,552,{"$f":"AccVelDataLink!F554","v":"ISDB-L-200-40-垂直"},{"$f":"AccVelDataLink!G554","v":2},"○","○"]
[{"$f":"A554+1","v":552},1,2100,{"$f":"AccVelDataLink!A555","v":552},551,553,null,{"$f":"AccVelDataLink!G555","v":2.1},"○","○"]
[553,1,2200,{"$f":"AccVelDataLink!A556","v":553},552,554,null,{"$f":"AccVelDataLink!G556","v":2.2000000000000002},"○","○"]
[554,1,2300,{"$f":"AccVelDataLink!A557","v":554},553,555,null,{"$f":"AccVelDataLink!G557","v":2.2999999999999998},"○","○"]
[555,1,2400,{"$f":"AccVelDataLink!A558","v":555},554,556,null,{"$f":"AccVelDataLink!G558","v":2.4},"○","○"]
[556,1,2500,{"$f":"AccVelDataLink!A559","v":556},555,-1,null,{"$f":"AccVelDataLink!G559","v":2.5},{"$f":"IF(E559=A558,\"○\",IF(G559=0,\"つなぎまちがい\",\"先頭\"))","v":"○"},{"$f":"IF(F559=A560,\"○\",IF(F559<>E560,\"つなぎまちがい\",\"終端\"))","v":"終端"}]
[557,0,60000,{"$f":"AccVelDataLink!A560","v":557},-1,{"$f":"A561","v":558},{"$f":"AccVelDataLink!F560","v":"ISDB-L-400-10-水平"},{"$f":"AccVelDataLink!G560","v":60},"先頭","○"]
[558,0,73000,{"$f":"AccVelDataLink!A561","v":558},{"$f":"A560","v":557},559,null,{"$f":"AccVelDataLink!G561","v":73},"○","○"]
[559,0,92000,{"$f":"AccVelDataLink!A562","v":559},558,560,null,{"$f":"AccVelDataLink!G562","v":92},"○","○"]
[{"$f":"A562+1","v":560},0,120000,{"$f":"AccVelDataLink!A563","v":560},559,561,null,{"$f":"AccVelDataLink!G563","v":120},"○","○"]
[{"$f":"A563+1","v":561},1,30000,{"$f":"AccVelDataLink!A564","v":561},560,562,{"$f":"AccVelDataLink!F564","v":"ISDB-L-400-10-垂直"},{"$f":"AccVelDataLink!G564","v":30},"○","○"]
[562,1,35000,{"$f":"AccVelDataLink!A565","v":562},561,563,null,{"$f":"AccVelDataLink!G565","v":35},{"$f":"IF(E565=A564,\"○\",IF(G565=0,\"つなぎまちがい\",\"先頭\"))","v":"○"},{"$f":"IF(F565=A566,\"○\",IF(F565<>E566,\"つなぎまちがい\",\"終端\"))","v":"○"}]
[563,1,40000,{"$f":"AccVelDataLink!A566","v":563},562,-1,null,{"$f":"AccVelDataLink!G566","v":40},"○","終端"]
[{"$f":"A566+1","v":564},0,30000,{"$f":"AccVelDataLink!A567","v":564},-1,{"$f":"A568","v":565},{"$f":"AccVelDataLink!F567","v":"ISDB-L-400-20-水平"},{"$f":"AccVelDataLink!G567","v":30},"先頭","○"]
[{"$f":"A567+1","v":565},0,35000,{"$f":"AccVelDataLink!A568","v":565},{"$f":"A567","v":564},566,null,{"$f":"AccVelDataLink!G568","v":35},"○","○"]
[566,0,40000,{"$f":"AccVelDataLink!A569","v":566},565,567,null,{"$f":"AccVelDataLink!G569","v":40},"○","○"]
[567,0,47000,{"$f":"AccVelDataLink!A570","v":567},566,568,null,{"$f":"AccVelDataLink!G570","v":47},"○","○"]
[568,0,57000,{"$f":"AccVelDataLink!A571","v":568},567,569,null,{"$f":"AccVelDataLink!G571","v":57},"○","○"]
[569,0,70000,{"$f":"AccVelDataLink!A572","v":569},568,570,null,{"$f":"AccVelDataLink!G572","v":70},"○","○"]
[{"$f":"A572+1","v":570},0,{"$f":"H573*$H$1","v":90000},{"$f":"AccVelDataLink!A573","v":570},569,571,null,{"$f":"AccVelDataLink!G573","v":90},"○","○"]
[{"$f":"A573+1","v":571},1,10000,{"$f":"AccVelDataLink!A574","v":571},570,572,{"$f":"AccVelDataLink!F574","v":"ISDB-L-400-20-垂直"},{"$f":"AccVelDataLink!G574","v":10},"○","○"]
[{"$f":"A574+1","v":572},1,11000,{"$f":"AccVelDataLink!A575","v":572},571,573,null,{"$f":"AccVelDataLink!G575","v":11},"○","○"]
[573,1,12000,{"$f":"AccVelDataLink!A576","v":573},572,574,null,{"$f":"AccVelDataLink!G576","v":12},"○","○"]
[574,1,14000,{"$f":"AccVelDataLink!A577","v":574},573,575,null,{"$f":"AccVelDataLink!G577","v":14},"○","○"]
[575,1,15000,{"$f":"AccVelDataLink!A578","v":575},574,576,null,{"$f":"AccVelDataLink!G578","v":15},"○","○"]
[576,1,17000,{"$f":"AccVelDataLink!A579","v":576},575,577,null,{"$f":"AccVelDataLink!G579","v":17},"○",{"$f":"IF(F579=A580,\"○\",IF(F579<>E580,\"つなぎまちがい\",\"終端\"))","v":"○"}]
[577,1,20000,{"$f":"AccVelDataLink!A580","v":577},576,-1,null,{"$f":"AccVelDataLink!G580","v":20},{"$f":"IF(E580=A579,\"○\",IF(G580=0,\"つなぎまちがい\",\"先頭\"))","v":"○"},"終端"]
[{"$f":"A580+1","v":578},0,17000,{"$f":"AccVelDataLink!A581","v":578},-1,{"$f":"A582","v":579},{"$f":"AccVelDataLink!F581","v":"ISDB-L-400-40-水平"},{"$f":"AccVelDataLink!G581","v":17},"先頭","○"]
[{"$f":"A581+1","v":579},0,19000,{"$f":"AccVelDataLink!A582","v":579},{"$f":"A581","v":578},580,null,{"$f":"AccVelDataLink!G582","v":19},"○","○"]
[580,0,21000,{"$f":"AccVelDataLink!A583","v":580},579,581,null,{"$f":"AccVelDataLink!G583","v":21},"○","○"]
[581,0,23000,{"$f":"AccVelDataLink!A584","v":581},580,582,null,{"$f":"AccVelDataLink!G584","v":23},"○","○"]
[582,0,27000,{"$f":"AccVelDataLink!A585","v":582},581,583,null,{"$f":"AccVelDataLink!G585","v":27},"○","○"]
[583,0,32000,{"$f":"AccVelDataLink!A586","v":583},582,584,null,{"$f":"AccVelDataLink!G586","v":32},"○","○"]
[{"$f":"A586+1","v":584},0,40000,{"$f":"AccVelDataLink!A587","v":584},583,585,null,{"$f":"AccVelDataLink!G587","v":40},"○","○"]
[{"$f":"A587+1","v":585},1,{"$f":"H588*$H$1","v":5000},{"$f":"AccVelDataLink!A588","v":585},584,586,{"$f":"AccVelDataLink!F588","v":"ISDB-L-400-40-垂直"},{"$f":"AccVelDataLink!G588","v":5},"○","○"]
[{"$f":"A588+1","v":586},1,5500,{"$f":"AccVelDataLink!A589","v":586},585,587,null,{"$f":"AccVelDataLink!G589","v":5.5},"○","○"]
[587,1,6000,{"$f":"AccVelDataLink!A590","v":587},586,588,null,{"$f":"AccVelDataLink!G590","v":6},"○","○"]
[588,1,6500,{"$f":"AccVelDataLink!A591","v":588},587,589,null,{"$f":"AccVelDataLink!G591","v":6.5},"○","○"]
[589,1,7000,{"$f":"AccVelDataLink!A592","v":589},588,590,null,{"$f":"AccVelDataLink!G592","v":7},"○","○"]
[590,1,7500,{"$f":"AccVelDataLink!A593","v":590},589,591,null,{"$f":"AccVelDataLink!G593","v":7.5},"○","○"]
[591,1,8000,{"$f":"AccVelDataLink!A594","v":591},590,-1,null,{"$f":"AccVelDataLink!G594","v":8},"○","終端"]
[592,0,30000,{"$f":"AccVelDataLink!A595","v":592},-1,{"$f":"A596","v":593},{"$f":"AccVelDataLink!F595","v":"ISDBCR-S-60-4-水平"},{"$f":"AccVelDataLink!G595","v":30},{"$f":"IF(E595=A594,\"○\",IF(G595=0,\"つなぎまちがい\",\"先頭\"))","v":"先頭"},{"$f":"IF(F595=A596,\"○\",IF(F595<>E596,\"つなぎまちがい\",\"終端\"))","v":"○"}]
[593,0,38000,{"$f":"AccVelDataLink!A596","v":593},{"$f":"A595","v":592},594,null,{"$f":"AccVelDataLink!G596","v":38},"○","○"]
[594,0,50000,{"$f":"AccVelDataLink!A597","v":594},593,595,null,{"$f":"AccVelDataLink!G597","v":50},"○","○"]
[{"$f":"A597+1","v":595},0,55000,{"$f":"AccVelDataLink!A598","v":595},594,596,null,{"$f":"AccVelDataLink!G598","v":55},"○","○"]
[{"$f":"A598+1","v":596},1,12000,{"$f":"AccVelDataLink!A599","v":596},595,597,{"$f":"AccVelDataLink!F599","v":"ISDBCR-S-60-4-垂直"},{"$f":"AccVelDataLink!G599","v":12},"○","○"]
[597,1,13000,{"$f":"AccVelDataLink!A600","v":597},596,598,null,{"$f":"AccVelDataLink!G600","v":13},"○","○"]
[598,1,14000,{"$f":"AccVelDataLink!A601","v":598},597,-1,null,{"$f":"AccVelDataLink!G601","v":14},"○","終端"]
[599,0,12000,{"$f":"AccVelDataLink!A602","v":599},-1,{"$f":"A603","v":600},{"$f":"AccVelDataLink!F602","v":"ISDBCR-S-60-8-水平"},{"$f":"AccVelDataLink!G602","v":12},{"$f":"IF(E602=A601,\"○\",IF(G602=0,\"つなぎまちがい\",\"先頭\"))","v":"先頭"},{"$f":"IF(F602=A603,\"○\",IF(F602<>E603,\"つなぎまちがい\",\"終端\"))","v":"○"}]
[600,0,15000,{"$f":"AccVelDataLink!A603","v":600},{"$f":"A602","v":599},601,null,{"$f":"AccVelDataLink!G603","v":15},"○","○"]
[601,0,20000,{"$f":"AccVelDataLink!A604","v":601},600,602,null,{"$f":"AccVelDataLink!G604","v":20},"○","○"]
[{"$f":"A604+1","v":602},0,27000,{"$f":"AccVelDataLink!A605","v":602},601,603,null,{"$f":"AccVelDataLink!G605","v":27},"○","○"]
[{"$f":"A605+1","v":603},1,5000,{"$f":"AccVelDataLink!A606","v":603},602,604,{"$f":"AccVelDataLink!F606","v":"ISDBCR-S-60-8-垂直"},{"$f":"AccVelDataLink!G606","v":5},"○","○"]
[604,1,5500,{"$f":"AccVelDataLink!A607","v":604},603,605,null,{"$f":"AccVelDataLink!G607","v":5.5},"○","○"]
[605,1,6000,{"$f":"AccVelDataLink!A608","v":605},604,-1,null,{"$f":"AccVelDataLink!G608","v":6},{"$f":"IF(E608=A607,\"○\",IF(G608=0,\"つなぎまちがい\",\"先頭\"))","v":"○"},{"$f":"IF(F608=A609,\"○\",IF(F608<>E609,\"つなぎまちがい\",\"終端\"))","v":"終端"}]
[606,0,4500,{"$f":"AccVelDataLink!A609","v":606},-1,{"$f":"A610","v":607},{"$f":"AccVelDataLink!F609","v":"ISDBCR-S-60-16-水平"},{"$f":"AccVelDataLink!G609","v":4.5},"先頭","○"]
[607,0,5500,{"$f":"AccVelDataLink!A610","v":607},{"$f":"A609","v":606},608,null,{"$f":"AccVelDataLink!G610","v":5.5},"○","○"]
[608,0,6000,{"$f":"AccVelDataLink!A611","v":608},607,609,null,{"$f":"AccVelDataLink!G611","v":6},"○","○"]
[609,0,7000,{"$f":"AccVelDataLink!A612","v":609},608,610,null,{"$f":"AccVelDataLink!G612","v":7},"○","○"]
[610,0,8500,{"$f":"AccVelDataLink!A613","v":610},609,611,null,{"$f":"AccVelDataLink!G613","v":8.5},"○","○"]
[611,0,10500,{"$f":"AccVelDataLink!A614","v":611},610,612,null,{"$f":"AccVelDataLink!G614","v":10.5},"○","○"]
[{"$f":"A614+1","v":612},0,13000,{"$f":"AccVelDataLink!A615","v":612},611,613,null,{"$f":"AccVelDataLink!G615","v":13},"○","○"]
[{"$f":"A615+1","v":613},1,2000,{"$f":"AccVelDataLink!A616","v":613},612,614,{"$f":"AccVelDataLink!F616","v":"ISDBCR-S-60-16-垂直"},{"$f":"AccVelDataLink!G616","v":2},"○","○"]
[614,1,2300,{"$f":"AccVelDataLink!A617","v":614},613,615,null,{"$f":"AccVelDataLink!G617","v":2.2999999999999998},"○","○"]
[{"$f":"A617+1","v":615},1,{"$f":"H618*$H$1","v":2500},{"$f":"AccVelDataLink!A618","v":615},614,616,null,{"$f":"AccVelDataLink!G618","v":2.5},"○","○"]
[616,1,2800,{"$f":"AccVelDataLink!A619","v":616},615,617,null,{"$f":"AccVelDataLink!G619","v":2.8},"○","○"]
[617,1,3000,{"$f":"AccVelDataLink!A620","v":617},616,-1,null,{"$f":"AccVelDataLink!G620","v":3},"○","終端"]
[618,0,45000,{"$f":"AccVelDataLink!A621","v":618},-1,{"$f":"A622","v":619},{"$f":"AccVelDataLink!F621","v":"ISDBCR-M-100-5-水平"},{"$f":"AccVelDataLink!G621","v":45},{"$f":"IF(E621=A620,\"○\",IF(G621=0,\"つなぎまちがい\",\"先頭\"))","v":"先頭"},{"$f":"IF(F621=A622,\"○\",IF(F621<>E622,\"つなぎまちがい\",\"終端\"))","v":"○"}]
[619,0,60000,{"$f":"AccVelDataLink!A622","v":619},{"$f":"A621","v":618},620,null,{"$f":"AccVelDataLink!G622","v":60},"○","○"]
[620,0,80000,{"$f":"AccVelDataLink!A623","v":620},619,621,null,{"$f":"AccVelDataLink!G623","v":80},"○","○"]
[{"$f":"A623+1","v":621},0,85000,{"$f":"AccVelDataLink!A624","v":621},620,622,null,{"$f":"AccVelDataLink!G624","v":85},"○","○"]
[{"$f":"A624+1","v":622},1,15000,{"$f":"AccVelDataLink!A625","v":622},621,623,{"$f":"AccVelDataLink!F625","v":"ISDBCR-M-100-5-垂直"},{"$f":"AccVelDataLink!G625","v":15},"○","○"]
[623,1,17000,{"$f":"AccVelDataLink!A626","v":623},622,624,null,{"$f":"AccVelDataLink!G626","v":17},"○","○"]
[624,1,20000,{"$f":"AccVelDataLink!A627","v":624},623,-1,null,{"$f":"AccVelDataLink!G627","v":20},"○","終端"]
[625,0,20000,{"$f":"AccVelDataLink!A628","v":625},-1,{"$f":"A629","v":626},{"$f":"AccVelDataLink!F628","v":"ISDBCR-M-100-10-水平"},{"$f":"AccVelDataLink!G628","v":20},{"$f":"IF(E628=A627,\"○\",IF(G628=0,\"つなぎまちがい\",\"先頭\"))","v":"先頭"},{"$f":"IF(F628=A629,\"○\",IF(F628<>E629,\"つなぎまちがい\",\"終端\"))","v":"○"}]
[626,0,23000,{"$f":"AccVelDataLink!A629","v":626},{"$f":"A628","v":625},627,null,{"$f":"AccVelDataLink!G629","v":23},"○","○"]
[627,0,30000,{"$f":"AccVelDataLink!A630","v":627},626,628,null,{"$f":"AccVelDataLink!G630","v":30},"○","○"]
[{"$f":"A630+1","v":628},0,45000,{"$f":"AccVelDataLink!A631","v":628},627,629,null,{"$f":"AccVelDataLink!G631","v":45},"○","○"]
[{"$f":"A631+1","v":629},1,7000,{"$f":"AccVelDataLink!A632","v":629},628,630,{"$f":"AccVelDataLink!F632","v":"ISDBCR-M-100-10-垂直"},{"$f":"AccVelDataLink!G632","v":7},"○","○"]
[630,1,8000,{"$f":"AccVelDataLink!A633","v":630},629,631,null,{"$f":"AccVelDataLink!G633","v":8},"○","○"]
[631,1,10000,{"$f":"AccVelDataLink!A634","v":631},630,-1,null,{"$f":"AccVelDataLink!G634","v":10},"○","終端"]
[632,0,8000,{"$f":"AccVelDataLink!A635","v":632},-1,{"$f":"A636","v":633},{"$f":"AccVelDataLink!F635","v":"ISDBCR-M-100-20-水平"},{"$f":"AccVelDataLink!G635","v":8},{"$f":"IF(E635=A634,\"○\",IF(G635=0,\"つなぎまちがい\",\"先頭\"))","v":"先頭"},{"$f":"IF(F635=A636,\"○\",IF(F635<>E636,\"つなぎまちがい\",\"終端\"))","v":"○"}]
[633,0,9000,{"$f":"AccVelDataLink!A636","v":633},{"$f":"A635","v":632},634,null,{"$f":"AccVelDataLink!G636","v":9},"○",{"$f":"IF(F636=A637,\"○\",IF(F636<>E637,\"つなぎまちがい\",\"終端\"))","v":"○"}]
[634,0,11000,{"$f":"AccVelDataLink!A637","v":634},633,635,null,{"$f":"AccVelDataLink!G637","v":11},"○","○"]
[635,0,13000,{"$f":"AccVelDataLink!A638","v":635},634,636,null,{"$f":"AccVelDataLink!G638","v":13},"○","○"]
[636,0,15000,{"$f":"AccVelDataLink!A639","v":636},635,637,null,{"$f":"AccVelDataLink!G639","v":15},"○","○"]
[637,0,18000,{"$f":"AccVelDataLink!A640","v":637},636,638,null,{"$f":"AccVelDataLink!G640","v":18},"○","○"]
[{"$f":"A640+1","v":638},0,23000,{"$f":"AccVelDataLink!A641","v":638},637,639,null,{"$f":"AccVelDataLink!G641","v":23},"○","○"]
[{"$f":"A641+1","v":639},1,{"$f":"H642*$H$1","v":2500},{"$f":"AccVelDataLink!A642","v":639},638,640,{"$f":"AccVelDataLink!F642","v":"ISDBCR-M-100-20-垂直"},{"$f":"AccVelDataLink!G642","v":2.5},"○","○"]
[{"$f":"A642+1","v":640},1,2800,{"$f":"AccVelDataLink!A643","v":640},639,641,null,{"$f":"AccVelDataLink!G643","v":2.8},"○","○"]
[641,1,3000,{"$f":"AccVelDataLink!A644","v":641},640,642,null,{"$f":"AccVelDataLink!G644","v":3},"○","○"]
[642,1,3300,{"$f":"AccVelDataLink!A645","v":642},641,643,null,{"$f":"AccVelDataLink!G645","v":3.3},"○","○"]
[643,1,3500,{"$f":"AccVelDataLink!A646","v":643},642,644,null,{"$f":"AccVelDataLink!G646","v":3.5},"○","○"]
[644,1,3800,{"$f":"AccVelDataLink!A647","v":644},643,645,null,{"$f":"AccVelDataLink!G647","v":3.8},"○","○"]
[645,1,4000,{"$f":"AccVelDataLink!A648","v":645},644,-1,null,{"$f":"AccVelDataLink!G648","v":4},"○","終端"]
[646,0,4000,{"$f":"AccVelDataLink!A649","v":646},-1,{"$f":"A650","v":647},{"$f":"AccVelDataLink!F649","v":"ISDBCR-M-100-30-水平"},{"$f":"AccVelDataLink!G649","v":4},{"$f":"IF(E649=A648,\"○\",IF(G649=0,\"つなぎまちがい\",\"先頭\"))","v":"先頭"},{"$f":"IF(F649=A650,\"○\",IF(F649<>E650,\"つなぎまちがい\",\"終端\"))","v":"○"}]
[647,0,5000,{"$f":"AccVelDataLink!A650","v":647},{"$f":"A649","v":646},648,null,{"$f":"AccVelDataLink!G650","v":5},"○","○"]
[648,0,6000,{"$f":"AccVelDataLink!A651","v":648},647,649,null,{"$f":"AccVelDataLink!G651","v":6},"○","○"]
[649,0,7000,{"$f":"AccVelDataLink!A652","v":649},648,650,null,{"$f":"AccVelDataLink!G652","v":7},"○","○"]
[650,0,9000,{"$f":"AccVelDataLink!A653","v":650},649,651,null,{"$f":"AccVelDataLink!G653","v":9},"○","○"]
[651,0,11000,{"$f":"AccVelDataLink!A654","v":651},650,652,null,{"$f":"AccVelDataLink!G654","v":11},"○","○"]
[{"$f":"A654+1","v":652},0,15000,{"$f":"AccVelDataLink!A655","v":652},651,653,null,{"$f":"AccVelDataLink!G655","v":15},"○","○"]
[{"$f":"A655+1","v":653},1,{"$f":"H656*$H$1","v":1200},{"$f":"AccVelDataLink!A656","v":653},652,654,{"$f":"AccVelDataLink!F656","v":"ISDBCR-M-100-30-垂直"},{"$f":"AccVelDataLink!G656","v":1.2},"○","○"]
[{"$f":"A656+1","v":654},1,1300,{"$f":"AccVelDataLink!A657","v":654},653,655,null,{"$f":"AccVelDataLink!G657","v":1.3},"○","○"]
[655,1,1400,{"$f":"AccVelDataLink!A658","v":655},654,656,null,{"$f":"AccVelDataLink!G658","v":1.4},"○","○"]
[656,1,1500,{"$f":"AccVelDataLink!A659","v":656},655,657,null,{"$f":"AccVelDataLink!G659","v":1.5},"○","○"]
[657,1,1600,{"$f":"AccVelDataLink!A660","v":657},656,658,null,{"$f":"AccVelDataLink!G660","v":1.6},"○","○"]
[658,1,1800,{"$f":"AccVelDataLink!A661","v":658},657,659,null,{"$f":"AccVelDataLink!G661","v":1.8},"○","○"]
[659,1,2000,{"$f":"AccVelDataLink!A662","v":659},658,-1,null,{"$f":"AccVelDataLink!G662","v":2},"○","終端"]
[660,0,80000,{"$f":"AccVelDataLink!A663","v":660},-1,{"$f":"A664","v":661},{"$f":"AccVelDataLink!F663","v":"ISDBCR-M-200-5-水平"},{"$f":"AccVelDataLink!G663","v":80},{"$f":"IF(E663=A662,\"○\",IF(G663=0,\"つなぎまちがい\",\"先頭\"))","v":"先頭"},{"$f":"IF(F663=A664,\"○\",IF(F663<>E664,\"つなぎまちがい\",\"終端\"))","v":"○"}]
[661,0,90000,{"$f":"AccVelDataLink!A664","v":661},{"$f":"A663","v":660},662,null,{"$f":"AccVelDataLink!G664","v":90},"○","○"]
[662,0,100000,{"$f":"AccVelDataLink!A665","v":662},661,663,null,{"$f":"AccVelDataLink!G665","v":100},"○","○"]
[{"$f":"A665+1","v":663},0,110000,{"$f":"AccVelDataLink!A666","v":663},662,664,null,{"$f":"AccVelDataLink!G666","v":110},"○","○"]
[{"$f":"A666+1","v":664},1,30000,{"$f":"AccVelDataLink!A667","v":664},663,665,{"$f":"AccVelDataLink!F667","v":"ISDBCR-M-200-5-垂直"},{"$f":"AccVelDataLink!G667","v":30},"○","○"]
[665,1,34000,{"$f":"AccVelDataLink!A668","v":665},664,666,null,{"$f":"AccVelDataLink!G668","v":34},"○","○"]
[666,1,40000,{"$f":"AccVelDataLink!A669","v":666},665,-1,null,{"$f":"AccVelDataLink!G669","v":40},"○","終端"]
[667,0,40000,{"$f":"AccVelDataLink!A670","v":667},-1,{"$f":"A671","v":668},{"$f":"AccVelDataLink!F670","v":"ISDBCR-M-200-10-水平"},{"$f":"AccVelDataLink!G670","v":40},{"$f":"IF(E670=A669,\"○\",IF(G670=0,\"つなぎまちがい\",\"先頭\"))","v":"先頭"},{"$f":"IF(F670=A671,\"○\",IF(F670<>E671,\"つなぎまちがい\",\"終端\"))","v":"○"}]
[668,0,51000,{"$f":"AccVelDataLink!A671","v":668},{"$f":"A670","v":667},669,null,{"$f":"AccVelDataLink!G671","v":51},"○","○"]
[669,0,66000,{"$f":"AccVelDataLink!A672","v":669},668,670,null,{"$f":"AccVelDataLink!G672","v":66},"○","○"]
[{"$f":"A672+1","v":670},0,90000,{"$f":"AccVelDataLink!A673","v":670},669,671,null,{"$f":"AccVelDataLink!G673","v":90},"○","○"]
[{"$f":"A673+1","v":671},1,15000,{"$f":"AccVelDataLink!A674","v":671},670,672,{"$f":"AccVelDataLink!F674","v":"ISDBCR-M-200-10-垂直"},{"$f":"AccVelDataLink!G674","v":15},"○","○"]
[672,1,17000,{"$f":"AccVelDataLink!A675","v":672},671,673,null,{"$f":"AccVelDataLink!G675","v":17},"○","○"]
[673,1,20000,{"$f":"AccVelDataLink!A676","v":673},672,-1,null,{"$f":"AccVelDataLink!G676","v":20},"○","終端"]
[674,0,16000,{"$f":"AccVelDataLink!A677","v":674},-1,{"$f":"A678","v":675},{"$f":"AccVelDataLink!F677","v":"ISDBCR-M-200-20-水平"},{"$f":"AccVelDataLink!G677","v":16},{"$f":"IF(E677=A676,\"○\",IF(G677=0,\"つなぎまちがい\",\"先頭\"))","v":"先頭"},{"$f":"IF(F677=A678,\"○\",IF(F677<>E678,\"つなぎまちがい\",\"終端\"))","v":"○"}]
[675,0,18000,{"$f":"AccVelDataLink!A678","v":675},{"$f":"A677","v":674},676,null,{"$f":"AccVelDataLink!G678","v":18},"○","○"]
[676,0,20000,{"$f":"AccVelDataLink!A679","v":676},675,677,null,{"$f":"AccVelDataLink!G679","v":20},"○","○"]
[677,0,23000,{"$f":"AccVelDataLink!A680","v":677},676,678,null,{"$f":"AccVelDataLink!G680","v":23},"○","○"]
[678,0,28000,{"$f":"AccVelDataLink!A681","v":678},677,679,null,{"$f":"AccVelDataLink!G681","v":28},"○","○"]
[{"$f":"A681+1","v":679},0,{"$f":"H682*$H$1","v":35000},{"$f":"AccVelDataLink!A682","v":679},678,680,null,{"$f":"AccVelDataLink!G682","v":35},"○","○"]
[{"$f":"A682+1","v":680},0,45000,{"$f":"AccVelDataLink!A683","v":680},679,681,null,{"$f":"AccVelDataLink!G683","v":45},"○","○"]
[{"$f":"A683+1","v":681},1,{"$f":"H684*$H$1","v":5000},{"$f":"AccVelDataLink!A684","v":681},680,682,{"$f":"AccVelDataLink!F684","v":"ISDBCR-M-200-20-垂直"},{"$f":"AccVelDataLink!G684","v":5},"○","○"]
[{"$f":"A684+1","v":682},1,5500,{"$f":"AccVelDataLink!A685","v":682},681,683,null,{"$f":"AccVelDataLink!G685","v":5.5},"○","○"]
[683,1,6000,{"$f":"AccVelDataLink!A686","v":683},682,684,null,{"$f":"AccVelDataLink!G686","v":6},"○","○"]
[684,1,7000,{"$f":"AccVelDataLink!A687","v":684},683,685,null,{"$f":"AccVelDataLink!G687","v":7},"○","○"]
[685,1,7500,{"$f":"AccVelDataLink!A688","v":685},684,686,null,{"$f":"AccVelDataLink!G688","v":7.5},"○","○"]
[686,1,8500,{"$f":"AccVelDataLink!A689","v":686},685,687,null,{"$f":"AccVelDataLink!G689","v":8.5},"○","○"]
[687,1,10000,{"$f":"AccVelDataLink!A690","v":687},686,-1,null,{"$f":"AccVelDataLink!G690","v":10},"○","終端"]
[688,0,12000,{"$f":"AccVelDataLink!A691","v":688},-1,{"$f":"A692","v":689},{"$f":"AccVelDataLink!F691","v":"ISDBCR-M-200-30-水平"},{"$f":"AccVelDataLink!G691","v":12},{"$f":"IF(E691=A690,\"○\",IF(G691=0,\"つなぎまちがい\",\"先頭\"))","v":"先頭"},{"$f":"IF(F691=A692,\"○\",IF(F691<>E692,\"つなぎまちがい\",\"終端\"))","v":"○"}]
[689,0,13000,{"$f":"AccVelDataLink!A692","v":689},{"$f":"A691","v":688},690,null,{"$f":"AccVelDataLink!G692","v":13},"○","○"]
[690,0,15000,{"$f":"AccVelDataLink!A693","v":690},689,691,null,{"$f":"AccVelDataLink!G693","v":15},"○","○"]
[691,0,17000,{"$f":"AccVelDataLink!A694","v":691},690,692,null,{"$f":"AccVelDataLink!G694","v":17},"○","○"]
[692,0,20000,{"$f":"AccVelDataLink!A695","v":692},691,693,null,{"$f":"AccVelDataLink!G695","v":20},"○","○"]
[693,0,24000,{"$f":"AccVelDataLink!A696","v":693},692,694,null,{"$f":"AccVelDataLink!G696","v":24},"○","○"]
[{"$f":"A696+1","v":694},0,30000,{"$f":"AccVelDataLink!A697","v":694},693,695,null,{"$f":"AccVelDataLink!G697","v":30},"○","○"]
[{"$f":"A697+1","v":695},1,{"$f":"H698*$H$1","v":3000},{"$f":"AccVelDataLink!A698","v":695},694,696,{"$f":"AccVelDataLink!F698","v":"ISDBCR-M-200-30-垂直"},{"$f":"AccVelDataLink!G698","v":3},"○","○"]
[{"$f":"A698+1","v":696},1,3500,{"$f":"AccVelDataLink!A699","v":696},695,697,null,{"$f":"AccVelDataLink!G699","v":3.5},"○","○"]
[697,1,4000,{"$f":"AccVelDataLink!A700","v":697},696,698,null,{"$f":"AccVelDataLink!G700","v":4},"○","○"]
[698,1,4500,{"$f":"AccVelDataLink!A701","v":698},697,699,null,{"$f":"AccVelDataLink!G701","v":4.5},"○","○"]
[699,1,5000,{"$f":"AccVelDataLink!A702","v":699},698,700,null,{"$f":"AccVelDataLink!G702","v":5},"○","○"]
[700,1,5500,{"$f":"AccVelDataLink!A703","v":700},699,701,null,{"$f":"AccVelDataLink!G703","v":5.5},"○","○"]
[701,1,6000,{"$f":"AccVelDataLink!A704","v":701},700,-1,null,{"$f":"AccVelDataLink!G704","v":6},"○","終端"]
[702,0,40000,{"$f":"AccVelDataLink!A705","v":702},-1,{"$f":"A706","v":703},{"$f":"AccVelDataLink!F705","v":"ISDBCR-L-200-10-水平"},{"$f":"AccVelDataLink!G705","v":40},{"$f":"IF(E705=A704,\"○\",IF(G705=0,\"つなぎまちがい\",\"先頭\"))","v":"先頭"},{"$f":"IF(F705=A706,\"○\",IF(F705<>E706,\"つなぎまちがい\",\"終端\"))","v":"○"}]
[703,0,51000,{"$f":"AccVelDataLink!A706","v":703},{"$f":"A705","v":702},704,null,{"$f":"AccVelDataLink!G706","v":51},"○","○"]
[704,0,66000,{"$f":"AccVelDataLink!A707","v":704},703,705,null,{"$f":"AccVelDataLink!G707","v":66},"○","○"]
[{"$f":"A707+1","v":705},0,90000,{"$f":"AccVelDataLink!A708","v":705},704,706,null,{"$f":"AccVelDataLink!G708","v":90},"○","○"]
[{"$f":"A708+1","v":706},1,14000,{"$f":"AccVelDataLink!A709","v":706},705,707,{"$f":"AccVelDataLink!F709","v":"ISDBCR-L-200-10-垂直"},{"$f":"AccVelDataLink!G709","v":14},"○","○"]
[707,1,16000,{"$f":"AccVelDataLink!A710","v":707},706,708,null,{"$f":"AccVelDataLink!G710","v":16},"○","○"]
[708,1,20000,{"$f":"AccVelDataLink!A711","v":708},707,-1,null,{"$f":"AccVelDataLink!G711","v":20},"○","終端"]
[709,0,15000,{"$f":"AccVelDataLink!A712","v":709},-1,{"$f":"A713","v":710},{"$f":"AccVelDataLink!F712","v":"ISDBCR-L-200-20-水平"},{"$f":"AccVelDataLink!G712","v":15},{"$f":"IF(E712=A711,\"○\",IF(G712=0,\"つなぎまちがい\",\"先頭\"))","v":"先頭"},{"$f":"IF(F712=A713,\"○\",IF(F712<>E713,\"つなぎまちがい\",\"終端\"))","v":"○"}]
[710,0,17000,{"$f":"AccVelDataLink!A713","v":710},{"$f":"A712","v":709},711,null,{"$f":"AccVelDataLink!G713","v":17},"○","○"]
[711,0,20000,{"$f":"AccVelDataLink!A714","v":711},710,712,null,{"$f":"AccVelDataLink!G714","v":20},"○","○"]
[712,0,23000,{"$f":"AccVelDataLink!A715","v":712},711,713,null,{"$f":"AccVelDataLink!G715","v":23},"○","○"]
[713,0,28000,{"$f":"AccVelDataLink!A716","v":713},712,714,null,{"$f":"AccVelDataLink!G716","v":28},"○","○"]
[714,0,35000,{"$f":"AccVelDataLink!A717","v":714},713,715,null,{"$f":"AccVelDataLink!G717","v":35},"○","○"]
[{"$f":"A717+1","v":715},0,45000,{"$f":"AccVelDataLink!A718","v":715},714,716,null,{"$f":"AccVelDataLink!G718","v":45},"○","○"]
[{"$f":"A718+1","v":716},1,5000,{"$f":"AccVelDataLink!A719","v":716},715,717,{"$f":"AccVelDataLink!F719","v":"ISDBCR-L-200-20-垂直"},{"$f":"AccVelDataLink!G719","v":5},"○","○"]
[717,1,5500,{"$f":"AccVelDataLink!A720","v":717},716,718,null,{"$f":"AccVelDataLink!G720","v":5.5},"○","○"]
[718,1,6000,{"$f":"AccVelDataLink!A721","v":718},717,719,null,{"$f":"AccVelDataLink!G721","v":6},"○","○"]
[719,1,7000,{"$f":"AccVelDataLink!A722","v":719},718,720,null,{"$f":"AccVelDataLink!G722","v":7},"○","○"]
[720,1,7500,{"$f":"AccVelDataLink!A723","v":720},719,721,null,{"$f":"AccVelDataLink!G723","v":7.5},"○","○"]
[721,1,8500,{"$f":"AccVelDataLink!A724","v":721},720,722,null,{"$f":"AccVelDataLink!G724","v":8.5},"○","○"]
[722,1,9000,{"$f":"AccVelDataLink!A725","v":722},721,-1,null,{"$f":"AccVelDataLink!G725","v":9},"○","終端"]
[723,0,7000,{"$f":"AccVelDataLink!A726","v":723},-1,{"$f":"A727","v":724},{"$f":"AccVelDataLink!F726","v":"ISDBCR-L-200-40-水平"},{"$f":"AccVelDataLink!G726","v":7},{"$f":"IF(E726=A725,\"○\",IF(G726=0,\"つなぎまちがい\",\"先頭\"))","v":"先頭"},{"$f":"IF(F726=A727,\"○\",IF(F726<>E727,\"つなぎまちがい\",\"終端\"))","v":"○"}]
[724,0,7500,{"$f":"AccVelDataLink!A727","v":724},{"$f":"A726","v":723},725,null,{"$f":"AccVelDataLink!G727","v":7.5},"○","○"]
[725,0,8000,{"$f":"AccVelDataLink!A728","v":725},724,726,null,{"$f":"AccVelDataLink!G728","v":8},"○","○"]
[726,0,9000,{"$f":"AccVelDataLink!A729","v":726},725,727,null,{"$f":"AccVelDataLink!G729","v":9},"○","○"]
[727,0,10500,{"$f":"AccVelDataLink!A730","v":727},726,728,null,{"$f":"AccVelDataLink!G730","v":10.5},"○","○"]
[728,0,12000,{"$f":"AccVelDataLink!A731","v":728},727,729,null,{"$f":"AccVelDataLink!G731","v":12},"○","○"]
[{"$f":"A731+1","v":729},0,15000,{"$f":"AccVelDataLink!A732","v":729},728,730,null,{"$f":"AccVelDataLink!G732","v":15},"○","○"]
[{"$f":"A732+1","v":730},1,{"$f":"H733*$H$1","v":2000},{"$f":"AccVelDataLink!A733","v":730},729,731,{"$f":"AccVelDataLink!F733","v":"ISDBCR-L-200-40-垂直"},{"$f":"AccVelDataLink!G733","v":2},"○","○"]
[{"$f":"A733+1","v":731},1,2100,{"$f":"AccVelDataLink!A734","v":731},730,732,null,{"$f":"AccVelDataLink!G734","v":2.1},"○","○"]
[732,1,2200,{"$f":"AccVelDataLink!A735","v":732},731,733,null,{"$f":"AccVelDataLink!G735","v":2.2000000000000002},"○","○"]
[733,1,2300,{"$f":"AccVelDataLink!A736","v":733},732,734,null,{"$f":"AccVelDataLink!G736","v":2.2999999999999998},"○","○"]
[734,1,2400,{"$f":"AccVelDataLink!A737","v":734},733,735,null,{"$f":"AccVelDataLink!G737","v":2.4},"○","○"]
[735,1,2500,{"$f":"AccVelDataLink!A738","v":735},734,-1,null,{"$f":"AccVelDataLink!G738","v":2.5},"○","終端"]
[736,0,60000,{"$f":"AccVelDataLink!A739","v":736},-1,{"$f":"A740","v":737},{"$f":"AccVelDataLink!F739","v":"ISDBCR-L-400-10-水平"},{"$f":"AccVelDataLink!G739","v":60},{"$f":"IF(E739=A738,\"○\",IF(G739=0,\"つなぎまちがい\",\"先頭\"))","v":"先頭"},{"$f":"IF(F739=A740,\"○\",IF(F739<>E740,\"つなぎまちがい\",\"終端\"))","v":"○"}]
[737,0,73000,{"$f":"AccVelDataLink!A740","v":737},{"$f":"A739","v":736},738,null,{"$f":"AccVelDataLink!G740","v":73},"○","○"]
[738,0,92000,{"$f":"AccVelDataLink!A741","v":738},737,739,null,{"$f":"AccVelDataLink!G741","v":92},"○","○"]
[{"$f":"A741+1","v":739},0,120000,{"$f":"AccVelDataLink!A742","v":739},738,740,null,{"$f":"AccVelDataLink!G742","v":120},"○","○"]
[{"$f":"A742+1","v":740},1,30000,{"$f":"AccVelDataLink!A743","v":740},739,741,{"$f":"AccVelDataLink!F743","v":"ISDBCR-L-400-10-垂直"},{"$f":"AccVelDataLink!G743","v":30},"○","○"]
[741,1,35000,{"$f":"AccVelDataLink!A744","v":741},740,742,null,{"$f":"AccVelDataLink!G744","v":35},"○","○"]
[742,1,40000,{"$f":"AccVelDataLink!A745","v":742},741,-1,null,{"$f":"AccVelDataLink!G745","v":40},"○","終端"]
[743,0,30000,{"$f":"AccVelDataLink!A746","v":743},-1,{"$f":"A747","v":744},{"$f":"AccVelDataLink!F746","v":"ISDBCR-L-400-20-水平"},{"$f":"AccVelDataLink!G746","v":30},{"$f":"IF(E746=A745,\"○\",IF(G746=0,\"つなぎまちがい\",\"先頭\"))","v":"先頭"},{"$f":"IF(F746=A747,\"○\",IF(F746<>E747,\"つなぎまちがい\",\"終端\"))","v":"○"}]
[744,0,35000,{"$f":"AccVelDataLink!A747","v":744},{"$f":"A746","v":743},745,null,{"$f":"AccVelDataLink!G747","v":35},"○","○"]
[{"$f":"A747+1","v":745},0,{"$f":"H748*$H$1","v":40000},{"$f":"AccVelDataLink!A748","v":745},744,746,null,{"$f":"AccVelDataLink!G748","v":40},"○","○"]
[746,0,47000,{"$f":"AccVelDataLink!A749","v":746},745,747,null,{"$f":"AccVelDataLink!G749","v":47},"○","○"]
[747,0,57000,{"$f":"AccVelDataLink!A750","v":747},746,748,null,{"$f":"AccVelDataLink!G750","v":57},"○","○"]
[748,0,70000,{"$f":"AccVelDataLink!A751","v":748},747,749,null,{"$f":"AccVelDataLink!G751","v":70},"○","○"]
[749,0,90000,{"$f":"AccVelDataLink!A752","v":749},748,750,null,{"$f":"AccVelDataLink!G752","v":90},"○","○"]
[750,1,10000,{"$f":"AccVelDataLink!A753","v":750},749,751,{"$f":"AccVelDataLink!F753","v":"ISDBCR-L-400-20-垂直"},{"$f":"AccVelDataLink!G753","v":10},"○","○"]
[751,1,11000,{"$f":"AccVelDataLink!A754","v":751},750,752,null,{"$f":"AccVelDataLink!G754","v":11},"○","○"]
[752,1,12000,{"$f":"AccVelDataLink!A755","v":752},751,753,null,{"$f":"AccVelDataLink!G755","v":12},"○","○"]
[753,1,14000,{"$f":"AccVelDataLink!A756","v":753},752,754,null,{"$f":"AccVelDataLink!G756","v":14},"○","○"]
[754,1,15000,{"$f":"AccVelDataLink!A757","v":754},753,755,null,{"$f":"AccVelDataLink!G757","v":15},"○","○"]
[755,1,17000,{"$f":"AccVelDataLink!A758","v":755},754,756,null,{"$f":"AccVelDataLink!G758","v":17},"○","○"]
[756,1,20000,{"$f":"AccVelDataLink!A759","v":756},755,-1,null,{"$f":"AccVelDataLink!G759","v":20},{"$f":"IF(E759=A758,\"○\",IF(G759=0,\"つなぎまちがい\",\"先頭\"))","v":"○"},{"$f":"IF(F759=A760,\"○\",IF(F759<>E760,\"つなぎまちがい\",\"終端\"))","v":"終端"}]
[757,0,17000,{"$f":"AccVelDataLink!A760","v":757},-1,{"$f":"A761","v":758},{"$f":"AccVelDataLink!F760","v":"ISDBCR-L-400-40-水平"},{"$f":"AccVelDataLink!G760","v":17},"先頭","○"]
[758,0,19000,{"$f":"AccVelDataLink!A761","v":758},{"$f":"A760","v":757},759,null,{"$f":"AccVelDataLink!G761","v":19},"○","○"]
[759,0,21000,{"$f":"AccVelDataLink!A762","v":759},758,760,null,{"$f":"AccVelDataLink!G762","v":21},"○","○"]
[760,0,23000,{"$f":"AccVelDataLink!A763","v":760},759,761,null,{"$f":"AccVelDataLink!G763","v":23},"○","○"]
[761,0,27000,{"$f":"AccVelDataLink!A764","v":761},760,762,null,{"$f":"AccVelDataLink!G764","v":27},"○","○"]
[762,0,32000,{"$f":"AccVelDataLink!A765","v":762},761,763,null,{"$f":"AccVelDataLink!G765","v":32},"○","○"]
[763,0,40000,{"$f":"AccVelDataLink!A766","v":763},762,764,null,{"$f":"AccVelDataLink!G766","v":40},"○","○"]
[764,1,{"$f":"H767*$H$1","v":5000},{"$f":"AccVelDataLink!A767","v":764},763,765,{"$f":"AccVelDataLink!F767","v":"ISDBCR-L-400-40-垂直"},{"$f":"AccVelDataLink!G767","v":5},"○","○"]
[{"$f":"A767+1","v":765},1,5500,{"$f":"AccVelDataLink!A768","v":765},764,766,null,{"$f":"AccVelDataLink!G768","v":5.5},"○","○"]
[766,1,6000,{"$f":"AccVelDataLink!A769","v":766},765,767,null,{"$f":"AccVelDataLink!G769","v":6},"○","○"]
[767,1,6500,{"$f":"AccVelDataLink!A770","v":767},766,768,null,{"$f":"AccVelDataLink!G770","v":6.5},"○","○"]
[768,1,7000,{"$f":"AccVelDataLink!A771","v":768},767,769,null,{"$f":"AccVelDataLink!G771","v":7},"○","○"]
[769,1,7500,{"$f":"AccVelDataLink!A772","v":769},768,770,null,{"$f":"AccVelDataLink!G772","v":7.5},"○","○"]
[770,1,8000,{"$f":"AccVelDataLink!A773","v":770},769,-1,null,{"$f":"AccVelDataLink!G773","v":8},"○","終端"]
[771,0,50000,{"$f":"AccVelDataLink!A774","v":771},-1,{"$f":"A775","v":772},{"$f":"AccVelDataLink!F774","v":"SSPA-SXM-200-10-水平"},{"$f":"AccVelDataLink!G774","v":50},{"$f":"IF(E774=A773,\"○\",IF(G774=0,\"つなぎまちがい\",\"先頭\"))","v":"先頭"},{"$f":"IF(F774=A775,\"○\",IF(F774<>E775,\"つなぎまちがい\",\"終端\"))","v":"○"}]
[{"$f":"A774+1","v":772},0,60000,{"$f":"AccVelDataLink!A775","v":772},{"$f":"A774","v":771},773,null,{"$f":"AccVelDataLink!G775","v":60},"○",{"$f":"IF(F775=A776,\"○\",IF(F775<>E776,\"つなぎまちがい\",\"終端\"))","v":"○"}]
[{"$f":"A775+1","v":773},0,72000,{"$f":"AccVelDataLink!A776","v":773},772,774,null,{"$f":"AccVelDataLink!G776","v":72},"○",{"$f":"IF(F776=A777,\"○\",IF(F776<>E777,\"つなぎまちがい\",\"終端\"))","v":"○"}]
[{"$f":"A776+1","v":774},0,90000,{"$f":"AccVelDataLink!A777","v":774},773,775,null,{"$f":"AccVelDataLink!G777","v":90},"○",{"$f":"IF(F777=A778,\"○\",IF(F777<>E778,\"つなぎまちがい\",\"終端\"))","v":"○"}]
[775,1,{"$f":"H778*$H$1","v":8000},{"$f":"AccVelDataLink!A778","v":775},774,776,{"$f":"AccVelDataLink!F778","v":"SSPA-SXM-200-10-垂直"},{"$f":"AccVelDataLink!G778","v":8},"○",{"$f":"IF(F778=A779,\"○\",IF(F778<>E779,\"つなぎまちがい\",\"終端\"))","v":"○"}]
[776,1,{"$f":"H779*$H$1","v":10000},{"$f":"AccVelDataLink!A779","v":776},775,777,null,{"$f":"AccVelDataLink!G779","v":10},"○",{"$f":"IF(F779=A780,\"○\",IF(F779<>E780,\"つなぎまちがい\",\"終端\"))","v":"○"}]
[777,1,{"$f":"H780*$H$1","v":12000},{"$f":"AccVelDataLink!A780","v":777},776,-1,null,{"$f":"AccVelDataLink!G780","v":12},{"$f":"IF(E780=A779,\"○\",IF(G780=0,\"つなぎまちがい\",\"先頭\"))","v":"○"},"終端"]
[778,0,17000,{"$f":"AccVelDataLink!A781","v":778},-1,{"$f":"A782","v":779},{"$f":"AccVelDataLink!F781","v":"SSPA-SXM-200-20-水平"},{"$f":"AccVelDataLink!G781","v":17},"先頭","○"]
[779,0,19500,{"$f":"AccVelDataLink!A782","v":779},{"$f":"A781","v":778},780,null,{"$f":"AccVelDataLink!G782","v":19.5},"○","○"]
[{"$f":"A782+1","v":780},0,22500,{"$f":"AccVelDataLink!A783","v":780},779,781,null,{"$f":"AccVelDataLink!G783","v":22.5},"○","○"]
[781,0,26000,{"$f":"AccVelDataLink!A784","v":781},780,782,null,{"$f":"AccVelDataLink!G784","v":26},"○","○"]
[782,0,30000,{"$f":"AccVelDataLink!A785","v":782},781,783,null,{"$f":"AccVelDataLink!G785","v":30},"○","○"]
[783,0,36000,{"$f":"AccVelDataLink!A786","v":783},782,784,null,{"$f":"AccVelDataLink!G786","v":36},"○","○"]
[784,0,45000,{"$f":"AccVelDataLink!A787","v":784},783,785,null,{"$f":"AccVelDataLink!G787","v":45},"○","○"]
[785,1,{"$f":"H788*$H$1","v":2400},{"$f":"AccVelDataLink!A788","v":785},784,786,{"$f":"AccVelDataLink!F788","v":"SSPA-SXM-200-20-垂直"},{"$f":"AccVelDataLink!G788","v":2.4},"○","○"]
[{"$f":"A788+1","v":786},1,2700,{"$f":"AccVelDataLink!A789","v":786},785,787,null,{"$f":"AccVelDataLink!G789","v":2.7},"○","○"]
[787,1,3000,{"$f":"AccVelDataLink!A790","v":787},786,788,null,{"$f":"AccVelDataLink!G790","v":3},"○","○"]
[788,1,3400,{"$f":"AccVelDataLink!A791","v":788},787,789,null,{"$f":"AccVelDataLink!G791","v":3.4},"○","○"]
[789,1,4000,{"$f":"AccVelDataLink!A792","v":789},788,790,null,{"$f":"AccVelDataLink!G792","v":4},"○","○"]
[790,1,4800,{"$f":"AccVelDataLink!A793","v":790},789,791,null,{"$f":"AccVelDataLink!G793","v":4.8},"○",{"$f":"IF(F793=A794,\"○\",IF(F793<>E794,\"つなぎまちがい\",\"終端\"))","v":"○"}]
[791,1,6000,{"$f":"AccVelDataLink!A794","v":791},790,-1,null,{"$f":"AccVelDataLink!G794","v":6},{"$f":"IF(E794=A793,\"○\",IF(G794=0,\"つなぎまちがい\",\"先頭\"))","v":"○"},"終端"]
[{"$f":"A794+1","v":792},0,10000,{"$f":"AccVelDataLink!A795","v":792},-1,{"$f":"A796","v":793},{"$f":"AccVelDataLink!F795","v":"SSPA-SXM-200-30-水平"},{"$f":"AccVelDataLink!G795","v":10},"先頭","○"]
[793,0,11000,{"$f":"AccVelDataLink!A796","v":793},{"$f":"A795","v":792},794,null,{"$f":"AccVelDataLink!G796","v":11},"○","○"]
[794,0,12000,{"$f":"AccVelDataLink!A797","v":794},793,795,null,{"$f":"AccVelDataLink!G797","v":12},"○","○"]
[795,0,13000,{"$f":"AccVelDataLink!A798","v":795},794,796,null,{"$f":"AccVelDataLink!G798","v":13},"○","○"]
[796,0,{"$f":"H799*$H$1","v":15000},{"$f":"AccVelDataLink!A799","v":796},795,797,null,{"$f":"AccVelDataLink!G799","v":15},"○","○"]
[797,0,{"$f":"H800*$H$1","v":17000},{"$f":"AccVelDataLink!A800","v":797},796,798,null,{"$f":"AccVelDataLink!G800","v":17},"○","○"]
[798,0,{"$f":"H801*$H$1","v":20000},{"$f":"AccVelDataLink!A801","v":798},797,799,null,{"$f":"AccVelDataLink!G801","v":20},"○","○"]
[799,0,{"$f":"H802*$H$1","v":24000},{"$f":"AccVelDataLink!A802","v":799},798,800,null,{"$f":"AccVelDataLink!G802","v":24},"○","○"]
[800,0,{"$f":"H803*$H$1","v":30000},{"$f":"AccVelDataLink!A803","v":800},799,801,null,{"$f":"AccVelDataLink!G803","v":30},"○","○"]
[801,1,{"$f":"H804*$H$1","v":1000},{"$f":"AccVelDataLink!A804","v":801},800,802,{"$f":"AccVelDataLink!F804","v":"SSPA-SXM-200-30-垂直"},{"$f":"AccVelDataLink!G804","v":1},"○","○"]
[{"$f":"A804+1","v":802},1,1200,{"$f":"AccVelDataLink!A805","v":802},801,803,null,{"$f":"AccVelDataLink!G805","v":1.2},"○","○"]
[803,1,1400,{"$f":"AccVelDataLink!A806","v":803},802,804,null,{"$f":"AccVelDataLink!G806","v":1.4},"○","○"]
[804,1,1700,{"$f":"AccVelDataLink!A807","v":804},803,805,null,{"$f":"AccVelDataLink!G807","v":1.7},"○","○"]
[805,1,2000,{"$f":"AccVelDataLink!A808","v":805},804,806,null,{"$f":"AccVelDataLink!G808","v":2},"○","○"]
[806,1,2300,{"$f":"AccVelDataLink!A809","v":806},805,807,null,{"$f":"AccVelDataLink!G809","v":2.2999999999999998},"○","○"]
[807,1,2700,{"$f":"AccVelDataLink!A810","v":807},806,808,null,{"$f":"AccVelDataLink!G810","v":2.7},"○","○"]
[808,1,3200,{"$f":"AccVelDataLink!A811","v":808},807,809,null,{"$f":"AccVelDataLink!G811","v":3.2},"○","○"]
[809,1,4000,{"$f":"AccVelDataLink!A812","v":809},808,-1,null,{"$f":"AccVelDataLink!G812","v":4},{"$f":"IF(E812=A811,\"○\",IF(G812=0,\"つなぎまちがい\",\"先頭\"))","v":"○"},{"$f":"IF(F812=A813,\"○\",IF(F812<>E813,\"つなぎまちがい\",\"終端\"))","v":"終端"}]
[810,0,{"$f":"H813*$H$1","v":70000},{"$f":"AccVelDataLink!A813","v":810},-1,{"$f":"A814","v":811},{"$f":"AccVelDataLink!F813","v":"SSPA-MXM-400-10-水平"},{"$f":"AccVelDataLink!G813","v":70},"先頭","○"]
[{"$f":"A813+1","v":811},0,80000,{"$f":"AccVelDataLink!A814","v":811},{"$f":"A813","v":810},812,null,{"$f":"AccVelDataLink!G814","v":80},"○","○"]
[812,0,96000,{"$f":"AccVelDataLink!A815","v":812},811,813,null,{"$f":"AccVelDataLink!G815","v":96},"○","○"]
[813,0,120000,{"$f":"AccVelDataLink!A816","v":813},812,814,null,{"$f":"AccVelDataLink!G816","v":120},"○","○"]
[814,1,16500,{"$f":"AccVelDataLink!A817","v":814},813,815,{"$f":"AccVelDataLink!F817","v":"SSPA-MXM-400-10-垂直"},{"$f":"AccVelDataLink!G817","v":16.5},"○","○"]
[815,1,20000,{"$f":"AccVelDataLink!A818","v":815},814,816,null,{"$f":"AccVelDataLink!G818","v":20},{"$f":"IF(E818=A817,\"○\",IF(G818=0,\"つなぎまちがい\",\"先頭\"))","v":"○"},{"$f":"IF(F818=A819,\"○\",IF(F818<>E819,\"つなぎまちがい\",\"終端\"))","v":"○"}]
[816,1,25000,{"$f":"AccVelDataLink!A819","v":816},815,-1,null,{"$f":"AccVelDataLink!G819","v":25},"○","終端"]
[817,0,34000,{"$f":"AccVelDataLink!A820","v":817},-1,{"$f":"A821","v":818},{"$f":"AccVelDataLink!F820","v":"SSPA-MXM-400-20-水平"},{"$f":"AccVelDataLink!G820","v":34},"先頭","○"]
[818,0,39000,{"$f":"AccVelDataLink!A821","v":818},{"$f":"A820","v":817},819,null,{"$f":"AccVelDataLink!G821","v":39},"○","○"]
[819,0,45000,{"$f":"AccVelDataLink!A822","v":819},818,820,null,{"$f":"AccVelDataLink!G822","v":45},"○","○"]
[820,0,51000,{"$f":"AccVelDataLink!A823","v":820},819,821,null,{"$f":"AccVelDataLink!G823","v":51},"○","○"]
[821,0,60000,{"$f":"AccVelDataLink!A824","v":821},820,822,null,{"$f":"AccVelDataLink!G824","v":60},"○","○"]
[822,0,72000,{"$f":"AccVelDataLink!A825","v":822},821,823,null,{"$f":"AccVelDataLink!G825","v":72},"○","○"]
[823,0,90000,{"$f":"AccVelDataLink!A826","v":823},822,824,null,{"$f":"AccVelDataLink!G826","v":90},"○","○"]
[824,1,{"$f":"H827*$H$1","v":4800},{"$f":"AccVelDataLink!A827","v":824},823,825,{"$f":"AccVelDataLink!F827","v":"SSPA-MXM-400-20-垂直"},{"$f":"AccVelDataLink!G827","v":4.8},"○","○"]
[{"$f":"A827+1","v":825},1,5300,{"$f":"AccVelDataLink!A828","v":825},824,826,null,{"$f":"AccVelDataLink!G828","v":5.3},"○","○"]
[826,1,6000,{"$f":"AccVelDataLink!A829","v":826},825,827,null,{"$f":"AccVelDataLink!G829","v":6},"○","○"]
[827,1,6900,{"$f":"AccVelDataLink!A830","v":827},826,828,null,{"$f":"AccVelDataLink!G830","v":6.9},"○","○"]
[828,1,8000,{"$f":"AccVelDataLink!A831","v":828},827,829,null,{"$f":"AccVelDataLink!G831","v":8},"○","○"]
[829,1,9600,{"$f":"AccVelDataLink!A832","v":829},828,830,null,{"$f":"AccVelDataLink!G832","v":9.6},{"$f":"IF(E832=A831,\"○\",IF(G832=0,\"つなぎまちがい\",\"先頭\"))","v":"○"},{"$f":"IF(F832=A833,\"○\",IF(F832<>E833,\"つなぎまちがい\",\"終端\"))","v":"○"}]
[830,1,12000,{"$f":"AccVelDataLink!A833","v":830},829,-1,null,{"$f":"AccVelDataLink!G833","v":12},"○","終端"]
[{"$f":"A833+1","v":831},0,{"$f":"H834*$H$1","v":13500},{"$f":"AccVelDataLink!A834","v":831},-1,{"$f":"A835","v":832},{"$f":"AccVelDataLink!F834","v":"SSPA-MXM-400-40-水平"},{"$f":"AccVelDataLink!G834","v":13.5},"先頭","○"]
[832,0,15000,{"$f":"AccVelDataLink!A835","v":832},{"$f":"A834","v":831},833,null,{"$f":"AccVelDataLink!G835","v":15},"○","○"]
[833,0,17000,{"$f":"AccVelDataLink!A836","v":833},832,834,null,{"$f":"AccVelDataLink!G836","v":17},"○","○"]
[834,0,19500,{"$f":"AccVelDataLink!A837","v":834},833,835,null,{"$f":"AccVelDataLink!G837","v":19.5},"○","○"]
[835,0,22500,{"$f":"AccVelDataLink!A838","v":835},834,836,null,{"$f":"AccVelDataLink!G838","v":22.5},"○","○"]
[836,0,25500,{"$f":"AccVelDataLink!A839","v":836},835,837,null,{"$f":"AccVelDataLink!G839","v":25.5},"○","○"]
[837,0,30000,{"$f":"AccVelDataLink!A840","v":837},836,838,null,{"$f":"AccVelDataLink!G840","v":30},"○","○"]
[838,0,36000,{"$f":"AccVelDataLink!A841","v":838},837,839,null,{"$f":"AccVelDataLink!G841","v":36},"○","○"]
[839,0,45000,{"$f":"AccVelDataLink!A842","v":839},838,840,null,{"$f":"AccVelDataLink!G842","v":45},"○","○"]
[840,1,{"$f":"H843*$H$1","v":2000},{"$f":"AccVelDataLink!A843","v":840},839,841,{"$f":"AccVelDataLink!F843","v":"SSPA-MXM-400-40-垂直"},{"$f":"AccVelDataLink!G843","v":2},"○","○"]
[{"$f":"A843+1","v":841},1,2200,{"$f":"AccVelDataLink!A844","v":841},840,842,null,{"$f":"AccVelDataLink!G844","v":2.2000000000000002},"○","○"]
[842,1,2400,{"$f":"AccVelDataLink!A845","v":842},841,843,null,{"$f":"AccVelDataLink!G845","v":2.4},"○","○"]
[843,1,2700,{"$f":"AccVelDataLink!A846","v":843},842,844,null,{"$f":"AccVelDataLink!G846","v":2.7},"○","○"]
[844,1,3000,{"$f":"AccVelDataLink!A847","v":844},843,845,null,{"$f":"AccVelDataLink!G847","v":3},"○","○"]
[845,1,3400,{"$f":"AccVelDataLink!A848","v":845},844,846,null,{"$f":"AccVelDataLink!G848","v":3.4},"○","○"]
[846,1,4000,{"$f":"AccVelDataLink!A849","v":846},845,847,null,{"$f":"AccVelDataLink!G849","v":4},"○","○"]
[847,1,4800,{"$f":"AccVelDataLink!A850","v":847},846,848,null,{"$f":"AccVelDataLink!G850","v":4.8},"○",{"$f":"IF(F850=A851,\"○\",IF(F850<>E851,\"つなぎまちがい\",\"終端\"))","v":"○"}]
[848,1,6000,{"$f":"AccVelDataLink!A851","v":848},847,-1,null,{"$f":"AccVelDataLink!G851","v":6},{"$f":"IF(E851=A850,\"○\",IF(G851=0,\"つなぎまちがい\",\"先頭\"))","v":"○"},"終端"]
[{"$f":"A851+1","v":849},0,{"$f":"H852*$H$1","v":40000},{"$f":"AccVelDataLink!A852","v":849},-1,{"$f":"A853","v":850},{"$f":"AccVelDataLink!F852","v":"SSPA-LXM-750-25-水平"},{"$f":"AccVelDataLink!G852","v":40},"先頭","○"]
[850,0,{"$f":"H853*$H$1","v":44000},{"$f":"AccVelDataLink!A853","v":850},{"$f":"A852","v":849},851,null,{"$f":"AccVelDataLink!G853","v":44},"○","○"]
[851,0,48000,{"$f":"AccVelDataLink!A854","v":851},850,852,null,{"$f":"AccVelDataLink!G854","v":48},"○","○"]
[852,0,53000,{"$f":"AccVelDataLink!A855","v":852},851,853,null,{"$f":"AccVelDataLink!G855","v":53},"○","○"]
[853,0,60000,{"$f":"AccVelDataLink!A856","v":853},852,854,null,{"$f":"AccVelDataLink!G856","v":60},"○","○"]
[854,0,69000,{"$f":"AccVelDataLink!A857","v":854},853,855,null,{"$f":"AccVelDataLink!G857","v":69},"○","○"]
[855,0,80000,{"$f":"AccVelDataLink!A858","v":855},854,856,null,{"$f":"AccVelDataLink!G858","v":80},"○","○"]
[856,0,96000,{"$f":"AccVelDataLink!A859","v":856},855,857,null,{"$f":"AccVelDataLink!G859","v":96},"○","○"]
[857,0,120000,{"$f":"AccVelDataLink!A860","v":857},856,858,null,{"$f":"AccVelDataLink!G860","v":120},"○","○"]
[858,1,{"$f":"H861*$H$1","v":8000},{"$f":"AccVelDataLink!A861","v":858},857,859,{"$f":"AccVelDataLink!F861","v":"SSPA-LXM-750-25-垂直"},{"$f":"AccVelDataLink!G861","v":8},"○","○"]
[{"$f":"A861+1","v":859},1,9000,{"$f":"AccVelDataLink!A862","v":859},858,860,null,{"$f":"AccVelDataLink!G862","v":9},"○","○"]
[860,1,10000,{"$f":"AccVelDataLink!A863","v":860},859,861,null,{"$f":"AccVelDataLink!G863","v":10},"○","○"]
[861,1,11000,{"$f":"AccVelDataLink!A864","v":861},860,862,null,{"$f":"AccVelDataLink!G864","v":11},"○","○"]
[862,1,13000,{"$f":"AccVelDataLink!A865","v":862},861,863,null,{"$f":"AccVelDataLink!G865","v":13},"○","○"]
[863,1,14000,{"$f":"AccVelDataLink!A866","v":863},862,864,null,{"$f":"AccVelDataLink!G866","v":14},"○","○"]
[864,1,17000,{"$f":"AccVelDataLink!A867","v":864},863,865,null,{"$f":"AccVelDataLink!G867","v":17},"○","○"]
[865,1,20000,{"$f":"AccVelDataLink!A868","v":865},864,866,null,{"$f":"AccVelDataLink!G868","v":20},{"$f":"IF(E868=A867,\"○\",IF(G868=0,\"つなぎまちがい\",\"先頭\"))","v":"○"},{"$f":"IF(F868=A869,\"○\",IF(F868<>E869,\"つなぎまちがい\",\"終端\"))","v":"○"}]
[866,1,25000,{"$f":"AccVelDataLink!A869","v":866},865,-1,null,{"$f":"AccVelDataLink!G869","v":25},"○","終端"]
[{"$f":"A869+1","v":867},0,20000,{"$f":"AccVelDataLink!A870","v":867},-1,{"$f":"A871","v":868},{"$f":"AccVelDataLink!F870","v":"SSPA-LXM-750-50-水平"},{"$f":"AccVelDataLink!G870","v":20},"先頭","○"]
[868,0,22000,{"$f":"AccVelDataLink!A871","v":868},{"$f":"A870","v":867},869,null,{"$f":"AccVelDataLink!G871","v":22},"○","○"]
[869,0,24000,{"$f":"AccVelDataLink!A872","v":869},868,870,null,{"$f":"AccVelDataLink!G872","v":24},"○","○"]
[870,0,27000,{"$f":"AccVelDataLink!A873","v":870},869,871,null,{"$f":"AccVelDataLink!G873","v":27},"○","○"]
[871,0,30000,{"$f":"AccVelDataLink!A874","v":871},870,872,null,{"$f":"AccVelDataLink!G874","v":30},"○","○"]
[872,0,34000,{"$f":"AccVelDataLink!A875","v":872},871,873,null,{"$f":"AccVelDataLink!G875","v":34},"○","○"]
[873,0,40000,{"$f":"AccVelDataLink!A876","v":873},872,874,null,{"$f":"AccVelDataLink!G876","v":40},"○","○"]
[874,0,48000,{"$f":"AccVelDataLink!A877","v":874},873,875,null,{"$f":"AccVelDataLink!G877","v":48},"○","○"]
[875,0,60000,{"$f":"AccVelDataLink!A878","v":875},874,876,null,{"$f":"AccVelDataLink!G878","v":60},"○","○"]
[876,1,{"$f":"H879*$H$1","v":4000},{"$f":"AccVelDataLink!A879","v":876},875,877,{"$f":"AccVelDataLink!F879","v":"SSPA-LXM-750-50-垂直"},{"$f":"AccVelDataLink!G879","v":4},"○","○"]
[{"$f":"A879+1","v":877},1,5000,{"$f":"AccVelDataLink!A880","v":877},876,878,null,{"$f":"AccVelDataLink!G880","v":5},"○","○"]
[878,1,6000,{"$f":"AccVelDataLink!A881","v":878},877,879,null,{"$f":"AccVelDataLink!G881","v":6},"○","○"]
[879,1,7000,{"$f":"AccVelDataLink!A882","v":879},878,880,null,{"$f":"AccVelDataLink!G882","v":7},"○","○"]
[880,1,8000,{"$f":"AccVelDataLink!A883","v":880},879,881,null,{"$f":"AccVelDataLink!G883","v":8},"○","○"]
[881,1,10000,{"$f":"AccVelDataLink!A884","v":881},880,882,null,{"$f":"AccVelDataLink!G884","v":10},"○","○"]
[882,1,12000,{"$f":"AccVelDataLink!A885","v":882},881,-1,null,{"$f":"AccVelDataLink!G885","v":12},"○","終端"]
[883,0,50000,{"$f":"AccVelDataLink!A886","v":883},-1,{"$f":"A887","v":884},{"$f":"AccVelDataLink!F886","v":"SSPDACR-S-200-10-水平"},{"$f":"AccVelDataLink!G886","v":50},{"$f":"IF(E886=A885,\"○\",IF(G886=0,\"つなぎまちがい\",\"先頭\"))","v":"先頭"},{"$f":"IF(F886=A887,\"○\",IF(F886<>E887,\"つなぎまちがい\",\"終端\"))","v":"○"}]
[{"$f":"A886+1","v":884},0,60000,{"$f":"AccVelDataLink!A887","v":884},{"$f":"A886","v":883},885,null,{"$f":"AccVelDataLink!G887","v":60},"○","○"]
[885,0,72000,{"$f":"AccVelDataLink!A888","v":885},884,886,null,{"$f":"AccVelDataLink!G888","v":72},"○","○"]
[886,0,90000,{"$f":"AccVelDataLink!A889","v":886},885,887,null,{"$f":"AccVelDataLink!G889","v":90},"○","○"]
[887,1,{"$f":"H890*$H$1","v":8000},{"$f":"AccVelDataLink!A890","v":887},886,888,{"$f":"AccVelDataLink!F890","v":"SSPDACR-S-200-10-垂直"},{"$f":"AccVelDataLink!G890","v":8},"○","○"]
[888,1,{"$f":"H891*$H$1","v":10000},{"$f":"AccVelDataLink!A891","v":888},887,889,null,{"$f":"AccVelDataLink!G891","v":10},"○","○"]
[889,1,{"$f":"H892*$H$1","v":12000},{"$f":"AccVelDataLink!A892","v":889},888,-1,null,{"$f":"AccVelDataLink!G892","v":12},{"$f":"IF(E892=A891,\"○\",IF(G892=0,\"つなぎまちがい\",\"先頭\"))","v":"○"},{"$f":"IF(F892=A893,\"○\",IF(F892<>E893,\"つなぎまちがい\",\"終端\"))","v":"終端"}]
[890,0,17000,{"$f":"AccVelDataLink!A893","v":890},-1,{"$f":"A894","v":891},{"$f":"AccVelDataLink!F893","v":"SSPDACR-S-200-20-水平"},{"$f":"AccVelDataLink!G893","v":17},"先頭","○"]
[891,0,19500,{"$f":"AccVelDataLink!A894","v":891},{"$f":"A893","v":890},892,null,{"$f":"AccVelDataLink!G894","v":19.5},"○","○"]
[892,0,22500,{"$f":"AccVelDataLink!A895","v":892},891,893,null,{"$f":"AccVelDataLink!G895","v":22.5},"○","○"]
[893,0,26000,{"$f":"AccVelDataLink!A896","v":893},892,894,null,{"$f":"AccVelDataLink!G896","v":26},"○","○"]
[894,0,30000,{"$f":"AccVelDataLink!A897","v":894},893,895,null,{"$f":"AccVelDataLink!G897","v":30},"○","○"]
[895,0,36000,{"$f":"AccVelDataLink!A898","v":895},894,896,null,{"$f":"AccVelDataLink!G898","v":36},"○","○"]
[896,0,45000,{"$f":"AccVelDataLink!A899","v":896},895,897,null,{"$f":"AccVelDataLink!G899","v":45},"○","○"]
[897,1,{"$f":"H900*$H$1","v":2400},{"$f":"AccVelDataLink!A900","v":897},896,898,{"$f":"AccVelDataLink!F900","v":"SSPDACR-S-200-20-垂直"},{"$f":"AccVelDataLink!G900","v":2.4},"○","○"]
[{"$f":"A900+1","v":898},1,2700,{"$f":"AccVelDataLink!A901","v":898},897,899,null,{"$f":"AccVelDataLink!G901","v":2.7},"○","○"]
[899,1,3000,{"$f":"AccVelDataLink!A902","v":899},898,900,null,{"$f":"AccVelDataLink!G902","v":3},"○","○"]
[900,1,3400,{"$f":"AccVelDataLink!A903","v":900},899,901,null,{"$f":"AccVelDataLink!G903","v":3.4},"○","○"]
[901,1,4000,{"$f":"AccVelDataLink!A904","v":901},900,902,null,{"$f":"AccVelDataLink!G904","v":4},"○","○"]
[902,1,4800,{"$f":"AccVelDataLink!A905","v":902},901,903,null,{"$f":"AccVelDataLink!G905","v":4.8},"○","○"]
[903,1,6000,{"$f":"AccVelDataLink!A906","v":903},902,-1,null,{"$f":"AccVelDataLink!G906","v":6},{"$f":"IF(E906=A905,\"○\",IF(G906=0,\"つなぎまちがい\",\"先頭\"))","v":"○"},{"$f":"IF(F906=A907,\"○\",IF(F906<>E907,\"つなぎまちがい\",\"終端\"))","v":"終端"}]
[904,0,10000,{"$f":"AccVelDataLink!A907","v":904},-1,{"$f":"A908","v":905},{"$f":"AccVelDataLink!F907","v":"SSPDACR-S-200-30-水平"},{"$f":"AccVelDataLink!G907","v":10},"先頭","○"]
[{"$f":"A907+1","v":905},0,11000,{"$f":"AccVelDataLink!A908","v":905},{"$f":"A907","v":904},906,null,{"$f":"AccVelDataLink!G908","v":11},"○","○"]
[906,0,12000,{"$f":"AccVelDataLink!A909","v":906},905,907,null,{"$f":"AccVelDataLink!G909","v":12},"○","○"]
[907,0,13000,{"$f":"AccVelDataLink!A910","v":907},906,908,null,{"$f":"AccVelDataLink!G910","v":13},"○","○"]
[908,0,15000,{"$f":"AccVelDataLink!A911","v":908},907,909,null,{"$f":"AccVelDataLink!G911","v":15},"○","○"]
[909,0,17000,{"$f":"AccVelDataLink!A912","v":909},908,910,null,{"$f":"AccVelDataLink!G912","v":17},"○","○"]
[910,0,20000,{"$f":"AccVelDataLink!A913","v":910},909,911,null,{"$f":"AccVelDataLink!G913","v":20},"○","○"]
[911,0,24000,{"$f":"AccVelDataLink!A914","v":911},910,912,null,{"$f":"AccVelDataLink!G914","v":24},"○","○"]
[912,0,30000,{"$f":"AccVelDataLink!A915","v":912},911,913,null,{"$f":"AccVelDataLink!G915","v":30},"○","○"]
[913,1,{"$f":"H916*$H$1","v":1000},{"$f":"AccVelDataLink!A916","v":913},912,914,{"$f":"AccVelDataLink!F916","v":"SSPDACR-S-200-30-垂直"},{"$f":"AccVelDataLink!G916","v":1},"○","○"]
[{"$f":"A916+1","v":914},1,1200,{"$f":"AccVelDataLink!A917","v":914},913,915,null,{"$f":"AccVelDataLink!G917","v":1.2},"○","○"]
[915,1,1400,{"$f":"AccVelDataLink!A918","v":915},914,916,null,{"$f":"AccVelDataLink!G918","v":1.4},"○","○"]
[916,1,1700,{"$f":"AccVelDataLink!A919","v":916},915,917,null,{"$f":"AccVelDataLink!G919","v":1.7},"○","○"]
[917,1,2000,{"$f":"AccVelDataLink!A920","v":917},916,918,null,{"$f":"AccVelDataLink!G920","v":2},"○","○"]
[918,1,2300,{"$f":"AccVelDataLink!A921","v":918},917,919,null,{"$f":"AccVelDataLink!G921","v":2.2999999999999998},"○","○"]
[919,1,2700,{"$f":"AccVelDataLink!A922","v":919},918,920,null,{"$f":"AccVelDataLink!G922","v":2.7},"○","○"]
[920,1,3200,{"$f":"AccVelDataLink!A923","v":920},919,921,null,{"$f":"AccVelDataLink!G923","v":3.2},"○","○"]
[921,1,4000,{"$f":"AccVelDataLink!A924","v":921},920,-1,null,{"$f":"AccVelDataLink!G924","v":4},{"$f":"IF(E924=A923,\"○\",IF(G924=0,\"つなぎまちがい\",\"先頭\"))","v":"○"},{"$f":"IF(F924=A925,\"○\",IF(F924<>E925,\"つなぎまちがい\",\"終端\"))","v":"終端"}]
[922,0,70000,{"$f":"AccVelDataLink!A925","v":922},-1,{"$f":"A926","v":923},{"$f":"AccVelDataLink!F925","v":"SSPDACR-M-400-10-水平"},{"$f":"AccVelDataLink!G925","v":70},"先頭","○"]
[{"$f":"A925+1","v":923},0,80000,{"$f":"AccVelDataLink!A926","v":923},{"$f":"A925","v":922},924,null,{"$f":"AccVelDataLink!G926","v":80},"○","○"]
[924,0,96000,{"$f":"AccVelDataLink!A927","v":924},923,925,null,{"$f":"AccVelDataLink!G927","v":96},"○","○"]
[925,0,120000,{"$f":"AccVelDataLink!A928","v":925},924,926,null,{"$f":"AccVelDataLink!G928","v":120},"○","○"]
[926,1,{"$f":"H929*$H$1","v":16500},{"$f":"AccVelDataLink!A929","v":926},925,927,{"$f":"AccVelDataLink!F929","v":"SSPDACR-M-400-10-垂直"},{"$f":"AccVelDataLink!G929","v":16.5},"○","○"]
[927,1,{"$f":"H930*$H$1","v":20000},{"$f":"AccVelDataLink!A930","v":927},926,928,null,{"$f":"AccVelDataLink!G930","v":20},"○","○"]
[928,1,{"$f":"H931*$H$1","v":25000},{"$f":"AccVelDataLink!A931","v":928},927,-1,null,{"$f":"AccVelDataLink!G931","v":25},"○","終端"]
[929,0,{"$f":"H932*$H$1","v":34000},{"$f":"AccVelDataLink!A932","v":929},-1,{"$f":"A933","v":930},{"$f":"AccVelDataLink!F932","v":"SSPDACR-M-400-20-水平"},{"$f":"AccVelDataLink!G932","v":34},{"$f":"IF(E932=A931,\"○\",IF(G932=0,\"つなぎまちがい\",\"先頭\"))","v":"先頭"},{"$f":"IF(F932=A933,\"○\",IF(F932<>E933,\"つなぎまちがい\",\"終端\"))","v":"○"}]
[930,0,39000,{"$f":"AccVelDataLink!A933","v":930},{"$f":"A932","v":929},931,null,{"$f":"AccVelDataLink!G933","v":39},"○","○"]
[931,0,45000,{"$f":"AccVelDataLink!A934","v":931},930,932,null,{"$f":"AccVelDataLink!G934","v":45},"○","○"]
[932,0,51000,{"$f":"AccVelDataLink!A935","v":932},931,933,null,{"$f":"AccVelDataLink!G935","v":51},"○","○"]
[933,0,60000,{"$f":"AccVelDataLink!A936","v":933},932,934,null,{"$f":"AccVelDataLink!G936","v":60},"○","○"]
[934,0,72000,{"$f":"AccVelDataLink!A937","v":934},933,935,null,{"$f":"AccVelDataLink!G937","v":72},"○","○"]
[935,0,90000,{"$f":"AccVelDataLink!A938","v":935},934,936,null,{"$f":"AccVelDataLink!G938","v":90},"○","○"]
[936,1,{"$f":"H939*$H$1","v":4800},{"$f":"AccVelDataLink!A939","v":936},935,937,{"$f":"AccVelDataLink!F939","v":"SSPDACR-M-400-20-垂直"},{"$f":"AccVelDataLink!G939","v":4.8},"○","○"]
[{"$f":"A939+1","v":937},1,5300,{"$f":"AccVelDataLink!A940","v":937},936,938,null,{"$f":"AccVelDataLink!G940","v":5.3},"○","○"]
[938,1,6000,{"$f":"AccVelDataLink!A941","v":938},937,939,null,{"$f":"AccVelDataLink!G941","v":6},"○","○"]
[939,1,6900,{"$f":"AccVelDataLink!A942","v":939},938,940,null,{"$f":"AccVelDataLink!G942","v":6.9},"○","○"]
[940,1,8000,{"$f":"AccVelDataLink!A943","v":940},939,941,null,{"$f":"AccVelDataLink!G943","v":8},"○","○"]
[941,1,9600,{"$f":"AccVelDataLink!A944","v":941},940,942,null,{"$f":"AccVelDataLink!G944","v":9.6},"○","○"]
[942,1,12000,{"$f":"AccVelDataLink!A945","v":942},941,-1,null,{"$f":"AccVelDataLink!G945","v":12},{"$f":"IF(E945=A944,\"○\",IF(G945=0,\"つなぎまちがい\",\"先頭\"))","v":"○"},{"$f":"IF(F945=A946,\"○\",IF(F945<>E946,\"つなぎまちがい\",\"終端\"))","v":"終端"}]
[943,0,13500,{"$f":"AccVelDataLink!A946","v":943},-1,{"$f":"A947","v":944},{"$f":"AccVelDataLink!F946","v":"SSPDACR-M-400-40-水平"},{"$f":"AccVelDataLink!G946","v":13.5},"先頭","○"]
[{"$f":"A946+1","v":944},0,15000,{"$f":"AccVelDataLink!A947","v":944},{"$f":"A946","v":943},945,null,{"$f":"AccVelDataLink!G947","v":15},"○","○"]
[945,0,17000,{"$f":"AccVelDataLink!A948","v":945},944,946,null,{"$f":"AccVelDataLink!G948","v":17},"○","○"]
[946,0,19500,{"$f":"AccVelDataLink!A949","v":946},945,947,null,{"$f":"AccVelDataLink!G949","v":19.5},"○","○"]
[947,0,22500,{"$f":"AccVelDataLink!A950","v":947},946,948,null,{"$f":"AccVelDataLink!G950","v":22.5},"○","○"]
[948,0,25500,{"$f":"AccVelDataLink!A951","v":948},947,949,null,{"$f":"AccVelDataLink!G951","v":25.5},"○","○"]
[949,0,30000,{"$f":"AccVelDataLink!A952","v":949},948,950,null,{"$f":"AccVelDataLink!G952","v":30},"○","○"]
[950,0,36000,{"$f":"AccVelDataLink!A953","v":950},949,951,null,{"$f":"AccVelDataLink!G953","v":36},"○","○"]
[951,0,45000,{"$f":"AccVelDataLink!A954","v":951},950,952,null,{"$f":"AccVelDataLink!G954","v":45},"○","○"]
[952,1,{"$f":"H955*$H$1","v":2000},{"$f":"AccVelDataLink!A955","v":952},951,953,{"$f":"AccVelDataLink!F955","v":"SSPDACR-M-400-40-垂直"},{"$f":"AccVelDataLink!G955","v":2},"○","○"]
[{"$f":"A955+1","v":953},1,2200,{"$f":"AccVelDataLink!A956","v":953},952,954,null,{"$f":"AccVelDataLink!G956","v":2.2000000000000002},"○","○"]
[954,1,2400,{"$f":"AccVelDataLink!A957","v":954},953,955,null,{"$f":"AccVelDataLink!G957","v":2.4},"○","○"]
[955,1,2700,{"$f":"AccVelDataLink!A958","v":955},954,956,null,{"$f":"AccVelDataLink!G958","v":2.7},"○","○"]
[956,1,3000,{"$f":"AccVelDataLink!A959","v":956},955,957,null,{"$f":"AccVelDataLink!G959","v":3},"○","○"]
[957,1,3400,{"$f":"AccVelDataLink!A960","v":957},956,958,null,{"$f":"AccVelDataLink!G960","v":3.4},"○","○"]
[958,1,4000,{"$f":"AccVelDataLink!A961","v":958},957,959,null,{"$f":"AccVelDataLink!G961","v":4},"○","○"]
[959,1,4800,{"$f":"AccVelDataLink!A962","v":959},958,960,null,{"$f":"AccVelDataLink!G962","v":4.8},"○","○"]
[960,1,6000,{"$f":"AccVelDataLink!A963","v":960},959,-1,null,{"$f":"AccVelDataLink!G963","v":6},{"$f":"IF(E963=A962,\"○\",IF(G963=0,\"つなぎまちがい\",\"先頭\"))","v":"○"},{"$f":"IF(F963=A964,\"○\",IF(F963<>E964,\"つなぎまちがい\",\"終端\"))","v":"終端"}]
[961,0,40000,{"$f":"AccVelDataLink!A964","v":961},-1,{"$f":"A965","v":962},{"$f":"AccVelDataLink!F964","v":"SSPDACR-L-750-25-水平"},{"$f":"AccVelDataLink!G964","v":40},"先頭","○"]
[{"$f":"A964+1","v":962},0,44000,{"$f":"AccVelDataLink!A965","v":962},{"$f":"A964","v":961},963,null,{"$f":"AccVelDataLink!G965","v":44},"○","○"]
[963,0,48000,{"$f":"AccVelDataLink!A966","v":963},962,964,null,{"$f":"AccVelDataLink!G966","v":48},"○","○"]
[964,0,53000,{"$f":"AccVelDataLink!A967","v":964},963,965,null,{"$f":"AccVelDataLink!G967","v":53},"○","○"]
[965,0,60000,{"$f":"AccVelDataLink!A968","v":965},964,966,null,{"$f":"AccVelDataLink!G968","v":60},"○","○"]
[966,0,69000,{"$f":"AccVelDataLink!A969","v":966},965,967,null,{"$f":"AccVelDataLink!G969","v":69},"○","○"]
[967,0,80000,{"$f":"AccVelDataLink!A970","v":967},966,968,null,{"$f":"AccVelDataLink!G970","v":80},"○","○"]
[968,0,96000,{"$f":"AccVelDataLink!A971","v":968},967,969,null,{"$f":"AccVelDataLink!G971","v":96},"○","○"]
[969,0,120000,{"$f":"AccVelDataLink!A972","v":969},968,970,null,{"$f":"AccVelDataLink!G972","v":120},"○","○"]
[970,1,{"$f":"H973*$H$1","v":8000},{"$f":"AccVelDataLink!A973","v":970},969,971,{"$f":"AccVelDataLink!F973","v":"SSPDACR-L-750-25-垂直"},{"$f":"AccVelDataLink!G973","v":8},"○","○"]
[{"$f":"A973+1","v":971},1,9000,{"$f":"AccVelDataLink!A974","v":971},970,972,null,{"$f":"AccVelDataLink!G974","v":9},"○","○"]
[972,1,10000,{"$f":"AccVelDataLink!A975","v":972},971,973,null,{"$f":"AccVelDataLink!G975","v":10},"○","○"]
[973,1,11000,{"$f":"AccVelDataLink!A976","v":973},972,974,null,{"$f":"AccVelDataLink!G976","v":11},"○","○"]
[974,1,13000,{"$f":"AccVelDataLink!A977","v":974},973,975,null,{"$f":"AccVelDataLink!G977","v":13},"○","○"]
[975,1,14000,{"$f":"AccVelDataLink!A978","v":975},974,976,null,{"$f":"AccVelDataLink!G978","v":14},"○","○"]
[976,1,17000,{"$f":"AccVelDataLink!A979","v":976},975,977,null,{"$f":"AccVelDataLink!G979","v":17},"○","○"]
[977,1,20000,{"$f":"AccVelDataLink!A980","v":977},976,978,null,{"$f":"AccVelDataLink!G980","v":20},"○","○"]
[978,1,25000,{"$f":"AccVelDataLink!A981","v":978},977,-1,null,{"$f":"AccVelDataLink!G981","v":25},{"$f":"IF(E981=A980,\"○\",IF(G981=0,\"つなぎまちがい\",\"先頭\"))","v":"○"},{"$f":"IF(F981=A982,\"○\",IF(F981<>E982,\"つなぎまちがい\",\"終端\"))","v":"終端"}]
[979,0,20000,{"$f":"AccVelDataLink!A982","v":979},-1,{"$f":"A983","v":980},{"$f":"AccVelDataLink!F982","v":"SSPDACR-L-750-50-水平"},{"$f":"AccVelDataLink!G982","v":20},"先頭","○"]
[{"$f":"A982+1","v":980},0,22000,{"$f":"AccVelDataLink!A983","v":980},{"$f":"A982","v":979},981,null,{"$f":"AccVelDataLink!G983","v":22},"○","○"]
[981,0,24000,{"$f":"AccVelDataLink!A984","v":981},980,982,null,{"$f":"AccVelDataLink!G984","v":24},"○","○"]
[982,0,27000,{"$f":"AccVelDataLink!A985","v":982},981,983,null,{"$f":"AccVelDataLink!G985","v":27},"○","○"]
[983,0,30000,{"$f":"AccVelDataLink!A986","v":983},982,984,null,{"$f":"AccVelDataLink!G986","v":30},"○","○"]
[984,0,34000,{"$f":"AccVelDataLink!A987","v":984},983,985,null,{"$f":"AccVelDataLink!G987","v":34},"○","○"]
[985,0,40000,{"$f":"AccVelDataLink!A988","v":985},984,986,null,{"$f":"AccVelDataLink!G988","v":40},"○","○"]
[986,0,48000,{"$f":"AccVelDataLink!A989","v":986},985,987,null,{"$f":"AccVelDataLink!G989","v":48},"○","○"]
[987,0,60000,{"$f":"AccVelDataLink!A990","v":987},986,988,null,{"$f":"AccVelDataLink!G990","v":60},"○","○"]
[988,1,{"$f":"H991*$H$1","v":4000},{"$f":"AccVelDataLink!A991","v":988},987,989,{"$f":"AccVelDataLink!F991","v":"SSPDACR-L-750-50-垂直"},{"$f":"AccVelDataLink!G991","v":4},"○","○"]
[{"$f":"A991+1","v":989},1,5000,{"$f":"AccVelDataLink!A992","v":989},988,990,null,{"$f":"AccVelDataLink!G992","v":5},"○","○"]
[990,1,6000,{"$f":"AccVelDataLink!A993","v":990},989,991,null,{"$f":"AccVelDataLink!G993","v":6},"○","○"]
[991,1,7000,{"$f":"AccVelDataLink!A994","v":991},990,992,null,{"$f":"AccVelDataLink!G994","v":7},"○","○"]
[992,1,8000,{"$f":"AccVelDataLink!A995","v":992},991,993,null,{"$f":"AccVelDataLink!G995","v":8},"○","○"]
[993,1,10000,{"$f":"AccVelDataLink!A996","v":993},992,994,null,{"$f":"AccVelDataLink!G996","v":10},"○","○"]
[994,1,12000,{"$f":"AccVelDataLink!A997","v":994},993,-1,null,{"$f":"AccVelDataLink!G997","v":12},"○","終端"]
[995,0,65000,{"$f":"AccVelDataLink!A998","v":995},-1,{"$f":"A999","v":996},{"$f":"AccVelDataLink!F998","v":"RCS3-SA8C-100-5-水平"},{"$f":"AccVelDataLink!G998","v":65},{"$f":"IF(E998=A997,\"○\",IF(G998=0,\"つなぎまちがい\",\"先頭\"))","v":"先頭"},{"$f":"IF(F998=A999,\"○\",IF(F998<>E999,\"つなぎまちがい\",\"終端\"))","v":"○"}]
[{"$f":"A998+1","v":996},0,80000,{"$f":"AccVelDataLink!A999","v":996},{"$f":"A998","v":995},{"$f":"A1000","v":997},null,{"$f":"AccVelDataLink!G999","v":80},{"$f":"IF(E999=A998,\"○\",IF(G999=0,\"つなぎまちがい\",\"先頭\"))","v":"○"},{"$f":"IF(F999=A1000,\"○\",IF(F999<>E1000,\"つなぎまちがい\",\"終端\"))","v":"○"}]
[997,1,12000,{"$f":"AccVelDataLink!A1000","v":997},{"$f":"A999","v":996},{"$f":"A1001","v":998},{"$f":"AccVelDataLink!F1000","v":"RCS3-SA8C-100-5-垂直"},{"$f":"AccVelDataLink!G1000","v":12},{"$f":"IF(E1000=A999,\"○\",IF(G1000=0,\"つなぎまちがい\",\"先頭\"))","v":"○"},{"$f":"IF(F1000=A1001,\"○\",IF(F1000<>E1001,\"つなぎまちがい\",\"終端\"))","v":"○"}]
[998,1,16000,{"$f":"AccVelDataLink!A1001","v":998},{"$f":"A1000","v":997},-1,null,{"$f":"AccVelDataLink!G1001","v":16},{"$f":"IF(E1001=A1000,\"○\",IF(G1001=0,\"つなぎまちがい\",\"先頭\"))","v":"○"},"終端"]
[{"$f":"A1001+1","v":999},0,20000,{"$f":"AccVelDataLink!A1002","v":999},-1,{"$f":"A1003","v":1000},{"$f":"AccVelDataLink!F1002","v":"RCS3-SA8C-100-10-水平"},{"$f":"AccVelDataLink!G1002","v":20},"先頭","○"]
[{"$f":"A1002+1","v":1000},0,28000,{"$f":"AccVelDataLink!A1003","v":1000},{"$f":"A1002","v":999},{"$f":"A1004","v":1001},null,{"$f":"AccVelDataLink!G1003","v":28},"○","○"]
[1001,0,40000,{"$f":"AccVelDataLink!A1004","v":1001},{"$f":"A1003","v":1000},{"$f":"A1005","v":1002},null,{"$f":"AccVelDataLink!G1004","v":40},"○","○"]
[1002,1,4000,{"$f":"AccVelDataLink!A1005","v":1002},{"$f":"A1004","v":1001},{"$f":"A1006","v":1003},{"$f":"AccVelDataLink!F1005","v":"RCS3-SA8C-100-10-垂直"},{"$f":"AccVelDataLink!G1005","v":4},"○","○"]
[{"$f":"A1005+1","v":1003},1,{"$f":"H1006*$H$1","v":5500},{"$f":"AccVelDataLink!A1006","v":1003},{"$f":"A1005","v":1002},{"$f":"A1007","v":1004},null,{"$f":"AccVelDataLink!G1006","v":5.5},"○","○"]
[1004,1,8000,{"$f":"AccVelDataLink!A1007","v":1004},{"$f":"A1006","v":1003},-1,null,{"$f":"AccVelDataLink!G1007","v":8},"○",{"$f":"IF(F1007=A1008,\"○\",IF(F1007<>E1008,\"つなぎまちがい\",\"終端\"))","v":"終端"}]
[{"$f":"A1007+1","v":1005},0,5000,{"$f":"AccVelDataLink!A1008","v":1005},-1,{"$f":"A1009","v":1006},{"$f":"AccVelDataLink!F1008","v":"RCS3-SA8C-100-20-水平"},{"$f":"AccVelDataLink!G1008","v":5},{"$f":"IF(E1008=A1007,\"○\",IF(G1008=0,\"つなぎまちがい\",\"先頭\"))","v":"先頭"},"○"]
[{"$f":"A1008+1","v":1006},0,7000,{"$f":"AccVelDataLink!A1009","v":1006},{"$f":"A1008","v":1005},1007,null,{"$f":"AccVelDataLink!G1009","v":7},"○","○"]
[1007,0,10000,{"$f":"AccVelDataLink!A1010","v":1007},1006,1008,null,{"$f":"AccVelDataLink!G1010","v":10},"○","○"]
[1008,0,14000,{"$f":"AccVelDataLink!A1011","v":1008},1007,1009,null,{"$f":"AccVelDataLink!G1011","v":14},"○","○"]
[{"$f":"A1011+1","v":1009},0,20000,{"$f":"AccVelDataLink!A1012","v":1009},1008,1010,null,{"$f":"AccVelDataLink!G1012","v":20},"○","○"]
[{"$f":"A1012+1","v":1010},1,1500,{"$f":"AccVelDataLink!A1013","v":1010},1009,1011,{"$f":"AccVelDataLink!F1013","v":"RCS3-SA8C-100-20-垂直"},{"$f":"AccVelDataLink!G1013","v":1.5},"○","○"]
[1011,1,1750,{"$f":"AccVelDataLink!A1014","v":1011},1010,1012,null,{"$f":"AccVelDataLink!G1014","v":1.75},"○","○"]
[1012,1,2000,{"$f":"AccVelDataLink!A1015","v":1012},1011,1013,null,{"$f":"AccVelDataLink!G1015","v":2},"○","○"]
[1013,1,3000,{"$f":"AccVelDataLink!A1016","v":1013},1012,1014,null,{"$f":"AccVelDataLink!G1016","v":3},{"$f":"IF(E1016=A1015,\"○\",IF(G1016=0,\"つなぎまちがい\",\"先頭\"))","v":"○"},{"$f":"IF(F1016=A1017,\"○\",IF(F1016<>E1017,\"つなぎまちがい\",\"終端\"))","v":"○"}]
[1014,1,4000,{"$f":"AccVelDataLink!A1017","v":1014},1013,-1,null,{"$f":"AccVelDataLink!G1017","v":4},"○","終端"]
[{"$f":"A1017+1","v":1015},0,1000,{"$f":"AccVelDataLink!A1018","v":1015},-1,{"$f":"A1019","v":1016},{"$f":"AccVelDataLink!F1018","v":"RCS3-SA8C-100-30-水平"},{"$f":"AccVelDataLink!G1018","v":1},"先頭","○"]
[{"$f":"A1018+1","v":1016},0,2000,{"$f":"AccVelDataLink!A1019","v":1016},{"$f":"A1018","v":1015},1017,null,{"$f":"AccVelDataLink!G1019","v":2},"○","○"]
[1017,0,3000,{"$f":"AccVelDataLink!A1020","v":1017},1016,1018,null,{"$f":"AccVelDataLink!G1020","v":3},"○","○"]
[1018,0,4000,{"$f":"AccVelDataLink!A1021","v":1018},1017,1019,null,{"$f":"AccVelDataLink!G1021","v":4},"○","○"]
[1019,0,5000,{"$f":"AccVelDataLink!A1022","v":1019},1018,1020,null,{"$f":"AccVelDataLink!G1022","v":5},"○","○"]
[1020,0,6000,{"$f":"AccVelDataLink!A1023","v":1020},1019,1021,null,{"$f":"AccVelDataLink!G1023","v":6},"○","○"]
[1021,0,7000,{"$f":"AccVelDataLink!A1024","v":1021},1020,1022,null,{"$f":"AccVelDataLink!G1024","v":7},"○","○"]
[{"$f":"A1024+1","v":1022},0,8000,{"$f":"AccVelDataLink!A1025","v":1022},1021,1023,null,{"$f":"AccVelDataLink!G1025","v":8},"○","○"]
[{"$f":"A1025+1","v":1023},1,1000,{"$f":"AccVelDataLink!A1026","v":1023},1022,1024,{"$f":"AccVelDataLink!F1026","v":"RCS3-SA8C-100-30-垂直"},{"$f":"AccVelDataLink!G1026","v":1},"○","○"]
[1024,1,1200,{"$f":"AccVelDataLink!A1027","v":1024},1023,1025,null,{"$f":"AccVelDataLink!G1027","v":1.2},"○","○"]
[1025,1,1500,{"$f":"AccVelDataLink!A1028","v":1025},1024,1026,null,{"$f":"AccVelDataLink!G1028","v":1.5},"○","○"]
[1026,1,1750,{"$f":"AccVelDataLink!A1029","v":1026},1025,1027,null,{"$f":"AccVelDataLink!G1029","v":1.75},"○",{"$f":"IF(F1029=A1030,\"○\",IF(F1029<>E1030,\"つなぎまちがい\",\"終端\"))","v":"○"}]
[1027,1,2000,{"$f":"AccVelDataLink!A1030","v":1027},1026,-1,null,{"$f":"AccVelDataLink!G1030","v":2},{"$f":"IF(E1030=A1029,\"○\",IF(G1030=0,\"つなぎまちがい\",\"先頭\"))","v":"○"},"終端"]
[{"$f":"A1030+1","v":1028},0,{"$f":"H1031*$H$1","v":30000},{"$f":"AccVelDataLink!A1031","v":1028},-1,{"$f":"A1032","v":1029},{"$f":"AccVelDataLink!F1031","v":"RCS3-SA8C-150-10-水平"},{"$f":"AccVelDataLink!G1031","v":30},{"$f":"IF(E1031=A1030,\"○\",IF(G1031=0,\"つなぎまちがい\",\"先頭\"))","v":"先頭"},"○"]
[{"$f":"A1031+1","v":1029},0,42000,{"$f":"AccVelDataLink!A1032","v":1029},{"$f":"A1031","v":1028},{"$f":"A1033","v":1030},null,{"$f":"AccVelDataLink!G1032","v":42},{"$f":"IF(E1032=A1031,\"○\",IF(G1032=0,\"つなぎまちがい\",\"先頭\"))","v":"○"},"○"]
[{"$f":"A1032+1","v":1030},0,60000,{"$f":"AccVelDataLink!A1033","v":1030},{"$f":"A1032","v":1029},{"$f":"A1034","v":1031},null,{"$f":"AccVelDataLink!G1033","v":60},{"$f":"IF(E1033=A1032,\"○\",IF(G1033=0,\"つなぎまちがい\",\"先頭\"))","v":"○"},"○"]
[{"$f":"A1033+1","v":1031},1,6000,{"$f":"AccVelDataLink!A1034","v":1031},{"$f":"A1033","v":1030},{"$f":"A1035","v":1032},{"$f":"AccVelDataLink!F1034","v":"RCS3-SA8C-150-10-垂直"},{"$f":"AccVelDataLink!G1034","v":6},{"$f":"IF(E1034=A1033,\"○\",IF(G1034=0,\"つなぎまちがい\",\"先頭\"))","v":"○"},"○"]
[{"$f":"A1034+1","v":1032},1,8500,{"$f":"AccVelDataLink!A1035","v":1032},{"$f":"A1034","v":1031},{"$f":"A1036","v":1033},null,{"$f":"AccVelDataLink!G1035","v":8.5},{"$f":"IF(E1035=A1034,\"○\",IF(G1035=0,\"つなぎまちがい\",\"先頭\"))","v":"○"},{"$f":"IF(F1035=A1036,\"○\",IF(F1035<>E1036,\"つなぎまちがい\",\"終端\"))","v":"○"}]
[1033,1,12000,{"$f":"AccVelDataLink!A1036","v":1033},{"$f":"A1035","v":1032},-1,null,{"$f":"AccVelDataLink!G1036","v":12},"○","終端"]
[{"$f":"A1036+1","v":1034},0,7500,{"$f":"AccVelDataLink!A1037","v":1034},-1,{"$f":"A1038","v":1035},{"$f":"AccVelDataLink!F1037","v":"RCS3-SA8C-150-20-水平"},{"$f":"AccVelDataLink!G1037","v":7.5},"先頭","○"]
[{"$f":"A1037+1","v":1035},0,11000,{"$f":"AccVelDataLink!A1038","v":1035},{"$f":"A1037","v":1034},1036,null,{"$f":"AccVelDataLink!G1038","v":11},"○","○"]
[1036,0,15000,{"$f":"AccVelDataLink!A1039","v":1036},1035,1037,null,{"$f":"AccVelDataLink!G1039","v":15},"○","○"]
[1037,0,21000,{"$f":"AccVelDataLink!A1040","v":1037},1036,1038,null,{"$f":"AccVelDataLink!G1040","v":21},"○","○"]
[{"$f":"A1040+1","v":1038},0,30000,{"$f":"AccVelDataLink!A1041","v":1038},1037,1039,null,{"$f":"AccVelDataLink!G1041","v":30},"○","○"]
[{"$f":"A1041+1","v":1039},1,2000,{"$f":"AccVelDataLink!A1042","v":1039},1038,1040,{"$f":"AccVelDataLink!F1042","v":"RCS3-SA8C-150-20-垂直"},{"$f":"AccVelDataLink!G1042","v":2},"○","○"]
[1040,1,2400,{"$f":"AccVelDataLink!A1043","v":1040},1039,1041,null,{"$f":"AccVelDataLink!G1043","v":2.4},"○","○"]
[1041,1,3000,{"$f":"AccVelDataLink!A1044","v":1041},1040,1042,null,{"$f":"AccVelDataLink!G1044","v":3},"○","○"]
[1042,1,4000,{"$f":"AccVelDataLink!A1045","v":1042},1041,1043,null,{"$f":"AccVelDataLink!G1045","v":4},{"$f":"IF(E1045=A1044,\"○\",IF(G1045=0,\"つなぎまちがい\",\"先頭\"))","v":"○"},{"$f":"IF(F1045=A1046,\"○\",IF(F1045<>E1046,\"つなぎまちがい\",\"終端\"))","v":"○"}]
[1043,1,6000,{"$f":"AccVelDataLink!A1046","v":1043},1042,-1,null,{"$f":"AccVelDataLink!G1046","v":6},"○","終端"]
[{"$f":"A1046+1","v":1044},0,{"$f":"H1047*$H$1","v":2000},{"$f":"AccVelDataLink!A1047","v":1044},-1,{"$f":"A1048","v":1045},{"$f":"AccVelDataLink!F1047","v":"RCS3-SA8C-150-30-水平"},{"$f":"AccVelDataLink!G1047","v":2},"先頭","○"]
[{"$f":"A1047+1","v":1045},0,3000,{"$f":"AccVelDataLink!A1048","v":1045},{"$f":"A1047","v":1044},1046,null,{"$f":"AccVelDataLink!G1048","v":3},"○","○"]
[{"$f":"A1048+1","v":1046},0,4500,{"$f":"AccVelDataLink!A1049","v":1046},1045,1047,null,{"$f":"AccVelDataLink!G1049","v":4.5},"○","○"]
[1047,0,6000,{"$f":"AccVelDataLink!A1050","v":1047},1046,1048,null,{"$f":"AccVelDataLink!G1050","v":6},"○","○"]
[1048,0,8000,{"$f":"AccVelDataLink!A1051","v":1048},1047,1049,null,{"$f":"AccVelDataLink!G1051","v":8},"○","○"]
[1049,0,10000,{"$f":"AccVelDataLink!A1052","v":1049},1048,1050,null,{"$f":"AccVelDataLink!G1052","v":10},"○","○"]
[1050,0,11000,{"$f":"AccVelDataLink!A1053","v":1050},1049,1051,null,{"$f":"AccVelDataLink!G1053","v":11},"○","○"]
[{"$f":"A1053+1","v":1051},0,12000,{"$f":"AccVelDataLink!A1054","v":1051},1050,1052,null,{"$f":"AccVelDataLink!G1054","v":12},"○","○"]
[{"$f":"A1054+1","v":1052},1,1500,{"$f":"AccVelDataLink!A1055","v":1052},1051,1053,{"$f":"AccVelDataLink!F1055","v":"RCS3-SA8C-150-30-垂直"},{"$f":"AccVelDataLink!G1055","v":1.5},"○","○"]
[1053,1,1750,{"$f":"AccVelDataLink!A1056","v":1053},1052,1054,null,{"$f":"AccVelDataLink!G1056","v":1.75},"○","○"]
[1054,1,2000,{"$f":"AccVelDataLink!A1057","v":1054},1053,1055,null,{"$f":"AccVelDataLink!G1057","v":2},"○","○"]
[1055,1,2500,{"$f":"AccVelDataLink!A1058","v":1055},1054,1056,null,{"$f":"AccVelDataLink!G1058","v":2.5},"○","○"]
[1056,1,3000,{"$f":"AccVelDataLink!A1059","v":1056},1055,-1,null,{"$f":"AccVelDataLink!G1059","v":3},{"$f":"IF(E1059=A1058,\"○\",IF(G1059=0,\"つなぎまちがい\",\"先頭\"))","v":"○"},{"$f":"IF(F1059=A1060,\"○\",IF(F1059<>E1060,\"つなぎまちがい\",\"終端\"))","v":"終端"}]
[1057,0,65000,{"$f":"AccVelDataLink!A1060","v":1057},-1,{"$f":"A1061","v":1058},{"$f":"AccVelDataLink!F1060","v":"RCS3-SS8C-100-5-水平"},{"$f":"AccVelDataLink!G1060","v":65},"先頭",{"$f":"IF(F1060=A1061,\"○\",IF(F1060<>E1061,\"つなぎまちがい\",\"終端\"))","v":"○"}]
[{"$f":"A1060+1","v":1058},0,80000,{"$f":"AccVelDataLink!A1061","v":1058},{"$f":"A1060","v":1057},{"$f":"A1062","v":1059},null,{"$f":"AccVelDataLink!G1061","v":80},"○",{"$f":"IF(F1061=A1062,\"○\",IF(F1061<>E1062,\"つなぎまちがい\",\"終端\"))","v":"○"}]
[{"$f":"A1061+1","v":1059},1,12000,{"$f":"AccVelDataLink!A1062","v":1059},{"$f":"A1061","v":1058},{"$f":"A1063","v":1060},{"$f":"AccVelDataLink!F1062","v":"RCS3-SS8C-100-5-垂直"},{"$f":"AccVelDataLink!G1062","v":12},"○",{"$f":"IF(F1062=A1063,\"○\",IF(F1062<>E1063,\"つなぎまちがい\",\"終端\"))","v":"○"}]
[1060,1,16000,{"$f":"AccVelDataLink!A1063","v":1060},{"$f":"A1062","v":1059},-1,null,{"$f":"AccVelDataLink!G1063","v":16},"○","終端"]
[{"$f":"A1063+1","v":1061},0,20000,{"$f":"AccVelDataLink!A1064","v":1061},-1,{"$f":"A1065","v":1062},{"$f":"AccVelDataLink!F1064","v":"RCS3-SS8C-100-10-水平"},{"$f":"AccVelDataLink!G1064","v":20},"先頭","○"]
[{"$f":"A1064+1","v":1062},0,28000,{"$f":"AccVelDataLink!A1065","v":1062},{"$f":"A1064","v":1061},{"$f":"A1066","v":1063},null,{"$f":"AccVelDataLink!G1065","v":28},"○","○"]
[{"$f":"A1065+1","v":1063},0,40000,{"$f":"AccVelDataLink!A1066","v":1063},{"$f":"A1065","v":1062},{"$f":"A1067","v":1064},null,{"$f":"AccVelDataLink!G1066","v":40},"○","○"]
[{"$f":"A1066+1","v":1064},1,4000,{"$f":"AccVelDataLink!A1067","v":1064},{"$f":"A1066","v":1063},{"$f":"A1068","v":1065},{"$f":"AccVelDataLink!F1067","v":"RCS3-SS8C-100-10-垂直"},{"$f":"AccVelDataLink!G1067","v":4},"○","○"]
[1065,1,5500,{"$f":"AccVelDataLink!A1068","v":1065},{"$f":"A1067","v":1064},{"$f":"A1069","v":1066},null,{"$f":"AccVelDataLink!G1068","v":5.5},{"$f":"IF(E1068=A1067,\"○\",IF(G1068=0,\"つなぎまちがい\",\"先頭\"))","v":"○"},{"$f":"IF(F1068=A1069,\"○\",IF(F1068<>E1069,\"つなぎまちがい\",\"終端\"))","v":"○"}]
[1066,1,8000,{"$f":"AccVelDataLink!A1069","v":1066},{"$f":"A1068","v":1065},-1,null,{"$f":"AccVelDataLink!G1069","v":8},"○","終端"]
[{"$f":"A1069+1","v":1067},0,5000,{"$f":"AccVelDataLink!A1070","v":1067},-1,{"$f":"A1071","v":1068},{"$f":"AccVelDataLink!F1070","v":"RCS3-SS8C-100-20-水平"},{"$f":"AccVelDataLink!G1070","v":5},"先頭","○"]
[{"$f":"A1070+1","v":1068},0,7000,{"$f":"AccVelDataLink!A1071","v":1068},{"$f":"A1070","v":1067},1069,null,{"$f":"AccVelDataLink!G1071","v":7},"○","○"]
[1069,0,10000,{"$f":"AccVelDataLink!A1072","v":1069},1068,1070,null,{"$f":"AccVelDataLink!G1072","v":10},"○","○"]
[1070,0,14000,{"$f":"AccVelDataLink!A1073","v":1070},1069,1071,null,{"$f":"AccVelDataLink!G1073","v":14},"○","○"]
[{"$f":"A1073+1","v":1071},0,20000,{"$f":"AccVelDataLink!A1074","v":1071},1070,1072,null,{"$f":"AccVelDataLink!G1074","v":20},"○","○"]
[{"$f":"A1074+1","v":1072},1,{"$f":"H1075*$H$1","v":1500},{"$f":"AccVelDataLink!A1075","v":1072},1071,1073,{"$f":"AccVelDataLink!F1075","v":"RCS3-SS8C-100-20-垂直"},{"$f":"AccVelDataLink!G1075","v":1.5},"○","○"]
[{"$f":"A1075+1","v":1073},1,1750,{"$f":"AccVelDataLink!A1076","v":1073},1072,1074,null,{"$f":"AccVelDataLink!G1076","v":1.75},"○","○"]
[1074,1,2000,{"$f":"AccVelDataLink!A1077","v":1074},1073,1075,null,{"$f":"AccVelDataLink!G1077","v":2},"○","○"]
[1075,1,3000,{"$f":"AccVelDataLink!A1078","v":1075},1074,1076,null,{"$f":"AccVelDataLink!G1078","v":3},{"$f":"IF(E1078=A1077,\"○\",IF(G1078=0,\"つなぎまちがい\",\"先頭\"))","v":"○"},{"$f":"IF(F1078=A1079,\"○\",IF(F1078<>E1079,\"つなぎまちがい\",\"終端\"))","v":"○"}]
[1076,1,4000,{"$f":"AccVelDataLink!A1079","v":1076},1075,-1,null,{"$f":"AccVelDataLink!G1079","v":4},"○","終端"]
[{"$f":"A1079+1","v":1077},0,1000,{"$f":"AccVelDataLink!A1080","v":1077},-1,{"$f":"A1081","v":1078},{"$f":"AccVelDataLink!F1080","v":"RCS3-SS8C-100-30-水平"},{"$f":"AccVelDataLink!G1080","v":1},"先頭","○"]
[{"$f":"A1080+1","v":1078},0,2000,{"$f":"AccVelDataLink!A1081","v":1078},{"$f":"A1080","v":1077},1079,null,{"$f":"AccVelDataLink!G1081","v":2},"○","○"]
[1079,0,3000,{"$f":"AccVelDataLink!A1082","v":1079},1078,1080,null,{"$f":"AccVelDataLink!G1082","v":3},"○","○"]
[1080,0,4000,{"$f":"AccVelDataLink!A1083","v":1080},1079,1081,null,{"$f":"AccVelDataLink!G1083","v":4},"○","○"]
[1081,0,5000,{"$f":"AccVelDataLink!A1084","v":1081},1080,1082,null,{"$f":"AccVelDataLink!G1084","v":5},"○","○"]
[1082,0,6000,{"$f":"AccVelDataLink!A1085","v":1082},1081,1083,null,{"$f":"AccVelDataLink!G1085","v":6},"○","○"]
[1083,0,7000,{"$f":"AccVelDataLink!A1086","v":1083},1082,1084,null,{"$f":"AccVelDataLink!G1086","v":7},"○","○"]
[{"$f":"A1086+1","v":1084},0,8000,{"$f":"AccVelDataLink!A1087","v":1084},1083,1085,null,{"$f":"AccVelDataLink!G1087","v":8},"○","○"]
[{"$f":"A1087+1","v":1085},1,1000,{"$f":"AccVelDataLink!A1088","v":1085},1084,1086,{"$f":"AccVelDataLink!F1088","v":"RCS3-SS8C-100-30-垂直"},{"$f":"AccVelDataLink!G1088","v":1},"○","○"]
[1086,1,1200,{"$f":"AccVelDataLink!A1089","v":1086},1085,1087,null,{"$f":"AccVelDataLink!G1089","v":1.2},"○","○"]
[1087,1,1500,{"$f":"AccVelDataLink!A1090","v":1087},1086,1088,null,{"$f":"AccVelDataLink!G1090","v":1.5},"○","○"]
[1088,1,1750,{"$f":"AccVelDataLink!A1091","v":1088},1087,1089,null,{"$f":"AccVelDataLink!G1091","v":1.75},{"$f":"IF(E1091=A1090,\"○\",IF(G1091=0,\"つなぎまちがい\",\"先頭\"))","v":"○"},{"$f":"IF(F1091=A1092,\"○\",IF(F1091<>E1092,\"つなぎまちがい\",\"終端\"))","v":"○"}]
[1089,1,2000,{"$f":"AccVelDataLink!A1092","v":1089},1088,-1,null,{"$f":"AccVelDataLink!G1092","v":2},"○","終端"]
[{"$f":"A1092+1","v":1090},0,30000,{"$f":"AccVelDataLink!A1093","v":1090},-1,{"$f":"A1094","v":1091},{"$f":"AccVelDataLink!F1093","v":"RCS3-SS8C-150-10-水平"},{"$f":"AccVelDataLink!G1093","v":30},"先頭","○"]
[{"$f":"A1093+1","v":1091},0,42000,{"$f":"AccVelDataLink!A1094","v":1091},{"$f":"A1093","v":1090},{"$f":"A1095","v":1092},null,{"$f":"AccVelDataLink!G1094","v":42},"○","○"]
[{"$f":"A1094+1","v":1092},0,60000,{"$f":"AccVelDataLink!A1095","v":1092},{"$f":"A1094","v":1091},{"$f":"A1096","v":1093},null,{"$f":"AccVelDataLink!G1095","v":60},"○","○"]
[{"$f":"A1095+1","v":1093},1,6000,{"$f":"AccVelDataLink!A1096","v":1093},{"$f":"A1095","v":1092},{"$f":"A1097","v":1094},{"$f":"AccVelDataLink!F1096","v":"RCS3-SS8C-150-10-垂直"},{"$f":"AccVelDataLink!G1096","v":6},"○","○"]
[1094,1,8500,{"$f":"AccVelDataLink!A1097","v":1094},{"$f":"A1096","v":1093},{"$f":"A1098","v":1095},null,{"$f":"AccVelDataLink!G1097","v":8.5},{"$f":"IF(E1097=A1096,\"○\",IF(G1097=0,\"つなぎまちがい\",\"先頭\"))","v":"○"},{"$f":"IF(F1097=A1098,\"○\",IF(F1097<>E1098,\"つなぎまちがい\",\"終端\"))","v":"○"}]
[1095,1,12000,{"$f":"AccVelDataLink!A1098","v":1095},{"$f":"A1097","v":1094},-1,null,{"$f":"AccVelDataLink!G1098","v":12},"○","終端"]
[{"$f":"A1098+1","v":1096},0,{"$f":"H1099*$H$1","v":7500},{"$f":"AccVelDataLink!A1099","v":1096},-1,{"$f":"A1100","v":1097},{"$f":"AccVelDataLink!F1099","v":"RCS3-SS8C-150-20-水平"},{"$f":"AccVelDataLink!G1099","v":7.5},"先頭","○"]
[{"$f":"A1099+1","v":1097},0,11000,{"$f":"AccVelDataLink!A1100","v":1097},{"$f":"A1099","v":1096},1098,null,{"$f":"AccVelDataLink!G1100","v":11},"○","○"]
[{"$f":"A1100+1","v":1098},0,15000,{"$f":"AccVelDataLink!A1101","v":1098},1097,1099,null,{"$f":"AccVelDataLink!G1101","v":15},"○","○"]
[1099,0,21000,{"$f":"AccVelDataLink!A1102","v":1099},1098,1100,null,{"$f":"AccVelDataLink!G1102","v":21},"○","○"]
[{"$f":"A1102+1","v":1100},0,30000,{"$f":"AccVelDataLink!A1103","v":1100},1099,1101,null,{"$f":"AccVelDataLink!G1103","v":30},"○","○"]
[{"$f":"A1103+1","v":1101},1,2000,{"$f":"AccVelDataLink!A1104","v":1101},1100,1102,{"$f":"AccVelDataLink!F1104","v":"RCS3-SS8C-150-20-垂直"},{"$f":"AccVelDataLink!G1104","v":2},"○","○"]
[1102,1,2400,{"$f":"AccVelDataLink!A1105","v":1102},1101,1103,null,{"$f":"AccVelDataLink!G1105","v":2.4},"○","○"]
[1103,1,3000,{"$f":"AccVelDataLink!A1106","v":1103},1102,1104,null,{"$f":"AccVelDataLink!G1106","v":3},"○","○"]
[1104,1,4000,{"$f":"AccVelDataLink!A1107","v":1104},1103,1105,null,{"$f":"AccVelDataLink!G1107","v":4},{"$f":"IF(E1107=A1106,\"○\",IF(G1107=0,\"つなぎまちがい\",\"先頭\"))","v":"○"},{"$f":"IF(F1107=A1108,\"○\",IF(F1107<>E1108,\"つなぎまちがい\",\"終端\"))","v":"○"}]
[1105,1,6000,{"$f":"AccVelDataLink!A1108","v":1105},1104,-1,null,{"$f":"AccVelDataLink!G1108","v":6},"○","終端"]
[{"$f":"A1108+1","v":1106},0,2000,{"$f":"AccVelDataLink!A1109","v":1106},-1,{"$f":"A1110","v":1107},{"$f":"AccVelDataLink!F1109","v":"RCS3-SS8C-150-30-水平"},{"$f":"AccVelDataLink!G1109","v":2},"先頭","○"]
[{"$f":"A1109+1","v":1107},0,3000,{"$f":"AccVelDataLink!A1110","v":1107},{"$f":"A1109","v":1106},1108,null,{"$f":"AccVelDataLink!G1110","v":3},"○","○"]
[1108,0,4500,{"$f":"AccVelDataLink!A1111","v":1108},1107,1109,null,{"$f":"AccVelDataLink!G1111","v":4.5},"○","○"]
[1109,0,6000,{"$f":"AccVelDataLink!A1112","v":1109},1108,1110,null,{"$f":"AccVelDataLink!G1112","v":6},"○","○"]
[1110,0,8000,{"$f":"AccVelDataLink!A1113","v":1110},1109,1111,null,{"$f":"AccVelDataLink!G1113","v":8},"○","○"]
[1111,0,10000,{"$f":"AccVelDataLink!A1114","v":1111},1110,1112,null,{"$f":"AccVelDataLink!G1114","v":10},"○","○"]
[1112,0,11000,{"$f":"AccVelDataLink!A1115","v":1112},1111,1113,null,{"$f":"AccVelDataLink!G1115","v":11},"○","○"]
[{"$f":"A1115+1","v":1113},0,12000,{"$f":"AccVelDataLink!A1116","v":1113},1112,1114,null,{"$f":"AccVelDataLink!G1116","v":12},"○","○"]
[{"$f":"A1116+1","v":1114},1,{"$f":"H1117*$H$1","v":1500},{"$f":"AccVelDataLink!A1117","v":1114},1113,1115,{"$f":"AccVelDataLink!F1117","v":"RCS3-SS8C-150-30-垂直"},{"$f":"AccVelDataLink!G1117","v":1.5},"○","○"]
[{"$f":"A1117+1","v":1115},1,1750,{"$f":"AccVelDataLink!A1118","v":1115},1114,1116,null,{"$f":"AccVelDataLink!G1118","v":1.75},"○","○"]
[1116,1,2000,{"$f":"AccVelDataLink!A1119","v":1116},1115,1117,null,{"$f":"AccVelDataLink!G1119","v":2},"○","○"]
[1117,1,2500,{"$f":"AccVelDataLink!A1120","v":1117},1116,1118,null,{"$f":"AccVelDataLink!G1120","v":2.5},"○","○"]
[1118,1,3000,{"$f":"AccVelDataLink!A1121","v":1118},1117,-1,null,{"$f":"AccVelDataLink!G1121","v":3},"○","終端"]
[1119,0,65000,{"$f":"AccVelDataLink!A1122","v":1119},-1,{"$f":"A1123","v":1120},{"$f":"AccVelDataLink!F1122","v":"RCS3CR-SA8C-100-5-水平"},{"$f":"AccVelDataLink!G1122","v":65},{"$f":"IF(E1122=A1121,\"○\",IF(G1122=0,\"つなぎまちがい\",\"先頭\"))","v":"先頭"},{"$f":"IF(F1122=A1123,\"○\",IF(F1122<>E1123,\"つなぎまちがい\",\"終端\"))","v":"○"}]
[{"$f":"A1122+1","v":1120},0,80000,{"$f":"AccVelDataLink!A1123","v":1120},{"$f":"A1122","v":1119},{"$f":"A1124","v":1121},null,{"$f":"AccVelDataLink!G1123","v":80},{"$f":"IF(E1123=A1122,\"○\",IF(G1123=0,\"つなぎまちがい\",\"先頭\"))","v":"○"},{"$f":"IF(F1123=A1124,\"○\",IF(F1123<>E1124,\"つなぎまちがい\",\"終端\"))","v":"○"}]
[{"$f":"A1123+1","v":1121},1,12000,{"$f":"AccVelDataLink!A1124","v":1121},{"$f":"A1123","v":1120},{"$f":"A1125","v":1122},{"$f":"AccVelDataLink!F1124","v":"RCS3CR-SA8C-100-5-垂直"},{"$f":"AccVelDataLink!G1124","v":12},{"$f":"IF(E1124=A1123,\"○\",IF(G1124=0,\"つなぎまちがい\",\"先頭\"))","v":"○"},{"$f":"IF(F1124=A1125,\"○\",IF(F1124<>E1125,\"つなぎまちがい\",\"終端\"))","v":"○"}]
[1122,1,16000,{"$f":"AccVelDataLink!A1125","v":1122},{"$f":"A1124","v":1121},-1,null,{"$f":"AccVelDataLink!G1125","v":16},{"$f":"IF(E1125=A1124,\"○\",IF(G1125=0,\"つなぎまちがい\",\"先頭\"))","v":"○"},{"$f":"IF(F1125=A1126,\"○\",IF(F1125<>E1126,\"つなぎまちがい\",\"終端\"))","v":"終端"}]
[1123,0,20000,{"$f":"AccVelDataLink!A1126","v":1123},-1,{"$f":"A1127","v":1124},{"$f":"AccVelDataLink!F1126","v":"RCS3CR-SA8C-100-10-水平"},{"$f":"AccVelDataLink!G1126","v":20},"先頭","○"]
[1124,0,28000,{"$f":"AccVelDataLink!A1127","v":1124},{"$f":"A1126","v":1123},{"$f":"A1128","v":1125},null,{"$f":"AccVelDataLink!G1127","v":28},"○","○"]
[{"$f":"A1127+1","v":1125},0,40000,{"$f":"AccVelDataLink!A1128","v":1125},{"$f":"A1127","v":1124},{"$f":"A1129","v":1126},null,{"$f":"AccVelDataLink!G1128","v":40},"○","○"]
[{"$f":"A1128+1","v":1126},1,4000,{"$f":"AccVelDataLink!A1129","v":1126},{"$f":"A1128","v":1125},{"$f":"A1130","v":1127},{"$f":"AccVelDataLink!F1129","v":"RCS3CR-SA8C-100-10-垂直"},{"$f":"AccVelDataLink!G1129","v":4},"○","○"]
[1127,1,5500,{"$f":"AccVelDataLink!A1130","v":1127},{"$f":"A1129","v":1126},{"$f":"A1131","v":1128},null,{"$f":"AccVelDataLink!G1130","v":5.5},"○","○"]
[1128,1,8000,{"$f":"AccVelDataLink!A1131","v":1128},{"$f":"A1130","v":1127},-1,null,{"$f":"AccVelDataLink!G1131","v":8},{"$f":"IF(E1131=A1130,\"○\",IF(G1131=0,\"つなぎまちがい\",\"先頭\"))","v":"○"},{"$f":"IF(F1131=A1132,\"○\",IF(F1131<>E1132,\"つなぎまちがい\",\"終端\"))","v":"終端"}]
[1129,0,5000,{"$f":"AccVelDataLink!A1132","v":1129},-1,{"$f":"A1133","v":1130},{"$f":"AccVelDataLink!F1132","v":"RCS3CR-SA8C-100-20-水平"},{"$f":"AccVelDataLink!G1132","v":5},"先頭","○"]
[1130,0,7000,{"$f":"AccVelDataLink!A1133","v":1130},{"$f":"A1132","v":1129},1131,null,{"$f":"AccVelDataLink!G1133","v":7},"○","○"]
[1131,0,10000,{"$f":"AccVelDataLink!A1134","v":1131},1130,1132,null,{"$f":"AccVelDataLink!G1134","v":10},"○","○"]
[1132,0,14000,{"$f":"AccVelDataLink!A1135","v":1132},1131,1133,null,{"$f":"AccVelDataLink!G1135","v":14},"○","○"]
[{"$f":"A1135+1","v":1133},0,20000,{"$f":"AccVelDataLink!A1136","v":1133},1132,1134,null,{"$f":"AccVelDataLink!G1136","v":20},"○","○"]
[{"$f":"A1136+1","v":1134},1,1500,{"$f":"AccVelDataLink!A1137","v":1134},1133,1135,{"$f":"AccVelDataLink!F1137","v":"RCS3CR-SA8C-100-20-垂直"},{"$f":"AccVelDataLink!G1137","v":1.5},"○","○"]
[1135,1,1750,{"$f":"AccVelDataLink!A1138","v":1135},1134,1136,null,{"$f":"AccVelDataLink!G1138","v":1.75},"○","○"]
[1136,1,2000,{"$f":"AccVelDataLink!A1139","v":1136},1135,1137,null,{"$f":"AccVelDataLink!G1139","v":2},"○","○"]
[1137,1,3000,{"$f":"AccVelDataLink!A1140","v":1137},1136,1138,null,{"$f":"AccVelDataLink!G1140","v":3},"○","○"]
[1138,1,4000,{"$f":"AccVelDataLink!A1141","v":1138},1137,-1,null,{"$f":"AccVelDataLink!G1141","v":4},{"$f":"IF(E1141=A1140,\"○\",IF(G1141=0,\"つなぎまちがい\",\"先頭\"))","v":"○"},{"$f":"IF(F1141=A1142,\"○\",IF(F1141<>E1142,\"つなぎまちがい\",\"終端\"))","v":"終端"}]
[1139,0,1000,{"$f":"AccVelDataLink!A1142","v":1139},-1,{"$f":"A1143","v":1140},{"$f":"AccVelDataLink!F1142","v":"RCS3CR-SA8C-100-30-水平"},{"$f":"AccVelDataLink!G1142","v":1},"先頭","○"]
[1140,0,2000,{"$f":"AccVelDataLink!A1143","v":1140},{"$f":"A1142","v":1139},1141,null,{"$f":"AccVelDataLink!G1143","v":2},"○","○"]
[1141,0,3000,{"$f":"AccVelDataLink!A1144","v":1141},1140,1142,null,{"$f":"AccVelDataLink!G1144","v":3},"○","○"]
[1142,0,4000,{"$f":"AccVelDataLink!A1145","v":1142},1141,1143,null,{"$f":"AccVelDataLink!G1145","v":4},"○","○"]
[1143,0,5000,{"$f":"AccVelDataLink!A1146","v":1143},1142,1144,null,{"$f":"AccVelDataLink!G1146","v":5},"○","○"]
[1144,0,6000,{"$f":"AccVelDataLink!A1147","v":1144},1143,1145,null,{"$f":"AccVelDataLink!G1147","v":6},"○","○"]
[1145,0,7000,{"$f":"AccVelDataLink!A1148","v":1145},1144,1146,null,{"$f":"AccVelDataLink!G1148","v":7},"○","○"]
[{"$f":"A1148+1","v":1146},0,8000,{"$f":"AccVelDataLink!A1149","v":1146},1145,1147,null,{"$f":"AccVelDataLink!G1149","v":8},"○","○"]
[{"$f":"A1149+1","v":1147},1,1000,{"$f":"AccVelDataLink!A1150","v":1147},1146,1148,{"$f":"AccVelDataLink!F1150","v":"RCS3CR-SA8C-100-30-垂直"},{"$f":"AccVelDataLink!G1150","v":1},"○","○"]
[1148,1,1200,{"$f":"AccVelDataLink!A1151","v":1148},1147,1149,null,{"$f":"AccVelDataLink!G1151","v":1.2},"○","○"]
[1149,1,1500,{"$f":"AccVelDataLink!A1152","v":1149},1148,1150,null,{"$f":"AccVelDataLink!G1152","v":1.5},"○","○"]
[1150,1,1750,{"$f":"AccVelDataLink!A1153","v":1150},1149,1151,null,{"$f":"AccVelDataLink!G1153","v":1.75},"○","○"]
[1151,1,2000,{"$f":"AccVelDataLink!A1154","v":1151},1150,-1,null,{"$f":"AccVelDataLink!G1154","v":2},{"$f":"IF(E1154=A1153,\"○\",IF(G1154=0,\"つなぎまちがい\",\"先頭\"))","v":"○"},{"$f":"IF(F1154=A1155,\"○\",IF(F1154<>E1155,\"つなぎまちがい\",\"終端\"))","v":"終端"}]
[1152,0,30000,{"$f":"AccVelDataLink!A1155","v":1152},-1,{"$f":"A1156","v":1153},{"$f":"AccVelDataLink!F1155","v":"RCS3CR-SA8C-150-10-水平"},{"$f":"AccVelDataLink!G1155","v":30},"先頭","○"]
[1153,0,42000,{"$f":"AccVelDataLink!A1156","v":1153},{"$f":"A1155","v":1152},{"$f":"A1157","v":1154},null,{"$f":"AccVelDataLink!G1156","v":42},"○","○"]
[{"$f":"A1156+1","v":1154},0,60000,{"$f":"AccVelDataLink!A1157","v":1154},{"$f":"A1156","v":1153},{"$f":"A1158","v":1155},null,{"$f":"AccVelDataLink!G1157","v":60},"○","○"]
[{"$f":"A1157+1","v":1155},1,6000,{"$f":"AccVelDataLink!A1158","v":1155},{"$f":"A1157","v":1154},{"$f":"A1159","v":1156},{"$f":"AccVelDataLink!F1158","v":"RCS3CR-SA8C-150-10-垂直"},{"$f":"AccVelDataLink!G1158","v":6},"○","○"]
[1156,1,8500,{"$f":"AccVelDataLink!A1159","v":1156},{"$f":"A1158","v":1155},{"$f":"A1160","v":1157},null,{"$f":"AccVelDataLink!G1159","v":8.5},"○","○"]
[1157,1,12000,{"$f":"AccVelDataLink!A1160","v":1157},{"$f":"A1159","v":1156},-1,null,{"$f":"AccVelDataLink!G1160","v":12},{"$f":"IF(E1160=A1159,\"○\",IF(G1160=0,\"つなぎまちがい\",\"先頭\"))","v":"○"},{"$f":"IF(F1160=A1161,\"○\",IF(F1160<>E1161,\"つなぎまちがい\",\"終端\"))","v":"終端"}]
[1158,0,7500,{"$f":"AccVelDataLink!A1161","v":1158},-1,{"$f":"A1162","v":1159},{"$f":"AccVelDataLink!F1161","v":"RCS3CR-SA8C-150-20-水平"},{"$f":"AccVelDataLink!G1161","v":7.5},"先頭","○"]
[1159,0,11000,{"$f":"AccVelDataLink!A1162","v":1159},{"$f":"A1161","v":1158},1160,null,{"$f":"AccVelDataLink!G1162","v":11},"○","○"]
[1160,0,15000,{"$f":"AccVelDataLink!A1163","v":1160},1159,1161,null,{"$f":"AccVelDataLink!G1163","v":15},"○","○"]
[1161,0,21000,{"$f":"AccVelDataLink!A1164","v":1161},1160,1162,null,{"$f":"AccVelDataLink!G1164","v":21},"○","○"]
[{"$f":"A1164+1","v":1162},0,30000,{"$f":"AccVelDataLink!A1165","v":1162},1161,1163,null,{"$f":"AccVelDataLink!G1165","v":30},"○","○"]
[{"$f":"A1165+1","v":1163},1,{"$f":"H1166*$H$1","v":2000},{"$f":"AccVelDataLink!A1166","v":1163},1162,1164,{"$f":"AccVelDataLink!F1166","v":"RCS3CR-SA8C-150-20-垂直"},{"$f":"AccVelDataLink!G1166","v":2},"○","○"]
[{"$f":"A1166+1","v":1164},1,2400,{"$f":"AccVelDataLink!A1167","v":1164},1163,1165,null,{"$f":"AccVelDataLink!G1167","v":2.4},"○","○"]
[1165,1,3000,{"$f":"AccVelDataLink!A1168","v":1165},1164,1166,null,{"$f":"AccVelDataLink!G1168","v":3},"○","○"]
[1166,1,4000,{"$f":"AccVelDataLink!A1169","v":1166},1165,1167,null,{"$f":"AccVelDataLink!G1169","v":4},{"$f":"IF(E1169=A1168,\"○\",IF(G1169=0,\"つなぎまちがい\",\"先頭\"))","v":"○"},{"$f":"IF(F1169=A1170,\"○\",IF(F1169<>E1170,\"つなぎまちがい\",\"終端\"))","v":"○"}]
[1167,1,6000,{"$f":"AccVelDataLink!A1170","v":1167},1166,-1,null,{"$f":"AccVelDataLink!G1170","v":6},"○","終端"]
[1168,0,2000,{"$f":"AccVelDataLink!A1171","v":1168},-1,{"$f":"A1172","v":1169},{"$f":"AccVelDataLink!F1171","v":"RCS3CR-SA8C-150-30-水平"},{"$f":"AccVelDataLink!G1171","v":2},"先頭","○"]
[1169,0,3000,{"$f":"AccVelDataLink!A1172","v":1169},{"$f":"A1171","v":1168},1170,null,{"$f":"AccVelDataLink!G1172","v":3},"○","○"]
[1170,0,4500,{"$f":"AccVelDataLink!A1173","v":1170},1169,1171,null,{"$f":"AccVelDataLink!G1173","v":4.5},"○","○"]
[1171,0,6000,{"$f":"AccVelDataLink!A1174","v":1171},1170,1172,null,{"$f":"AccVelDataLink!G1174","v":6},"○","○"]
[1172,0,8000,{"$f":"AccVelDataLink!A1175","v":1172},1171,1173,null,{"$f":"AccVelDataLink!G1175","v":8},"○","○"]
[1173,0,10000,{"$f":"AccVelDataLink!A1176","v":1173},1172,1174,null,{"$f":"AccVelDataLink!G1176","v":10},"○","○"]
[1174,0,11000,{"$f":"AccVelDataLink!A1177","v":1174},1173,1175,null,{"$f":"AccVelDataLink!G1177","v":11},"○","○"]
[{"$f":"A1177+1","v":1175},0,12000,{"$f":"AccVelDataLink!A1178","v":1175},1174,1176,null,{"$f":"AccVelDataLink!G1178","v":12},"○","○"]
[{"$f":"A1178+1","v":1176},1,1500,{"$f":"AccVelDataLink!A1179","v":1176},1175,1177,{"$f":"AccVelDataLink!F1179","v":"RCS3CR-SA8C-150-30-垂直"},{"$f":"AccVelDataLink!G1179","v":1.5},"○","○"]
[1177,1,1750,{"$f":"AccVelDataLink!A1180","v":1177},1176,1178,null,{"$f":"AccVelDataLink!G1180","v":1.75},"○","○"]
[1178,1,2000,{"$f":"AccVelDataLink!A1181","v":1178},1177,1179,null,{"$f":"AccVelDataLink!G1181","v":2},"○","○"]
[1179,1,2500,{"$f":"AccVelDataLink!A1182","v":1179},1178,1180,null,{"$f":"AccVelDataLink!G1182","v":2.5},"○","○"]
[1180,1,3000,{"$f":"AccVelDataLink!A1183","v":1180},1179,-1,null,{"$f":"AccVelDataLink!G1183","v":3},"○","終端"]
[1181,0,65000,{"$f":"AccVelDataLink!A1184","v":1181},-1,{"$f":"A1185","v":1182},{"$f":"AccVelDataLink!F1184","v":"RCS3CR-SS8C-100-5-水平"},{"$f":"AccVelDataLink!G1184","v":65},{"$f":"IF(E1184=A1183,\"○\",IF(G1184=0,\"つなぎまちがい\",\"先頭\"))","v":"先頭"},{"$f":"IF(F1184=A1185,\"○\",IF(F1184<>E1185,\"つなぎまちがい\",\"終端\"))","v":"○"}]
[{"$f":"A1184+1","v":1182},0,80000,{"$f":"AccVelDataLink!A1185","v":1182},{"$f":"A1184","v":1181},{"$f":"A1186","v":1183},null,{"$f":"AccVelDataLink!G1185","v":80},{"$f":"IF(E1185=A1184,\"○\",IF(G1185=0,\"つなぎまちがい\",\"先頭\"))","v":"○"},{"$f":"IF(F1185=A1186,\"○\",IF(F1185<>E1186,\"つなぎまちがい\",\"終端\"))","v":"○"}]
[{"$f":"A1185+1","v":1183},1,12000,{"$f":"AccVelDataLink!A1186","v":1183},{"$f":"A1185","v":1182},{"$f":"A1187","v":1184},{"$f":"AccVelDataLink!F1186","v":"RCS3CR-SS8C-100-5-垂直"},{"$f":"AccVelDataLink!G1186","v":12},{"$f":"IF(E1186=A1185,\"○\",IF(G1186=0,\"つなぎまちがい\",\"先頭\"))","v":"○"},{"$f":"IF(F1186=A1187,\"○\",IF(F1186<>E1187,\"つなぎまちがい\",\"終端\"))","v":"○"}]
[1184,1,16000,{"$f":"AccVelDataLink!A1187","v":1184},{"$f":"A1186","v":1183},-1,null,{"$f":"AccVelDataLink!G1187","v":16},{"$f":"IF(E1187=A1186,\"○\",IF(G1187=0,\"つなぎまちがい\",\"先頭\"))","v":"○"},{"$f":"IF(F1187=A1188,\"○\",IF(F1187<>E1188,\"つなぎまちがい\",\"終端\"))","v":"終端"}]
[1185,0,20000,{"$f":"AccVelDataLink!A1188","v":1185},-1,{"$f":"A1189","v":1186},{"$f":"AccVelDataLink!F1188","v":"RCS3CR-SS8C-100-10-水平"},{"$f":"AccVelDataLink!G1188","v":20},"先頭","○"]
[1186,0,28000,{"$f":"AccVelDataLink!A1189","v":1186},{"$f":"A1188","v":1185},{"$f":"A1190","v":1187},null,{"$f":"AccVelDataLink!G1189","v":28},"○","○"]
[{"$f":"A1189+1","v":1187},0,40000,{"$f":"AccVelDataLink!A1190","v":1187},{"$f":"A1189","v":1186},{"$f":"A1191","v":1188},null,{"$f":"AccVelDataLink!G1190","v":40},"○","○"]
[{"$f":"A1190+1","v":1188},1,4000,{"$f":"AccVelDataLink!A1191","v":1188},{"$f":"A1190","v":1187},{"$f":"A1192","v":1189},{"$f":"AccVelDataLink!F1191","v":"RCS3CR-SS8C-100-10-垂直"},{"$f":"AccVelDataLink!G1191","v":4},"○","○"]
[1189,1,5500,{"$f":"AccVelDataLink!A1192","v":1189},{"$f":"A1191","v":1188},{"$f":"A1193","v":1190},null,{"$f":"AccVelDataLink!G1192","v":5.5},"○","○"]
[1190,1,8000,{"$f":"AccVelDataLink!A1193","v":1190},{"$f":"A1192","v":1189},-1,null,{"$f":"AccVelDataLink!G1193","v":8},{"$f":"IF(E1193=A1192,\"○\",IF(G1193=0,\"つなぎまちがい\",\"先頭\"))","v":"○"},{"$f":"IF(F1193=A1194,\"○\",IF(F1193<>E1194,\"つなぎまちがい\",\"終端\"))","v":"終端"}]
[1191,0,5000,{"$f":"AccVelDataLink!A1194","v":1191},-1,{"$f":"A1195","v":1192},{"$f":"AccVelDataLink!F1194","v":"RCS3CR-SS8C-100-20-水平"},{"$f":"AccVelDataLink!G1194","v":5},"先頭","○"]
[1192,0,7000,{"$f":"AccVelDataLink!A1195","v":1192},{"$f":"A1194","v":1191},1193,null,{"$f":"AccVelDataLink!G1195","v":7},"○","○"]
[1193,0,10000,{"$f":"AccVelDataLink!A1196","v":1193},1192,1194,null,{"$f":"AccVelDataLink!G1196","v":10},"○","○"]
[1194,0,14000,{"$f":"AccVelDataLink!A1197","v":1194},1193,1195,null,{"$f":"AccVelDataLink!G1197","v":14},"○","○"]
[{"$f":"A1197+1","v":1195},0,20000,{"$f":"AccVelDataLink!A1198","v":1195},1194,1196,null,{"$f":"AccVelDataLink!G1198","v":20},"○","○"]
[{"$f":"A1198+1","v":1196},1,1500,{"$f":"AccVelDataLink!A1199","v":1196},1195,1197,{"$f":"AccVelDataLink!F1199","v":"RCS3CR-SS8C-100-20-垂直"},{"$f":"AccVelDataLink!G1199","v":1.5},"○","○"]
[1197,1,1750,{"$f":"AccVelDataLink!A1200","v":1197},1196,1198,null,{"$f":"AccVelDataLink!G1200","v":1.75},"○","○"]
[1198,1,2000,{"$f":"AccVelDataLink!A1201","v":1198},1197,1199,null,{"$f":"AccVelDataLink!G1201","v":2},"○","○"]
[1199,1,3000,{"$f":"AccVelDataLink!A1202","v":1199},1198,1200,null,{"$f":"AccVelDataLink!G1202","v":3},{"$f":"IF(E1202=A1201,\"○\",IF(G1202=0,\"つなぎまちがい\",\"先頭\"))","v":"○"},{"$f":"IF(F1202=A1203,\"○\",IF(F1202<>E1203,\"つなぎまちがい\",\"終端\"))","v":"○"}]
[1200,1,4000,{"$f":"AccVelDataLink!A1203","v":1200},1199,-1,null,{"$f":"AccVelDataLink!G1203","v":4},"○","終端"]
[1201,0,1000,{"$f":"AccVelDataLink!A1204","v":1201},-1,{"$f":"A1205","v":1202},{"$f":"AccVelDataLink!F1204","v":"RCS3CR-SS8C-100-30-水平"},{"$f":"AccVelDataLink!G1204","v":1},"先頭","○"]
[1202,0,2000,{"$f":"AccVelDataLink!A1205","v":1202},{"$f":"A1204","v":1201},1203,null,{"$f":"AccVelDataLink!G1205","v":2},"○","○"]
[1203,0,3000,{"$f":"AccVelDataLink!A1206","v":1203},1202,1204,null,{"$f":"AccVelDataLink!G1206","v":3},"○","○"]
[1204,0,4000,{"$f":"AccVelDataLink!A1207","v":1204},1203,1205,null,{"$f":"AccVelDataLink!G1207","v":4},"○","○"]
[1205,0,5000,{"$f":"AccVelDataLink!A1208","v":1205},1204,1206,null,{"$f":"AccVelDataLink!G1208","v":5},"○","○"]
[1206,0,6000,{"$f":"AccVelDataLink!A1209","v":1206},1205,1207,null,{"$f":"AccVelDataLink!G1209","v":6},"○","○"]
[1207,0,7000,{"$f":"AccVelDataLink!A1210","v":1207},1206,1208,null,{"$f":"AccVelDataLink!G1210","v":7},"○","○"]
[{"$f":"A1210+1","v":1208},0,8000,{"$f":"AccVelDataLink!A1211","v":1208},1207,1209,null,{"$f":"AccVelDataLink!G1211","v":8},"○","○"]
[{"$f":"A1211+1","v":1209},1,1000,{"$f":"AccVelDataLink!A1212","v":1209},1208,1210,{"$f":"AccVelDataLink!F1212","v":"RCS3CR-SS8C-100-30-垂直"},{"$f":"AccVelDataLink!G1212","v":1},"○","○"]
[1210,1,1200,{"$f":"AccVelDataLink!A1213","v":1210},1209,1211,null,{"$f":"AccVelDataLink!G1213","v":1.2},"○","○"]
[1211,1,1500,{"$f":"AccVelDataLink!A1214","v":1211},1210,1212,null,{"$f":"AccVelDataLink!G1214","v":1.5},"○","○"]
[1212,1,1750,{"$f":"AccVelDataLink!A1215","v":1212},1211,1213,null,{"$f":"AccVelDataLink!G1215","v":1.75},"○","○"]
[1213,1,2000,{"$f":"AccVelDataLink!A1216","v":1213},1212,-1,null,{"$f":"AccVelDataLink!G1216","v":2},"○","終端"]
[1214,0,30000,{"$f":"AccVelDataLink!A1217","v":1214},-1,{"$f":"A1218","v":1215},{"$f":"AccVelDataLink!F1217","v":"RCS3CR-SS8C-150-10-水平"},{"$f":"AccVelDataLink!G1217","v":30},{"$f":"IF(E1217=A1216,\"○\",IF(G1217=0,\"つなぎまちがい\",\"先頭\"))","v":"先頭"},{"$f":"IF(F1217=A1218,\"○\",IF(F1217<>E1218,\"つなぎまちがい\",\"終端\"))","v":"○"}]
[1215,0,42000,{"$f":"AccVelDataLink!A1218","v":1215},{"$f":"A1217","v":1214},{"$f":"A1219","v":1216},null,{"$f":"AccVelDataLink!G1218","v":42},"○","○"]
[{"$f":"A1218+1","v":1216},0,60000,{"$f":"AccVelDataLink!A1219","v":1216},{"$f":"A1218","v":1215},{"$f":"A1220","v":1217},null,{"$f":"AccVelDataLink!G1219","v":60},"○","○"]
[{"$f":"A1219+1","v":1217},1,{"$f":"H1220*$H$1","v":6000},{"$f":"AccVelDataLink!A1220","v":1217},{"$f":"A1219","v":1216},{"$f":"A1221","v":1218},{"$f":"AccVelDataLink!F1220","v":"RCS3CR-SS8C-150-10-垂直"},{"$f":"AccVelDataLink!G1220","v":6},"○","○"]
[{"$f":"A1220+1","v":1218},1,8500,{"$f":"AccVelDataLink!A1221","v":1218},{"$f":"A1220","v":1217},{"$f":"A1222","v":1219},null,{"$f":"AccVelDataLink!G1221","v":8.5},"○","○"]
[1219,1,12000,{"$f":"AccVelDataLink!A1222","v":1219},{"$f":"A1221","v":1218},-1,null,{"$f":"AccVelDataLink!G1222","v":12},"○","終端"]
[1220,0,7500,{"$f":"AccVelDataLink!A1223","v":1220},-1,{"$f":"A1224","v":1221},{"$f":"AccVelDataLink!F1223","v":"RCS3CR-SS8C-150-20-水平"},{"$f":"AccVelDataLink!G1223","v":7.5},{"$f":"IF(E1223=A1222,\"○\",IF(G1223=0,\"つなぎまちがい\",\"先頭\"))","v":"先頭"},{"$f":"IF(F1223=A1224,\"○\",IF(F1223<>E1224,\"つなぎまちがい\",\"終端\"))","v":"○"}]
[1221,0,11000,{"$f":"AccVelDataLink!A1224","v":1221},{"$f":"A1223","v":1220},1222,null,{"$f":"AccVelDataLink!G1224","v":11},"○","○"]
[1222,0,15000,{"$f":"AccVelDataLink!A1225","v":1222},1221,1223,null,{"$f":"AccVelDataLink!G1225","v":15},"○","○"]
[1223,0,21000,{"$f":"AccVelDataLink!A1226","v":1223},1222,1224,null,{"$f":"AccVelDataLink!G1226","v":21},"○","○"]
[{"$f":"A1226+1","v":1224},0,30000,{"$f":"AccVelDataLink!A1227","v":1224},1223,1225,null,{"$f":"AccVelDataLink!G1227","v":30},"○","○"]
[{"$f":"A1227+1","v":1225},1,2000,{"$f":"AccVelDataLink!A1228","v":1225},1224,1226,{"$f":"AccVelDataLink!F1228","v":"RCS3CR-SS8C-150-20-垂直"},{"$f":"AccVelDataLink!G1228","v":2},"○","○"]
[1226,1,2400,{"$f":"AccVelDataLink!A1229","v":1226},1225,1227,null,{"$f":"AccVelDataLink!G1229","v":2.4},"○","○"]
[1227,1,3000,{"$f":"AccVelDataLink!A1230","v":1227},1226,1228,null,{"$f":"AccVelDataLink!G1230","v":3},"○","○"]
[1228,1,4000,{"$f":"AccVelDataLink!A1231","v":1228},1227,1229,null,{"$f":"AccVelDataLink!G1231","v":4},"○","○"]
[1229,1,6000,{"$f":"AccVelDataLink!A1232","v":1229},1228,-1,null,{"$f":"AccVelDataLink!G1232","v":6},{"$f":"IF(E1232=A1231,\"○\",IF(G1232=0,\"つなぎまちがい\",\"先頭\"))","v":"○"},{"$f":"IF(F1232=A1233,\"○\",IF(F1232<>E1233,\"つなぎまちがい\",\"終端\"))","v":"終端"}]
[1230,0,2000,{"$f":"AccVelDataLink!A1233","v":1230},-1,{"$f":"A1234","v":1231},{"$f":"AccVelDataLink!F1233","v":"RCS3CR-SS8C-150-30-水平"},{"$f":"AccVelDataLink!G1233","v":2},"先頭","○"]
[1231,0,3000,{"$f":"AccVelDataLink!A1234","v":1231},{"$f":"A1233","v":1230},1232,null,{"$f":"AccVelDataLink!G1234","v":3},"○","○"]
[1232,0,4500,{"$f":"AccVelDataLink!A1235","v":1232},1231,1233,null,{"$f":"AccVelDataLink!G1235","v":4.5},"○","○"]
[1233,0,6000,{"$f":"AccVelDataLink!A1236","v":1233},1232,1234,null,{"$f":"AccVelDataLink!G1236","v":6},"○","○"]
[1234,0,8000,{"$f":"AccVelDataLink!A1237","v":1234},1233,1235,null,{"$f":"AccVelDataLink!G1237","v":8},"○","○"]
[1235,0,10000,{"$f":"AccVelDataLink!A1238","v":1235},1234,1236,null,{"$f":"AccVelDataLink!G1238","v":10},"○","○"]
[1236,0,11000,{"$f":"AccVelDataLink!A1239","v":1236},1235,1237,null,{"$f":"AccVelDataLink!G1239","v":11},"○","○"]
[{"$f":"A1239+1","v":1237},0,12000,{"$f":"AccVelDataLink!A1240","v":1237},1236,1238,null,{"$f":"AccVelDataLink!G1240","v":12},"○","○"]
[{"$f":"A1240+1","v":1238},1,1500,{"$f":"AccVelDataLink!A1241","v":1238},1237,1239,{"$f":"AccVelDataLink!F1241","v":"RCS3CR-SS8C-150-30-垂直"},{"$f":"AccVelDataLink!G1241","v":1.5},"○","○"]
[1239,1,1750,{"$f":"AccVelDataLink!A1242","v":1239},1238,1240,null,{"$f":"AccVelDataLink!G1242","v":1.75},"○","○"]
[1240,1,2000,{"$f":"AccVelDataLink!A1243","v":1240},1239,1241,null,{"$f":"AccVelDataLink!G1243","v":2},"○","○"]
[1241,1,2500,{"$f":"AccVelDataLink!A1244","v":1241},1240,1242,null,{"$f":"AccVelDataLink!G1244","v":2.5},"○","○"]
[1242,1,3000,{"$f":"AccVelDataLink!A1245","v":1242},1241,-1,null,{"$f":"AccVelDataLink!G1245","v":3},"○","終端"]
[1243,0,65000,{"$f":"AccVelDataLink!A1246","v":1243},-1,{"$f":"A1247","v":1244},{"$f":"AccVelDataLink!F1246","v":"RCS3-SA8R-100-5-水平"},{"$f":"AccVelDataLink!G1246","v":65},{"$f":"IF(E1246=A1245,\"○\",IF(G1246=0,\"つなぎまちがい\",\"先頭\"))","v":"先頭"},{"$f":"IF(F1246=A1247,\"○\",IF(F1246<>E1247,\"つなぎまちがい\",\"終端\"))","v":"○"}]
[{"$f":"A1246+1","v":1244},0,80000,{"$f":"AccVelDataLink!A1247","v":1244},{"$f":"A1246","v":1243},{"$f":"A1248","v":1245},null,{"$f":"AccVelDataLink!G1247","v":80},{"$f":"IF(E1247=A1246,\"○\",IF(G1247=0,\"つなぎまちがい\",\"先頭\"))","v":"○"},{"$f":"IF(F1247=A1248,\"○\",IF(F1247<>E1248,\"つなぎまちがい\",\"終端\"))","v":"○"}]
[{"$f":"A1247+1","v":1245},1,12000,{"$f":"AccVelDataLink!A1248","v":1245},{"$f":"A1247","v":1244},{"$f":"A1249","v":1246},{"$f":"AccVelDataLink!F1248","v":"RCS3-SA8R-100-5-垂直"},{"$f":"AccVelDataLink!G1248","v":12},{"$f":"IF(E1248=A1247,\"○\",IF(G1248=0,\"つなぎまちがい\",\"先頭\"))","v":"○"},{"$f":"IF(F1248=A1249,\"○\",IF(F1248<>E1249,\"つなぎまちがい\",\"終端\"))","v":"○"}]
[1246,1,16000,{"$f":"AccVelDataLink!A1249","v":1246},{"$f":"A1248","v":1245},-1,null,{"$f":"AccVelDataLink!G1249","v":16},{"$f":"IF(E1249=A1248,\"○\",IF(G1249=0,\"つなぎまちがい\",\"先頭\"))","v":"○"},"終端"]
[{"$f":"A1249+1","v":1247},0,20000,{"$f":"AccVelDataLink!A1250","v":1247},-1,{"$f":"A1251","v":1248},{"$f":"AccVelDataLink!F1250","v":"RCS3-SA8R-100-10-水平"},{"$f":"AccVelDataLink!G1250","v":20},"先頭","○"]
[{"$f":"A1250+1","v":1248},0,28000,{"$f":"AccVelDataLink!A1251","v":1248},{"$f":"A1250","v":1247},{"$f":"A1252","v":1249},null,{"$f":"AccVelDataLink!G1251","v":28},"○","○"]
[{"$f":"A1251+1","v":1249},0,40000,{"$f":"AccVelDataLink!A1252","v":1249},{"$f":"A1251","v":1248},{"$f":"A1253","v":1250},null,{"$f":"AccVelDataLink!G1252","v":40},"○","○"]
[{"$f":"A1252+1","v":1250},1,4000,{"$f":"AccVelDataLink!A1253","v":1250},{"$f":"A1252","v":1249},{"$f":"A1254","v":1251},{"$f":"AccVelDataLink!F1253","v":"RCS3-SA8R-100-10-垂直"},{"$f":"AccVelDataLink!G1253","v":4},"○","○"]
[1251,1,5500,{"$f":"AccVelDataLink!A1254","v":1251},{"$f":"A1253","v":1250},{"$f":"A1255","v":1252},null,{"$f":"AccVelDataLink!G1254","v":5.5},"○",{"$f":"IF(F1254=A1255,\"○\",IF(F1254<>E1255,\"つなぎまちがい\",\"終端\"))","v":"○"}]
[1252,1,8000,{"$f":"AccVelDataLink!A1255","v":1252},{"$f":"A1254","v":1251},-1,null,{"$f":"AccVelDataLink!G1255","v":8},{"$f":"IF(E1255=A1254,\"○\",IF(G1255=0,\"つなぎまちがい\",\"先頭\"))","v":"○"},"終端"]
[{"$f":"A1255+1","v":1253},0,5000,{"$f":"AccVelDataLink!A1256","v":1253},-1,{"$f":"A1257","v":1254},{"$f":"AccVelDataLink!F1256","v":"RCS3-SA8R-100-20-水平"},{"$f":"AccVelDataLink!G1256","v":5},"先頭","○"]
[{"$f":"A1256+1","v":1254},0,7000,{"$f":"AccVelDataLink!A1257","v":1254},{"$f":"A1256","v":1253},1255,null,{"$f":"AccVelDataLink!G1257","v":7},"○","○"]
[1255,0,10000,{"$f":"AccVelDataLink!A1258","v":1255},1254,1256,null,{"$f":"AccVelDataLink!G1258","v":10},"○","○"]
[1256,0,14000,{"$f":"AccVelDataLink!A1259","v":1256},1255,1257,null,{"$f":"AccVelDataLink!G1259","v":14},"○","○"]
[{"$f":"A1259+1","v":1257},0,20000,{"$f":"AccVelDataLink!A1260","v":1257},1256,1258,null,{"$f":"AccVelDataLink!G1260","v":20},"○","○"]
[{"$f":"A1260+1","v":1258},1,1500,{"$f":"AccVelDataLink!A1261","v":1258},1257,1259,{"$f":"AccVelDataLink!F1261","v":"RCS3-SA8R-100-20-垂直"},{"$f":"AccVelDataLink!G1261","v":1.5},"○","○"]
[1259,1,1750,{"$f":"AccVelDataLink!A1262","v":1259},1258,1260,null,{"$f":"AccVelDataLink!G1262","v":1.75},"○","○"]
[1260,1,2000,{"$f":"AccVelDataLink!A1263","v":1260},1259,1261,null,{"$f":"AccVelDataLink!G1263","v":2},"○","○"]
[{"$f":"A1263+1","v":1261},1,{"$f":"H1264*$H$1","v":3000},{"$f":"AccVelDataLink!A1264","v":1261},1260,1262,null,{"$f":"AccVelDataLink!G1264","v":3},{"$f":"IF(E1264=A1263,\"○\",IF(G1264=0,\"つなぎまちがい\",\"先頭\"))","v":"○"},{"$f":"IF(F1264=A1265,\"○\",IF(F1264<>E1265,\"つなぎまちがい\",\"終端\"))","v":"○"}]
[1262,1,4000,{"$f":"AccVelDataLink!A1265","v":1262},1261,-1,null,{"$f":"AccVelDataLink!G1265","v":4},"○","終端"]
[{"$f":"A1265+1","v":1263},0,1000,{"$f":"AccVelDataLink!A1266","v":1263},-1,{"$f":"A1267","v":1264},{"$f":"AccVelDataLink!F1266","v":"RCS3-SA8R-100-30-水平"},{"$f":"AccVelDataLink!G1266","v":1},"先頭","○"]
[{"$f":"A1266+1","v":1264},0,2000,{"$f":"AccVelDataLink!A1267","v":1264},{"$f":"A1266","v":1263},1265,null,{"$f":"AccVelDataLink!G1267","v":2},"○","○"]
[1265,0,3000,{"$f":"AccVelDataLink!A1268","v":1265},1264,1266,null,{"$f":"AccVelDataLink!G1268","v":3},"○","○"]
[1266,0,4000,{"$f":"AccVelDataLink!A1269","v":1266},1265,1267,null,{"$f":"AccVelDataLink!G1269","v":4},"○","○"]
[1267,0,5000,{"$f":"AccVelDataLink!A1270","v":1267},1266,1268,null,{"$f":"AccVelDataLink!G1270","v":5},"○","○"]
[1268,0,6000,{"$f":"AccVelDataLink!A1271","v":1268},1267,1269,null,{"$f":"AccVelDataLink!G1271","v":6},"○","○"]
[1269,0,7000,{"$f":"AccVelDataLink!A1272","v":1269},1268,1270,null,{"$f":"AccVelDataLink!G1272","v":7},"○","○"]
[{"$f":"A1272+1","v":1270},0,8000,{"$f":"AccVelDataLink!A1273","v":1270},1269,1271,null,{"$f":"AccVelDataLink!G1273","v":8},"○","○"]
[{"$f":"A1273+1","v":1271},1,1000,{"$f":"AccVelDataLink!A1274","v":1271},1270,1272,{"$f":"AccVelDataLink!F1274","v":"RCS3-SA8R-100-30-垂直"},{"$f":"AccVelDataLink!G1274","v":1},"○","○"]
[1272,1,1200,{"$f":"AccVelDataLink!A1275","v":1272},1271,1273,null,{"$f":"AccVelDataLink!G1275","v":1.2},"○","○"]
[1273,1,1500,{"$f":"AccVelDataLink!A1276","v":1273},1272,1274,null,{"$f":"AccVelDataLink!G1276","v":1.5},"○","○"]
[1274,1,1750,{"$f":"AccVelDataLink!A1277","v":1274},1273,1275,null,{"$f":"AccVelDataLink!G1277","v":1.75},{"$f":"IF(E1277=A1276,\"○\",IF(G1277=0,\"つなぎまちがい\",\"先頭\"))","v":"○"},{"$f":"IF(F1277=A1278,\"○\",IF(F1277<>E1278,\"つなぎまちがい\",\"終端\"))","v":"○"}]
[1275,1,2000,{"$f":"AccVelDataLink!A1278","v":1275},1274,-1,null,{"$f":"AccVelDataLink!G1278","v":2},"○","終端"]
[{"$f":"A1278+1","v":1276},0,30000,{"$f":"AccVelDataLink!A1279","v":1276},-1,{"$f":"A1280","v":1277},{"$f":"AccVelDataLink!F1279","v":"RCS3-SA8R-150-10-水平"},{"$f":"AccVelDataLink!G1279","v":30},"先頭","○"]
[{"$f":"A1279+1","v":1277},0,42000,{"$f":"AccVelDataLink!A1280","v":1277},{"$f":"A1279","v":1276},{"$f":"A1281","v":1278},null,{"$f":"AccVelDataLink!G1280","v":42},"○","○"]
[{"$f":"A1280+1","v":1278},0,60000,{"$f":"AccVelDataLink!A1281","v":1278},{"$f":"A1280","v":1277},{"$f":"A1282","v":1279},null,{"$f":"AccVelDataLink!G1281","v":60},"○","○"]
[{"$f":"A1281+1","v":1279},1,6000,{"$f":"AccVelDataLink!A1282","v":1279},{"$f":"A1281","v":1278},{"$f":"A1283","v":1280},{"$f":"AccVelDataLink!F1282","v":"RCS3-SA8R-150-10-垂直"},{"$f":"AccVelDataLink!G1282","v":6},"○","○"]
[1280,1,8500,{"$f":"AccVelDataLink!A1283","v":1280},{"$f":"A1282","v":1279},{"$f":"A1284","v":1281},null,{"$f":"AccVelDataLink!G1283","v":8.5},{"$f":"IF(E1283=A1282,\"○\",IF(G1283=0,\"つなぎまちがい\",\"先頭\"))","v":"○"},{"$f":"IF(F1283=A1284,\"○\",IF(F1283<>E1284,\"つなぎまちがい\",\"終端\"))","v":"○"}]
[1281,1,12000,{"$f":"AccVelDataLink!A1284","v":1281},{"$f":"A1283","v":1280},-1,null,{"$f":"AccVelDataLink!G1284","v":12},"○","終端"]
[{"$f":"A1284+1","v":1282},0,7500,{"$f":"AccVelDataLink!A1285","v":1282},-1,{"$f":"A1286","v":1283},{"$f":"AccVelDataLink!F1285","v":"RCS3-SA8R-150-20-水平"},{"$f":"AccVelDataLink!G1285","v":7.5},"先頭","○"]
[{"$f":"A1285+1","v":1283},0,11000,{"$f":"AccVelDataLink!A1286","v":1283},{"$f":"A1285","v":1282},1284,null,{"$f":"AccVelDataLink!G1286","v":11},"○","○"]
[1284,0,15000,{"$f":"AccVelDataLink!A1287","v":1284},1283,1285,null,{"$f":"AccVelDataLink!G1287","v":15},"○","○"]
[1285,0,21000,{"$f":"AccVelDataLink!A1288","v":1285},1284,1286,null,{"$f":"AccVelDataLink!G1288","v":21},"○","○"]
[{"$f":"A1288+1","v":1286},0,30000,{"$f":"AccVelDataLink!A1289","v":1286},1285,1287,null,{"$f":"AccVelDataLink!G1289","v":30},"○","○"]
[{"$f":"A1289+1","v":1287},1,2000,{"$f":"AccVelDataLink!A1290","v":1287},1286,1288,{"$f":"AccVelDataLink!F1290","v":"RCS3-SA8R-150-20-垂直"},{"$f":"AccVelDataLink!G1290","v":2},"○","○"]
[1288,1,2400,{"$f":"AccVelDataLink!A1291","v":1288},1287,1289,null,{"$f":"AccVelDataLink!G1291","v":2.4},"○","○"]
[1289,1,3000,{"$f":"AccVelDataLink!A1292","v":1289},1288,1290,null,{"$f":"AccVelDataLink!G1292","v":3},{"$f":"IF(E1292=A1291,\"○\",IF(G1292=0,\"つなぎまちがい\",\"先頭\"))","v":"○"},{"$f":"IF(F1292=A1293,\"○\",IF(F1292<>E1293,\"つなぎまちがい\",\"終端\"))","v":"○"}]
[1290,1,4000,{"$f":"AccVelDataLink!A1293","v":1290},1289,1291,null,{"$f":"AccVelDataLink!G1293","v":4},"○","○"]
[1291,1,6000,{"$f":"AccVelDataLink!A1294","v":1291},1290,-1,null,{"$f":"AccVelDataLink!G1294","v":6},"○","終端"]
[{"$f":"A1294+1","v":1292},0,2000,{"$f":"AccVelDataLink!A1295","v":1292},-1,{"$f":"A1296","v":1293},{"$f":"AccVelDataLink!F1295","v":"RCS3-SA8R-150-30-水平"},{"$f":"AccVelDataLink!G1295","v":2},"先頭","○"]
[{"$f":"A1295+1","v":1293},0,3000,{"$f":"AccVelDataLink!A1296","v":1293},{"$f":"A1295","v":1292},1294,null,{"$f":"AccVelDataLink!G1296","v":3},"○","○"]
[1294,0,4500,{"$f":"AccVelDataLink!A1297","v":1294},1293,1295,null,{"$f":"AccVelDataLink!G1297","v":4.5},"○","○"]
[1295,0,6000,{"$f":"AccVelDataLink!A1298","v":1295},1294,1296,null,{"$f":"AccVelDataLink!G1298","v":6},"○","○"]
[1296,0,8000,{"$f":"AccVelDataLink!A1299","v":1296},1295,1297,null,{"$f":"AccVelDataLink!G1299","v":8},"○","○"]
[1297,0,10000,{"$f":"AccVelDataLink!A1300","v":1297},1296,1298,null,{"$f":"AccVelDataLink!G1300","v":10},"○","○"]
[1298,0,11000,{"$f":"AccVelDataLink!A1301","v":1298},1297,1299,null,{"$f":"AccVelDataLink!G1301","v":11},"○","○"]
[{"$f":"A1301+1","v":1299},0,12000,{"$f":"AccVelDataLink!A1302","v":1299},1298,1300,null,{"$f":"AccVelDataLink!G1302","v":12},"○","○"]
[{"$f":"A1302+1","v":1300},1,{"$f":"H1303*$H$1","v":1500},{"$f":"AccVelDataLink!A1303","v":1300},1299,1301,{"$f":"AccVelDataLink!F1303","v":"RCS3-SA8R-150-30-垂直"},{"$f":"AccVelDataLink!G1303","v":1.5},"○","○"]
[{"$f":"A1303+1","v":1301},1,1750,{"$f":"AccVelDataLink!A1304","v":1301},1300,1302,null,{"$f":"AccVelDataLink!G1304","v":1.75},"○","○"]
[1302,1,2000,{"$f":"AccVelDataLink!A1305","v":1302},1301,1303,null,{"$f":"AccVelDataLink!G1305","v":2},"○","○"]
[1303,1,2500,{"$f":"AccVelDataLink!A1306","v":1303},1302,1304,null,{"$f":"AccVelDataLink!G1306","v":2.5},"○","○"]
[1304,1,3000,{"$f":"AccVelDataLink!A1307","v":1304},1303,-1,null,{"$f":"AccVelDataLink!G1307","v":3},{"$f":"IF(E1307=A1306,\"○\",IF(G1307=0,\"つなぎまちがい\",\"先頭\"))","v":"○"},{"$f":"IF(F1307=A1308,\"○\",IF(F1307<>E1308,\"つなぎまちがい\",\"終端\"))","v":"終端"}]
[1305,0,65000,{"$f":"AccVelDataLink!A1308","v":1305},-1,{"$f":"A1309","v":1306},{"$f":"AccVelDataLink!F1308","v":"RCS3-SS8R-100-5-水平"},{"$f":"AccVelDataLink!G1308","v":65},{"$f":"IF(E1308=A1307,\"○\",IF(G1308=0,\"つなぎまちがい\",\"先頭\"))","v":"先頭"},{"$f":"IF(F1308=A1309,\"○\",IF(F1308<>E1309,\"つなぎまちがい\",\"終端\"))","v":"○"}]
[{"$f":"A1308+1","v":1306},0,80000,{"$f":"AccVelDataLink!A1309","v":1306},{"$f":"A1308","v":1305},{"$f":"A1310","v":1307},null,{"$f":"AccVelDataLink!G1309","v":80},{"$f":"IF(E1309=A1308,\"○\",IF(G1309=0,\"つなぎまちがい\",\"先頭\"))","v":"○"},{"$f":"IF(F1309=A1310,\"○\",IF(F1309<>E1310,\"つなぎまちがい\",\"終端\"))","v":"○"}]
[{"$f":"A1309+1","v":1307},1,12000,{"$f":"AccVelDataLink!A1310","v":1307},{"$f":"A1309","v":1306},{"$f":"A1311","v":1308},{"$f":"AccVelDataLink!F1310","v":"RCS3-SS8R-100-5-垂直"},{"$f":"AccVelDataLink!G1310","v":12},{"$f":"IF(E1310=A1309,\"○\",IF(G1310=0,\"つなぎまちがい\",\"先頭\"))","v":"○"},{"$f":"IF(F1310=A1311,\"○\",IF(F1310<>E1311,\"つなぎまちがい\",\"終端\"))","v":"○"}]
[1308,1,16000,{"$f":"AccVelDataLink!A1311","v":1308},{"$f":"A1310","v":1307},-1,null,{"$f":"AccVelDataLink!G1311","v":16},"○","終端"]
[{"$f":"A1311+1","v":1309},0,20000,{"$f":"AccVelDataLink!A1312","v":1309},-1,{"$f":"A1313","v":1310},{"$f":"AccVelDataLink!F1312","v":"RCS3-SS8R-100-10-水平"},{"$f":"AccVelDataLink!G1312","v":20},"先頭","○"]
[{"$f":"A1312+1","v":1310},0,28000,{"$f":"AccVelDataLink!A1313","v":1310},{"$f":"A1312","v":1309},{"$f":"A1314","v":1311},null,{"$f":"AccVelDataLink!G1313","v":28},"○","○"]
[{"$f":"A1313+1","v":1311},0,40000,{"$f":"AccVelDataLink!A1314","v":1311},{"$f":"A1313","v":1310},{"$f":"A1315","v":1312},null,{"$f":"AccVelDataLink!G1314","v":40},"○","○"]
[{"$f":"A1314+1","v":1312},1,4000,{"$f":"AccVelDataLink!A1315","v":1312},{"$f":"A1314","v":1311},{"$f":"A1316","v":1313},{"$f":"AccVelDataLink!F1315","v":"RCS3-SS8R-100-10-垂直"},{"$f":"AccVelDataLink!G1315","v":4},"○","○"]
[1313,1,5500,{"$f":"AccVelDataLink!A1316","v":1313},{"$f":"A1315","v":1312},{"$f":"A1317","v":1314},null,{"$f":"AccVelDataLink!G1316","v":5.5},{"$f":"IF(E1316=A1315,\"○\",IF(G1316=0,\"つなぎまちがい\",\"先頭\"))","v":"○"},{"$f":"IF(F1316=A1317,\"○\",IF(F1316<>E1317,\"つなぎまちがい\",\"終端\"))","v":"○"}]
[1314,1,8000,{"$f":"AccVelDataLink!A1317","v":1314},{"$f":"A1316","v":1313},-1,null,{"$f":"AccVelDataLink!G1317","v":8},"○","終端"]
[{"$f":"A1317+1","v":1315},0,5000,{"$f":"AccVelDataLink!A1318","v":1315},-1,{"$f":"A1319","v":1316},{"$f":"AccVelDataLink!F1318","v":"RCS3-SS8R-100-20-水平"},{"$f":"AccVelDataLink!G1318","v":5},"先頭","○"]
[{"$f":"A1318+1","v":1316},0,7000,{"$f":"AccVelDataLink!A1319","v":1316},{"$f":"A1318","v":1315},1317,null,{"$f":"AccVelDataLink!G1319","v":7},"○","○"]
[1317,0,10000,{"$f":"AccVelDataLink!A1320","v":1317},1316,1318,null,{"$f":"AccVelDataLink!G1320","v":10},"○","○"]
[1318,0,14000,{"$f":"AccVelDataLink!A1321","v":1318},1317,1319,null,{"$f":"AccVelDataLink!G1321","v":14},"○","○"]
[{"$f":"A1321+1","v":1319},0,20000,{"$f":"AccVelDataLink!A1322","v":1319},1318,1320,null,{"$f":"AccVelDataLink!G1322","v":20},"○","○"]
[{"$f":"A1322+1","v":1320},1,1500,{"$f":"AccVelDataLink!A1323","v":1320},1319,1321,{"$f":"AccVelDataLink!F1323","v":"RCS3-SS8R-100-20-垂直"},{"$f":"AccVelDataLink!G1323","v":1.5},"○","○"]
[1321,1,1750,{"$f":"AccVelDataLink!A1324","v":1321},1320,1322,null,{"$f":"AccVelDataLink!G1324","v":1.75},"○","○"]
[1322,1,2000,{"$f":"AccVelDataLink!A1325","v":1322},1321,1323,null,{"$f":"AccVelDataLink!G1325","v":2},"○","○"]
[1323,1,3000,{"$f":"AccVelDataLink!A1326","v":1323},1322,1324,null,{"$f":"AccVelDataLink!G1326","v":3},{"$f":"IF(E1326=A1325,\"○\",IF(G1326=0,\"つなぎまちがい\",\"先頭\"))","v":"○"},{"$f":"IF(F1326=A1327,\"○\",IF(F1326<>E1327,\"つなぎまちがい\",\"終端\"))","v":"○"}]
[1324,1,4000,{"$f":"AccVelDataLink!A1327","v":1324},1323,-1,null,{"$f":"AccVelDataLink!G1327","v":4},"○","終端"]
[{"$f":"A1327+1","v":1325},0,1000,{"$f":"AccVelDataLink!A1328","v":1325},-1,{"$f":"A1329","v":1326},{"$f":"AccVelDataLink!F1328","v":"RCS3-SS8R-100-30-水平"},{"$f":"AccVelDataLink!G1328","v":1},"先頭","○"]
[{"$f":"A1328+1","v":1326},0,2000,{"$f":"AccVelDataLink!A1329","v":1326},{"$f":"A1328","v":1325},1327,null,{"$f":"AccVelDataLink!G1329","v":2},"○","○"]
[1327,0,3000,{"$f":"AccVelDataLink!A1330","v":1327},1326,1328,null,{"$f":"AccVelDataLink!G1330","v":3},"○","○"]
[1328,0,4000,{"$f":"AccVelDataLink!A1331","v":1328},1327,1329,null,{"$f":"AccVelDataLink!G1331","v":4},"○","○"]
[1329,0,5000,{"$f":"AccVelDataLink!A1332","v":1329},1328,1330,null,{"$f":"AccVelDataLink!G1332","v":5},"○","○"]
[1330,0,6000,{"$f":"AccVelDataLink!A1333","v":1330},1329,1331,null,{"$f":"AccVelDataLink!G1333","v":6},"○","○"]
[1331,0,7000,{"$f":"AccVelDataLink!A1334","v":1331},1330,1332,null,{"$f":"AccVelDataLink!G1334","v":7},"○","○"]
[{"$f":"A1334+1","v":1332},0,8000,{"$f":"AccVelDataLink!A1335","v":1332},1331,1333,null,{"$f":"AccVelDataLink!G1335","v":8},"○","○"]
[{"$f":"A1335+1","v":1333},1,{"$f":"H1336*$H$1","v":1000},{"$f":"AccVelDataLink!A1336","v":1333},1332,1334,{"$f":"AccVelDataLink!F1336","v":"RCS3-SS8R-100-30-垂直"},{"$f":"AccVelDataLink!G1336","v":1},"○","○"]
[{"$f":"A1336+1","v":1334},1,1200,{"$f":"AccVelDataLink!A1337","v":1334},1333,1335,null,{"$f":"AccVelDataLink!G1337","v":1.2},"○","○"]
[1335,1,1500,{"$f":"AccVelDataLink!A1338","v":1335},1334,1336,null,{"$f":"AccVelDataLink!G1338","v":1.5},"○","○"]
[1336,1,1750,{"$f":"AccVelDataLink!A1339","v":1336},1335,1337,null,{"$f":"AccVelDataLink!G1339","v":1.75},{"$f":"IF(E1339=A1338,\"○\",IF(G1339=0,\"つなぎまちがい\",\"先頭\"))","v":"○"},{"$f":"IF(F1339=A1340,\"○\",IF(F1339<>E1340,\"つなぎまちがい\",\"終端\"))","v":"○"}]
[1337,1,2000,{"$f":"AccVelDataLink!A1340","v":1337},1336,-1,null,{"$f":"AccVelDataLink!G1340","v":2},"○","終端"]
[{"$f":"A1340+1","v":1338},0,30000,{"$f":"AccVelDataLink!A1341","v":1338},-1,{"$f":"A1342","v":1339},{"$f":"AccVelDataLink!F1341","v":"RCS3-SS8R-150-10-水平"},{"$f":"AccVelDataLink!G1341","v":30},"先頭","○"]
[{"$f":"A1341+1","v":1339},0,42000,{"$f":"AccVelDataLink!A1342","v":1339},{"$f":"A1341","v":1338},{"$f":"A1343","v":1340},null,{"$f":"AccVelDataLink!G1342","v":42},"○","○"]
[{"$f":"A1342+1","v":1340},0,60000,{"$f":"AccVelDataLink!A1343","v":1340},{"$f":"A1342","v":1339},{"$f":"A1344","v":1341},null,{"$f":"AccVelDataLink!G1343","v":60},"○","○"]
[{"$f":"A1343+1","v":1341},1,6000,{"$f":"AccVelDataLink!A1344","v":1341},{"$f":"A1343","v":1340},{"$f":"A1345","v":1342},{"$f":"AccVelDataLink!F1344","v":"RCS3-SS8R-150-10-垂直"},{"$f":"AccVelDataLink!G1344","v":6},"○","○"]
[1342,1,8500,{"$f":"AccVelDataLink!A1345","v":1342},{"$f":"A1344","v":1341},{"$f":"A1346","v":1343},null,{"$f":"AccVelDataLink!G1345","v":8.5},{"$f":"IF(E1345=A1344,\"○\",IF(G1345=0,\"つなぎまちがい\",\"先頭\"))","v":"○"},{"$f":"IF(F1345=A1346,\"○\",IF(F1345<>E1346,\"つなぎまちがい\",\"終端\"))","v":"○"}]
[1343,1,12000,{"$f":"AccVelDataLink!A1346","v":1343},{"$f":"A1345","v":1342},-1,null,{"$f":"AccVelDataLink!G1346","v":12},"○","終端"]
[{"$f":"A1346+1","v":1344},0,7500,{"$f":"AccVelDataLink!A1347","v":1344},-1,{"$f":"A1348","v":1345},{"$f":"AccVelDataLink!F1347","v":"RCS3-SS8R-150-20-水平"},{"$f":"AccVelDataLink!G1347","v":7.5},"先頭","○"]
[{"$f":"A1347+1","v":1345},0,11000,{"$f":"AccVelDataLink!A1348","v":1345},{"$f":"A1347","v":1344},1346,null,{"$f":"AccVelDataLink!G1348","v":11},"○","○"]
[1346,0,15000,{"$f":"AccVelDataLink!A1349","v":1346},1345,1347,null,{"$f":"AccVelDataLink!G1349","v":15},"○","○"]
[1347,0,21000,{"$f":"AccVelDataLink!A1350","v":1347},1346,1348,null,{"$f":"AccVelDataLink!G1350","v":21},"○","○"]
[{"$f":"A1350+1","v":1348},0,30000,{"$f":"AccVelDataLink!A1351","v":1348},1347,1349,null,{"$f":"AccVelDataLink!G1351","v":30},"○","○"]
[{"$f":"A1351+1","v":1349},1,2000,{"$f":"AccVelDataLink!A1352","v":1349},1348,1350,{"$f":"AccVelDataLink!F1352","v":"RCS3-SS8R-150-20-垂直"},{"$f":"AccVelDataLink!G1352","v":2},"○","○"]
[1350,1,2400,{"$f":"AccVelDataLink!A1353","v":1350},1349,1351,null,{"$f":"AccVelDataLink!G1353","v":2.4},"○","○"]
[1351,1,3000,{"$f":"AccVelDataLink!A1354","v":1351},1350,1352,null,{"$f":"AccVelDataLink!G1354","v":3},"○","○"]
[1352,1,4000,{"$f":"AccVelDataLink!A1355","v":1352},1351,1353,null,{"$f":"AccVelDataLink!G1355","v":4},"○",{"$f":"IF(F1355=A1356,\"○\",IF(F1355<>E1356,\"つなぎまちがい\",\"終端\"))","v":"○"}]
[1353,1,6000,{"$f":"AccVelDataLink!A1356","v":1353},1352,-1,null,{"$f":"AccVelDataLink!G1356","v":6},{"$f":"IF(E1356=A1355,\"○\",IF(G1356=0,\"つなぎまちがい\",\"先頭\"))","v":"○"},"終端"]
[{"$f":"A1356+1","v":1354},0,2000,{"$f":"AccVelDataLink!A1357","v":1354},-1,{"$f":"A1358","v":1355},{"$f":"AccVelDataLink!F1357","v":"RCS3-SS8R-150-30-水平"},{"$f":"AccVelDataLink!G1357","v":2},"先頭","○"]
[{"$f":"A1357+1","v":1355},0,3000,{"$f":"AccVelDataLink!A1358","v":1355},{"$f":"A1357","v":1354},1356,null,{"$f":"AccVelDataLink!G1358","v":3},"○","○"]
[1356,0,4500,{"$f":"AccVelDataLink!A1359","v":1356},1355,1357,null,{"$f":"AccVelDataLink!G1359","v":4.5},"○","○"]
[1357,0,6000,{"$f":"AccVelDataLink!A1360","v":1357},1356,1358,null,{"$f":"AccVelDataLink!G1360","v":6},"○","○"]
[1358,0,8000,{"$f":"AccVelDataLink!A1361","v":1358},1357,1359,null,{"$f":"AccVelDataLink!G1361","v":8},"○","○"]
[1359,0,10000,{"$f":"AccVelDataLink!A1362","v":1359},1358,1360,null,{"$f":"AccVelDataLink!G1362","v":10},"○","○"]
[1360,0,11000,{"$f":"AccVelDataLink!A1363","v":1360},1359,1361,null,{"$f":"AccVelDataLink!G1363","v":11},"○","○"]
[{"$f":"A1363+1","v":1361},0,12000,{"$f":"AccVelDataLink!A1364","v":1361},1360,1362,null,{"$f":"AccVelDataLink!G1364","v":12},"○","○"]
[{"$f":"A1364+1","v":1362},1,1500,{"$f":"AccVelDataLink!A1365","v":1362},1361,1363,{"$f":"AccVelDataLink!F1365","v":"RCS3-SS8R-150-30-垂直"},{"$f":"AccVelDataLink!G1365","v":1.5},"○","○"]
[1363,1,1750,{"$f":"AccVelDataLink!A1366","v":1363},1362,1364,null,{"$f":"AccVelDataLink!G1366","v":1.75},"○","○"]
[1364,1,2000,{"$f":"AccVelDataLink!A1367","v":1364},1363,1365,null,{"$f":"AccVelDataLink!G1367","v":2},"○","○"]
[1365,1,2500,{"$f":"AccVelDataLink!A1368","v":1365},1364,1366,null,{"$f":"AccVelDataLink!G1368","v":2.5},{"$f":"IF(E1368=A1367,\"○\",IF(G1368=0,\"つなぎまちがい\",\"先頭\"))","v":"○"},{"$f":"IF(F1368=A1369,\"○\",IF(F1368<>E1369,\"つなぎまちがい\",\"終端\"))","v":"○"}]
[1366,1,3000,{"$f":"AccVelDataLink!A1369","v":1366},1365,-1,null,{"$f":"AccVelDataLink!G1369","v":3},"○","終端"]
[{"$f":"A1369+1","v":1367},0,8000,{"$f":"AccVelDataLink!A1370","v":1367},-1,{"$f":"A1371","v":1368},{"$f":"AccVelDataLink!F1370","v":"RCS2-SA4C-20-2.5-水平"},{"$f":"AccVelDataLink!G1370","v":8},"先頭","○"]
[1368,1,4500,{"$f":"AccVelDataLink!A1371","v":1368},{"$f":"A1370","v":1367},-1,{"$f":"AccVelDataLink!F1371","v":"RCS2-SA4C-20-2.5-垂直"},{"$f":"AccVelDataLink!G1371","v":4.5},"○","終端"]
[1369,0,{"$f":"H1372*$H$1","v":6000},{"$f":"AccVelDataLink!A1372","v":1369},-1,{"$f":"A1373","v":1370},{"$f":"AccVelDataLink!F1372","v":"RCS2-SA4C-20-5-水平"},{"$f":"AccVelDataLink!G1372","v":6},"先頭","○"]
[1370,1,{"$f":"H1373*$H$1","v":2500},{"$f":"AccVelDataLink!A1373","v":1370},{"$f":"A1372","v":1369},-1,{"$f":"AccVelDataLink!F1373","v":"RCS2-SA4C-20-5-垂直"},{"$f":"AccVelDataLink!G1373","v":2.5},"○","終端"]
[1371,0,{"$f":"H1374*$H$1","v":4000},{"$f":"AccVelDataLink!A1374","v":1371},-1,{"$f":"A1375","v":1372},{"$f":"AccVelDataLink!F1374","v":"RCS2-SA4C-20-10-水平"},{"$f":"AccVelDataLink!G1374","v":4},"先頭","○"]
[1372,1,{"$f":"H1375*$H$1","v":1000},{"$f":"AccVelDataLink!A1375","v":1372},{"$f":"A1374","v":1371},-1,{"$f":"AccVelDataLink!F1375","v":"RCS2-SA4C-20-10-垂直"},{"$f":"AccVelDataLink!G1375","v":1},"○","終端"]
[1373,0,{"$f":"H1376*$H$1","v":2500},{"$f":"AccVelDataLink!A1376","v":1373},-1,{"$f":"A1377","v":1374},{"$f":"AccVelDataLink!F1376","v":"RCS2-SA4C-20-16-水平"},{"$f":"AccVelDataLink!G1376","v":2.5},"先頭","○"]
[1374,1,600,{"$f":"AccVelDataLink!A1377","v":1374},{"$f":"A1376","v":1373},-1,{"$f":"AccVelDataLink!F1377","v":"RCS2-SA4C-20-16-垂直"},{"$f":"AccVelDataLink!G1377","v":0.6},"○","終端"]
[1375,0,12000,{"$f":"AccVelDataLink!A1378","v":1375},-1,{"$f":"A1379","v":1376},{"$f":"AccVelDataLink!F1378","v":"RCS2-SA5C-20-3-水平"},{"$f":"AccVelDataLink!G1378","v":12},"先頭","○"]
[1376,1,4000,{"$f":"AccVelDataLink!A1379","v":1376},{"$f":"A1378","v":1375},-1,{"$f":"AccVelDataLink!F1379","v":"RCS2-SA5C-20-3-垂直"},{"$f":"AccVelDataLink!G1379","v":4},"○","終端"]
[1377,0,8000,{"$f":"AccVelDataLink!A1380","v":1377},-1,{"$f":"A1381","v":1378},{"$f":"AccVelDataLink!F1380","v":"RCS2-SA5C-20-6-水平"},{"$f":"AccVelDataLink!G1380","v":8},"先頭","○"]
[1378,1,2000,{"$f":"AccVelDataLink!A1381","v":1378},{"$f":"A1380","v":1377},-1,{"$f":"AccVelDataLink!F1381","v":"RCS2-SA5C-20-6-垂直"},{"$f":"AccVelDataLink!G1381","v":2},"○","終端"]
[1379,0,4000,{"$f":"AccVelDataLink!A1382","v":1379},-1,{"$f":"A1383","v":1380},{"$f":"AccVelDataLink!F1382","v":"RCS2-SA5C-20-12-水平"},{"$f":"AccVelDataLink!G1382","v":4},"先頭","○"]
[1380,1,1000,{"$f":"AccVelDataLink!A1383","v":1380},{"$f":"A1382","v":1379},-1,{"$f":"AccVelDataLink!F1383","v":"RCS2-SA5C-20-12-垂直"},{"$f":"AccVelDataLink!G1383","v":1},"○","終端"]
[1381,0,{"$f":"H1384*$H$1","v":2000},{"$f":"AccVelDataLink!A1384","v":1381},-1,{"$f":"A1385","v":1382},{"$f":"AccVelDataLink!F1384","v":"RCS2-SA5C-20-20-水平"},{"$f":"AccVelDataLink!G1384","v":2},"先頭","○"]
[1382,1,500,{"$f":"AccVelDataLink!A1385","v":1382},{"$f":"A1384","v":1381},-1,{"$f":"AccVelDataLink!F1385","v":"RCS2-SA5C-20-20-垂直"},{"$f":"AccVelDataLink!G1385","v":0.5},"○","終端"]
[1383,0,18000,{"$f":"AccVelDataLink!A1386","v":1383},-1,{"$f":"A1387","v":1384},{"$f":"AccVelDataLink!F1386","v":"RCS2-SA6C-30-3-水平"},{"$f":"AccVelDataLink!G1386","v":18},"先頭","○"]
[1384,1,6000,{"$f":"AccVelDataLink!A1387","v":1384},{"$f":"A1386","v":1383},-1,{"$f":"AccVelDataLink!F1387","v":"RCS2-SA6C-30-3-垂直"},{"$f":"AccVelDataLink!G1387","v":6},"○","終端"]
[1385,0,12000,{"$f":"AccVelDataLink!A1388","v":1385},-1,{"$f":"A1389","v":1386},{"$f":"AccVelDataLink!F1388","v":"RCS2-SA6C-30-6-水平"},{"$f":"AccVelDataLink!G1388","v":12},"先頭","○"]
[1386,1,3000,{"$f":"AccVelDataLink!A1389","v":1386},{"$f":"A1388","v":1385},-1,{"$f":"AccVelDataLink!F1389","v":"RCS2-SA6C-30-6-垂直"},{"$f":"AccVelDataLink!G1389","v":3},"○","終端"]
[1387,0,6000,{"$f":"AccVelDataLink!A1390","v":1387},-1,{"$f":"A1391","v":1388},{"$f":"AccVelDataLink!F1390","v":"RCS2-SA6C-30-12-水平"},{"$f":"AccVelDataLink!G1390","v":6},"先頭","○"]
[1388,1,{"$f":"H1391*$H$1","v":1500},{"$f":"AccVelDataLink!A1391","v":1388},{"$f":"A1390","v":1387},-1,{"$f":"AccVelDataLink!F1391","v":"RCS2-SA6C-30-12-垂直"},{"$f":"AccVelDataLink!G1391","v":1.5},"○","終端"]
[1389,0,3000,{"$f":"AccVelDataLink!A1392","v":1389},-1,{"$f":"A1393","v":1390},{"$f":"AccVelDataLink!F1392","v":"RCS2-SA6C-30-20-水平"},{"$f":"AccVelDataLink!G1392","v":3},"先頭","○"]
[1390,1,500,{"$f":"AccVelDataLink!A1393","v":1390},{"$f":"A1392","v":1389},-1,{"$f":"AccVelDataLink!F1393","v":"RCS2-SA6C-30-20-垂直"},{"$f":"AccVelDataLink!G1393","v":0.5},"○","終端"]
[1391,0,40000,{"$f":"AccVelDataLink!A1394","v":1391},-1,{"$f":"A1395","v":1392},{"$f":"AccVelDataLink!F1394","v":"RCS2-SA7C-60-4-水平"},{"$f":"AccVelDataLink!G1394","v":40},"先頭","○"]
[1392,1,12000,{"$f":"AccVelDataLink!A1395","v":1392},{"$f":"A1394","v":1391},-1,{"$f":"AccVelDataLink!F1395","v":"RCS2-SA7C-60-4-垂直"},{"$f":"AccVelDataLink!G1395","v":12},"○","終端"]
[1393,0,25000,{"$f":"AccVelDataLink!A1396","v":1393},-1,{"$f":"A1397","v":1394},{"$f":"AccVelDataLink!F1396","v":"RCS2-SA7C-60-8-水平"},{"$f":"AccVelDataLink!G1396","v":25},"先頭","○"]
[1394,1,6000,{"$f":"AccVelDataLink!A1397","v":1394},{"$f":"A1396","v":1393},-1,{"$f":"AccVelDataLink!F1397","v":"RCS2-SA7C-60-8-垂直"},{"$f":"AccVelDataLink!G1397","v":6},"○","終端"]
[1395,0,{"$f":"H1398*$H$1","v":12000},{"$f":"AccVelDataLink!A1398","v":1395},-1,{"$f":"A1399","v":1396},{"$f":"AccVelDataLink!F1398","v":"RCS2-SA7C-60-16-水平"},{"$f":"AccVelDataLink!G1398","v":12},"先頭","○"]
[1396,1,3000,{"$f":"AccVelDataLink!A1399","v":1396},{"$f":"A1398","v":1395},-1,{"$f":"AccVelDataLink!F1399","v":"RCS2-SA7C-60-16-垂直"},{"$f":"AccVelDataLink!G1399","v":3},"○","終端"]
[1397,0,8000,{"$f":"AccVelDataLink!A1400","v":1397},-1,{"$f":"A1401","v":1398},{"$f":"AccVelDataLink!F1400","v":"RCS2-SA7C-60-24-水平"},{"$f":"AccVelDataLink!G1400","v":8},{"$f":"IF(E1400=A1399,\"○\",IF(G1400=0,\"つなぎまちがい\",\"先頭\"))","v":"先頭"},{"$f":"IF(F1400=A1401,\"○\",IF(F1400<>E1401,\"つなぎまちがい\",\"終端\"))","v":"○"}]
[1398,1,1400,{"$f":"AccVelDataLink!A1401","v":1398},{"$f":"A1400","v":1397},-1,{"$f":"AccVelDataLink!F1401","v":"RCS2-SA7C-60-24-垂直"},{"$f":"AccVelDataLink!G1401","v":1.4},"○","終端"]
[{"$f":"A1401+1","v":1399},0,30000,{"$f":"AccVelDataLink!A1402","v":1399},-1,{"$f":"A1403","v":1400},{"$f":"AccVelDataLink!F1402","v":"RCS2-SS7C-60-6-水平"},{"$f":"AccVelDataLink!G1402","v":30},"先頭","○"]
[1400,1,8000,{"$f":"AccVelDataLink!A1403","v":1400},{"$f":"A1402","v":1399},-1,{"$f":"AccVelDataLink!F1403","v":"RCS2-SS7C-60-6-垂直"},{"$f":"AccVelDataLink!G1403","v":8},"○","終端"]
[1401,0,15000,{"$f":"AccVelDataLink!A1404","v":1401},-1,{"$f":"A1405","v":1402},{"$f":"AccVelDataLink!F1404","v":"RCS2-SS7C-60-12-水平"},{"$f":"AccVelDataLink!G1404","v":15},"先頭","○"]
[1402,1,4000,{"$f":"AccVelDataLink!A1405","v":1402},{"$f":"A1404","v":1401},-1,{"$f":"AccVelDataLink!F1405","v":"RCS2-SS7C-60-12-垂直"},{"$f":"AccVelDataLink!G1405","v":4},"○","終端"]
[1403,0,9000,{"$f":"AccVelDataLink!A1406","v":1403},-1,{"$f":"A1407","v":1404},{"$f":"AccVelDataLink!F1406","v":"RCS2-SS7C-60-20-水平"},{"$f":"AccVelDataLink!G1406","v":9},"先頭","○"]
[1404,1,{"$f":"H1407*$H$1","v":2400},{"$f":"AccVelDataLink!A1407","v":1404},{"$f":"A1406","v":1403},-1,{"$f":"AccVelDataLink!F1407","v":"RCS2-SS7C-60-20-垂直"},{"$f":"AccVelDataLink!G1407","v":2.4},"○","終端"]
[1405,0,8000,{"$f":"AccVelDataLink!A1408","v":1405},-1,{"$f":"A1409","v":1406},{"$f":"AccVelDataLink!F1408","v":"RCS2CR-SA4C-20-2.5-水平"},{"$f":"AccVelDataLink!G1408","v":8},"先頭","○"]
[1406,1,4500,{"$f":"AccVelDataLink!A1409","v":1406},{"$f":"A1408","v":1405},-1,{"$f":"AccVelDataLink!F1409","v":"RCS2CR-SA4C-20-2.5-垂直"},{"$f":"AccVelDataLink!G1409","v":4.5},"○","終端"]
[1407,0,6000,{"$f":"AccVelDataLink!A1410","v":1407},-1,{"$f":"A1411","v":1408},{"$f":"AccVelDataLink!F1410","v":"RCS2CR-SA4C-20-5-水平"},{"$f":"AccVelDataLink!G1410","v":6},"先頭","○"]
[1408,1,2500,{"$f":"AccVelDataLink!A1411","v":1408},{"$f":"A1410","v":1407},-1,{"$f":"AccVelDataLink!F1411","v":"RCS2CR-SA4C-20-5-垂直"},{"$f":"AccVelDataLink!G1411","v":2.5},"○","終端"]
[1409,0,4000,{"$f":"AccVelDataLink!A1412","v":1409},-1,{"$f":"A1413","v":1410},{"$f":"AccVelDataLink!F1412","v":"RCS2CR-SA4C-20-10-水平"},{"$f":"AccVelDataLink!G1412","v":4},"先頭","○"]
[1410,1,1000,{"$f":"AccVelDataLink!A1413","v":1410},{"$f":"A1412","v":1409},-1,{"$f":"AccVelDataLink!F1413","v":"RCS2CR-SA4C-20-10-垂直"},{"$f":"AccVelDataLink!G1413","v":1},"○","終端"]
[1411,0,2500,{"$f":"AccVelDataLink!A1414","v":1411},-1,{"$f":"A1415","v":1412},{"$f":"AccVelDataLink!F1414","v":"RCS2CR-SA4C-20-16-水平"},{"$f":"AccVelDataLink!G1414","v":2.5},"先頭","○"]
[1412,1,600,{"$f":"AccVelDataLink!A1415","v":1412},{"$f":"A1414","v":1411},-1,{"$f":"AccVelDataLink!F1415","v":"RCS2CR-SA4C-20-16-垂直"},{"$f":"AccVelDataLink!G1415","v":0.6},"○","終端"]
[1413,0,12000,{"$f":"AccVelDataLink!A1416","v":1413},-1,{"$f":"A1417","v":1414},{"$f":"AccVelDataLink!F1416","v":"RCS2CR-SA5C-20-3-水平"},{"$f":"AccVelDataLink!G1416","v":12},"先頭","○"]
[1414,1,4000,{"$f":"AccVelDataLink!A1417","v":1414},{"$f":"A1416","v":1413},-1,{"$f":"AccVelDataLink!F1417","v":"RCS2CR-SA5C-20-3-垂直"},{"$f":"AccVelDataLink!G1417","v":4},"○","終端"]
[1415,0,8000,{"$f":"AccVelDataLink!A1418","v":1415},-1,{"$f":"A1419","v":1416},{"$f":"AccVelDataLink!F1418","v":"RCS2CR-SA5C-20-6-水平"},{"$f":"AccVelDataLink!G1418","v":8},"先頭","○"]
[1416,1,2000,{"$f":"AccVelDataLink!A1419","v":1416},{"$f":"A1418","v":1415},-1,{"$f":"AccVelDataLink!F1419","v":"RCS2CR-SA5C-20-6-垂直"},{"$f":"AccVelDataLink!G1419","v":2},"○","終端"]
[1417,0,4000,{"$f":"AccVelDataLink!A1420","v":1417},-1,{"$f":"A1421","v":1418},{"$f":"AccVelDataLink!F1420","v":"RCS2CR-SA5C-20-12-水平"},{"$f":"AccVelDataLink!G1420","v":4},"先頭","○"]
[1418,1,1000,{"$f":"AccVelDataLink!A1421","v":1418},{"$f":"A1420","v":1417},-1,{"$f":"AccVelDataLink!F1421","v":"RCS2CR-SA5C-20-12-垂直"},{"$f":"AccVelDataLink!G1421","v":1},"○","終端"]
[1419,0,2000,{"$f":"AccVelDataLink!A1422","v":1419},-1,{"$f":"A1423","v":1420},{"$f":"AccVelDataLink!F1422","v":"RCS2CR-SA5C-20-20-水平"},{"$f":"AccVelDataLink!G1422","v":2},"先頭","○"]
[1420,1,500,{"$f":"AccVelDataLink!A1423","v":1420},{"$f":"A1422","v":1419},-1,{"$f":"AccVelDataLink!F1423","v":"RCS2CR-SA5C-20-20-垂直"},{"$f":"AccVelDataLink!G1423","v":0.5},"○","終端"]
[1421,0,18000,{"$f":"AccVelDataLink!A1424","v":1421},-1,{"$f":"A1425","v":1422},{"$f":"AccVelDataLink!F1424","v":"RCS2CR-SA6C-30-3-水平"},{"$f":"AccVelDataLink!G1424","v":18},"先頭","○"]
[1422,1,6000,{"$f":"AccVelDataLink!A1425","v":1422},{"$f":"A1424","v":1421},-1,{"$f":"AccVelDataLink!F1425","v":"RCS2CR-SA6C-30-3-垂直"},{"$f":"AccVelDataLink!G1425","v":6},"○","終端"]
[1423,0,12000,{"$f":"AccVelDataLink!A1426","v":1423},-1,{"$f":"A1427","v":1424},{"$f":"AccVelDataLink!F1426","v":"RCS2CR-SA6C-30-6-水平"},{"$f":"AccVelDataLink!G1426","v":12},"先頭","○"]
[1424,1,3000,{"$f":"AccVelDataLink!A1427","v":1424},{"$f":"A1426","v":1423},-1,{"$f":"AccVelDataLink!F1427","v":"RCS2CR-SA6C-30-6-垂直"},{"$f":"AccVelDataLink!G1427","v":3},"○","終端"]
[1425,0,6000,{"$f":"AccVelDataLink!A1428","v":1425},-1,{"$f":"A1429","v":1426},{"$f":"AccVelDataLink!F1428","v":"RCS2CR-SA6C-30-12-水平"},{"$f":"AccVelDataLink!G1428","v":6},"先頭","○"]
[1426,1,1500,{"$f":"AccVelDataLink!A1429","v":1426},{"$f":"A1428","v":1425},-1,{"$f":"AccVelDataLink!F1429","v":"RCS2CR-SA6C-30-12-垂直"},{"$f":"AccVelDataLink!G1429","v":1.5},"○","終端"]
[1427,0,3000,{"$f":"AccVelDataLink!A1430","v":1427},-1,{"$f":"A1431","v":1428},{"$f":"AccVelDataLink!F1430","v":"RCS2CR-SA6C-30-20-水平"},{"$f":"AccVelDataLink!G1430","v":3},"先頭","○"]
[1428,1,500,{"$f":"AccVelDataLink!A1431","v":1428},{"$f":"A1430","v":1427},-1,{"$f":"AccVelDataLink!F1431","v":"RCS2CR-SA6C-30-20-垂直"},{"$f":"AccVelDataLink!G1431","v":0.5},"○","終端"]
[1429,0,40000,{"$f":"AccVelDataLink!A1432","v":1429},-1,{"$f":"A1433","v":1430},{"$f":"AccVelDataLink!F1432","v":"RCS2CR-SA7C-60-4-水平"},{"$f":"AccVelDataLink!G1432","v":40},{"$f":"IF(E1432=A1431,\"○\",IF(G1432=0,\"つなぎまちがい\",\"先頭\"))","v":"先頭"},{"$f":"IF(F1432=A1433,\"○\",IF(F1432<>E1433,\"つなぎまちがい\",\"終端\"))","v":"○"}]
[1430,1,12000,{"$f":"AccVelDataLink!A1433","v":1430},{"$f":"A1432","v":1429},-1,{"$f":"AccVelDataLink!F1433","v":"RCS2CR-SA7C-60-4-垂直"},{"$f":"AccVelDataLink!G1433","v":12},"○","終端"]
[{"$f":"A1433+1","v":1431},0,25000,{"$f":"AccVelDataLink!A1434","v":1431},-1,{"$f":"A1435","v":1432},{"$f":"AccVelDataLink!F1434","v":"RCS2CR-SA7C-60-8-水平"},{"$f":"AccVelDataLink!G1434","v":25},"先頭","○"]
[1432,1,6000,{"$f":"AccVelDataLink!A1435","v":1432},{"$f":"A1434","v":1431},-1,{"$f":"AccVelDataLink!F1435","v":"RCS2CR-SA7C-60-8-垂直"},{"$f":"AccVelDataLink!G1435","v":6},"○","終端"]
[1433,0,12000,{"$f":"AccVelDataLink!A1436","v":1433},-1,{"$f":"A1437","v":1434},{"$f":"AccVelDataLink!F1436","v":"RCS2CR-SA7C-60-16-水平"},{"$f":"AccVelDataLink!G1436","v":12},"先頭","○"]
[1434,1,{"$f":"H1437*$H$1","v":3000},{"$f":"AccVelDataLink!A1437","v":1434},{"$f":"A1436","v":1433},-1,{"$f":"AccVelDataLink!F1437","v":"RCS2CR-SA7C-60-16-垂直"},{"$f":"AccVelDataLink!G1437","v":3},"○","終端"]
[1435,0,8000,{"$f":"AccVelDataLink!A1438","v":1435},-1,{"$f":"A1439","v":1436},{"$f":"AccVelDataLink!F1438","v":"RCS2CR-SA7C-60-24-水平"},{"$f":"AccVelDataLink!G1438","v":8},"先頭","○"]
[1436,1,1400,{"$f":"AccVelDataLink!A1439","v":1436},{"$f":"A1438","v":1435},-1,{"$f":"AccVelDataLink!F1439","v":"RCS2CR-SA7C-60-24-垂直"},{"$f":"AccVelDataLink!G1439","v":1.4},"○","終端"]
[1437,0,30000,{"$f":"AccVelDataLink!A1440","v":1437},-1,{"$f":"A1441","v":1438},{"$f":"AccVelDataLink!F1440","v":"RCS2CR-SS7C-60-6-水平"},{"$f":"AccVelDataLink!G1440","v":30},"先頭","○"]
[1438,1,8000,{"$f":"AccVelDataLink!A1441","v":1438},{"$f":"A1440","v":1437},-1,{"$f":"AccVelDataLink!F1441","v":"RCS2CR-SS7C-60-6-垂直"},{"$f":"AccVelDataLink!G1441","v":8},"○","終端"]
[1439,0,15000,{"$f":"AccVelDataLink!A1442","v":1439},-1,{"$f":"A1443","v":1440},{"$f":"AccVelDataLink!F1442","v":"RCS2CR-SS7C-60-12-水平"},{"$f":"AccVelDataLink!G1442","v":15},"先頭","○"]
[1440,1,4000,{"$f":"AccVelDataLink!A1443","v":1440},{"$f":"A1442","v":1439},-1,{"$f":"AccVelDataLink!F1443","v":"RCS2CR-SS7C-60-12-垂直"},{"$f":"AccVelDataLink!G1443","v":4},"○","終端"]
[1441,0,9000,{"$f":"AccVelDataLink!A1444","v":1441},-1,{"$f":"A1445","v":1442},{"$f":"AccVelDataLink!F1444","v":"RCS2CR-SS7C-60-20-水平"},{"$f":"AccVelDataLink!G1444","v":9},"先頭","○"]
[1442,1,2400,{"$f":"AccVelDataLink!A1445","v":1442},{"$f":"A1444","v":1441},-1,{"$f":"AccVelDataLink!F1445","v":"RCS2CR-SS7C-60-20-垂直"},{"$f":"AccVelDataLink!G1445","v":2.4},"○",{"$f":"IF(F1445=A1446,\"○\",IF(F1445<>E1446,\"つなぎまちがい\",\"終端\"))","v":"終端"}]
[{"$f":"A1445+1","v":1443},0,8000,{"$f":"AccVelDataLink!A1446","v":1443},-1,{"$f":"A1447","v":1444},{"$f":"AccVelDataLink!F1446","v":"RCS2-SA4D-20-2.5-水平"},{"$f":"AccVelDataLink!G1446","v":8},{"$f":"IF(E1446=A1445,\"○\",IF(G1446=0,\"つなぎまちがい\",\"先頭\"))","v":"先頭"},"○"]
[1444,1,4500,{"$f":"AccVelDataLink!A1447","v":1444},{"$f":"A1446","v":1443},-1,{"$f":"AccVelDataLink!F1447","v":"RCS2-SA4D-20-2.5-垂直"},{"$f":"AccVelDataLink!G1447","v":4.5},"○","終端"]
[1445,0,6000,{"$f":"AccVelDataLink!A1448","v":1445},-1,{"$f":"A1449","v":1446},{"$f":"AccVelDataLink!F1448","v":"RCS2-SA4D-20-5-水平"},{"$f":"AccVelDataLink!G1448","v":6},"先頭","○"]
[1446,1,2500,{"$f":"AccVelDataLink!A1449","v":1446},{"$f":"A1448","v":1445},-1,{"$f":"AccVelDataLink!F1449","v":"RCS2-SA4D-20-5-垂直"},{"$f":"AccVelDataLink!G1449","v":2.5},"○","終端"]
[1447,0,4000,{"$f":"AccVelDataLink!A1450","v":1447},-1,{"$f":"A1451","v":1448},{"$f":"AccVelDataLink!F1450","v":"RCS2-SA4D-20-10-水平"},{"$f":"AccVelDataLink!G1450","v":4},"先頭","○"]
[1448,1,1000,{"$f":"AccVelDataLink!A1451","v":1448},{"$f":"A1450","v":1447},-1,{"$f":"AccVelDataLink!F1451","v":"RCS2-SA4D-20-10-垂直"},{"$f":"AccVelDataLink!G1451","v":1},"○","終端"]
[1449,0,12000,{"$f":"AccVelDataLink!A1452","v":1449},-1,{"$f":"A1453","v":1450},{"$f":"AccVelDataLink!F1452","v":"RCS2-SA5D-20-3-水平"},{"$f":"AccVelDataLink!G1452","v":12},"先頭","○"]
[1450,1,4000,{"$f":"AccVelDataLink!A1453","v":1450},{"$f":"A1452","v":1449},-1,{"$f":"AccVelDataLink!F1453","v":"RCS2-SA5D-20-3-垂直"},{"$f":"AccVelDataLink!G1453","v":4},"○","終端"]
[1451,0,8000,{"$f":"AccVelDataLink!A1454","v":1451},-1,{"$f":"A1455","v":1452},{"$f":"AccVelDataLink!F1454","v":"RCS2-SA5D-20-6-水平"},{"$f":"AccVelDataLink!G1454","v":8},"先頭","○"]
[1452,1,2000,{"$f":"AccVelDataLink!A1455","v":1452},{"$f":"A1454","v":1451},-1,{"$f":"AccVelDataLink!F1455","v":"RCS2-SA5D-20-6-垂直"},{"$f":"AccVelDataLink!G1455","v":2},"○","終端"]
[1453,0,4000,{"$f":"AccVelDataLink!A1456","v":1453},-1,{"$f":"A1457","v":1454},{"$f":"AccVelDataLink!F1456","v":"RCS2-SA5D-20-12-水平"},{"$f":"AccVelDataLink!G1456","v":4},"先頭","○"]
[1454,1,1000,{"$f":"AccVelDataLink!A1457","v":1454},{"$f":"A1456","v":1453},-1,{"$f":"AccVelDataLink!F1457","v":"RCS2-SA5D-20-12-垂直"},{"$f":"AccVelDataLink!G1457","v":1},"○","終端"]
[1455,0,18000,{"$f":"AccVelDataLink!A1458","v":1455},-1,{"$f":"A1459","v":1456},{"$f":"AccVelDataLink!F1458","v":"RCS2-SA6D-30-3-水平"},{"$f":"AccVelDataLink!G1458","v":18},"先頭","○"]
[1456,1,6000,{"$f":"AccVelDataLink!A1459","v":1456},{"$f":"A1458","v":1455},-1,{"$f":"AccVelDataLink!F1459","v":"RCS2-SA6D-30-3-垂直"},{"$f":"AccVelDataLink!G1459","v":6},"○","終端"]
[1457,0,12000,{"$f":"AccVelDataLink!A1460","v":1457},-1,{"$f":"A1461","v":1458},{"$f":"AccVelDataLink!F1460","v":"RCS2-SA6D-30-6-水平"},{"$f":"AccVelDataLink!G1460","v":12},"先頭","○"]
[1458,1,3000,{"$f":"AccVelDataLink!A1461","v":1458},{"$f":"A1460","v":1457},-1,{"$f":"AccVelDataLink!F1461","v":"RCS2-SA6D-30-6-垂直"},{"$f":"AccVelDataLink!G1461","v":3},"○","終端"]
[1459,0,6000,{"$f":"AccVelDataLink!A1462","v":1459},-1,{"$f":"A1463","v":1460},{"$f":"AccVelDataLink!F1462","v":"RCS2-SA6D-30-12-水平"},{"$f":"AccVelDataLink!G1462","v":6},"先頭","○"]
[1460,1,1500,{"$f":"AccVelDataLink!A1463","v":1460},{"$f":"A1462","v":1459},-1,{"$f":"AccVelDataLink!F1463","v":"RCS2-SA6D-30-12-垂直"},{"$f":"AccVelDataLink!G1463","v":1.5},"○","終端"]
[1461,0,12000,{"$f":"AccVelDataLink!A1464","v":1461},-1,{"$f":"A1465","v":1462},{"$f":"AccVelDataLink!F1464","v":"RCS2CR-SA5D-20-3-水平"},{"$f":"AccVelDataLink!G1464","v":12},"先頭","○"]
[1462,1,4000,{"$f":"AccVelDataLink!A1465","v":1462},{"$f":"A1464","v":1461},-1,{"$f":"AccVelDataLink!F1465","v":"RCS2CR-SA5D-20-3-垂直"},{"$f":"AccVelDataLink!G1465","v":4},"○","終端"]
[1463,0,8000,{"$f":"AccVelDataLink!A1466","v":1463},-1,{"$f":"A1467","v":1464},{"$f":"AccVelDataLink!F1466","v":"RCS2CR-SA5D-20-6-水平"},{"$f":"AccVelDataLink!G1466","v":8},"先頭","○"]
[1464,1,2000,{"$f":"AccVelDataLink!A1467","v":1464},{"$f":"A1466","v":1463},-1,{"$f":"AccVelDataLink!F1467","v":"RCS2CR-SA5D-20-6-垂直"},{"$f":"AccVelDataLink!G1467","v":2},"○","終端"]
[1465,0,4000,{"$f":"AccVelDataLink!A1468","v":1465},-1,{"$f":"A1469","v":1466},{"$f":"AccVelDataLink!F1468","v":"RCS2CR-SA5D-20-12-水平"},{"$f":"AccVelDataLink!G1468","v":4},"先頭","○"]
[1466,1,1000,{"$f":"AccVelDataLink!A1469","v":1466},{"$f":"A1468","v":1465},-1,{"$f":"AccVelDataLink!F1469","v":"RCS2CR-SA5D-20-12-垂直"},{"$f":"AccVelDataLink!G1469","v":1},"○","終端"]
[1467,0,18000,{"$f":"AccVelDataLink!A1470","v":1467},-1,{"$f":"A1471","v":1468},{"$f":"AccVelDataLink!F1470","v":"RCS2CR-SA6D-30-3-水平"},{"$f":"AccVelDataLink!G1470","v":18},"先頭","○"]
[1468,1,6000,{"$f":"AccVelDataLink!A1471","v":1468},{"$f":"A1470","v":1467},-1,{"$f":"AccVelDataLink!F1471","v":"RCS2CR-SA6D-30-3-垂直"},{"$f":"AccVelDataLink!G1471","v":6},"○","終端"]
[1469,0,12000,{"$f":"AccVelDataLink!A1472","v":1469},-1,{"$f":"A1473","v":1470},{"$f":"AccVelDataLink!F1472","v":"RCS2CR-SA6D-30-6-水平"},{"$f":"AccVelDataLink!G1472","v":12},"先頭","○"]
[1470,1,3000,{"$f":"AccVelDataLink!A1473","v":1470},{"$f":"A1472","v":1469},-1,{"$f":"AccVelDataLink!F1473","v":"RCS2CR-SA6D-30-6-垂直"},{"$f":"AccVelDataLink!G1473","v":3},"○","終端"]
[1471,0,6000,{"$f":"AccVelDataLink!A1474","v":1471},-1,{"$f":"A1475","v":1472},{"$f":"AccVelDataLink!F1474","v":"RCS2CR-SA6D-30-12-水平"},{"$f":"AccVelDataLink!G1474","v":6},"先頭",{"$f":"IF(F1474=A1475,\"○\",IF(F1474<>E1475,\"つなぎまちがい\",\"終端\"))","v":"○"}]
[1472,1,1500,{"$f":"AccVelDataLink!A1475","v":1472},{"$f":"A1474","v":1471},-1,{"$f":"AccVelDataLink!F1475","v":"RCS2CR-SA6D-30-12-垂直"},{"$f":"AccVelDataLink!G1475","v":1.5},{"$f":"IF(E1475=A1474,\"○\",IF(G1475=0,\"つなぎまちがい\",\"先頭\"))","v":"○"},"終端"]
[{"$f":"A1475+1","v":1473},0,8000,{"$f":"AccVelDataLink!A1476","v":1473},-1,{"$f":"A1477","v":1474},{"$f":"AccVelDataLink!F1476","v":"RCS2-SA4R-20-2.5-水平"},{"$f":"AccVelDataLink!G1476","v":8},"先頭","○"]
[1474,1,4500,{"$f":"AccVelDataLink!A1477","v":1474},{"$f":"A1476","v":1473},-1,{"$f":"AccVelDataLink!F1477","v":"RCS2-SA4R-20-2.5-垂直"},{"$f":"AccVelDataLink!G1477","v":4.5},"○","終端"]
[1475,0,6000,{"$f":"AccVelDataLink!A1478","v":1475},-1,{"$f":"A1479","v":1476},{"$f":"AccVelDataLink!F1478","v":"RCS2-SA4R-20-5-水平"},{"$f":"AccVelDataLink!G1478","v":6},"先頭","○"]
[1476,1,2500,{"$f":"AccVelDataLink!A1479","v":1476},{"$f":"A1478","v":1475},-1,{"$f":"AccVelDataLink!F1479","v":"RCS2-SA4R-20-5-垂直"},{"$f":"AccVelDataLink!G1479","v":2.5},"○","終端"]
[1477,0,{"$f":"H1480*$H$1","v":4000},{"$f":"AccVelDataLink!A1480","v":1477},-1,{"$f":"A1481","v":1478},{"$f":"AccVelDataLink!F1480","v":"RCS2-SA4R-20-10-水平"},{"$f":"AccVelDataLink!G1480","v":4},"先頭",{"$f":"IF(F1480=A1481,\"○\",IF(F1480<>E1481,\"つなぎまちがい\",\"終端\"))","v":"○"}]
[1478,1,1000,{"$f":"AccVelDataLink!A1481","v":1478},{"$f":"A1480","v":1477},-1,{"$f":"AccVelDataLink!F1481","v":"RCS2-SA4R-20-10-垂直"},{"$f":"AccVelDataLink!G1481","v":1},"○","終端"]
[{"$f":"A1481+1","v":1479},0,12000,{"$f":"AccVelDataLink!A1482","v":1479},-1,{"$f":"A1483","v":1480},{"$f":"AccVelDataLink!F1482","v":"RCS2-SA5R-20-3-水平"},{"$f":"AccVelDataLink!G1482","v":12},"先頭","○"]
[1480,1,4000,{"$f":"AccVelDataLink!A1483","v":1480},{"$f":"A1482","v":1479},-1,{"$f":"AccVelDataLink!F1483","v":"RCS2-SA5R-20-3-垂直"},{"$f":"AccVelDataLink!G1483","v":4},"○","終端"]
[1481,0,8000,{"$f":"AccVelDataLink!A1484","v":1481},-1,{"$f":"A1485","v":1482},{"$f":"AccVelDataLink!F1484","v":"RCS2-SA5R-20-6-水平"},{"$f":"AccVelDataLink!G1484","v":8},"先頭","○"]
[1482,1,2000,{"$f":"AccVelDataLink!A1485","v":1482},{"$f":"A1484","v":1481},-1,{"$f":"AccVelDataLink!F1485","v":"RCS2-SA5R-20-6-垂直"},{"$f":"AccVelDataLink!G1485","v":2},"○","終端"]
[1483,0,4000,{"$f":"AccVelDataLink!A1486","v":1483},-1,{"$f":"A1487","v":1484},{"$f":"AccVelDataLink!F1486","v":"RCS2-SA5R-20-12-水平"},{"$f":"AccVelDataLink!G1486","v":4},"先頭","○"]
[1484,1,1000,{"$f":"AccVelDataLink!A1487","v":1484},{"$f":"A1486","v":1483},-1,{"$f":"AccVelDataLink!F1487","v":"RCS2-SA5R-20-12-垂直"},{"$f":"AccVelDataLink!G1487","v":1},"○","終端"]
[1485,0,18000,{"$f":"AccVelDataLink!A1488","v":1485},-1,{"$f":"A1489","v":1486},{"$f":"AccVelDataLink!F1488","v":"RCS2-SA6R-30-3-水平"},{"$f":"AccVelDataLink!G1488","v":18},"先頭","○"]
[1486,1,6000,{"$f":"AccVelDataLink!A1489","v":1486},{"$f":"A1488","v":1485},-1,{"$f":"AccVelDataLink!F1489","v":"RCS2-SA6R-30-3-垂直"},{"$f":"AccVelDataLink!G1489","v":6},"○","終端"]
[1487,0,12000,{"$f":"AccVelDataLink!A1490","v":1487},-1,{"$f":"A1491","v":1488},{"$f":"AccVelDataLink!F1490","v":"RCS2-SA6R-30-6-水平"},{"$f":"AccVelDataLink!G1490","v":12},"先頭","○"]
[1488,1,3000,{"$f":"AccVelDataLink!A1491","v":1488},{"$f":"A1490","v":1487},-1,{"$f":"AccVelDataLink!F1491","v":"RCS2-SA6R-30-6-垂直"},{"$f":"AccVelDataLink!G1491","v":3},"○","終端"]
[1489,0,6000,{"$f":"AccVelDataLink!A1492","v":1489},-1,{"$f":"A1493","v":1490},{"$f":"AccVelDataLink!F1492","v":"RCS2-SA6R-30-12-水平"},{"$f":"AccVelDataLink!G1492","v":6},"先頭","○"]
[1490,1,{"$f":"H1493*$H$1","v":1500},{"$f":"AccVelDataLink!A1493","v":1490},{"$f":"A1492","v":1489},-1,{"$f":"AccVelDataLink!F1493","v":"RCS2-SA6R-30-12-垂直"},{"$f":"AccVelDataLink!G1493","v":1.5},"○","終端"]
[1491,0,40000,{"$f":"AccVelDataLink!A1494","v":1491},-1,{"$f":"A1495","v":1492},{"$f":"AccVelDataLink!F1494","v":"RCS2-SA7R-60-4-水平"},{"$f":"AccVelDataLink!G1494","v":40},"先頭","○"]
[1492,1,12000,{"$f":"AccVelDataLink!A1495","v":1492},{"$f":"A1494","v":1491},-1,{"$f":"AccVelDataLink!F1495","v":"RCS2-SA7R-60-4-垂直"},{"$f":"AccVelDataLink!G1495","v":12},"○","終端"]
[1493,0,25000,{"$f":"AccVelDataLink!A1496","v":1493},-1,{"$f":"A1497","v":1494},{"$f":"AccVelDataLink!F1496","v":"RCS2-SA7R-60-8-水平"},{"$f":"AccVelDataLink!G1496","v":25},"先頭","○"]
[1494,1,6000,{"$f":"AccVelDataLink!A1497","v":1494},{"$f":"A1496","v":1493},-1,{"$f":"AccVelDataLink!F1497","v":"RCS2-SA7R-60-8-垂直"},{"$f":"AccVelDataLink!G1497","v":6},"○","終端"]
[1495,0,12000,{"$f":"AccVelDataLink!A1498","v":1495},-1,{"$f":"A1499","v":1496},{"$f":"AccVelDataLink!F1498","v":"RCS2-SA7R-60-16-水平"},{"$f":"AccVelDataLink!G1498","v":12},"先頭","○"]
[1496,1,3000,{"$f":"AccVelDataLink!A1499","v":1496},{"$f":"A1498","v":1495},-1,{"$f":"AccVelDataLink!F1499","v":"RCS2-SA7R-60-16-垂直"},{"$f":"AccVelDataLink!G1499","v":3},"○","終端"]
[1497,0,30000,{"$f":"AccVelDataLink!A1500","v":1497},-1,{"$f":"A1501","v":1498},{"$f":"AccVelDataLink!F1500","v":"RCS2-SS7R-60-6-水平"},{"$f":"AccVelDataLink!G1500","v":30},"先頭","○"]
[1498,1,8000,{"$f":"AccVelDataLink!A1501","v":1498},{"$f":"A1500","v":1497},-1,{"$f":"AccVelDataLink!F1501","v":"RCS2-SS7R-60-6-垂直"},{"$f":"AccVelDataLink!G1501","v":8},"○","終端"]
[1499,0,15000,{"$f":"AccVelDataLink!A1502","v":1499},-1,{"$f":"A1503","v":1500},{"$f":"AccVelDataLink!F1502","v":"RCS2-SS7R-60-12-水平"},{"$f":"AccVelDataLink!G1502","v":15},"先頭","○"]
[1500,1,4000,{"$f":"AccVelDataLink!A1503","v":1500},{"$f":"A1502","v":1499},-1,{"$f":"AccVelDataLink!F1503","v":"RCS2-SS7R-60-12-垂直"},{"$f":"AccVelDataLink!G1503","v":4},"○","終端"]
[1501,0,12000,{"$f":"AccVelDataLink!A1504","v":1501},-1,{"$f":"A1505","v":1502},{"$f":"AccVelDataLink!F1504","v":"RCS2-RA4C-20-3-水平"},{"$f":"AccVelDataLink!G1504","v":12},"先頭","○"]
[1502,1,{"$f":"H1505*$H$1","v":4000},{"$f":"AccVelDataLink!A1505","v":1502},{"$f":"A1504","v":1501},-1,{"$f":"AccVelDataLink!F1505","v":"RCS2-RA4C-20-3-垂直"},{"$f":"AccVelDataLink!G1505","v":4},"○","終端"]
[1503,0,6000,{"$f":"AccVelDataLink!A1506","v":1503},-1,{"$f":"A1507","v":1504},{"$f":"AccVelDataLink!F1506","v":"RCS2-RA4C-20-6-水平"},{"$f":"AccVelDataLink!G1506","v":6},"先頭","○"]
[1504,1,2000,{"$f":"AccVelDataLink!A1507","v":1504},{"$f":"A1506","v":1503},-1,{"$f":"AccVelDataLink!F1507","v":"RCS2-RA4C-20-6-垂直"},{"$f":"AccVelDataLink!G1507","v":2},"○","終端"]
[1505,0,3000,{"$f":"AccVelDataLink!A1508","v":1505},-1,{"$f":"A1509","v":1506},{"$f":"AccVelDataLink!F1508","v":"RCS2-RA4C-20-12-水平"},{"$f":"AccVelDataLink!G1508","v":3},"先頭",{"$f":"IF(F1508=A1509,\"○\",IF(F1508<>E1509,\"つなぎまちがい\",\"終端\"))","v":"○"}]
[1506,1,1000,{"$f":"AccVelDataLink!A1509","v":1506},{"$f":"A1508","v":1505},-1,{"$f":"AccVelDataLink!F1509","v":"RCS2-RA4C-20-12-垂直"},{"$f":"AccVelDataLink!G1509","v":1},{"$f":"IF(E1509=A1508,\"○\",IF(G1509=0,\"つなぎまちがい\",\"先頭\"))","v":"○"},"終端"]
[{"$f":"A1509+1","v":1507},0,18000,{"$f":"AccVelDataLink!A1510","v":1507},-1,{"$f":"A1511","v":1508},{"$f":"AccVelDataLink!F1510","v":"RCS2-RA4C-30-3-水平"},{"$f":"AccVelDataLink!G1510","v":18},"先頭","○"]
[1508,1,6500,{"$f":"AccVelDataLink!A1511","v":1508},{"$f":"A1510","v":1507},-1,{"$f":"AccVelDataLink!F1511","v":"RCS2-RA4C-30-3-垂直"},{"$f":"AccVelDataLink!G1511","v":6.5},"○","終端"]
[1509,0,9000,{"$f":"AccVelDataLink!A1512","v":1509},-1,{"$f":"A1513","v":1510},{"$f":"AccVelDataLink!F1512","v":"RCS2-RA4C-30-6-水平"},{"$f":"AccVelDataLink!G1512","v":9},"先頭","○"]
[1510,1,3000,{"$f":"AccVelDataLink!A1513","v":1510},{"$f":"A1512","v":1509},-1,{"$f":"AccVelDataLink!F1513","v":"RCS2-RA4C-30-6-垂直"},{"$f":"AccVelDataLink!G1513","v":3},"○","終端"]
[1511,0,{"$f":"H1514*$H$1","v":4000},{"$f":"AccVelDataLink!A1514","v":1511},-1,{"$f":"A1515","v":1512},{"$f":"AccVelDataLink!F1514","v":"RCS2-RA4C-30-12-水平"},{"$f":"AccVelDataLink!G1514","v":4},"先頭","○"]
[1512,1,1500,{"$f":"AccVelDataLink!A1515","v":1512},{"$f":"A1514","v":1511},-1,{"$f":"AccVelDataLink!F1515","v":"RCS2-RA4C-30-12-垂直"},{"$f":"AccVelDataLink!G1515","v":1.5},"○","終端"]
[1513,0,50000,{"$f":"AccVelDataLink!A1516","v":1513},-1,{"$f":"A1517","v":1514},{"$f":"AccVelDataLink!F1516","v":"RCS2-RA5C-60-4-水平"},{"$f":"AccVelDataLink!G1516","v":50},"先頭","○"]
[1514,1,11500,{"$f":"AccVelDataLink!A1517","v":1514},{"$f":"A1516","v":1513},-1,{"$f":"AccVelDataLink!F1517","v":"RCS2-RA5C-60-4-垂直"},{"$f":"AccVelDataLink!G1517","v":11.5},"○","終端"]
[1515,0,25000,{"$f":"AccVelDataLink!A1518","v":1515},-1,{"$f":"A1519","v":1516},{"$f":"AccVelDataLink!F1518","v":"RCS2-RA5C-60-8-水平"},{"$f":"AccVelDataLink!G1518","v":25},"先頭","○"]
[1516,1,5000,{"$f":"AccVelDataLink!A1519","v":1516},{"$f":"A1518","v":1515},-1,{"$f":"AccVelDataLink!F1519","v":"RCS2-RA5C-60-8-垂直"},{"$f":"AccVelDataLink!G1519","v":5},"○","終端"]
[1517,0,12000,{"$f":"AccVelDataLink!A1520","v":1517},-1,{"$f":"A1521","v":1518},{"$f":"AccVelDataLink!F1520","v":"RCS2-RA5C-60-16-水平"},{"$f":"AccVelDataLink!G1520","v":12},"先頭","○"]
[1518,1,{"$f":"H1521*$H$1","v":2000},{"$f":"AccVelDataLink!A1521","v":1518},{"$f":"A1520","v":1517},-1,{"$f":"AccVelDataLink!F1521","v":"RCS2-RA5C-60-16-垂直"},{"$f":"AccVelDataLink!G1521","v":2},"○","終端"]
[1519,0,60000,{"$f":"AccVelDataLink!A1522","v":1519},-1,{"$f":"A1523","v":1520},{"$f":"AccVelDataLink!F1522","v":"RCS2-RA5C-100-4-水平"},{"$f":"AccVelDataLink!G1522","v":60},"先頭","○"]
[1520,1,18000,{"$f":"AccVelDataLink!A1523","v":1520},{"$f":"A1522","v":1519},-1,{"$f":"AccVelDataLink!F1523","v":"RCS2-RA5C-100-4-垂直"},{"$f":"AccVelDataLink!G1523","v":18},"○","終端"]
[1521,0,30000,{"$f":"AccVelDataLink!A1524","v":1521},-1,{"$f":"A1525","v":1522},{"$f":"AccVelDataLink!F1524","v":"RCS2-RA5C-100-8-水平"},{"$f":"AccVelDataLink!G1524","v":30},"先頭","○"]
[1522,1,9000,{"$f":"AccVelDataLink!A1525","v":1522},{"$f":"A1524","v":1521},-1,{"$f":"AccVelDataLink!F1525","v":"RCS2-RA5C-100-8-垂直"},{"$f":"AccVelDataLink!G1525","v":9},"○","終端"]
[1523,0,15000,{"$f":"AccVelDataLink!A1526","v":1523},-1,{"$f":"A1527","v":1524},{"$f":"AccVelDataLink!F1526","v":"RCS2-RA5C-100-16-水平"},{"$f":"AccVelDataLink!G1526","v":15},"先頭","○"]
[1524,1,3500,{"$f":"AccVelDataLink!A1527","v":1524},{"$f":"A1526","v":1523},-1,{"$f":"AccVelDataLink!F1527","v":"RCS2-RA5C-100-16-垂直"},{"$f":"AccVelDataLink!G1527","v":3.5},"○","終端"]
[{"$f":"A1527+1","v":1525},0,{"$f":"H1528*$H$1","v":45000},{"$f":"AccVelDataLink!A1528","v":1525},-1,-1,{"$f":"AccVelDataLink!F1528","v":"ISB-MXMX-200-20-水平"},{"$f":"AccVelDataLink!G1528","v":45},"先頭",{"$f":"IF(F1528=A1529,\"○\",IF(F1528<>E1529,\"つなぎまちがい\",\"終端\"))","v":"終端"}]
[1526,0,30000,{"$f":"AccVelDataLink!A1529","v":1526},-1,-1,{"$f":"AccVelDataLink!F1529","v":"ISB-MXMX-200-30-水平"},{"$f":"AccVelDataLink!G1529","v":30},{"$f":"IF(E1529=A1528,\"○\",IF(G1529=0,\"つなぎまちがい\",\"先頭\"))","v":"先頭"},"終端"]
[1527,0,45000,{"$f":"AccVelDataLink!A1530","v":1527},-1,-1,{"$f":"AccVelDataLink!F1530","v":"ISB-LXMX-200-20-水平"},{"$f":"AccVelDataLink!G1530","v":45},"先頭","終端"]
[1528,0,90000,{"$f":"AccVelDataLink!A1531","v":1528},-1,-1,{"$f":"AccVelDataLink!F1531","v":"ISB-LXMX-400-20-水平"},{"$f":"AccVelDataLink!G1531","v":90},"先頭","終端"]
[1529,0,40000,{"$f":"AccVelDataLink!A1532","v":1529},-1,-1,{"$f":"AccVelDataLink!F1532","v":"ISB-LXMX-400-40-水平"},{"$f":"AccVelDataLink!G1532","v":40},"先頭","終端"]
[1530,0,45000,{"$f":"AccVelDataLink!A1533","v":1530},-1,-1,{"$f":"AccVelDataLink!F1533","v":"ISB-LXUWX-200-20-水平"},{"$f":"AccVelDataLink!G1533","v":45},"先頭","終端"]
[1531,0,90000,{"$f":"AccVelDataLink!A1534","v":1531},-1,-1,{"$f":"AccVelDataLink!F1534","v":"ISB-LXUWX-400-20-水平"},{"$f":"AccVelDataLink!G1534","v":90},"先頭","終端"]
[1532,0,40000,{"$f":"AccVelDataLink!A1535","v":1532},-1,-1,{"$f":"AccVelDataLink!F1535","v":"ISB-LXUWX-400-40-水平"},{"$f":"AccVelDataLink!G1535","v":40},"先頭","終端"]
[1533,0,45000,{"$f":"AccVelDataLink!A1536","v":1533},-1,-1,{"$f":"AccVelDataLink!F1536","v":"ISDB-MX-200-20-水平"},{"$f":"AccVelDataLink!G1536","v":45},"先頭","終端"]
[1534,0,30000,{"$f":"AccVelDataLink!A1537","v":1534},-1,-1,{"$f":"AccVelDataLink!F1537","v":"ISDB-MX-200-30-水平"},{"$f":"AccVelDataLink!G1537","v":30},"先頭","終端"]
[1535,0,45000,{"$f":"AccVelDataLink!A1538","v":1535},-1,-1,{"$f":"AccVelDataLink!F1538","v":"ISDB-LX-200-20-水平"},{"$f":"AccVelDataLink!G1538","v":45},"先頭","終端"]
[1536,0,15000,{"$f":"AccVelDataLink!A1539","v":1536},-1,-1,{"$f":"AccVelDataLink!F1539","v":"ISDB-LX-200-40-水平"},{"$f":"AccVelDataLink!G1539","v":15},"先頭","終端"]
[1537,0,90000,{"$f":"AccVelDataLink!A1540","v":1537},-1,-1,{"$f":"AccVelDataLink!F1540","v":"ISDB-LX-400-20-水平"},{"$f":"AccVelDataLink!G1540","v":90},"先頭","終端"]
[1538,0,40000,{"$f":"AccVelDataLink!A1541","v":1538},-1,-1,{"$f":"AccVelDataLink!F1541","v":"ISDB-LX-400-40-水平"},{"$f":"AccVelDataLink!G1541","v":40},"先頭","終端"]
[1539,0,45000,{"$f":"AccVelDataLink!A1542","v":1539},-1,-1,{"$f":"AccVelDataLink!F1542","v":"ISDBCR-MX-200-20-水平"},{"$f":"AccVelDataLink!G1542","v":45},"先頭","終端"]
[1540,0,30000,{"$f":"AccVelDataLink!A1543","v":1540},-1,-1,{"$f":"AccVelDataLink!F1543","v":"ISDBCR-MX-200-30-水平"},{"$f":"AccVelDataLink!G1543","v":30},"先頭","終端"]
[1541,0,45000,{"$f":"AccVelDataLink!A1544","v":1541},-1,-1,{"$f":"AccVelDataLink!F1544","v":"ISDBCR-LX-200-20-水平"},{"$f":"AccVelDataLink!G1544","v":45},"先頭","終端"]
[1542,0,15000,{"$f":"AccVelDataLink!A1545","v":1542},-1,-1,{"$f":"AccVelDataLink!F1545","v":"ISDBCR-LX-200-40-水平"},{"$f":"AccVelDataLink!G1545","v":15},"先頭","終端"]
[1543,0,90000,{"$f":"AccVelDataLink!A1546","v":1543},-1,-1,{"$f":"AccVelDataLink!F1546","v":"ISDBCR-LX-400-20-水平"},{"$f":"AccVelDataLink!G1546","v":90},"先頭","終端"]
[1544,0,40000,{"$f":"AccVelDataLink!A1547","v":1544},-1,-1,{"$f":"AccVelDataLink!F1547","v":"ISDBCR-LX-400-40-水平"},{"$f":"AccVelDataLink!G1547","v":40},"先頭","終端"]
[1545,0,{"$f":"H1548*$H$1","v":3500},{"$f":"AccVelDataLink!A1548","v":1545},-1,{"$f":"A1549","v":1546},{"$f":"AccVelDataLink!F1548","v":"ISB-SXM-100-36-水平"},{"$f":"AccVelDataLink!G1548","v":3.5},{"$f":"IF(E1548=A1547,\"○\",IF(G1548=0,\"つなぎまちがい\",\"先頭\"))","v":"先頭"},{"$f":"IF(F1548=A1549,\"○\",IF(F1548<>E1549,\"つなぎまちがい\",\"終端\"))","v":"○"}]
[1546,0,3600,{"$f":"AccVelDataLink!A1549","v":1546},{"$f":"A1548","v":1545},1547,null,{"$f":"AccVelDataLink!G1549","v":3.6},"○","○"]
[1547,0,3700,{"$f":"AccVelDataLink!A1550","v":1547},1546,1548,null,{"$f":"AccVelDataLink!G1550","v":3.7},"○","○"]
[1548,0,3800,{"$f":"AccVelDataLink!A1551","v":1548},1547,1549,null,{"$f":"AccVelDataLink!G1551","v":3.8},"○","○"]
[1549,0,3900,{"$f":"AccVelDataLink!A1552","v":1549},1548,1550,null,{"$f":"AccVelDataLink!G1552","v":3.9},"○","○"]
[1550,0,4000,{"$f":"AccVelDataLink!A1553","v":1550},1549,1551,null,{"$f":"AccVelDataLink!G1553","v":4},"○","○"]
[1551,0,4100,{"$f":"AccVelDataLink!A1554","v":1551},1550,1552,null,{"$f":"AccVelDataLink!G1554","v":4.0999999999999996},"○","○"]
[1552,0,4300,{"$f":"AccVelDataLink!A1555","v":1552},1551,1553,null,{"$f":"AccVelDataLink!G1555","v":4.3},"○","○"]
[1553,0,4500,{"$f":"AccVelDataLink!A1556","v":1553},1552,1554,null,{"$f":"AccVelDataLink!G1556","v":4.5},"○","○"]
[1554,0,5000,{"$f":"AccVelDataLink!A1557","v":1554},1553,1555,null,{"$f":"AccVelDataLink!G1557","v":5},"○","○"]
[1555,0,5500,{"$f":"AccVelDataLink!A1558","v":1555},1554,1556,null,{"$f":"AccVelDataLink!G1558","v":5.5},"○","○"]
[1556,0,6000,{"$f":"AccVelDataLink!A1559","v":1556},1555,1557,null,{"$f":"AccVelDataLink!G1559","v":6},"○","○"]
[1557,0,6700,{"$f":"AccVelDataLink!A1560","v":1557},1556,1558,null,{"$f":"AccVelDataLink!G1560","v":6.7},"○","○"]
[1558,0,7500,{"$f":"AccVelDataLink!A1561","v":1558},1557,1559,null,{"$f":"AccVelDataLink!G1561","v":7.5},"○","○"]
[1559,0,8200,{"$f":"AccVelDataLink!A1562","v":1559},1558,1560,null,{"$f":"AccVelDataLink!G1562","v":8.1999999999999993},"○","○"]
[1560,0,9000,{"$f":"AccVelDataLink!A1563","v":1560},1559,1561,null,{"$f":"AccVelDataLink!G1563","v":9},"○","○"]
[1561,0,10000,{"$f":"AccVelDataLink!A1564","v":1561},1560,1562,null,{"$f":"AccVelDataLink!G1564","v":10},"○","○"]
[1562,1,2000,{"$f":"AccVelDataLink!A1565","v":1562},1561,-1,{"$f":"AccVelDataLink!F1565","v":"ISB-SXM-100-36-垂直"},{"$f":"AccVelDataLink!G1565","v":2},"○","終端"]
[1563,0,10000,{"$f":"AccVelDataLink!A1566","v":1563},-1,1564,{"$f":"AccVelDataLink!F1566","v":"ISB-MXM-400-48-水平"},{"$f":"AccVelDataLink!G1566","v":10},"先頭","○"]
[1564,0,10400,{"$f":"AccVelDataLink!A1567","v":1564},1563,1565,null,{"$f":"AccVelDataLink!G1567","v":10.4},"○","○"]
[1565,0,10800,{"$f":"AccVelDataLink!A1568","v":1565},1564,1566,null,{"$f":"AccVelDataLink!G1568","v":10.8},"○","○"]
[1566,0,11000,{"$f":"AccVelDataLink!A1569","v":1566},1565,1567,null,{"$f":"AccVelDataLink!G1569","v":11},"○","○"]
[1567,0,11400,{"$f":"AccVelDataLink!A1570","v":1567},1566,1568,null,{"$f":"AccVelDataLink!G1570","v":11.4},"○","○"]
[1568,0,11800,{"$f":"AccVelDataLink!A1571","v":1568},1567,1569,null,{"$f":"AccVelDataLink!G1571","v":11.8},"○","○"]
[1569,0,12200,{"$f":"AccVelDataLink!A1572","v":1569},1568,1570,null,{"$f":"AccVelDataLink!G1572","v":12.2},"○","○"]
[1570,0,12600,{"$f":"AccVelDataLink!A1573","v":1570},1569,1571,null,{"$f":"AccVelDataLink!G1573","v":12.6},"○","○"]
[1571,0,13000,{"$f":"AccVelDataLink!A1574","v":1571},1570,1572,null,{"$f":"AccVelDataLink!G1574","v":13},"○","○"]
[1572,0,13800,{"$f":"AccVelDataLink!A1575","v":1572},1571,1573,null,{"$f":"AccVelDataLink!G1575","v":13.8},"○","○"]
[1573,0,14600,{"$f":"AccVelDataLink!A1576","v":1573},1572,1574,null,{"$f":"AccVelDataLink!G1576","v":14.6},"○","○"]
[1574,0,15500,{"$f":"AccVelDataLink!A1577","v":1574},1573,1575,null,{"$f":"AccVelDataLink!G1577","v":15.5},"○","○"]
[1575,0,16400,{"$f":"AccVelDataLink!A1578","v":1575},1574,1576,null,{"$f":"AccVelDataLink!G1578","v":16.399999999999999},"○","○"]
[1576,0,17300,{"$f":"AccVelDataLink!A1579","v":1576},1575,1577,null,{"$f":"AccVelDataLink!G1579","v":17.3},"○","○"]
[1577,0,{"$f":"H1580*$H$1","v":18200},{"$f":"AccVelDataLink!A1580","v":1577},1576,{"$f":"A1581","v":1578},null,{"$f":"AccVelDataLink!G1580","v":18.2},"○","○"]
[1578,0,19100,{"$f":"AccVelDataLink!A1581","v":1578},{"$f":"A1580","v":1577},1579,null,{"$f":"AccVelDataLink!G1581","v":19.100000000000001},"○","○"]
[1579,0,20000,{"$f":"AccVelDataLink!A1582","v":1579},1578,1580,null,{"$f":"AccVelDataLink!G1582","v":20},"○","○"]
[1580,1,6000,{"$f":"AccVelDataLink!A1583","v":1580},1579,-1,{"$f":"AccVelDataLink!F1583","v":"ISB-MXM-400-48-垂直"},{"$f":"AccVelDataLink!G1583","v":6},"○","終端"]
[1581,0,3500,{"$f":"AccVelDataLink!A1584","v":1581},-1,1582,{"$f":"AccVelDataLink!F1584","v":"ISB-SXL-100-36-水平"},{"$f":"AccVelDataLink!G1584","v":3.5},"先頭","○"]
[1582,0,3600,{"$f":"AccVelDataLink!A1585","v":1582},1581,1583,null,{"$f":"AccVelDataLink!G1585","v":3.6},"○","○"]
[1583,0,3700,{"$f":"AccVelDataLink!A1586","v":1583},1582,1584,null,{"$f":"AccVelDataLink!G1586","v":3.7},"○","○"]
[1584,0,3800,{"$f":"AccVelDataLink!A1587","v":1584},1583,1585,null,{"$f":"AccVelDataLink!G1587","v":3.8},"○","○"]
[1585,0,3900,{"$f":"AccVelDataLink!A1588","v":1585},1584,1586,null,{"$f":"AccVelDataLink!G1588","v":3.9},"○","○"]
[1586,0,4000,{"$f":"AccVelDataLink!A1589","v":1586},1585,1587,null,{"$f":"AccVelDataLink!G1589","v":4},"○","○"]
[1587,0,4100,{"$f":"AccVelDataLink!A1590","v":1587},1586,1588,null,{"$f":"AccVelDataLink!G1590","v":4.0999999999999996},"○","○"]
[1588,0,4300,{"$f":"AccVelDataLink!A1591","v":1588},1587,1589,null,{"$f":"AccVelDataLink!G1591","v":4.3},"○","○"]
[{"$f":"A1591+1","v":1589},0,4500,{"$f":"AccVelDataLink!A1592","v":1589},1588,1590,null,{"$f":"AccVelDataLink!G1592","v":4.5},"○","○"]
[1590,0,5000,{"$f":"AccVelDataLink!A1593","v":1590},1589,1591,null,{"$f":"AccVelDataLink!G1593","v":5},"○","○"]
[1591,0,5500,{"$f":"AccVelDataLink!A1594","v":1591},1590,1592,null,{"$f":"AccVelDataLink!G1594","v":5.5},"○","○"]
[1592,0,6000,{"$f":"AccVelDataLink!A1595","v":1592},1591,1593,null,{"$f":"AccVelDataLink!G1595","v":6},"○","○"]
[1593,0,6700,{"$f":"AccVelDataLink!A1596","v":1593},1592,1594,null,{"$f":"AccVelDataLink!G1596","v":6.7},"○","○"]
[1594,0,7500,{"$f":"AccVelDataLink!A1597","v":1594},1593,1595,null,{"$f":"AccVelDataLink!G1597","v":7.5},"○","○"]
[1595,0,8200,{"$f":"AccVelDataLink!A1598","v":1595},1594,1596,null,{"$f":"AccVelDataLink!G1598","v":8.1999999999999993},"○","○"]
[1596,0,9000,{"$f":"AccVelDataLink!A1599","v":1596},1595,1597,null,{"$f":"AccVelDataLink!G1599","v":9},"○","○"]
[1597,0,10000,{"$f":"AccVelDataLink!A1600","v":1597},1596,1598,null,{"$f":"AccVelDataLink!G1600","v":10},"○","○"]
[1598,1,2000,{"$f":"AccVelDataLink!A1601","v":1598},1597,-1,{"$f":"AccVelDataLink!F1601","v":"ISB-SXL-100-36-垂直"},{"$f":"AccVelDataLink!G1601","v":2},"○","終端"]
[1599,0,10000,{"$f":"AccVelDataLink!A1602","v":1599},-1,1600,{"$f":"AccVelDataLink!F1602","v":"ISB-MXL-400-48-水平"},{"$f":"AccVelDataLink!G1602","v":10},"先頭","○"]
[1600,0,10400,{"$f":"AccVelDataLink!A1603","v":1600},1599,1601,null,{"$f":"AccVelDataLink!G1603","v":10.4},"○","○"]
[1601,0,10800,{"$f":"AccVelDataLink!A1604","v":1601},1600,1602,null,{"$f":"AccVelDataLink!G1604","v":10.8},"○","○"]
[1602,0,11000,{"$f":"AccVelDataLink!A1605","v":1602},1601,1603,null,{"$f":"AccVelDataLink!G1605","v":11},"○","○"]
[1603,0,11400,{"$f":"AccVelDataLink!A1606","v":1603},1602,1604,null,{"$f":"AccVelDataLink!G1606","v":11.4},"○","○"]
[1604,0,11800,{"$f":"AccVelDataLink!A1607","v":1604},1603,1605,null,{"$f":"AccVelDataLink!G1607","v":11.8},"○","○"]
[1605,0,12200,{"$f":"AccVelDataLink!A1608","v":1605},1604,1606,null,{"$f":"AccVelDataLink!G1608","v":12.2},"○","○"]
[1606,0,12600,{"$f":"AccVelDataLink!A1609","v":1606},1605,1607,null,{"$f":"AccVelDataLink!G1609","v":12.6},"○","○"]
[1607,0,13000,{"$f":"AccVelDataLink!A1610","v":1607},1606,1608,null,{"$f":"AccVelDataLink!G1610","v":13},"○","○"]
[1608,0,13800,{"$f":"AccVelDataLink!A1611","v":1608},1607,1609,null,{"$f":"AccVelDataLink!G1611","v":13.8},"○","○"]
[1609,0,{"$f":"H1612*$H$1","v":14600},{"$f":"AccVelDataLink!A1612","v":1609},1608,{"$f":"A1613","v":1610},null,{"$f":"AccVelDataLink!G1612","v":14.6},{"$f":"IF(E1612=A1611,\"○\",IF(G1612=0,\"つなぎまちがい\",\"先頭\"))","v":"○"},{"$f":"IF(F1612=A1613,\"○\",IF(F1612<>E1613,\"つなぎまちがい\",\"終端\"))","v":"○"}]
[1610,0,15500,{"$f":"AccVelDataLink!A1613","v":1610},{"$f":"A1612","v":1609},1611,null,{"$f":"AccVelDataLink!G1613","v":15.5},"○","○"]
[1611,0,16400,{"$f":"AccVelDataLink!A1614","v":1611},1610,1612,null,{"$f":"AccVelDataLink!G1614","v":16.399999999999999},"○","○"]
[1612,0,17300,{"$f":"AccVelDataLink!A1615","v":1612},1611,1613,null,{"$f":"AccVelDataLink!G1615","v":17.3},"○","○"]
[1613,0,18200,{"$f":"AccVelDataLink!A1616","v":1613},1612,1614,null,{"$f":"AccVelDataLink!G1616","v":18.2},"○","○"]
[1614,0,19100,{"$f":"AccVelDataLink!A1617","v":1614},1613,1615,null,{"$f":"AccVelDataLink!G1617","v":19.100000000000001},"○","○"]
[1615,0,20000,{"$f":"AccVelDataLink!A1618","v":1615},1614,1616,null,{"$f":"AccVelDataLink!G1618","v":20},"○","○"]
[1616,1,6000,{"$f":"AccVelDataLink!A1619","v":1616},1615,-1,{"$f":"AccVelDataLink!F1619","v":"ISB-MXL-400-48-垂直"},{"$f":"AccVelDataLink!G1619","v":6},"○","終端"]
[1617,0,3500,{"$f":"AccVelDataLink!A1620","v":1617},-1,1618,{"$f":"AccVelDataLink!F1620","v":"ISDB-S-100-36-水平"},{"$f":"AccVelDataLink!G1620","v":3.5},"先頭","○"]
[1618,0,3600,{"$f":"AccVelDataLink!A1621","v":1618},1617,1619,null,{"$f":"AccVelDataLink!G1621","v":3.6},"○","○"]
[1619,0,3700,{"$f":"AccVelDataLink!A1622","v":1619},1618,1620,null,{"$f":"AccVelDataLink!G1622","v":3.7},"○","○"]
[1620,0,3800,{"$f":"AccVelDataLink!A1623","v":1620},1619,1621,null,{"$f":"AccVelDataLink!G1623","v":3.8},"○","○"]
[1621,0,3900,{"$f":"AccVelDataLink!A1624","v":1621},1620,1622,null,{"$f":"AccVelDataLink!G1624","v":3.9},"○","○"]
[1622,0,4000,{"$f":"AccVelDataLink!A1625","v":1622},1621,1623,null,{"$f":"AccVelDataLink!G1625","v":4},"○","○"]
[1623,0,4100,{"$f":"AccVelDataLink!A1626","v":1623},1622,1624,null,{"$f":"AccVelDataLink!G1626","v":4.0999999999999996},"○","○"]
[1624,0,4300,{"$f":"AccVelDataLink!A1627","v":1624},1623,1625,null,{"$f":"AccVelDataLink!G1627","v":4.3},"○","○"]
[1625,0,4500,{"$f":"AccVelDataLink!A1628","v":1625},1624,1626,null,{"$f":"AccVelDataLink!G1628","v":4.5},"○","○"]
[1626,0,5400,{"$f":"AccVelDataLink!A1629","v":1626},1625,1627,null,{"$f":"AccVelDataLink!G1629","v":5.4},"○","○"]
[1627,0,6300,{"$f":"AccVelDataLink!A1630","v":1627},1626,1628,null,{"$f":"AccVelDataLink!G1630","v":6.3},"○","○"]
[1628,0,7200,{"$f":"AccVelDataLink!A1631","v":1628},1627,1629,null,{"$f":"AccVelDataLink!G1631","v":7.2},"○","○"]
[1629,0,8100,{"$f":"AccVelDataLink!A1632","v":1629},1628,1630,null,{"$f":"AccVelDataLink!G1632","v":8.1},"○","○"]
[1630,0,9000,{"$f":"AccVelDataLink!A1633","v":1630},1629,1631,null,{"$f":"AccVelDataLink!G1633","v":9},"○","○"]
[1631,0,10000,{"$f":"AccVelDataLink!A1634","v":1631},1630,1632,null,{"$f":"AccVelDataLink!G1634","v":10},"○","○"]
[1632,1,2000,{"$f":"AccVelDataLink!A1635","v":1632},1631,-1,{"$f":"AccVelDataLink!F1635","v":"ISDB-S-100-36-垂直"},{"$f":"AccVelDataLink!G1635","v":2},"○","終端"]
[1633,0,10000,{"$f":"AccVelDataLink!A1636","v":1633},-1,1634,{"$f":"AccVelDataLink!F1636","v":"ISDB-M-400-48-水平"},{"$f":"AccVelDataLink!G1636","v":10},"先頭","○"]
[1634,0,10300,{"$f":"AccVelDataLink!A1637","v":1634},1633,1635,null,{"$f":"AccVelDataLink!G1637","v":10.3},"○","○"]
[1635,0,10600,{"$f":"AccVelDataLink!A1638","v":1635},1634,1636,null,{"$f":"AccVelDataLink!G1638","v":10.6},"○","○"]
[1636,0,11000,{"$f":"AccVelDataLink!A1639","v":1636},1635,1637,null,{"$f":"AccVelDataLink!G1639","v":11},"○","○"]
[1637,0,11400,{"$f":"AccVelDataLink!A1640","v":1637},1636,1638,null,{"$f":"AccVelDataLink!G1640","v":11.4},"○","○"]
[1638,0,11800,{"$f":"AccVelDataLink!A1641","v":1638},1637,1639,null,{"$f":"AccVelDataLink!G1641","v":11.8},"○","○"]
[1639,0,12200,{"$f":"AccVelDataLink!A1642","v":1639},1638,1640,null,{"$f":"AccVelDataLink!G1642","v":12.2},"○","○"]
[1640,0,12600,{"$f":"AccVelDataLink!A1643","v":1640},1639,1641,null,{"$f":"AccVelDataLink!G1643","v":12.6},"○","○"]
[1641,0,{"$f":"H1644*$H$1","v":13000},{"$f":"AccVelDataLink!A1644","v":1641},1640,{"$f":"A1645","v":1642},null,{"$f":"AccVelDataLink!G1644","v":13},"○","○"]
[1642,0,14000,{"$f":"AccVelDataLink!A1645","v":1642},{"$f":"A1644","v":1641},1643,null,{"$f":"AccVelDataLink!G1645","v":14},"○","○"]
[1643,0,15200,{"$f":"AccVelDataLink!A1646","v":1643},1642,1644,null,{"$f":"AccVelDataLink!G1646","v":15.2},"○","○"]
[1644,0,16400,{"$f":"AccVelDataLink!A1647","v":1644},1643,1645,null,{"$f":"AccVelDataLink!G1647","v":16.399999999999999},"○","○"]
[1645,0,{"$f":"H1648*$H$1","v":17600},{"$f":"AccVelDataLink!A1648","v":1645},1644,1646,null,{"$f":"AccVelDataLink!G1648","v":17.600000000000001},"○","○"]
[1646,0,{"$f":"H1649*$H$1","v":18800},{"$f":"AccVelDataLink!A1649","v":1646},1645,1647,null,{"$f":"AccVelDataLink!G1649","v":18.8},"○","○"]
[1647,0,20000,{"$f":"AccVelDataLink!A1650","v":1647},1646,{"$f":"A1651","v":1648},null,{"$f":"AccVelDataLink!G1650","v":20},"○","○"]
[1648,1,6000,{"$f":"AccVelDataLink!A1651","v":1648},{"$f":"A1650","v":1647},-1,{"$f":"AccVelDataLink!F1651","v":"ISDB-M-400-48-垂直"},{"$f":"AccVelDataLink!G1651","v":6},{"$f":"IF(E1651=A1650,\"○\",IF(G1651=0,\"つなぎまちがい\",\"先頭\"))","v":"○"},{"$f":"IF(F1651=A1652,\"○\",IF(F1651<>E1652,\"つなぎまちがい\",\"終端\"))","v":"終端"}]
[{"$f":"A1651+1","v":1649},0,{"$f":"H1652*$H$1","v":20000},{"$f":"AccVelDataLink!A1652","v":1649},-1,-1,{"$f":"AccVelDataLink!F1652","v":"ISB-MXMX-400-48-水平"},{"$f":"AccVelDataLink!G1652","v":20},"先頭","終端"]
[{"$f":"A1652+1","v":1650},0,{"$f":"H1653*$H$1","v":20000},{"$f":"AccVelDataLink!A1653","v":1650},-1,-1,{"$f":"AccVelDataLink!F1653","v":"ISDB-MX-400-48-水平"},{"$f":"AccVelDataLink!G1653","v":20},"先頭","終端"]
[{"$f":"A1653+1","v":1651},0,{"$f":"H1654*$H$1","v":35000},{"$f":"AccVelDataLink!A1654","v":1651},-1,{"$f":"A1655","v":1652},{"$f":"AccVelDataLink!F1654","v":"RCS4-RA4C-60-2.5-水平"},{"$f":"AccVelDataLink!G1654","v":35},"先頭","○"]
[1652,0,40000,{"$f":"AccVelDataLink!A1655","v":1652},{"$f":"A1654","v":1651},{"$f":"A1656","v":1653},null,{"$f":"AccVelDataLink!G1655","v":40},"○","○"]
[1653,1,10000,{"$f":"AccVelDataLink!A1656","v":1653},{"$f":"A1655","v":1652},-1,{"$f":"AccVelDataLink!F1656","v":"RCS4-RA4C-60-2.5-垂直"},{"$f":"AccVelDataLink!G1656","v":10},"○","終端"]
[1654,0,20000,{"$f":"AccVelDataLink!A1657","v":1654},-1,{"$f":"A1658","v":1655},{"$f":"AccVelDataLink!F1657","v":"RCS4-RA4C-60-5-水平"},{"$f":"AccVelDataLink!G1657","v":20},{"$f":"IF(E1657=A1656,\"○\",IF(G1657=0,\"つなぎまちがい\",\"先頭\"))","v":"先頭"},{"$f":"IF(F1657=A1658,\"○\",IF(F1657<>E1658,\"つなぎまちがい\",\"終端\"))","v":"○"}]
[{"$f":"A1657+1","v":1655},0,25000,{"$f":"AccVelDataLink!A1658","v":1655},{"$f":"A1657","v":1654},1656,null,{"$f":"AccVelDataLink!G1658","v":25},"○","○"]
[1656,0,30000,{"$f":"AccVelDataLink!A1659","v":1656},1655,1657,null,{"$f":"AccVelDataLink!G1659","v":30},"○","○"]
[{"$f":"A1659+1","v":1657},1,6000,{"$f":"AccVelDataLink!A1660","v":1657},1656,-1,{"$f":"AccVelDataLink!F1660","v":"RCS4-RA4C-60-5-垂直"},{"$f":"AccVelDataLink!G1660","v":6},"○","終端"]
[1658,0,8000,{"$f":"AccVelDataLink!A1661","v":1658},-1,1659,{"$f":"AccVelDataLink!F1661","v":"RCS4-RA4C-60-10-水平"},{"$f":"AccVelDataLink!G1661","v":8},"先頭","○"]
[1659,0,{"$f":"H1662*$H$1","v":12000},{"$f":"AccVelDataLink!A1662","v":1659},1658,1660,null,{"$f":"AccVelDataLink!G1662","v":12},"○","○"]
[1660,0,15000,{"$f":"AccVelDataLink!A1663","v":1660},1659,1661,null,{"$f":"AccVelDataLink!G1663","v":15},"○","○"]
[1661,0,18000,{"$f":"AccVelDataLink!A1664","v":1661},1660,1662,null,{"$f":"AccVelDataLink!G1664","v":18},"○","○"]
[1662,1,3000,{"$f":"AccVelDataLink!A1665","v":1662},1661,1663,{"$f":"AccVelDataLink!F1665","v":"RCS4-RA4C-60-10-垂直"},{"$f":"AccVelDataLink!G1665","v":3},"○","○"]
[1663,1,4000,{"$f":"AccVelDataLink!A1666","v":1663},1662,-1,null,{"$f":"AccVelDataLink!G1666","v":4},"○","終端"]
[1664,0,4000,{"$f":"AccVelDataLink!A1667","v":1664},-1,1665,{"$f":"AccVelDataLink!F1667","v":"RCS4-RA4C-60-16-水平"},{"$f":"AccVelDataLink!G1667","v":4},"先頭","○"]
[1665,0,5000,{"$f":"AccVelDataLink!A1668","v":1665},1664,1666,null,{"$f":"AccVelDataLink!G1668","v":5},"○","○"]
[{"$f":"A1668+1","v":1666},0,6000,{"$f":"AccVelDataLink!A1669","v":1666},1665,1667,null,{"$f":"AccVelDataLink!G1669","v":6},"○","○"]
[1667,0,8000,{"$f":"AccVelDataLink!A1670","v":1667},1666,1668,null,{"$f":"AccVelDataLink!G1670","v":8},"○","○"]
[1668,1,{"$f":"H1671*$H$1","v":1000},{"$f":"AccVelDataLink!A1671","v":1668},{"$f":"A1670","v":1667},{"$f":"A1672","v":1669},{"$f":"AccVelDataLink!F1671","v":"RCS4-RA4C-60-16-垂直"},{"$f":"AccVelDataLink!G1671","v":1},"○","○"]
[1669,1,{"$f":"H1672*$H$1","v":2000},{"$f":"AccVelDataLink!A1672","v":1669},1668,-1,null,{"$f":"AccVelDataLink!G1672","v":2},"○",{"$f":"IF(F1672=A1673,\"○\",IF(F1672<>E1673,\"つなぎまちがい\",\"終端\"))","v":"終端"}]
[1670,0,{"$f":"H1673*$H$1","v":40000},{"$f":"AccVelDataLink!A1673","v":1670},-1,1671,{"$f":"AccVelDataLink!F1673","v":"RCS4-RA6C-100-3-水平"},{"$f":"AccVelDataLink!G1673","v":40},{"$f":"IF(E1673=A1672,\"○\",IF(G1673=0,\"つなぎまちがい\",\"先頭\"))","v":"先頭"},{"$f":"IF(F1673=A1674,\"○\",IF(F1673<>E1674,\"つなぎまちがい\",\"終端\"))","v":"○"}]
[1671,0,50000,{"$f":"AccVelDataLink!A1674","v":1671},1670,1672,null,{"$f":"AccVelDataLink!G1674","v":50},"○","○"]
[1672,0,60000,{"$f":"AccVelDataLink!A1675","v":1672},1671,1673,null,{"$f":"AccVelDataLink!G1675","v":60},"○","○"]
[1673,1,20000,{"$f":"AccVelDataLink!A1676","v":1673},1672,-1,{"$f":"AccVelDataLink!F1676","v":"RCS4-RA6C-100-3-垂直"},{"$f":"AccVelDataLink!G1676","v":20},"○","終端"]
[1674,0,25000,{"$f":"AccVelDataLink!A1677","v":1674},-1,1675,{"$f":"AccVelDataLink!F1677","v":"RCS4-RA6C-100-6-水平"},{"$f":"AccVelDataLink!G1677","v":25},"先頭","○"]
[1675,0,30000,{"$f":"AccVelDataLink!A1678","v":1675},1674,1676,null,{"$f":"AccVelDataLink!G1678","v":30},"○","○"]
[1676,0,45000,{"$f":"AccVelDataLink!A1679","v":1676},1675,1677,null,{"$f":"AccVelDataLink!G1679","v":45},"○","○"]
[1677,0,50000,{"$f":"AccVelDataLink!A1680","v":1677},1676,1678,null,{"$f":"AccVelDataLink!G1680","v":50},"○","○"]
[1678,1,12000,{"$f":"AccVelDataLink!A1681","v":1678},1677,1679,{"$f":"AccVelDataLink!F1681","v":"RCS4-RA6C-100-6-垂直"},{"$f":"AccVelDataLink!G1681","v":12},{"$f":"IF(E1681=A1680,\"○\",IF(G1681=0,\"つなぎまちがい\",\"先頭\"))","v":"○"},{"$f":"IF(F1681=A1682,\"○\",IF(F1681<>E1682,\"つなぎまちがい\",\"終端\"))","v":"○"}]
[1679,1,15000,{"$f":"AccVelDataLink!A1682","v":1679},1678,1680,null,{"$f":"AccVelDataLink!G1682","v":15},"○","○"]
[1680,1,{"$f":"H1683*$H$1","v":20000},{"$f":"AccVelDataLink!A1683","v":1680},{"$f":"A1682","v":1679},-1,null,{"$f":"AccVelDataLink!G1683","v":20},"○","終端"]
[1681,0,12000,{"$f":"AccVelDataLink!A1684","v":1681},-1,1682,{"$f":"AccVelDataLink!F1684","v":"RCS4-RA6C-100-12-水平"},{"$f":"AccVelDataLink!G1684","v":12},"先頭","○"]
[1682,0,20000,{"$f":"AccVelDataLink!A1685","v":1682},1681,1683,null,{"$f":"AccVelDataLink!G1685","v":20},"○","○"]
[1683,0,25000,{"$f":"AccVelDataLink!A1686","v":1683},1682,1684,null,{"$f":"AccVelDataLink!G1686","v":25},"○","○"]
[1684,1,6000,{"$f":"AccVelDataLink!A1687","v":1684},1683,1685,{"$f":"AccVelDataLink!F1687","v":"RCS4-RA6C-100-12-垂直"},{"$f":"AccVelDataLink!G1687","v":6},"○","○"]
[1685,1,8000,{"$f":"AccVelDataLink!A1688","v":1685},1684,1686,null,{"$f":"AccVelDataLink!G1688","v":8},"○","○"]
[1686,1,10000,{"$f":"AccVelDataLink!A1689","v":1686},1685,-1,null,{"$f":"AccVelDataLink!G1689","v":10},"○","終端"]
[1687,0,4000,{"$f":"AccVelDataLink!A1690","v":1687},-1,1688,{"$f":"AccVelDataLink!F1690","v":"RCS4-RA6C-100-20-水平"},{"$f":"AccVelDataLink!G1690","v":4},"先頭","○"]
[1688,0,6000,{"$f":"AccVelDataLink!A1691","v":1688},1687,1689,null,{"$f":"AccVelDataLink!G1691","v":6},"○","○"]
[1689,0,8000,{"$f":"AccVelDataLink!A1692","v":1689},1688,1690,null,{"$f":"AccVelDataLink!G1692","v":8},"○","○"]
[1690,0,10000,{"$f":"AccVelDataLink!A1693","v":1690},1689,1691,null,{"$f":"AccVelDataLink!G1693","v":10},"○","○"]
[1691,0,15000,{"$f":"AccVelDataLink!A1694","v":1691},1690,1692,null,{"$f":"AccVelDataLink!G1694","v":15},"○","○"]
[1692,1,2000,{"$f":"AccVelDataLink!A1695","v":1692},1691,1693,{"$f":"AccVelDataLink!F1695","v":"RCS4-RA6C-100-20-垂直"},{"$f":"AccVelDataLink!G1695","v":2},"○","○"]
[1693,1,3000,{"$f":"AccVelDataLink!A1696","v":1693},1692,1694,null,{"$f":"AccVelDataLink!G1696","v":3},"○","○"]
[1694,1,4000,{"$f":"AccVelDataLink!A1697","v":1694},1693,-1,null,{"$f":"AccVelDataLink!G1697","v":4},"○","終端"]
[1695,0,60000,{"$f":"AccVelDataLink!A1698","v":1695},-1,1696,{"$f":"AccVelDataLink!F1698","v":"RCS4-RA7C-200-4-水平"},{"$f":"AccVelDataLink!G1698","v":60},"先頭","○"]
[1696,0,70000,{"$f":"AccVelDataLink!A1699","v":1696},1695,1697,null,{"$f":"AccVelDataLink!G1699","v":70},"○","○"]
[1697,0,{"$f":"H1700*$H$1","v":80000},{"$f":"AccVelDataLink!A1700","v":1697},{"$f":"A1699","v":1696},{"$f":"A1701","v":1698},null,{"$f":"AccVelDataLink!G1700","v":80},"○","○"]
[1698,1,30000,{"$f":"AccVelDataLink!A1701","v":1698},1697,1699,{"$f":"AccVelDataLink!F1701","v":"RCS4-RA7C-200-4-垂直"},{"$f":"AccVelDataLink!G1701","v":30},"○","○"]
[1699,1,35000,{"$f":"AccVelDataLink!A1702","v":1699},1698,-1,null,{"$f":"AccVelDataLink!G1702","v":35},"○","終端"]
[1700,0,40000,{"$f":"AccVelDataLink!A1703","v":1700},-1,1701,{"$f":"AccVelDataLink!F1703","v":"RCS4-RA7C-200-8-水平"},{"$f":"AccVelDataLink!G1703","v":40},"先頭","○"]
[1701,0,50000,{"$f":"AccVelDataLink!A1704","v":1701},1700,1702,null,{"$f":"AccVelDataLink!G1704","v":50},"○","○"]
[1702,0,60000,{"$f":"AccVelDataLink!A1705","v":1702},1701,1703,null,{"$f":"AccVelDataLink!G1705","v":60},"○","○"]
[1703,1,20000,{"$f":"AccVelDataLink!A1706","v":1703},1702,1704,{"$f":"AccVelDataLink!F1706","v":"RCS4-RA7C-200-8-垂直"},{"$f":"AccVelDataLink!G1706","v":20},"○","○"]
[1704,1,25000,{"$f":"AccVelDataLink!A1707","v":1704},1703,-1,null,{"$f":"AccVelDataLink!G1707","v":25},"○","終端"]
[1705,0,15000,{"$f":"AccVelDataLink!A1708","v":1705},-1,1706,{"$f":"AccVelDataLink!F1708","v":"RCS4-RA7C-200-16-水平"},{"$f":"AccVelDataLink!G1708","v":15},"先頭","○"]
[1706,0,20000,{"$f":"AccVelDataLink!A1709","v":1706},1705,1707,null,{"$f":"AccVelDataLink!G1709","v":20},"○","○"]
[1707,0,25000,{"$f":"AccVelDataLink!A1710","v":1707},1706,1708,null,{"$f":"AccVelDataLink!G1710","v":25},"○","○"]
[1708,0,30000,{"$f":"AccVelDataLink!A1711","v":1708},1707,1709,null,{"$f":"AccVelDataLink!G1711","v":30},"○","○"]
[1709,0,45000,{"$f":"AccVelDataLink!A1712","v":1709},1708,1710,null,{"$f":"AccVelDataLink!G1712","v":45},"○","○"]
[1710,1,8000,{"$f":"AccVelDataLink!A1713","v":1710},1709,1711,{"$f":"AccVelDataLink!F1713","v":"RCS4-RA7C-200-16-垂直"},{"$f":"AccVelDataLink!G1713","v":8},"○","○"]
[1711,1,10000,{"$f":"AccVelDataLink!A1714","v":1711},1710,1712,null,{"$f":"AccVelDataLink!G1714","v":10},"○","○"]
[1712,1,12000,{"$f":"AccVelDataLink!A1715","v":1712},1711,-1,null,{"$f":"AccVelDataLink!G1715","v":12},"○","終端"]
[1713,0,8000,{"$f":"AccVelDataLink!A1716","v":1713},-1,1714,{"$f":"AccVelDataLink!F1716","v":"RCS4-RA7C-200-24-水平"},{"$f":"AccVelDataLink!G1716","v":8},"先頭","○"]
[1714,0,10000,{"$f":"AccVelDataLink!A1717","v":1714},1713,1715,null,{"$f":"AccVelDataLink!G1717","v":10},"○","○"]
[1715,0,15000,{"$f":"AccVelDataLink!A1718","v":1715},1714,1716,null,{"$f":"AccVelDataLink!G1718","v":15},"○","○"]
[{"$f":"A1718+1","v":1716},0,20000,{"$f":"AccVelDataLink!A1719","v":1716},1715,1717,null,{"$f":"AccVelDataLink!G1719","v":20},"○","○"]
[1717,1,4000,{"$f":"AccVelDataLink!A1720","v":1717},1716,1718,{"$f":"AccVelDataLink!F1720","v":"RCS4-RA7C-200-24-垂直"},{"$f":"AccVelDataLink!G1720","v":4},"○","○"]
[1718,1,6000,{"$f":"AccVelDataLink!A1721","v":1718},1717,-1,null,{"$f":"AccVelDataLink!G1721","v":6},"○","終端"]
[1719,0,60000,{"$f":"AccVelDataLink!A1722","v":1719},-1,1720,{"$f":"AccVelDataLink!F1722","v":"RCS4-RA8C-400-5-水平"},{"$f":"AccVelDataLink!G1722","v":60},"先頭","○"]
[1720,0,80000,{"$f":"AccVelDataLink!A1723","v":1720},1719,1721,null,{"$f":"AccVelDataLink!G1723","v":80},"○","○"]
[1721,0,{"$f":"H1724*$H$1","v":100000},{"$f":"AccVelDataLink!A1724","v":1721},{"$f":"A1723","v":1720},{"$f":"A1725","v":1722},null,{"$f":"AccVelDataLink!G1724","v":100},"○","○"]
[1722,1,25000,{"$f":"AccVelDataLink!A1725","v":1722},1721,1723,{"$f":"AccVelDataLink!F1725","v":"RCS4-RA8C-400-5-垂直"},{"$f":"AccVelDataLink!G1725","v":25},"○","○"]
[1723,1,40000,{"$f":"AccVelDataLink!A1726","v":1723},1722,1724,null,{"$f":"AccVelDataLink!G1726","v":40},"○","○"]
[1724,1,55000,{"$f":"AccVelDataLink!A1727","v":1724},1723,1725,null,{"$f":"AccVelDataLink!G1727","v":55},"○","○"]
[1725,1,72000,{"$f":"AccVelDataLink!A1728","v":1725},1724,-1,null,{"$f":"AccVelDataLink!G1728","v":72},"○","終端"]
[1726,0,60000,{"$f":"AccVelDataLink!A1729","v":1726},-1,1727,{"$f":"AccVelDataLink!F1729","v":"RCS4-RA8C-400-10-水平"},{"$f":"AccVelDataLink!G1729","v":60},"先頭","○"]
[1727,0,70000,{"$f":"AccVelDataLink!A1730","v":1727},1726,1728,null,{"$f":"AccVelDataLink!G1730","v":70},"○","○"]
[1728,0,80000,{"$f":"AccVelDataLink!A1731","v":1728},1727,1729,null,{"$f":"AccVelDataLink!G1731","v":80},"○","○"]
[1729,1,20000,{"$f":"AccVelDataLink!A1732","v":1729},1728,1730,{"$f":"AccVelDataLink!F1732","v":"RCS4-RA8C-400-10-垂直"},{"$f":"AccVelDataLink!G1732","v":20},"○","○"]
[1730,1,30000,{"$f":"AccVelDataLink!A1733","v":1730},1729,1731,null,{"$f":"AccVelDataLink!G1733","v":30},"○","○"]
[1731,1,40000,{"$f":"AccVelDataLink!A1734","v":1731},1730,-1,null,{"$f":"AccVelDataLink!G1734","v":40},"○","終端"]
[1732,0,15000,{"$f":"AccVelDataLink!A1735","v":1732},-1,1733,{"$f":"AccVelDataLink!F1735","v":"RCS4-RA8C-400-20-水平"},{"$f":"AccVelDataLink!G1735","v":15},"先頭","○"]
[1733,0,20000,{"$f":"AccVelDataLink!A1736","v":1733},1732,1734,null,{"$f":"AccVelDataLink!G1736","v":20},"○","○"]
[1734,0,25000,{"$f":"AccVelDataLink!A1737","v":1734},1733,1735,null,{"$f":"AccVelDataLink!G1737","v":25},"○","○"]
[1735,0,40000,{"$f":"AccVelDataLink!A1738","v":1735},1734,1736,null,{"$f":"AccVelDataLink!G1738","v":40},"○","○"]
[1736,0,60000,{"$f":"AccVelDataLink!A1739","v":1736},1735,1737,null,{"$f":"AccVelDataLink!G1739","v":60},"○","○"]
[1737,1,12000,{"$f":"AccVelDataLink!A1740","v":1737},1736,1738,{"$f":"AccVelDataLink!F1740","v":"RCS4-RA8C-400-20-垂直"},{"$f":"AccVelDataLink!G1740","v":12},"○","○"]
[1738,1,15000,{"$f":"AccVelDataLink!A1741","v":1738},1737,1739,null,{"$f":"AccVelDataLink!G1741","v":15},"○","○"]
[1739,1,20000,{"$f":"AccVelDataLink!A1742","v":1739},1738,-1,null,{"$f":"AccVelDataLink!G1742","v":20},"○","終端"]
[1740,0,20000,{"$f":"AccVelDataLink!A1743","v":1740},-1,1741,{"$f":"AccVelDataLink!F1743","v":"RCS4-SA4C-60-2.5-水平"},{"$f":"AccVelDataLink!G1743","v":20},"先頭","○"]
[1741,1,10000,{"$f":"AccVelDataLink!A1744","v":1741},1740,1742,{"$f":"AccVelDataLink!F1744","v":"RCS4-SA4C-60-2.5-垂直"},{"$f":"AccVelDataLink!G1744","v":10},"○","○"]
[1742,1,12000,{"$f":"AccVelDataLink!A1745","v":1742},1741,-1,null,{"$f":"AccVelDataLink!G1745","v":12},{"$f":"IF(E1745=A1744,\"○\",IF(G1745=0,\"つなぎまちがい\",\"先頭\"))","v":"○"},{"$f":"IF(F1745=A1746,\"○\",IF(F1745<>E1746,\"つなぎまちがい\",\"終端\"))","v":"終端"}]
[1743,0,15000,{"$f":"AccVelDataLink!A1746","v":1743},-1,1744,{"$f":"AccVelDataLink!F1746","v":"RCS4-SA4C-60-5-水平"},{"$f":"AccVelDataLink!G1746","v":15},"先頭","○"]
[1744,0,17000,{"$f":"AccVelDataLink!A1747","v":1744},1743,1745,null,{"$f":"AccVelDataLink!G1747","v":17},"○","○"]
[1745,1,6000,{"$f":"AccVelDataLink!A1748","v":1745},1744,1746,{"$f":"AccVelDataLink!F1748","v":"RCS4-SA4C-60-5-垂直"},{"$f":"AccVelDataLink!G1748","v":6},"○","○"]
[1746,1,8000,{"$f":"AccVelDataLink!A1749","v":1746},1745,-1,null,{"$f":"AccVelDataLink!G1749","v":8},"○","終端"]
[1747,0,6000,{"$f":"AccVelDataLink!A1750","v":1747},-1,1748,{"$f":"AccVelDataLink!F1750","v":"RCS4-SA4C-60-10-水平"},{"$f":"AccVelDataLink!G1750","v":6},"先頭","○"]
[1748,0,10000,{"$f":"AccVelDataLink!A1751","v":1748},1747,1749,null,{"$f":"AccVelDataLink!G1751","v":10},"○","○"]
[1749,0,12000,{"$f":"AccVelDataLink!A1752","v":1749},1748,1750,null,{"$f":"AccVelDataLink!G1752","v":12},"○","○"]
[1750,0,14000,{"$f":"AccVelDataLink!A1753","v":1750},1749,1751,null,{"$f":"AccVelDataLink!G1753","v":14},"○","○"]
[1751,1,2000,{"$f":"AccVelDataLink!A1754","v":1751},1750,1752,{"$f":"AccVelDataLink!F1754","v":"RCS4-SA4C-60-10-垂直"},{"$f":"AccVelDataLink!G1754","v":2},"○","○"]
[1752,1,3000,{"$f":"AccVelDataLink!A1755","v":1752},1751,1753,null,{"$f":"AccVelDataLink!G1755","v":3},"○","○"]
[1753,1,5000,{"$f":"AccVelDataLink!A1756","v":1753},1752,-1,null,{"$f":"AccVelDataLink!G1756","v":5},"○","終端"]
[1754,0,4000,{"$f":"AccVelDataLink!A1757","v":1754},-1,1755,{"$f":"AccVelDataLink!F1757","v":"RCS4-SA4C-60-16-水平"},{"$f":"AccVelDataLink!G1757","v":4},"先頭","○"]
[1755,0,6000,{"$f":"AccVelDataLink!A1758","v":1755},1754,1756,null,{"$f":"AccVelDataLink!G1758","v":6},"○","○"]
[1756,0,8000,{"$f":"AccVelDataLink!A1759","v":1756},1755,1757,null,{"$f":"AccVelDataLink!G1759","v":8},"○","○"]
[1757,0,10000,{"$f":"AccVelDataLink!A1760","v":1757},1756,1758,null,{"$f":"AccVelDataLink!G1760","v":10},"○","○"]
[1758,1,{"$f":"H1761*$H$1","v":1000},{"$f":"AccVelDataLink!A1761","v":1758},{"$f":"A1760","v":1757},{"$f":"A1762","v":1759},{"$f":"AccVelDataLink!F1761","v":"RCS4-SA4C-60-16-垂直"},{"$f":"AccVelDataLink!G1761","v":1},"○","○"]
[1759,1,1500,{"$f":"AccVelDataLink!A1762","v":1759},1758,1760,null,{"$f":"AccVelDataLink!G1762","v":1.5},"○","○"]
[1760,1,3000,{"$f":"AccVelDataLink!A1763","v":1760},1759,-1,null,{"$f":"AccVelDataLink!G1763","v":3},"○","終端"]
[1761,0,20000,{"$f":"AccVelDataLink!A1764","v":1761},-1,1762,{"$f":"AccVelDataLink!F1764","v":"RCS4-SA6C-100-3-水平"},{"$f":"AccVelDataLink!G1764","v":20},"先頭","○"]
[1762,0,30000,{"$f":"AccVelDataLink!A1765","v":1762},1761,1763,null,{"$f":"AccVelDataLink!G1765","v":30},"○","○"]
[1763,0,45000,{"$f":"AccVelDataLink!A1766","v":1763},1762,1764,null,{"$f":"AccVelDataLink!G1766","v":45},"○","○"]
[1764,1,10000,{"$f":"AccVelDataLink!A1767","v":1764},1763,1765,{"$f":"AccVelDataLink!F1767","v":"RCS4-SA6C-100-3-垂直"},{"$f":"AccVelDataLink!G1767","v":10},"○","○"]
[1765,1,14000,{"$f":"AccVelDataLink!A1768","v":1765},1764,1766,null,{"$f":"AccVelDataLink!G1768","v":14},"○","○"]
[1766,1,15000,{"$f":"AccVelDataLink!A1769","v":1766},1765,-1,null,{"$f":"AccVelDataLink!G1769","v":15},"○","終端"]
[1767,0,20000,{"$f":"AccVelDataLink!A1770","v":1767},-1,1768,{"$f":"AccVelDataLink!F1770","v":"RCS4-SA6C-100-6-水平"},{"$f":"AccVelDataLink!G1770","v":20},"先頭","○"]
[1768,0,30000,{"$f":"AccVelDataLink!A1771","v":1768},1767,1769,null,{"$f":"AccVelDataLink!G1771","v":30},"○","○"]
[1769,0,45000,{"$f":"AccVelDataLink!A1772","v":1769},1768,1770,null,{"$f":"AccVelDataLink!G1772","v":45},"○","○"]
[1770,1,15000,{"$f":"AccVelDataLink!A1773","v":1770},1769,-1,{"$f":"AccVelDataLink!F1773","v":"RCS4-SA6C-100-6-垂直"},{"$f":"AccVelDataLink!G1773","v":15},"○","終端"]
[1771,0,15000,{"$f":"AccVelDataLink!A1774","v":1771},-1,1772,{"$f":"AccVelDataLink!F1774","v":"RCS4-SA6C-100-12-水平"},{"$f":"AccVelDataLink!G1774","v":15},"先頭","○"]
[1772,0,20000,{"$f":"AccVelDataLink!A1775","v":1772},1771,1773,null,{"$f":"AccVelDataLink!G1775","v":20},"○","○"]
[1773,0,24000,{"$f":"AccVelDataLink!A1776","v":1773},1772,1774,null,{"$f":"AccVelDataLink!G1776","v":24},"○","○"]
[1774,0,30000,{"$f":"AccVelDataLink!A1777","v":1774},1773,1775,null,{"$f":"AccVelDataLink!G1777","v":30},"○","○"]
[1775,1,8000,{"$f":"AccVelDataLink!A1778","v":1775},1774,1776,{"$f":"AccVelDataLink!F1778","v":"RCS4-SA6C-100-12-垂直"},{"$f":"AccVelDataLink!G1778","v":8},"○","○"]
[1776,1,10000,{"$f":"AccVelDataLink!A1779","v":1776},1775,1777,null,{"$f":"AccVelDataLink!G1779","v":10},"○","○"]
[1777,1,11000,{"$f":"AccVelDataLink!A1780","v":1777},1776,-1,null,{"$f":"AccVelDataLink!G1780","v":11},"○","終端"]
[1778,0,6000,{"$f":"AccVelDataLink!A1781","v":1778},-1,1779,{"$f":"AccVelDataLink!F1781","v":"RCS4-SA6C-100-20-水平"},{"$f":"AccVelDataLink!G1781","v":6},"先頭","○"]
[1779,0,8000,{"$f":"AccVelDataLink!A1782","v":1779},1778,1780,null,{"$f":"AccVelDataLink!G1782","v":8},"○","○"]
[{"$f":"A1782+1","v":1780},0,10000,{"$f":"AccVelDataLink!A1783","v":1780},1779,1781,null,{"$f":"AccVelDataLink!G1783","v":10},"○","○"]
[1781,0,15000,{"$f":"AccVelDataLink!A1784","v":1781},1780,1782,null,{"$f":"AccVelDataLink!G1784","v":15},"○","○"]
[1782,0,18000,{"$f":"AccVelDataLink!A1785","v":1782},1781,1783,null,{"$f":"AccVelDataLink!G1785","v":18},"○","○"]
[1783,1,2000,{"$f":"AccVelDataLink!A1786","v":1783},1782,1784,{"$f":"AccVelDataLink!F1786","v":"RCS4-SA6C-100-20-垂直"},{"$f":"AccVelDataLink!G1786","v":2},"○","○"]
[1784,1,4000,{"$f":"AccVelDataLink!A1787","v":1784},1783,1785,null,{"$f":"AccVelDataLink!G1787","v":4},"○","○"]
[1785,1,5000,{"$f":"AccVelDataLink!A1788","v":1785},1784,1786,null,{"$f":"AccVelDataLink!G1788","v":5},"○","○"]
[1786,1,6000,{"$f":"AccVelDataLink!A1789","v":1786},1785,-1,null,{"$f":"AccVelDataLink!G1789","v":6},"○","終端"]
[1787,0,3000,{"$f":"AccVelDataLink!A1790","v":1787},-1,1788,{"$f":"AccVelDataLink!F1790","v":"RCS4-SA6C-100-30-水平"},{"$f":"AccVelDataLink!G1790","v":3},"先頭","○"]
[1788,0,4000,{"$f":"AccVelDataLink!A1791","v":1788},1787,1789,null,{"$f":"AccVelDataLink!G1791","v":4},"○","○"]
[1789,0,6000,{"$f":"AccVelDataLink!A1792","v":1789},1788,1790,null,{"$f":"AccVelDataLink!G1792","v":6},"○","○"]
[1790,0,11000,{"$f":"AccVelDataLink!A1793","v":1790},1789,1791,null,{"$f":"AccVelDataLink!G1793","v":11},"○","○"]
[1791,1,1500,{"$f":"AccVelDataLink!A1794","v":1791},1790,1792,{"$f":"AccVelDataLink!F1794","v":"RCS4-SA6C-100-30-垂直"},{"$f":"AccVelDataLink!G1794","v":1.5},"○","○"]
[1792,1,2000,{"$f":"AccVelDataLink!A1795","v":1792},1791,1793,null,{"$f":"AccVelDataLink!G1795","v":2},"○","○"]
[1793,1,3500,{"$f":"AccVelDataLink!A1796","v":1793},1792,-1,null,{"$f":"AccVelDataLink!G1796","v":3.5},"○","終端"]
[1794,0,40000,{"$f":"AccVelDataLink!A1797","v":1794},-1,1795,{"$f":"AccVelDataLink!F1797","v":"RCS4-SA7C-200-4-水平"},{"$f":"AccVelDataLink!G1797","v":40},"先頭","○"]
[1795,0,50000,{"$f":"AccVelDataLink!A1798","v":1795},1794,1796,null,{"$f":"AccVelDataLink!G1798","v":50},"○","○"]
[1796,1,20000,{"$f":"AccVelDataLink!A1799","v":1796},1795,1797,{"$f":"AccVelDataLink!F1799","v":"RCS4-SA7C-200-4-垂直"},{"$f":"AccVelDataLink!G1799","v":20},"○","○"]
[1797,1,25000,{"$f":"AccVelDataLink!A1800","v":1797},1796,-1,null,{"$f":"AccVelDataLink!G1800","v":25},"○","終端"]
[1798,0,{"$f":"H1801*$H$1","v":35000},{"$f":"AccVelDataLink!A1801","v":1798},-1,1799,{"$f":"AccVelDataLink!F1801","v":"RCS4-SA7C-200-8-水平"},{"$f":"AccVelDataLink!G1801","v":35},{"$f":"IF(E1801=A1800,\"○\",IF(G1801=0,\"つなぎまちがい\",\"先頭\"))","v":"先頭"},{"$f":"IF(F1801=A1802,\"○\",IF(F1801<>E1802,\"つなぎまちがい\",\"終端\"))","v":"○"}]
[1799,0,{"$f":"H1802*$H$1","v":40000},{"$f":"AccVelDataLink!A1802","v":1799},1798,1800,null,{"$f":"AccVelDataLink!G1802","v":40},"○","○"]
[1800,0,45000,{"$f":"AccVelDataLink!A1803","v":1800},1799,1801,null,{"$f":"AccVelDataLink!G1803","v":45},"○","○"]
[1801,1,18000,{"$f":"AccVelDataLink!A1804","v":1801},{"$f":"A1803","v":1800},{"$f":"A1805","v":1802},{"$f":"AccVelDataLink!F1804","v":"RCS4-SA7C-200-8-垂直"},{"$f":"AccVelDataLink!G1804","v":18},"○","○"]
[1802,1,20000,{"$f":"AccVelDataLink!A1805","v":1802},1801,-1,null,{"$f":"AccVelDataLink!G1805","v":20},"○","終端"]
[1803,0,12000,{"$f":"AccVelDataLink!A1806","v":1803},-1,1804,{"$f":"AccVelDataLink!F1806","v":"RCS4-SA7C-200-16-水平"},{"$f":"AccVelDataLink!G1806","v":12},"先頭","○"]
[1804,0,15000,{"$f":"AccVelDataLink!A1807","v":1804},1803,1805,null,{"$f":"AccVelDataLink!G1807","v":15},"○","○"]
[1805,0,30000,{"$f":"AccVelDataLink!A1808","v":1805},1804,1806,null,{"$f":"AccVelDataLink!G1808","v":30},"○","○"]
[1806,0,40000,{"$f":"AccVelDataLink!A1809","v":1806},1805,1807,null,{"$f":"AccVelDataLink!G1809","v":40},"○","○"]
[1807,1,8000,{"$f":"AccVelDataLink!A1810","v":1807},1806,1808,{"$f":"AccVelDataLink!F1810","v":"RCS4-SA7C-200-16-垂直"},{"$f":"AccVelDataLink!G1810","v":8},{"$f":"IF(E1810=A1809,\"○\",IF(G1810=0,\"つなぎまちがい\",\"先頭\"))","v":"○"},{"$f":"IF(F1810=A1811,\"○\",IF(F1810<>E1811,\"つなぎまちがい\",\"終端\"))","v":"○"}]
[1808,1,10000,{"$f":"AccVelDataLink!A1811","v":1808},1807,1809,null,{"$f":"AccVelDataLink!G1811","v":10},"○","○"]
[1809,1,12000,{"$f":"AccVelDataLink!A1812","v":1809},1808,-1,null,{"$f":"AccVelDataLink!G1812","v":12},"○","終端"]
[1810,0,5000,{"$f":"AccVelDataLink!A1813","v":1810},-1,1811,{"$f":"AccVelDataLink!F1813","v":"RCS4-SA7C-200-24-水平"},{"$f":"AccVelDataLink!G1813","v":5},"先頭","○"]
[1811,0,6000,{"$f":"AccVelDataLink!A1814","v":1811},1810,1812,null,{"$f":"AccVelDataLink!G1814","v":6},"○","○"]
[1812,0,10000,{"$f":"AccVelDataLink!A1815","v":1812},1811,1813,null,{"$f":"AccVelDataLink!G1815","v":10},"○","○"]
[1813,0,12000,{"$f":"AccVelDataLink!A1816","v":1813},1812,1814,null,{"$f":"AccVelDataLink!G1816","v":12},"○","○"]
[1814,0,30000,{"$f":"AccVelDataLink!A1817","v":1814},1813,1815,null,{"$f":"AccVelDataLink!G1817","v":30},"○","○"]
[1815,1,4000,{"$f":"AccVelDataLink!A1818","v":1815},1814,1816,{"$f":"AccVelDataLink!F1818","v":"RCS4-SA7C-200-24-垂直"},{"$f":"AccVelDataLink!G1818","v":4},"○","○"]
[1816,1,5000,{"$f":"AccVelDataLink!A1819","v":1816},1815,1817,null,{"$f":"AccVelDataLink!G1819","v":5},"○","○"]
[1817,1,6000,{"$f":"AccVelDataLink!A1820","v":1817},1816,1818,null,{"$f":"AccVelDataLink!G1820","v":6},"○","○"]
[1818,1,7000,{"$f":"AccVelDataLink!A1821","v":1818},1817,-1,null,{"$f":"AccVelDataLink!G1821","v":7},"○","終端"]
[1819,0,3000,{"$f":"AccVelDataLink!A1822","v":1819},-1,1820,{"$f":"AccVelDataLink!F1822","v":"RCS4-SA7C-200-36-水平"},{"$f":"AccVelDataLink!G1822","v":3},"先頭","○"]
[1820,0,4000,{"$f":"AccVelDataLink!A1823","v":1820},1819,1821,null,{"$f":"AccVelDataLink!G1823","v":4},"○","○"]
[1821,0,6000,{"$f":"AccVelDataLink!A1824","v":1821},1820,1822,null,{"$f":"AccVelDataLink!G1824","v":6},"○","○"]
[1822,0,7000,{"$f":"AccVelDataLink!A1825","v":1822},1821,1823,null,{"$f":"AccVelDataLink!G1825","v":7},"○","○"]
[1823,1,2000,{"$f":"AccVelDataLink!A1826","v":1823},1822,1824,{"$f":"AccVelDataLink!F1826","v":"RCS4-SA7C-200-36-垂直"},{"$f":"AccVelDataLink!G1826","v":2},"○","○"]
[1824,1,3000,{"$f":"AccVelDataLink!A1827","v":1824},1823,1825,null,{"$f":"AccVelDataLink!G1827","v":3},"○","○"]
[1825,1,4000,{"$f":"AccVelDataLink!A1828","v":1825},1824,-1,null,{"$f":"AccVelDataLink!G1828","v":4},"○","終端"]
[1826,0,70000,{"$f":"AccVelDataLink!A1829","v":1826},-1,1827,{"$f":"AccVelDataLink!F1829","v":"RCS4-SA8C-400-5-水平"},{"$f":"AccVelDataLink!G1829","v":70},"先頭","○"]
[1827,0,90000,{"$f":"AccVelDataLink!A1830","v":1827},1826,1828,null,{"$f":"AccVelDataLink!G1830","v":90},"○","○"]
[1828,1,35000,{"$f":"AccVelDataLink!A1831","v":1828},1827,1829,{"$f":"AccVelDataLink!F1831","v":"RCS4-SA8C-400-5-垂直"},{"$f":"AccVelDataLink!G1831","v":35},"○","○"]
[1829,1,45000,{"$f":"AccVelDataLink!A1832","v":1829},1828,-1,null,{"$f":"AccVelDataLink!G1832","v":45},"○","終端"]
[1830,0,60000,{"$f":"AccVelDataLink!A1833","v":1830},-1,1831,{"$f":"AccVelDataLink!F1833","v":"RCS4-SA8C-400-10-水平"},{"$f":"AccVelDataLink!G1833","v":60},"先頭","○"]
[1831,0,70000,{"$f":"AccVelDataLink!A1834","v":1831},1830,1832,null,{"$f":"AccVelDataLink!G1834","v":70},"○","○"]
[1832,0,80000,{"$f":"AccVelDataLink!A1835","v":1832},1831,1833,null,{"$f":"AccVelDataLink!G1835","v":80},"○","○"]
[1833,1,30000,{"$f":"AccVelDataLink!A1836","v":1833},1832,1834,{"$f":"AccVelDataLink!F1836","v":"RCS4-SA8C-400-10-垂直"},{"$f":"AccVelDataLink!G1836","v":30},"○","○"]
[1834,1,35000,{"$f":"AccVelDataLink!A1837","v":1834},1833,-1,null,{"$f":"AccVelDataLink!G1837","v":35},"○","終端"]
[1835,0,15000,{"$f":"AccVelDataLink!A1838","v":1835},-1,1836,{"$f":"AccVelDataLink!F1838","v":"RCS4-SA8C-400-20-水平"},{"$f":"AccVelDataLink!G1838","v":15},"先頭","○"]
[1836,0,20000,{"$f":"AccVelDataLink!A1839","v":1836},1835,1837,null,{"$f":"AccVelDataLink!G1839","v":20},"○","○"]
[1837,0,30000,{"$f":"AccVelDataLink!A1840","v":1837},1836,1838,null,{"$f":"AccVelDataLink!G1840","v":30},"○","○"]
[1838,0,40000,{"$f":"AccVelDataLink!A1841","v":1838},1837,1839,null,{"$f":"AccVelDataLink!G1841","v":40},"○","○"]
[1839,0,60000,{"$f":"AccVelDataLink!A1842","v":1839},1838,1840,null,{"$f":"AccVelDataLink!G1842","v":60},"○","○"]
[1840,1,12000,{"$f":"AccVelDataLink!A1843","v":1840},1839,1841,{"$f":"AccVelDataLink!F1843","v":"RCS4-SA8C-400-20-垂直"},{"$f":"AccVelDataLink!G1843","v":12},"○","○"]
[1841,1,15000,{"$f":"AccVelDataLink!A1844","v":1841},1840,1842,null,{"$f":"AccVelDataLink!G1844","v":15},"○","○"]
[1842,1,18000,{"$f":"AccVelDataLink!A1845","v":1842},1841,1843,null,{"$f":"AccVelDataLink!G1845","v":18},"○","○"]
[1843,1,20000,{"$f":"AccVelDataLink!A1846","v":1843},1842,-1,null,{"$f":"AccVelDataLink!G1846","v":20},"○","終端"]
[1844,0,10000,{"$f":"AccVelDataLink!A1847","v":1844},-1,1845,{"$f":"AccVelDataLink!F1847","v":"RCS4-SA8C-400-30-水平"},{"$f":"AccVelDataLink!G1847","v":10},"先頭","○"]
[{"$f":"A1847+1","v":1845},0,15000,{"$f":"AccVelDataLink!A1848","v":1845},1844,1846,null,{"$f":"AccVelDataLink!G1848","v":15},"○","○"]
[1846,0,20000,{"$f":"AccVelDataLink!A1849","v":1846},1845,1847,null,{"$f":"AccVelDataLink!G1849","v":20},"○","○"]
[1847,0,25000,{"$f":"AccVelDataLink!A1850","v":1847},1846,1848,null,{"$f":"AccVelDataLink!G1850","v":25},"○","○"]
[1848,0,30000,{"$f":"AccVelDataLink!A1851","v":1848},1847,1849,null,{"$f":"AccVelDataLink!G1851","v":30},"○","○"]
[1849,1,6000,{"$f":"AccVelDataLink!A1852","v":1849},1848,1850,{"$f":"AccVelDataLink!F1852","v":"RCS4-SA8C-400-30-垂直"},{"$f":"AccVelDataLink!G1852","v":6},"○","○"]
[1850,1,8000,{"$f":"AccVelDataLink!A1853","v":1850},1849,1851,null,{"$f":"AccVelDataLink!G1853","v":8},"○","○"]
[1851,1,10000,{"$f":"AccVelDataLink!A1854","v":1851},1850,1852,null,{"$f":"AccVelDataLink!G1854","v":10},"○","○"]
[1852,1,12000,{"$f":"AccVelDataLink!A1855","v":1852},1851,-1,null,{"$f":"AccVelDataLink!G1855","v":12},"○","終端"]
[1853,0,4000,{"$f":"AccVelDataLink!A1856","v":1853},-1,1854,{"$f":"AccVelDataLink!F1856","v":"RCS4-SA8C-400-48-水平"},{"$f":"AccVelDataLink!G1856","v":4},"先頭","○"]
[1854,0,5000,{"$f":"AccVelDataLink!A1857","v":1854},1853,1855,null,{"$f":"AccVelDataLink!G1857","v":5},{"$f":"IF(E1857=A1856,\"○\",IF(G1857=0,\"つなぎまちがい\",\"先頭\"))","v":"○"},{"$f":"IF(F1857=A1858,\"○\",IF(F1857<>E1858,\"つなぎまちがい\",\"終端\"))","v":"○"}]
[1855,0,{"$f":"H1858*$H$1","v":6000},{"$f":"AccVelDataLink!A1858","v":1855},{"$f":"A1857","v":1854},{"$f":"A1859","v":1856},null,{"$f":"AccVelDataLink!G1858","v":6},"○","○"]
[1856,0,8000,{"$f":"AccVelDataLink!A1859","v":1856},1855,-1,null,{"$f":"AccVelDataLink!G1859","v":8},"○","終端"]
[1857,0,18000,{"$f":"AccVelDataLink!A1860","v":1857},-1,1858,{"$f":"AccVelDataLink!F1860","v":"RCS4-WSA10C-60-2.5-水平"},{"$f":"AccVelDataLink!G1860","v":18},"先頭","○"]
[1858,0,30000,{"$f":"AccVelDataLink!A1861","v":1858},1857,1859,null,{"$f":"AccVelDataLink!G1861","v":30},"○","○"]
[1859,0,40000,{"$f":"AccVelDataLink!A1862","v":1859},1858,1860,null,{"$f":"AccVelDataLink!G1862","v":40},"○","○"]
[1860,1,6000,{"$f":"AccVelDataLink!A1863","v":1860},1859,1861,{"$f":"AccVelDataLink!F1863","v":"RCS4-WSA10C-60-2.5-垂直"},{"$f":"AccVelDataLink!G1863","v":6},"○","○"]
[1861,1,10000,{"$f":"AccVelDataLink!A1864","v":1861},1860,-1,null,{"$f":"AccVelDataLink!G1864","v":10},{"$f":"IF(E1864=A1863,\"○\",IF(G1864=0,\"つなぎまちがい\",\"先頭\"))","v":"○"},{"$f":"IF(F1864=A1865,\"○\",IF(F1864<>E1865,\"つなぎまちがい\",\"終端\"))","v":"終端"}]
[1862,0,18000,{"$f":"AccVelDataLink!A1865","v":1862},-1,1863,{"$f":"AccVelDataLink!F1865","v":"RCS4-WSA10C-60-5-水平"},{"$f":"AccVelDataLink!G1865","v":18},"先頭","○"]
[1863,0,20000,{"$f":"AccVelDataLink!A1866","v":1863},1862,1864,null,{"$f":"AccVelDataLink!G1866","v":20},"○","○"]
[1864,0,27000,{"$f":"AccVelDataLink!A1867","v":1864},1863,1865,null,{"$f":"AccVelDataLink!G1867","v":27},"○","○"]
[1865,1,5000,{"$f":"AccVelDataLink!A1868","v":1865},1864,-1,{"$f":"AccVelDataLink!F1868","v":"RCS4-WSA10C-60-5-垂直"},{"$f":"AccVelDataLink!G1868","v":5},"○","終端"]
[1866,0,6000,{"$f":"AccVelDataLink!A1869","v":1866},-1,1867,{"$f":"AccVelDataLink!F1869","v":"RCS4-WSA10C-60-10-水平"},{"$f":"AccVelDataLink!G1869","v":6},"先頭","○"]
[1867,0,12000,{"$f":"AccVelDataLink!A1870","v":1867},1866,1868,null,{"$f":"AccVelDataLink!G1870","v":12},"○","○"]
[1868,0,16000,{"$f":"AccVelDataLink!A1871","v":1868},1867,1869,null,{"$f":"AccVelDataLink!G1871","v":16},"○","○"]
[1869,1,2000,{"$f":"AccVelDataLink!A1872","v":1869},1868,1870,{"$f":"AccVelDataLink!F1872","v":"RCS4-WSA10C-60-10-垂直"},{"$f":"AccVelDataLink!G1872","v":2},"○","○"]
[1870,1,3000,{"$f":"AccVelDataLink!A1873","v":1870},1869,-1,null,{"$f":"AccVelDataLink!G1873","v":3},"○","終端"]
[1871,0,3000,{"$f":"AccVelDataLink!A1874","v":1871},-1,1872,{"$f":"AccVelDataLink!F1874","v":"RCS4-WSA10C-60-16-水平"},{"$f":"AccVelDataLink!G1874","v":3},"先頭","○"]
[1872,0,4000,{"$f":"AccVelDataLink!A1875","v":1872},1871,1873,null,{"$f":"AccVelDataLink!G1875","v":4},"○","○"]
[1873,0,5000,{"$f":"AccVelDataLink!A1876","v":1873},1872,1874,null,{"$f":"AccVelDataLink!G1876","v":5},"○","○"]
[1874,0,7000,{"$f":"AccVelDataLink!A1877","v":1874},1873,-1,null,{"$f":"AccVelDataLink!G1877","v":7},"○","終端"]
[1875,0,15000,{"$f":"AccVelDataLink!A1878","v":1875},-1,1876,{"$f":"AccVelDataLink!F1878","v":"RCS4-WSA12C-100-3-水平"},{"$f":"AccVelDataLink!G1878","v":15},"先頭","○"]
[1876,0,30000,{"$f":"AccVelDataLink!A1879","v":1876},1875,1877,null,{"$f":"AccVelDataLink!G1879","v":30},"○","○"]
[1877,0,55000,{"$f":"AccVelDataLink!A1880","v":1877},1876,1878,null,{"$f":"AccVelDataLink!G1880","v":55},"○","○"]
[1878,1,6000,{"$f":"AccVelDataLink!A1881","v":1878},1877,1879,{"$f":"AccVelDataLink!F1881","v":"RCS4-WSA12C-100-3-垂直"},{"$f":"AccVelDataLink!G1881","v":6},"○","○"]
[1879,1,10000,{"$f":"AccVelDataLink!A1882","v":1879},1878,1880,null,{"$f":"AccVelDataLink!G1882","v":10},"○","○"]
[1880,1,15000,{"$f":"AccVelDataLink!A1883","v":1880},1879,-1,null,{"$f":"AccVelDataLink!G1883","v":15},"○","終端"]
[1881,0,20000,{"$f":"AccVelDataLink!A1884","v":1881},-1,1882,{"$f":"AccVelDataLink!F1884","v":"RCS4-WSA12C-100-6-水平"},{"$f":"AccVelDataLink!G1884","v":20},"先頭","○"]
[1882,0,30000,{"$f":"AccVelDataLink!A1885","v":1882},1881,1883,null,{"$f":"AccVelDataLink!G1885","v":30},"○","○"]
[1883,0,40000,{"$f":"AccVelDataLink!A1886","v":1883},1882,1884,null,{"$f":"AccVelDataLink!G1886","v":40},"○","○"]
[1884,0,45000,{"$f":"AccVelDataLink!A1887","v":1884},1883,1885,null,{"$f":"AccVelDataLink!G1887","v":45},"○","○"]
[1885,1,10000,{"$f":"AccVelDataLink!A1888","v":1885},1884,1886,{"$f":"AccVelDataLink!F1888","v":"RCS4-WSA12C-100-6-垂直"},{"$f":"AccVelDataLink!G1888","v":10},"○","○"]
[1886,1,12000,{"$f":"AccVelDataLink!A1889","v":1886},1885,1887,null,{"$f":"AccVelDataLink!G1889","v":12},"○","○"]
[1887,1,15000,{"$f":"AccVelDataLink!A1890","v":1887},1886,-1,null,{"$f":"AccVelDataLink!G1890","v":15},"○","終端"]
[1888,0,15000,{"$f":"AccVelDataLink!A1891","v":1888},-1,1889,{"$f":"AccVelDataLink!F1891","v":"RCS4-WSA12C-100-12-水平"},{"$f":"AccVelDataLink!G1891","v":15},"先頭","○"]
[1889,0,20000,{"$f":"AccVelDataLink!A1892","v":1889},1888,1890,null,{"$f":"AccVelDataLink!G1892","v":20},"○","○"]
[1890,0,25000,{"$f":"AccVelDataLink!A1893","v":1890},1889,1891,null,{"$f":"AccVelDataLink!G1893","v":25},"○","○"]
[1891,1,6000,{"$f":"AccVelDataLink!A1894","v":1891},1890,1892,{"$f":"AccVelDataLink!F1894","v":"RCS4-WSA12C-100-12-垂直"},{"$f":"AccVelDataLink!G1894","v":6},"○","○"]
[1892,1,8000,{"$f":"AccVelDataLink!A1895","v":1892},1891,-1,null,{"$f":"AccVelDataLink!G1895","v":8},"○","終端"]
[1893,0,4000,{"$f":"AccVelDataLink!A1896","v":1893},-1,1894,{"$f":"AccVelDataLink!F1896","v":"RCS4-WSA12C-100-20-水平"},{"$f":"AccVelDataLink!G1896","v":4},"先頭","○"]
[1894,0,6000,{"$f":"AccVelDataLink!A1897","v":1894},1893,1895,null,{"$f":"AccVelDataLink!G1897","v":6},"○","○"]
[1895,0,8000,{"$f":"AccVelDataLink!A1898","v":1895},1894,1896,null,{"$f":"AccVelDataLink!G1898","v":8},"○","○"]
[1896,0,{"$f":"H1899*$H$1","v":10000},{"$f":"AccVelDataLink!A1899","v":1896},{"$f":"A1898","v":1895},{"$f":"A1900","v":1897},null,{"$f":"AccVelDataLink!G1899","v":10},"○","○"]
[1897,0,15000,{"$f":"AccVelDataLink!A1900","v":1897},1896,1898,null,{"$f":"AccVelDataLink!G1900","v":15},"○","○"]
[1898,1,2000,{"$f":"AccVelDataLink!A1901","v":1898},1897,1899,{"$f":"AccVelDataLink!F1901","v":"RCS4-WSA12C-100-20-垂直"},{"$f":"AccVelDataLink!G1901","v":2},"○","○"]
[1899,1,3000,{"$f":"AccVelDataLink!A1902","v":1899},1898,-1,null,{"$f":"AccVelDataLink!G1902","v":3},"○","終端"]
[1900,0,3000,{"$f":"AccVelDataLink!A1903","v":1900},-1,1901,{"$f":"AccVelDataLink!F1903","v":"RCS4-WSA12C-100-30-水平"},{"$f":"AccVelDataLink!G1903","v":3},"先頭","○"]
[1901,0,4000,{"$f":"AccVelDataLink!A1904","v":1901},1900,1902,null,{"$f":"AccVelDataLink!G1904","v":4},"○","○"]
[1902,0,{"$f":"H1905*$H$1","v":5000},{"$f":"AccVelDataLink!A1905","v":1902},{"$f":"A1904","v":1901},-1,null,{"$f":"AccVelDataLink!G1905","v":5},{"$f":"IF(E1905=A1904,\"○\",IF(G1905=0,\"つなぎまちがい\",\"先頭\"))","v":"○"},{"$f":"IF(F1905=A1906,\"○\",IF(F1905<>E1906,\"つなぎまちがい\",\"終端\"))","v":"終端"}]
[1903,0,30000,{"$f":"AccVelDataLink!A1906","v":1903},-1,{"$f":"A1907","v":1904},{"$f":"AccVelDataLink!F1906","v":"RCS4-WSA14C-200-4-水平"},{"$f":"AccVelDataLink!G1906","v":30},"先頭","○"]
[1904,0,60000,{"$f":"AccVelDataLink!A1907","v":1904},1903,1905,null,{"$f":"AccVelDataLink!G1907","v":60},"○","○"]
[1905,0,80000,{"$f":"AccVelDataLink!A1908","v":1905},1904,1906,null,{"$f":"AccVelDataLink!G1908","v":80},"○","○"]
[1906,1,12000,{"$f":"AccVelDataLink!A1909","v":1906},1905,1907,{"$f":"AccVelDataLink!F1909","v":"RCS4-WSA14C-200-4-垂直"},{"$f":"AccVelDataLink!G1909","v":12},"○","○"]
[1907,1,20000,{"$f":"AccVelDataLink!A1910","v":1907},1906,1908,null,{"$f":"AccVelDataLink!G1910","v":20},"○","○"]
[1908,1,25000,{"$f":"AccVelDataLink!A1911","v":1908},1907,-1,null,{"$f":"AccVelDataLink!G1911","v":25},"○","終端"]
[{"$f":"A1911+1","v":1909},0,40000,{"$f":"AccVelDataLink!A1912","v":1909},-1,1910,{"$f":"AccVelDataLink!F1912","v":"RCS4-WSA14C-200-8-水平"},{"$f":"AccVelDataLink!G1912","v":40},"先頭","○"]
[1910,0,50000,{"$f":"AccVelDataLink!A1913","v":1910},1909,1911,null,{"$f":"AccVelDataLink!G1913","v":50},"○","○"]
[1911,0,65000,{"$f":"AccVelDataLink!A1914","v":1911},1910,1912,null,{"$f":"AccVelDataLink!G1914","v":65},"○","○"]
[1912,1,10000,{"$f":"AccVelDataLink!A1915","v":1912},1911,-1,{"$f":"AccVelDataLink!F1915","v":"RCS4-WSA14C-200-8-垂直"},{"$f":"AccVelDataLink!G1915","v":10},"○","終端"]
[1913,0,18000,{"$f":"AccVelDataLink!A1916","v":1913},-1,1914,{"$f":"AccVelDataLink!F1916","v":"RCS4-WSA14C-200-16-水平"},{"$f":"AccVelDataLink!G1916","v":18},"先頭","○"]
[1914,0,20000,{"$f":"AccVelDataLink!A1917","v":1914},1913,1915,null,{"$f":"AccVelDataLink!G1917","v":20},"○","○"]
[1915,0,30000,{"$f":"AccVelDataLink!A1918","v":1915},1914,1916,null,{"$f":"AccVelDataLink!G1918","v":30},"○","○"]
[1916,0,45000,{"$f":"AccVelDataLink!A1919","v":1916},1915,1917,null,{"$f":"AccVelDataLink!G1919","v":45},"○","○"]
[1917,1,8000,{"$f":"AccVelDataLink!A1920","v":1917},1916,-1,{"$f":"AccVelDataLink!F1920","v":"RCS4-WSA14C-200-16-垂直"},{"$f":"AccVelDataLink!G1920","v":8},"○","終端"]
[1918,0,5000,{"$f":"AccVelDataLink!A1921","v":1918},-1,1919,{"$f":"AccVelDataLink!F1921","v":"RCS4-WSA14C-200-24-水平"},{"$f":"AccVelDataLink!G1921","v":5},"先頭","○"]
[1919,0,10000,{"$f":"AccVelDataLink!A1922","v":1919},1918,1920,null,{"$f":"AccVelDataLink!G1922","v":10},"○","○"]
[1920,0,15000,{"$f":"AccVelDataLink!A1923","v":1920},1919,1921,null,{"$f":"AccVelDataLink!G1923","v":15},"○","○"]
[1921,0,20000,{"$f":"AccVelDataLink!A1924","v":1921},1920,1922,null,{"$f":"AccVelDataLink!G1924","v":20},"○","○"]
[1922,1,2500,{"$f":"AccVelDataLink!A1925","v":1922},1921,-1,{"$f":"AccVelDataLink!F1925","v":"RCS4-WSA14C-200-24-垂直"},{"$f":"AccVelDataLink!G1925","v":2.5},"○","終端"]
[1923,0,3000,{"$f":"AccVelDataLink!A1926","v":1923},-1,1924,{"$f":"AccVelDataLink!F1926","v":"RCS4-WSA14C-200-36-水平"},{"$f":"AccVelDataLink!G1926","v":3},"先頭","○"]
[1924,0,4000,{"$f":"AccVelDataLink!A1927","v":1924},1923,1925,null,{"$f":"AccVelDataLink!G1927","v":4},"○","○"]
[1925,0,6000,{"$f":"AccVelDataLink!A1928","v":1925},1924,1926,null,{"$f":"AccVelDataLink!G1928","v":6},"○","○"]
[1926,0,7000,{"$f":"AccVelDataLink!A1929","v":1926},1925,-1,null,{"$f":"AccVelDataLink!G1929","v":7},"○","終端"]
[1927,0,80000,{"$f":"AccVelDataLink!A1930","v":1927},-1,1928,{"$f":"AccVelDataLink!F1930","v":"RCS4-WSA16C-400-5-水平"},{"$f":"AccVelDataLink!G1930","v":80},"先頭","○"]
[1928,0,100000,{"$f":"AccVelDataLink!A1931","v":1928},1927,1929,null,{"$f":"AccVelDataLink!G1931","v":100},"○","○"]
[1929,1,30000,{"$f":"AccVelDataLink!A1932","v":1929},1928,1930,{"$f":"AccVelDataLink!F1932","v":"RCS4-WSA16C-400-5-垂直"},{"$f":"AccVelDataLink!G1932","v":30},"○","○"]
[1930,1,45000,{"$f":"AccVelDataLink!A1933","v":1930},1929,1931,null,{"$f":"AccVelDataLink!G1933","v":45},"○","○"]
[1931,1,50000,{"$f":"AccVelDataLink!A1934","v":1931},1930,-1,null,{"$f":"AccVelDataLink!G1934","v":50},"○","終端"]
[1932,0,60000,{"$f":"AccVelDataLink!A1935","v":1932},-1,1933,{"$f":"AccVelDataLink!F1935","v":"RCS4-WSA16C-400-10-水平"},{"$f":"AccVelDataLink!G1935","v":60},"先頭","○"]
[1933,0,70000,{"$f":"AccVelDataLink!A1936","v":1933},1932,1934,null,{"$f":"AccVelDataLink!G1936","v":70},"○","○"]
[1934,0,80000,{"$f":"AccVelDataLink!A1937","v":1934},1933,1935,null,{"$f":"AccVelDataLink!G1937","v":80},"○","○"]
[1935,1,30000,{"$f":"AccVelDataLink!A1938","v":1935},1934,1936,{"$f":"AccVelDataLink!F1938","v":"RCS4-WSA16C-400-10-垂直"},{"$f":"AccVelDataLink!G1938","v":30},"○","○"]
[1936,1,35000,{"$f":"AccVelDataLink!A1939","v":1936},1935,-1,null,{"$f":"AccVelDataLink!G1939","v":35},"○","終端"]
[1937,0,20000,{"$f":"AccVelDataLink!A1940","v":1937},-1,1938,{"$f":"AccVelDataLink!F1940","v":"RCS4-WSA16C-400-20-水平"},{"$f":"AccVelDataLink!G1940","v":20},"先頭","○"]
[1938,0,22000,{"$f":"AccVelDataLink!A1941","v":1938},1937,1939,null,{"$f":"AccVelDataLink!G1941","v":22},"○","○"]
[1939,0,25000,{"$f":"AccVelDataLink!A1942","v":1939},1938,1940,null,{"$f":"AccVelDataLink!G1942","v":25},"○","○"]
[1940,0,40000,{"$f":"AccVelDataLink!A1943","v":1940},1939,1941,null,{"$f":"AccVelDataLink!G1943","v":40},"○","○"]
[1941,0,60000,{"$f":"AccVelDataLink!A1944","v":1941},1940,1942,null,{"$f":"AccVelDataLink!G1944","v":60},"○","○"]
[1942,1,10000,{"$f":"AccVelDataLink!A1945","v":1942},1941,1943,{"$f":"AccVelDataLink!F1945","v":"RCS4-WSA16C-400-20-垂直"},{"$f":"AccVelDataLink!G1945","v":10},"○","○"]
[1943,1,12000,{"$f":"AccVelDataLink!A1946","v":1943},1942,1944,null,{"$f":"AccVelDataLink!G1946","v":12},{"$f":"IF(E1946=A1945,\"○\",IF(G1946=0,\"つなぎまちがい\",\"先頭\"))","v":"○"},{"$f":"IF(F1946=A1947,\"○\",IF(F1946<>E1947,\"つなぎまちがい\",\"終端\"))","v":"○"}]
[1944,1,15000,{"$f":"AccVelDataLink!A1947","v":1944},1943,1945,null,{"$f":"AccVelDataLink!G1947","v":15},"○","○"]
[1945,1,20000,{"$f":"AccVelDataLink!A1948","v":1945},1944,-1,null,{"$f":"AccVelDataLink!G1948","v":20},"○","終端"]
[1946,0,8000,{"$f":"AccVelDataLink!A1949","v":1946},-1,1947,{"$f":"AccVelDataLink!F1950","v":"RCS4-WSA16C-400-30-水平"},{"$f":"AccVelDataLink!G1949","v":8},"先頭","○"]
[1947,0,10000,{"$f":"AccVelDataLink!A1950","v":1947},1946,1948,null,{"$f":"AccVelDataLink!G1950","v":10},"○","○"]
[1948,0,20000,{"$f":"AccVelDataLink!A1951","v":1948},1947,1949,null,{"$f":"AccVelDataLink!G1951","v":20},"○","○"]
[1949,0,25000,{"$f":"AccVelDataLink!A1952","v":1949},1948,1950,null,{"$f":"AccVelDataLink!G1952","v":25},"○","○"]
[1950,0,30000,{"$f":"AccVelDataLink!A1953","v":1950},1949,1951,null,{"$f":"AccVelDataLink!G1953","v":30},"○","○"]
[1951,1,6000,{"$f":"AccVelDataLink!A1954","v":1951},1950,1952,{"$f":"AccVelDataLink!F1954","v":"RCS4-WSA16C-400-30-垂直"},{"$f":"AccVelDataLink!G1954","v":6},"○","○"]
[1952,1,8000,{"$f":"AccVelDataLink!A1955","v":1952},1951,1953,null,{"$f":"AccVelDataLink!G1955","v":8},{"$f":"IF(E1955=A1954,\"○\",IF(G1955=0,\"つなぎまちがい\",\"先頭\"))","v":"○"},{"$f":"IF(F1955=A1956,\"○\",IF(F1955<>E1956,\"つなぎまちがい\",\"終端\"))","v":"○"},null,"ｱｸﾁｭｴｰﾀ\n姿勢","搬送負荷質量","加減速・速度ﾃﾞｰﾀ","前ﾃﾞｰﾀ№","次ﾃﾞｰﾀ№","備考"]
[1953,1,12000,{"$f":"AccVelDataLink!A1956","v":1953},1952,-1,null,{"$f":"AccVelDataLink!G1956","v":12},"○","終端",null,"0/1","1g","ﾚｺｰﾄﾞ№","ﾚｺｰﾄﾞ№","ﾚｺｰﾄﾞ№","型式-姿勢","質量"]
[1954,0,{"$f":"H1957*$H$1","v":5000},{"$f":"AccVelDataLink!A1957","v":1954},-1,{"$f":"A1958","v":1955},{"$f":"AccVelDataLink!F1957","v":"RCS4-TA4C(SB)-60-2.5-水平"},{"$f":"AccVelDataLink!G1957","v":5},"先頭","○",null,0,5000,1954,-1,1955,"RCS4-TA4C(SB)-60-2.5-水平",5,null,{"$f":"IF(AND(L1957=B1957, M1957=C1957, N1957=D1957, O1957=E1957, P1957=F1957, R1957=H1957), \"○\", \"●\")","v":"○"}]
[1955,1,9000,{"$f":"AccVelDataLink!A1958","v":1955},{"$f":"A1957","v":1954},-1,{"$f":"AccVelDataLink!F1958","v":"RCS4-TA4C(SB)-60-2.5-垂直"},{"$f":"AccVelDataLink!G1958","v":9},"○","終端",null,1,9000,1955,1954,-1,"RCS4-TA4C(SB)-60-2.5-垂直",9,null,{"$f":"IF(AND(L1958=B1958, M1958=C1958, N1958=D1958, O1958=E1958, P1958=F1958, R1958=H1958), \"○\", \"●\")","v":"○"}]
[1956,0,5000,{"$f":"AccVelDataLink!A1959","v":1956},-1,{"$f":"A1960","v":1957},{"$f":"AccVelDataLink!F1959","v":"RCS4-TA4C(SB)-60-5-水平"},{"$f":"AccVelDataLink!G1959","v":5},"先頭","○",null,0,5000,1956,-1,1957,"RCS4-TA4C(SB)-60-5-水平",5,null,"○"]
[1957,1,6000,{"$f":"AccVelDataLink!A1960","v":1957},{"$f":"A1959","v":1956},-1,{"$f":"AccVelDataLink!F1960","v":"RCS4-TA4C(SB)-60-5-垂直"},{"$f":"AccVelDataLink!G1960","v":6},"○","終端",null,1,6000,1957,1956,-1,"RCS4-TA4C(SB)-60-5-垂直",6,null,"○"]
[1958,0,5000,{"$f":"AccVelDataLink!A1961","v":1958},-1,1959,{"$f":"AccVelDataLink!F1961","v":"RCS4-TA4C(SB)-60-10-水平"},{"$f":"AccVelDataLink!G1961","v":5},"先頭","○",null,0,5000,1958,-1,1959,"RCS4-TA4C(SB)-60-10-水平",5,null,"○"]
[1959,1,3000,{"$f":"AccVelDataLink!A1962","v":1959},{"$f":"A1961","v":1958},-1,{"$f":"AccVelDataLink!F1962","v":"RCS4-TA4C(SB)-60-10-垂直"},{"$f":"AccVelDataLink!G1962","v":3},"○","終端",null,1,3000,1959,1958,-1,"RCS4-TA4C(SB)-60-10-垂直",3,null,"○"]
[1960,0,3000,{"$f":"AccVelDataLink!A1963","v":1960},-1,1961,{"$f":"AccVelDataLink!F1963","v":"RCS4-TA4C(SB)-60-16-水平"},{"$f":"AccVelDataLink!G1963","v":3},"先頭","○",null,0,3000,1960,-1,1961,"RCS4-TA4C(SB)-60-16-水平",3,null,"○"]
[1961,0,4000,{"$f":"AccVelDataLink!A1964","v":1961},{"$f":"A1963","v":1960},1962,{"$f":"AccVelDataLink!F1964","v":"RCS4-TA4C(SB)-60-16-水平"},{"$f":"AccVelDataLink!G1964","v":4},"○","○",null,0,4000,1961,1960,1962,"RCS4-TA4C(SB)-60-16-水平",4,null,"○"]
[1962,1,1500,{"$f":"AccVelDataLink!A1965","v":1962},{"$f":"A1964","v":1961},-1,{"$f":"AccVelDataLink!F1965","v":"RCS4-TA4C(SB)-60-16-垂直"},{"$f":"AccVelDataLink!G1965","v":1.5},"○","終端",null,1,1500,1962,1961,-1,"RCS4-TA4C(SB)-60-16-垂直",1.5,null,"○"]
[1963,0,10000,{"$f":"AccVelDataLink!A1966","v":1963},-1,{"$f":"A1967","v":1964},{"$f":"AccVelDataLink!F1966","v":"RCS4-TA6C(SB)-100-3-水平"},{"$f":"AccVelDataLink!G1966","v":10},"先頭","○",null,0,10000,1963,-1,1964,"RCS4-TA6C(SB)-100-3-水平",10,null,"○"]
[1964,1,12000,{"$f":"AccVelDataLink!A1967","v":1964},1963,-1,{"$f":"AccVelDataLink!F1967","v":"RCS4-TA6C(SB)-100-3-垂直"},{"$f":"AccVelDataLink!G1967","v":12},"○","終端",null,1,12000,1964,1963,-1,"RCS4-TA6C(SB)-100-3-垂直",12,null,"○"]
[1965,0,8000,{"$f":"AccVelDataLink!A1968","v":1965},-1,1966,{"$f":"AccVelDataLink!F1968","v":"RCS4-TA6C(SB)-100-6-水平"},{"$f":"AccVelDataLink!G1968","v":8},"先頭","○",null,0,8000,1965,-1,1966,"RCS4-TA6C(SB)-100-6-水平",8,null,"○"]
[1966,1,10000,{"$f":"AccVelDataLink!A1969","v":1966},1965,-1,{"$f":"AccVelDataLink!F1969","v":"RCS4-TA6C(SB)-100-6-垂直"},{"$f":"AccVelDataLink!G1969","v":10},"○","終端",null,1,10000,1966,1965,-1,"RCS4-TA6C(SB)-100-6-垂直",10,null,"○"]
[1967,0,8000,{"$f":"AccVelDataLink!A1970","v":1967},-1,1968,{"$f":"AccVelDataLink!F1970","v":"RCS4-TA6C(SB)-100-12-水平"},{"$f":"AccVelDataLink!G1970","v":8},"先頭","○",null,0,8000,1967,-1,1968,"RCS4-TA6C(SB)-100-12-水平",8,null,"○"]
[1968,1,6000,{"$f":"AccVelDataLink!A1971","v":1968},1967,-1,{"$f":"AccVelDataLink!F1971","v":"RCS4-TA6C(SB)-100-12-垂直"},{"$f":"AccVelDataLink!G1971","v":6},"○","終端",null,1,6000,1968,1967,-1,"RCS4-TA6C(SB)-100-12-垂直",6,null,"○"]
[1969,0,4000,{"$f":"AccVelDataLink!A1972","v":1969},-1,1970,{"$f":"AccVelDataLink!F1972","v":"RCS4-TA6C(SB)-100-20-水平"},{"$f":"AccVelDataLink!G1972","v":4},"先頭","○",null,0,4000,1969,-1,1970,"RCS4-TA6C(SB)-100-20-水平",4,null,"○"]
[1970,0,6000,{"$f":"AccVelDataLink!A1973","v":1970},1969,1971,null,{"$f":"AccVelDataLink!G1973","v":6},"○","○",null,0,6000,1970,1969,1971,"RCS4-TA6C(SB)-100-20-水平",6,null,"○"]
[1971,0,8000,{"$f":"AccVelDataLink!A1974","v":1971},1970,1972,null,{"$f":"AccVelDataLink!G1974","v":8},"○","○",null,0,8000,1971,1970,1972,"RCS4-TA6C(SB)-100-20-水平",8,null,"○"]
[1972,1,2000,{"$f":"AccVelDataLink!A1975","v":1972},1971,1973,{"$f":"AccVelDataLink!F1975","v":"RCS4-TA6C(SB)-100-20-垂直"},{"$f":"AccVelDataLink!G1975","v":2},"○","○",null,1,2000,1972,1971,1973,"RCS4-TA6C(SB)-100-20-垂直",2,null,"○"]
[1973,1,{"$f":"H1976*$H$1","v":3000},{"$f":"AccVelDataLink!A1976","v":1973},{"$f":"A1975","v":1972},{"$f":"A1977","v":1974},null,{"$f":"AccVelDataLink!G1976","v":3},"○","○",null,1,3000,1973,1972,1974,"RCS4-TA6C(SB)-100-20-垂直",3,null,"○"]
[{"$f":"A1976+1","v":1974},1,4000,{"$f":"AccVelDataLink!A1977","v":1974},1973,-1,null,{"$f":"AccVelDataLink!G1977","v":4},"○","終端",null,1,4000,1974,1973,-1,"RCS4-TA6C(SB)-100-20-垂直",4,null,"○"]
[1975,0,15000,{"$f":"AccVelDataLink!A1978","v":1975},-1,1976,{"$f":"AccVelDataLink!F1978","v":"RCS4-TA7C(SB)-200-4-水平"},{"$f":"AccVelDataLink!G1978","v":15},"先頭","○",null,0,15000,1975,-1,1976,"RCS4-TA7C(SB)-200-4-水平",15,null,"○"]
[1976,1,20000,{"$f":"AccVelDataLink!A1979","v":1976},1975,-1,{"$f":"AccVelDataLink!F1979","v":"RCS4-TA7C(SB)-200-4-垂直"},{"$f":"AccVelDataLink!G1979","v":20},"○","終端",null,1,20000,1976,1975,-1,"RCS4-TA7C(SB)-200-4-垂直",20,null,"○"]
[1977,0,15000,{"$f":"AccVelDataLink!A1980","v":1977},-1,1978,{"$f":"AccVelDataLink!F1980","v":"RCS4-TA7C(SB)-200-8-水平"},{"$f":"AccVelDataLink!G1980","v":15},"先頭","○",null,0,15000,1977,-1,1978,"RCS4-TA7C(SB)-200-8-水平",15,null,"○"]
[1978,1,18000,{"$f":"AccVelDataLink!A1981","v":1978},1977,-1,{"$f":"AccVelDataLink!F1981","v":"RCS4-TA7C(SB)-200-8-垂直"},{"$f":"AccVelDataLink!G1981","v":18},"○","終端",null,1,18000,1978,1977,-1,"RCS4-TA7C(SB)-200-8-垂直",18,null,"○"]
[1979,0,15000,{"$f":"AccVelDataLink!A1982","v":1979},-1,1980,{"$f":"AccVelDataLink!F1982","v":"RCS4-TA7C(SB)-200-16-水平"},{"$f":"AccVelDataLink!G1982","v":15},"先頭","○",null,0,15000,1979,-1,1980,"RCS4-TA7C(SB)-200-16-水平",15,null,"○"]
[1980,1,6000,{"$f":"AccVelDataLink!A1983","v":1980},1979,1981,{"$f":"AccVelDataLink!F1983","v":"RCS4-TA7C(SB)-200-16-垂直"},{"$f":"AccVelDataLink!G1983","v":6},"○","○",null,1,6000,1980,1979,1981,"RCS4-TA7C(SB)-200-16-垂直",6,null,"○"]
[1981,1,8000,{"$f":"AccVelDataLink!A1984","v":1981},1980,1982,null,{"$f":"AccVelDataLink!G1984","v":8},"○","○",null,1,8000,1981,1980,1982,"RCS4-TA7C(SB)-200-16-垂直",8,null,"○"]
[1982,1,10000,{"$f":"AccVelDataLink!A1985","v":1982},1981,-1,null,{"$f":"AccVelDataLink!G1985","v":10},"○","終端",null,1,10000,1982,1981,-1,"RCS4-TA7C(SB)-200-16-垂直",10,null,"○"]
[1983,0,8000,{"$f":"AccVelDataLink!A1986","v":1983},-1,1984,{"$f":"AccVelDataLink!F1986","v":"RCS4-TA7C(SB)-200-24-水平"},{"$f":"AccVelDataLink!G1986","v":8},"先頭","○",null,0,8000,1983,-1,1984,"RCS4-TA7C(SB)-200-24-水平",8,null,"○"]
[1984,0,10000,{"$f":"AccVelDataLink!A1987","v":1984},1983,1985,null,{"$f":"AccVelDataLink!G1987","v":10},"○","○",null,0,10000,1984,1983,1985,"RCS4-TA7C(SB)-200-24-水平",10,null,"○"]
[1985,0,{"$f":"H1988*$H$1","v":12000},{"$f":"AccVelDataLink!A1988","v":1985},{"$f":"A1987","v":1984},{"$f":"A1989","v":1986},null,{"$f":"AccVelDataLink!G1988","v":12},{"$f":"IF(E1988=A1987,\"○\",IF(G1988=0,\"つなぎまちがい\",\"先頭\"))","v":"○"},{"$f":"IF(F1988=A1989,\"○\",IF(F1988<>E1989,\"つなぎまちがい\",\"終端\"))","v":"○"},null,0,12000,1985,1984,1986,"RCS4-TA7C(SB)-200-24-水平",12,null,"○"]
[1986,1,3000,{"$f":"AccVelDataLink!A1989","v":1986},{"$f":"A1988","v":1985},{"$f":"A1990","v":1987},{"$f":"AccVelDataLink!F1989","v":"RCS4-TA7C(SB)-200-24-垂直"},{"$f":"AccVelDataLink!G1989","v":3},{"$f":"IF(E1989=A1988,\"○\",IF(G1989=0,\"つなぎまちがい\",\"先頭\"))","v":"○"},{"$f":"IF(F1989=A1990,\"○\",IF(F1989<>E1990,\"つなぎまちがい\",\"終端\"))","v":"○"},null,1,3000,1986,1985,1987,"RCS4-TA7C(SB)-200-24-垂直",3,null,"○"]
[1987,1,4000,{"$f":"AccVelDataLink!A1990","v":1987},{"$f":"A1989","v":1986},{"$f":"A1991","v":1988},null,{"$f":"AccVelDataLink!G1990","v":4},{"$f":"IF(E1990=A1989,\"○\",IF(G1990=0,\"つなぎまちがい\",\"先頭\"))","v":"○"},{"$f":"IF(F1990=A1991,\"○\",IF(F1990<>E1991,\"つなぎまちがい\",\"終端\"))","v":"○"},null,1,4000,1987,1986,1988,"RCS4-TA7C(SB)-200-24-垂直",4,null,"○"]
[1988,1,5000,{"$f":"AccVelDataLink!A1991","v":1988},{"$f":"A1990","v":1987},-1,null,{"$f":"AccVelDataLink!G1991","v":5},{"$f":"IF(E1991=A1990,\"○\",IF(G1991=0,\"つなぎまちがい\",\"先頭\"))","v":"○"},{"$f":"IF(F1991=A1992,\"○\",IF(F1991<>E1992,\"つなぎまちがい\",\"終端\"))","v":"終端"},null,1,5000,1988,1987,-1,"RCS4-TA7C(SB)-200-24-垂直",5,null,"○"]
[1989,0,10000,{"$f":"AccVelDataLink!A1992","v":1989},-1,{"$f":"A1993","v":1990},{"$f":"AccVelDataLink!F1992","v":"RCS4-TA4C(DB)-60-2.5-水平"},{"$f":"AccVelDataLink!G1992","v":10},{"$f":"IF(E1992=A1991,\"○\",IF(G1992=0,\"つなぎまちがい\",\"先頭\"))","v":"先頭"},{"$f":"IF(F1992=A1993,\"○\",IF(F1992<>E1993,\"つなぎまちがい\",\"終端\"))","v":"○"},null,0,10000,1989,-1,1990,"RCS4-TA4C(DB)-60-2.5-水平",10,null,"○"]
[1990,1,9000,{"$f":"AccVelDataLink!A1993","v":1990},{"$f":"A1992","v":1989},-1,{"$f":"AccVelDataLink!F1993","v":"RCS4-TA4C(DB)-60-2.5-垂直"},{"$f":"AccVelDataLink!G1993","v":9},"○","終端",null,1,9000,1990,1989,-1,"RCS4-TA4C(DB)-60-2.5-垂直",9,null,"○"]
[1991,0,{"$f":"H1994*$H$1","v":8000},{"$f":"AccVelDataLink!A1994","v":1991},-1,{"$f":"A1995","v":1992},{"$f":"AccVelDataLink!F1994","v":"RCS4-TA4C(DB)-60-5-水平"},{"$f":"AccVelDataLink!G1994","v":8},"先頭","○",null,0,8000,1991,-1,1992,"RCS4-TA4C(DB)-60-5-水平",8,null,"○"]
[1992,0,10000,{"$f":"AccVelDataLink!A1995","v":1992},{"$f":"A1994","v":1991},1993,null,{"$f":"AccVelDataLink!G1995","v":10},"○","○",null,0,10000,1992,1991,1993,"RCS4-TA4C(DB)-60-5-水平",10,null,"○"]
[1993,1,6000,{"$f":"AccVelDataLink!A1996","v":1993},1992,-1,{"$f":"AccVelDataLink!F1996","v":"RCS4-TA4C(DB)-60-5-垂直"},{"$f":"AccVelDataLink!G1996","v":6},"○","終端",null,1,6000,1993,1992,-1,"RCS4-TA4C(DB)-60-5-垂直",6,null,"○"]
[1994,0,4000,{"$f":"AccVelDataLink!A1997","v":1994},-1,1995,{"$f":"AccVelDataLink!F1997","v":"RCS4-TA4C(DB)-60-10-水平"},{"$f":"AccVelDataLink!G1997","v":4},"先頭","○",null,0,4000,1994,-1,1995,"RCS4-TA4C(DB)-60-10-水平",4,null,"○"]
[1995,0,6000,{"$f":"AccVelDataLink!A1998","v":1995},1994,1996,null,{"$f":"AccVelDataLink!G1998","v":6},"○","○",null,0,6000,1995,1994,1996,"RCS4-TA4C(DB)-60-10-水平",6,null,"○"]
[1996,0,8000,{"$f":"AccVelDataLink!A1999","v":1996},1995,1997,null,{"$f":"AccVelDataLink!G1999","v":8},"○","○",null,0,8000,1996,1995,1997,"RCS4-TA4C(DB)-60-10-水平",8,null,"○"]
[1997,1,3000,{"$f":"AccVelDataLink!A2000","v":1997},1996,-1,{"$f":"AccVelDataLink!F2000","v":"RCS4-TA4C(DB)-60-10-垂直"},{"$f":"AccVelDataLink!G2000","v":3},"○","終端",null,1,3000,1997,1996,-1,"RCS4-TA4C(DB)-60-10-垂直",3,null,"○"]
[1998,0,20000,{"$f":"AccVelDataLink!A2001","v":1998},-1,1999,{"$f":"AccVelDataLink!F2001","v":"RCS4-TA6C(DB)-100-3-水平"},{"$f":"AccVelDataLink!G2001","v":20},"先頭","○",null,0,20000,1998,-1,1999,"RCS4-TA6C(DB)-100-3-水平",20,null,"○"]
[1999,1,12000,{"$f":"AccVelDataLink!A2002","v":1999},1998,-1,{"$f":"AccVelDataLink!F2002","v":"RCS4-TA6C(DB)-100-3-垂直"},{"$f":"AccVelDataLink!G2002","v":12},"○","終端",null,1,12000,1999,1998,-1,"RCS4-TA6C(DB)-100-3-垂直",12,null,"○"]
[2000,0,20000,{"$f":"AccVelDataLink!A2003","v":2000},-1,2001,{"$f":"AccVelDataLink!F2003","v":"RCS4-TA6C(DB)-100-6-水平"},{"$f":"AccVelDataLink!G2003","v":20},"先頭","○",null,0,20000,2000,-1,2001,"RCS4-TA6C(DB)-100-6-水平",20,null,"○"]
[2001,1,10000,{"$f":"AccVelDataLink!A2004","v":2001},2000,-1,{"$f":"AccVelDataLink!F2004","v":"RCS4-TA6C(DB)-100-6-垂直"},{"$f":"AccVelDataLink!G2004","v":10},"○","終端",null,1,10000,2001,2000,-1,"RCS4-TA6C(DB)-100-6-垂直",10,null,"○"]
[2002,0,12000,{"$f":"AccVelDataLink!A2005","v":2002},-1,2003,{"$f":"AccVelDataLink!F2005","v":"RCS4-TA6C(DB)-100-12-水平"},{"$f":"AccVelDataLink!G2005","v":12},"先頭","○",null,0,12000,2002,-1,2003,"RCS4-TA6C(DB)-100-12-水平",12,null,"○"]
[2003,0,14000,{"$f":"AccVelDataLink!A2006","v":2003},2002,2004,null,{"$f":"AccVelDataLink!G2006","v":14},"○","○",null,0,14000,2003,2002,2004,"RCS4-TA6C(DB)-100-12-水平",14,null,"○"]
[2004,1,6000,{"$f":"AccVelDataLink!A2007","v":2004},2003,-1,{"$f":"AccVelDataLink!F2007","v":"RCS4-TA6C(DB)-100-12-垂直"},{"$f":"AccVelDataLink!G2007","v":6},"○","終端",null,1,6000,2004,2003,-1,"RCS4-TA6C(DB)-100-12-垂直",6,null,"○"]
[2005,0,{"$f":"H2008*$H$1","v":30000},{"$f":"AccVelDataLink!A2008","v":2005},-1,{"$f":"A2009","v":2006},{"$f":"AccVelDataLink!F2008","v":"RCS4-TA7C(DB)-200-4-水平"},{"$f":"AccVelDataLink!G2008","v":30},{"$f":"IF(E2008=A2007,\"○\",IF(G2008=0,\"つなぎまちがい\",\"先頭\"))","v":"先頭"},{"$f":"IF(F2008=A2009,\"○\",IF(F2008<>E2009,\"つなぎまちがい\",\"終端\"))","v":"○"},null,0,30000,2005,-1,2006,"RCS4-TA7C(DB)-200-4-水平",30,null,"○"]
[2006,1,24000,{"$f":"AccVelDataLink!A2009","v":2006},{"$f":"A2008","v":2005},-1,{"$f":"AccVelDataLink!F2009","v":"RCS4-TA7C(DB)-200-4-垂直"},{"$f":"AccVelDataLink!G2009","v":24},"○","終端",null,1,24000,2006,2005,-1,"RCS4-TA7C(DB)-200-4-垂直",24,null,"○"]
[2007,0,25000,{"$f":"AccVelDataLink!A2010","v":2007},-1,2008,{"$f":"AccVelDataLink!F2010","v":"RCS4-TA7C(DB)-200-8-水平"},{"$f":"AccVelDataLink!G2010","v":25},"先頭","○",null,0,25000,2007,-1,2008,"RCS4-TA7C(DB)-200-8-水平",25,null,"○"]
[2008,0,30000,{"$f":"AccVelDataLink!A2011","v":2008},2007,2009,null,{"$f":"AccVelDataLink!G2011","v":30},"○","○",null,0,30000,2008,2007,2009,"RCS4-TA7C(DB)-200-8-水平",30,null,"○"]
[2009,1,18000,{"$f":"AccVelDataLink!A2012","v":2009},2008,-1,{"$f":"AccVelDataLink!F2012","v":"RCS4-TA7C(DB)-200-8-垂直"},{"$f":"AccVelDataLink!G2012","v":18},"○","終端",null,1,18000,2009,2008,-1,"RCS4-TA7C(DB)-200-8-垂直",18,null,"○"]
[2010,0,15000,{"$f":"AccVelDataLink!A2013","v":2010},-1,2011,{"$f":"AccVelDataLink!F2013","v":"RCS4-TA7C(DB)-200-16-水平"},{"$f":"AccVelDataLink!G2013","v":15},"先頭","○",null,0,15000,2010,-1,2011,"RCS4-TA7C(DB)-200-16-水平",15,null,"○"]
[2011,0,20000,{"$f":"AccVelDataLink!A2014","v":2011},2010,2012,null,{"$f":"AccVelDataLink!G2014","v":20},"○","○",null,0,20000,2011,2010,2012,"RCS4-TA7C(DB)-200-16-水平",20,null,"○"]
[2012,0,25000,{"$f":"AccVelDataLink!A2015","v":2012},2011,2013,null,{"$f":"AccVelDataLink!G2015","v":25},"○","○",null,0,25000,2012,2011,2013,"RCS4-TA7C(DB)-200-16-水平",25,null,"○"]
[2013,1,6000,{"$f":"AccVelDataLink!A2016","v":2013},2012,2014,{"$f":"AccVelDataLink!F2016","v":"RCS4-TA7C(DB)-200-16-垂直"},{"$f":"AccVelDataLink!G2016","v":6},"○","○",null,1,6000,2013,2012,2014,"RCS4-TA7C(DB)-200-16-垂直",6,null,"○"]
[2014,1,8000,{"$f":"AccVelDataLink!A2017","v":2014},2013,-1,null,{"$f":"AccVelDataLink!G2017","v":8},"○","終端",null,1,8000,2014,2013,-1,"RCS4-TA7C(DB)-200-16-垂直",8,null,"○"]
[2015,0,35000,{"$f":"AccVelDataLink!A2018","v":2015},-1,2016,{"$f":"AccVelDataLink!F2018","v":"RCS4-RRA4C-60-2.5-水平"},{"$f":"AccVelDataLink!G2018","v":35},"先頭","○",null,0,35000,2015,-1,2016,"RCS4-RRA4C-60-2.5-水平",35,null,"○"]
[2016,0,40000,{"$f":"AccVelDataLink!A2019","v":2016},2015,2017,{"$f":"AccVelDataLink!F2019","v":"RCS4-RRA4C-60-2.5-水平"},{"$f":"AccVelDataLink!G2019","v":40},"○","○",null,0,40000,2016,2015,2017,"RCS4-RRA4C-60-2.5-水平",40,null,"○"]
[2017,1,10000,{"$f":"AccVelDataLink!A2020","v":2017},2016,-1,{"$f":"AccVelDataLink!F2020","v":"RCS4-RRA4C-60-2.5-垂直"},{"$f":"AccVelDataLink!G2020","v":10},"○","終端",null,1,10000,2017,2016,-1,"RCS4-RRA4C-60-2.5-垂直",10,null,"○"]
[2018,0,20000,{"$f":"AccVelDataLink!A2021","v":2018},-1,2019,{"$f":"AccVelDataLink!F2021","v":"RCS4-RRA4C-60-5-水平"},{"$f":"AccVelDataLink!G2021","v":20},"先頭","○",null,0,20000,2018,-1,2019,"RCS4-RRA4C-60-5-水平",20,null,"○"]
[2019,0,25000,{"$f":"AccVelDataLink!A2022","v":2019},2018,2020,null,{"$f":"AccVelDataLink!G2022","v":25},"○","○",null,0,25000,2019,2018,2020,"RCS4-RRA4C-60-5-水平",25,null,{"$f":"IF(AND(L2022=B2022, M2022=C2022, N2022=D2022, O2022=E2022, P2022=F2022, R2022=H2022), \"○\", \"●\")","v":"○"}]
[2020,0,{"$f":"H2023*$H$1","v":30000},{"$f":"AccVelDataLink!A2023","v":2020},{"$f":"A2022","v":2019},{"$f":"A2024","v":2021},null,{"$f":"AccVelDataLink!G2023","v":30},"○","○",null,0,30000,2020,2019,2021,"RCS4-RRA4C-60-5-水平",30,null,"○"]
[2021,1,6000,{"$f":"AccVelDataLink!A2024","v":2021},2020,-1,{"$f":"AccVelDataLink!F2024","v":"RCS4-RRA4C-60-5-垂直"},{"$f":"AccVelDataLink!G2024","v":6},"○","終端",null,1,6000,2021,2020,-1,"RCS4-RRA4C-60-5-垂直",6,null,"○"]
[2022,0,8000,{"$f":"AccVelDataLink!A2025","v":2022},-1,2023,{"$f":"AccVelDataLink!F2025","v":"RCS4-RRA4C-60-10-水平"},{"$f":"AccVelDataLink!G2025","v":8},"先頭","○",null,0,8000,2022,-1,2023,"RCS4-RRA4C-60-10-水平",8,null,"○"]
[2023,0,12000,{"$f":"AccVelDataLink!A2026","v":2023},2022,2024,null,{"$f":"AccVelDataLink!G2026","v":12},"○","○",null,0,12000,2023,2022,2024,"RCS4-RRA4C-60-10-水平",12,null,"○"]
[2024,0,15000,{"$f":"AccVelDataLink!A2027","v":2024},2023,2025,null,{"$f":"AccVelDataLink!G2027","v":15},{"$f":"IF(E2027=A2026,\"○\",IF(G2027=0,\"つなぎまちがい\",\"先頭\"))","v":"○"},{"$f":"IF(F2027=A2028,\"○\",IF(F2027<>E2028,\"つなぎまちがい\",\"終端\"))","v":"○"},null,0,15000,2024,2023,2025,"RCS4-RRA4C-60-10-水平",15,null,"○"]
[2025,0,18000,{"$f":"AccVelDataLink!A2028","v":2025},2024,2026,null,{"$f":"AccVelDataLink!G2028","v":18},"○","○",null,0,18000,2025,2024,2026,"RCS4-RRA4C-60-10-水平",18,null,"○"]
[2026,1,3000,{"$f":"AccVelDataLink!A2029","v":2026},2025,2027,{"$f":"AccVelDataLink!F2029","v":"RCS4-RRA4C-60-10-垂直"},{"$f":"AccVelDataLink!G2029","v":3},"○","○",null,1,3000,2026,2025,2027,"RCS4-RRA4C-60-10-垂直",3,null,"○"]
[2027,1,4000,{"$f":"AccVelDataLink!A2030","v":2027},2026,-1,null,{"$f":"AccVelDataLink!G2030","v":4},"○","終端",null,1,4000,2027,2026,-1,"RCS4-RRA4C-60-10-垂直",4,null,"○"]
[2028,0,4000,{"$f":"AccVelDataLink!A2031","v":2028},-1,2029,{"$f":"AccVelDataLink!F2031","v":"RCS4-RRA4C-60-16-水平"},{"$f":"AccVelDataLink!G2031","v":4},"先頭","○",null,0,4000,2028,-1,2029,"RCS4-RRA4C-60-16-水平",4,null,"○"]
[2029,0,5000,{"$f":"AccVelDataLink!A2032","v":2029},2028,2030,null,{"$f":"AccVelDataLink!G2032","v":5},"○","○",null,0,5000,2029,2028,2030,"RCS4-RRA4C-60-16-水平",5,null,"○"]
[2030,0,6000,{"$f":"AccVelDataLink!A2033","v":2030},2029,2031,null,{"$f":"AccVelDataLink!G2033","v":6},"○","○",null,0,6000,2030,2029,2031,"RCS4-RRA4C-60-16-水平",6,null,"○"]
[2031,0,8000,{"$f":"AccVelDataLink!A2034","v":2031},2030,2032,null,{"$f":"AccVelDataLink!G2034","v":8},"○","○",null,0,8000,2031,2030,2032,"RCS4-RRA4C-60-16-水平",8,null,"○"]
[2032,1,1000,{"$f":"AccVelDataLink!A2035","v":2032},2031,2033,{"$f":"AccVelDataLink!F2035","v":"RCS4-RRA4C-60-16-垂直"},{"$f":"AccVelDataLink!G2035","v":1},"○","○",null,1,1000,2032,2031,2033,"RCS4-RRA4C-60-16-垂直",1,null,"○"]
[2033,1,2000,{"$f":"AccVelDataLink!A2036","v":2033},2032,-1,null,{"$f":"AccVelDataLink!G2036","v":2},"○","終端",null,1,2000,2033,2032,-1,"RCS4-RRA4C-60-16-垂直",2,null,"○"]
[2034,0,40000,{"$f":"AccVelDataLink!A2037","v":2034},-1,2035,{"$f":"AccVelDataLink!F2037","v":"RCS4-RRA6C-100-3-水平"},{"$f":"AccVelDataLink!G2037","v":40},"先頭","○",null,0,40000,2034,-1,2035,"RCS4-RRA6C-100-3-水平",40,null,"○"]
[2035,0,50000,{"$f":"AccVelDataLink!A2038","v":2035},2034,2036,null,{"$f":"AccVelDataLink!G2038","v":50},"○","○",null,0,50000,2035,2034,2036,"RCS4-RRA6C-100-3-水平",50,null,"○"]
[2036,0,60000,{"$f":"AccVelDataLink!A2039","v":2036},2035,2037,null,{"$f":"AccVelDataLink!G2039","v":60},"○","○",null,0,60000,2036,2035,2037,"RCS4-RRA6C-100-3-水平",60,null,"○"]
[2037,1,20000,{"$f":"AccVelDataLink!A2040","v":2037},2036,-1,{"$f":"AccVelDataLink!F2040","v":"RCS4-RRA6C-100-3-垂直"},{"$f":"AccVelDataLink!G2040","v":20},"○","終端",null,1,20000,2037,2036,-1,"RCS4-RRA6C-100-3-垂直",20,null,"○"]
[{"$f":"A2040+1","v":2038},0,25000,{"$f":"AccVelDataLink!A2041","v":2038},-1,2039,{"$f":"AccVelDataLink!F2041","v":"RCS4-RRA6C-100-6-水平"},{"$f":"AccVelDataLink!G2041","v":25},"先頭","○",null,0,25000,2038,-1,2039,"RCS4-RRA6C-100-6-水平",25,null,"○"]
[2039,0,30000,{"$f":"AccVelDataLink!A2042","v":2039},2038,2040,null,{"$f":"AccVelDataLink!G2042","v":30},"○","○",null,0,30000,2039,2038,2040,"RCS4-RRA6C-100-6-水平",30,null,"○"]
[2040,0,45000,{"$f":"AccVelDataLink!A2043","v":2040},2039,2041,null,{"$f":"AccVelDataLink!G2043","v":45},"○","○",null,0,45000,2040,2039,2041,"RCS4-RRA6C-100-6-水平",45,null,"○"]
[2041,0,50000,{"$f":"AccVelDataLink!A2044","v":2041},2040,2042,null,{"$f":"AccVelDataLink!G2044","v":50},"○","○",null,0,50000,2041,2040,2042,"RCS4-RRA6C-100-6-水平",50,null,"○"]
[2042,1,12000,{"$f":"AccVelDataLink!A2045","v":2042},2041,2043,{"$f":"AccVelDataLink!F2045","v":"RCS4-RRA6C-100-6-垂直"},{"$f":"AccVelDataLink!G2045","v":12},"○","○",null,1,12000,2042,2041,2043,"RCS4-RRA6C-100-6-垂直",12,null,"○"]
[2043,1,15000,{"$f":"AccVelDataLink!A2046","v":2043},2042,2044,null,{"$f":"AccVelDataLink!G2046","v":15},"○","○",null,1,15000,2043,2042,2044,"RCS4-RRA6C-100-6-垂直",15,null,"○"]
[2044,1,20000,{"$f":"AccVelDataLink!A2047","v":2044},2043,-1,null,{"$f":"AccVelDataLink!G2047","v":20},"○","終端",null,1,20000,2044,2043,-1,"RCS4-RRA6C-100-6-垂直",20,null,"○"]
[2045,0,12000,{"$f":"AccVelDataLink!A2048","v":2045},-1,2046,{"$f":"AccVelDataLink!F2048","v":"RCS4-RRA6C-100-12-水平"},{"$f":"AccVelDataLink!G2048","v":12},"先頭","○",null,0,12000,2045,-1,2046,"RCS4-RRA6C-100-12-水平",12,null,"○"]
[2046,0,20000,{"$f":"AccVelDataLink!A2049","v":2046},2045,2047,null,{"$f":"AccVelDataLink!G2049","v":20},"○","○",null,0,20000,2046,2045,2047,"RCS4-RRA6C-100-12-水平",20,null,"○"]
[2047,0,25000,{"$f":"AccVelDataLink!A2050","v":2047},2046,2048,null,{"$f":"AccVelDataLink!G2050","v":25},"○","○",null,0,25000,2047,2046,2048,"RCS4-RRA6C-100-12-水平",25,null,"○"]
[2048,1,6000,{"$f":"AccVelDataLink!A2051","v":2048},2047,2049,{"$f":"AccVelDataLink!F2051","v":"RCS4-RRA6C-100-12-垂直"},{"$f":"AccVelDataLink!G2051","v":6},"○","○",null,1,6000,2048,2047,2049,"RCS4-RRA6C-100-12-垂直",6,null,"○"]
[2049,1,8000,{"$f":"AccVelDataLink!A2052","v":2049},2048,2050,null,{"$f":"AccVelDataLink!G2052","v":8},"○","○",null,1,8000,2049,2048,2050,"RCS4-RRA6C-100-12-垂直",8,null,"○"]
[2050,1,10000,{"$f":"AccVelDataLink!A2053","v":2050},2049,-1,null,{"$f":"AccVelDataLink!G2053","v":10},"○","終端",null,1,10000,2050,2049,-1,"RCS4-RRA6C-100-12-垂直",10,null,"○"]
[2051,0,4000,{"$f":"AccVelDataLink!A2054","v":2051},-1,2052,{"$f":"AccVelDataLink!F2054","v":"RCS4-RRA6C-100-20-水平"},{"$f":"AccVelDataLink!G2054","v":4},"先頭","○",null,0,4000,2051,-1,2052,"RCS4-RRA6C-100-20-水平",4,null,"○"]
[2052,0,6000,{"$f":"AccVelDataLink!A2055","v":2052},2051,2053,null,{"$f":"AccVelDataLink!G2055","v":6},"○","○",null,0,6000,2052,2051,2053,"RCS4-RRA6C-100-20-水平",6,null,"○"]
[2053,0,8000,{"$f":"AccVelDataLink!A2056","v":2053},2052,2054,null,{"$f":"AccVelDataLink!G2056","v":8},"○","○",null,0,8000,2053,2052,2054,"RCS4-RRA6C-100-20-水平",8,null,"○"]
[2054,0,10000,{"$f":"AccVelDataLink!A2057","v":2054},2053,2055,null,{"$f":"AccVelDataLink!G2057","v":10},"○","○",null,0,10000,2054,2053,2055,"RCS4-RRA6C-100-20-水平",10,null,"○"]
[2055,0,15000,{"$f":"AccVelDataLink!A2058","v":2055},2054,2056,null,{"$f":"AccVelDataLink!G2058","v":15},"○","○",null,0,15000,2055,2054,2056,"RCS4-RRA6C-100-20-水平",15,null,"○"]
[2056,1,2000,{"$f":"AccVelDataLink!A2059","v":2056},2055,2057,{"$f":"AccVelDataLink!F2059","v":"RCS4-RRA6C-100-20-垂直"},{"$f":"AccVelDataLink!G2059","v":2},"○","○",null,1,2000,2056,2055,2057,"RCS4-RRA6C-100-20-垂直",2,null,"○"]
[2057,1,3000,{"$f":"AccVelDataLink!A2060","v":2057},2056,2058,null,{"$f":"AccVelDataLink!G2060","v":3},"○","○",null,1,3000,2057,2056,2058,"RCS4-RRA6C-100-20-垂直",3,null,"○"]
[2058,1,4000,{"$f":"AccVelDataLink!A2061","v":2058},2057,-1,null,{"$f":"AccVelDataLink!G2061","v":4},"○","終端",null,1,4000,2058,2057,-1,"RCS4-RRA6C-100-20-垂直",4,null,"○"]
[2059,0,60000,{"$f":"AccVelDataLink!A2062","v":2059},-1,2060,{"$f":"AccVelDataLink!F2062","v":"RCS4-RRA7C-200-4-水平"},{"$f":"AccVelDataLink!G2062","v":60},{"$f":"IF(E2062=A2061,\"○\",IF(G2062=0,\"つなぎまちがい\",\"先頭\"))","v":"先頭"},{"$f":"IF(F2062=A2063,\"○\",IF(F2062<>E2063,\"つなぎまちがい\",\"終端\"))","v":"○"},null,0,60000,2059,-1,2060,"RCS4-RRA7C-200-4-水平",60,null,"○"]
[2060,0,70000,{"$f":"AccVelDataLink!A2063","v":2060},2059,2061,null,{"$f":"AccVelDataLink!G2063","v":70},"○","○",null,0,70000,2060,2059,2061,"RCS4-RRA7C-200-4-水平",70,null,"○"]
[2061,0,80000,{"$f":"AccVelDataLink!A2064","v":2061},2060,2062,null,{"$f":"AccVelDataLink!G2064","v":80},"○","○",null,0,80000,2061,2060,2062,"RCS4-RRA7C-200-4-水平",80,null,"○"]
[2062,1,30000,{"$f":"AccVelDataLink!A2065","v":2062},2061,2063,{"$f":"AccVelDataLink!F2065","v":"RCS4-RRA7C-200-4-垂直"},{"$f":"AccVelDataLink!G2065","v":30},"○","○",null,1,30000,2062,2061,2063,"RCS4-RRA7C-200-4-垂直",30,null,"○"]
[2063,1,35000,{"$f":"AccVelDataLink!A2066","v":2063},2062,-1,null,{"$f":"AccVelDataLink!G2066","v":35},"○","終端",null,1,35000,2063,2062,-1,"RCS4-RRA7C-200-4-垂直",35,null,"○"]
[2064,0,40000,{"$f":"AccVelDataLink!A2067","v":2064},-1,2065,{"$f":"AccVelDataLink!F2067","v":"RCS4-RRA7C-200-8-水平"},{"$f":"AccVelDataLink!G2067","v":40},"先頭","○",null,0,40000,2064,-1,2065,"RCS4-RRA7C-200-8-水平",40,null,"○"]
[2065,0,50000,{"$f":"AccVelDataLink!A2068","v":2065},2064,2066,null,{"$f":"AccVelDataLink!G2068","v":50},"○","○",null,0,50000,2065,2064,2066,"RCS4-RRA7C-200-8-水平",50,null,"○"]
[2066,0,60000,{"$f":"AccVelDataLink!A2069","v":2066},2065,2067,null,{"$f":"AccVelDataLink!G2069","v":60},"○","○",null,0,60000,2066,2065,2067,"RCS4-RRA7C-200-8-水平",60,null,"○"]
[2067,1,20000,{"$f":"AccVelDataLink!A2070","v":2067},2066,2068,{"$f":"AccVelDataLink!F2070","v":"RCS4-RRA7C-200-8-垂直"},{"$f":"AccVelDataLink!G2070","v":20},"○","○",null,1,20000,2067,2066,2068,"RCS4-RRA7C-200-8-垂直",20,null,"○"]
[2068,1,25000,{"$f":"AccVelDataLink!A2071","v":2068},2067,-1,null,{"$f":"AccVelDataLink!G2071","v":25},"○","終端",null,1,25000,2068,2067,-1,"RCS4-RRA7C-200-8-垂直",25,null,"○"]
[2069,0,15000,{"$f":"AccVelDataLink!A2072","v":2069},-1,2070,{"$f":"AccVelDataLink!F2072","v":"RCS4-RRA7C-200-16-水平"},{"$f":"AccVelDataLink!G2072","v":15},"先頭","○",null,0,15000,2069,-1,2070,"RCS4-RRA7C-200-16-水平",15,null,"○"]
[2070,0,20000,{"$f":"AccVelDataLink!A2073","v":2070},2069,2071,null,{"$f":"AccVelDataLink!G2073","v":20},"○","○",null,0,20000,2070,2069,2071,"RCS4-RRA7C-200-16-水平",20,null,"○"]
[2071,0,25000,{"$f":"AccVelDataLink!A2074","v":2071},2070,2072,null,{"$f":"AccVelDataLink!G2074","v":25},"○","○",null,0,25000,2071,2070,2072,"RCS4-RRA7C-200-16-水平",25,null,"○"]
[2072,0,30000,{"$f":"AccVelDataLink!A2075","v":2072},2071,2073,null,{"$f":"AccVelDataLink!G2075","v":30},"○","○",null,0,30000,2072,2071,2073,"RCS4-RRA7C-200-16-水平",30,null,{"$f":"IF(AND(L2075=B2075, M2075=C2075, N2075=D2075, O2075=E2075, P2075=F2075, R2075=H2075), \"○\", \"●\")","v":"○"}]
[2073,0,45000,{"$f":"AccVelDataLink!A2076","v":2073},2072,2074,null,{"$f":"AccVelDataLink!G2076","v":45},"○","○",null,0,45000,2073,2072,2074,"RCS4-RRA7C-200-16-水平",45,null,"○"]
[2074,1,8000,{"$f":"AccVelDataLink!A2077","v":2074},2073,2075,{"$f":"AccVelDataLink!F2077","v":"RCS4-RRA7C-200-16-垂直"},{"$f":"AccVelDataLink!G2077","v":8},"○","○",null,1,8000,2074,2073,2075,"RCS4-RRA7C-200-16-垂直",8,null,"○"]
[2075,1,10000,{"$f":"AccVelDataLink!A2078","v":2075},2074,2076,null,{"$f":"AccVelDataLink!G2078","v":10},"○","○",null,1,10000,2075,2074,2076,"RCS4-RRA7C-200-16-垂直",10,null,"○"]
[2076,1,12000,{"$f":"AccVelDataLink!A2079","v":2076},2075,-1,null,{"$f":"AccVelDataLink!G2079","v":12},"○","終端",null,1,12000,2076,2075,-1,"RCS4-RRA7C-200-16-垂直",12,null,"○"]
[2077,0,8000,{"$f":"AccVelDataLink!A2080","v":2077},-1,2078,{"$f":"AccVelDataLink!F2080","v":"RCS4-RRA7C-200-24-水平"},{"$f":"AccVelDataLink!G2080","v":8},"先頭","○",null,0,8000,2077,-1,2078,"RCS4-RRA7C-200-24-水平",8,null,"○"]
[2078,0,10000,{"$f":"AccVelDataLink!A2081","v":2078},2077,2079,null,{"$f":"AccVelDataLink!G2081","v":10},"○","○",null,0,10000,2078,2077,2079,"RCS4-RRA7C-200-24-水平",10,null,"○"]
[2079,0,15000,{"$f":"AccVelDataLink!A2082","v":2079},2078,2080,null,{"$f":"AccVelDataLink!G2082","v":15},"○","○",null,0,15000,2079,2078,2080,"RCS4-RRA7C-200-24-水平",15,null,"○"]
[2080,0,20000,{"$f":"AccVelDataLink!A2083","v":2080},2079,2081,null,{"$f":"AccVelDataLink!G2083","v":20},"○","○",null,0,20000,2080,2079,2081,"RCS4-RRA7C-200-24-水平",20,null,"○"]
[2081,1,4000,{"$f":"AccVelDataLink!A2084","v":2081},2080,2082,{"$f":"AccVelDataLink!F2084","v":"RCS4-RRA7C-200-24-垂直"},{"$f":"AccVelDataLink!G2084","v":4},"○","○",null,1,4000,2081,2080,2082,"RCS4-RRA7C-200-24-垂直",4,null,"○"]
[2082,1,6000,{"$f":"AccVelDataLink!A2085","v":2082},2081,-1,null,{"$f":"AccVelDataLink!G2085","v":6},"○","終端",null,1,6000,2082,2081,-1,"RCS4-RRA7C-200-24-垂直",6,null,"○"]
[2083,0,60000,{"$f":"AccVelDataLink!A2086","v":2083},-1,2084,{"$f":"AccVelDataLink!F2086","v":"RCS4-RRA8C-400-5-水平"},{"$f":"AccVelDataLink!G2086","v":60},"先頭","○",null,0,60000,2083,-1,2084,"RCS4-RRA8C-400-5-水平",60,null,{"$f":"IF(AND(L2086=B2086, M2086=C2086, N2086=D2086, O2086=E2086, P2086=F2086, R2086=H2086), \"○\", \"●\")","v":"○"}]
[2084,0,{"$f":"H2087*$H$1","v":80000},{"$f":"AccVelDataLink!A2087","v":2084},{"$f":"A2086","v":2083},{"$f":"A2088","v":2085},null,{"$f":"AccVelDataLink!G2087","v":80},"○","○",null,0,80000,2084,2083,2085,"RCS4-RRA8C-400-5-水平",80,null,"○"]
[2085,0,100000,{"$f":"AccVelDataLink!A2088","v":2085},2084,2086,null,{"$f":"AccVelDataLink!G2088","v":100},"○","○",null,0,100000,2085,2084,2086,"RCS4-RRA8C-400-5-水平",100,null,"○"]
[2086,1,25000,{"$f":"AccVelDataLink!A2089","v":2086},2085,2087,{"$f":"AccVelDataLink!F2089","v":"RCS4-RRA8C-400-5-垂直"},{"$f":"AccVelDataLink!G2089","v":25},"○","○",null,1,25000,2086,2085,2087,"RCS4-RRA8C-400-5-垂直",25,null,"○"]
[2087,1,40000,{"$f":"AccVelDataLink!A2090","v":2087},2086,2088,null,{"$f":"AccVelDataLink!G2090","v":40},"○","○",null,1,40000,2087,2086,2088,"RCS4-RRA8C-400-5-垂直",40,null,"○"]
[2088,1,50000,{"$f":"AccVelDataLink!A2091","v":2088},2087,2089,null,{"$f":"AccVelDataLink!G2091","v":50},"○","○",null,1,50000,2088,2087,2089,"RCS4-RRA8C-400-5-垂直",50,null,"○"]
[2089,1,72000,{"$f":"AccVelDataLink!A2092","v":2089},2088,-1,null,{"$f":"AccVelDataLink!G2092","v":72},"○","終端",null,1,72000,2089,2088,-1,"RCS4-RRA8C-400-5-垂直",72,null,"○"]
[2090,0,60000,{"$f":"AccVelDataLink!A2093","v":2090},-1,2091,{"$f":"AccVelDataLink!F2093","v":"RCS4-RRA8C-400-10-水平"},{"$f":"AccVelDataLink!G2093","v":60},"先頭","○",null,0,60000,2090,-1,2091,"RCS4-RRA8C-400-10-水平",60,null,"○"]
[2091,0,70000,{"$f":"AccVelDataLink!A2094","v":2091},2090,2092,null,{"$f":"AccVelDataLink!G2094","v":70},"○","○",null,0,70000,2091,2090,2092,"RCS4-RRA8C-400-10-水平",70,null,"○"]
[2092,0,80000,{"$f":"AccVelDataLink!A2095","v":2092},2091,2093,null,{"$f":"AccVelDataLink!G2095","v":80},"○","○",null,0,80000,2092,2091,2093,"RCS4-RRA8C-400-10-水平",80,null,"○"]
[2093,1,20000,{"$f":"AccVelDataLink!A2096","v":2093},2092,2094,{"$f":"AccVelDataLink!F2096","v":"RCS4-RRA8C-400-10-垂直"},{"$f":"AccVelDataLink!G2096","v":20},"○","○",null,1,20000,2093,2092,2094,"RCS4-RRA8C-400-10-垂直",20,null,"○"]
[2094,1,30000,{"$f":"AccVelDataLink!A2097","v":2094},2093,2095,null,{"$f":"AccVelDataLink!G2097","v":30},"○","○",null,1,30000,2094,2093,2095,"RCS4-RRA8C-400-10-垂直",30,null,"○"]
[2095,1,40000,{"$f":"AccVelDataLink!A2098","v":2095},2094,-1,null,{"$f":"AccVelDataLink!G2098","v":40},"○","終端",null,1,40000,2095,2094,-1,"RCS4-RRA8C-400-10-垂直",40,null,"○"]
[2096,0,15000,{"$f":"AccVelDataLink!A2099","v":2096},-1,2097,{"$f":"AccVelDataLink!F2099","v":"RCS4-RRA8C-400-20-水平"},{"$f":"AccVelDataLink!G2099","v":15},"先頭","○",null,0,15000,2096,-1,2097,"RCS4-RRA8C-400-20-水平",15,null,"○"]
[2097,0,20000,{"$f":"AccVelDataLink!A2100","v":2097},2096,2098,null,{"$f":"AccVelDataLink!G2100","v":20},"○","○",null,0,20000,2097,2096,2098,"RCS4-RRA8C-400-20-水平",20,null,"○"]
[2098,0,25000,{"$f":"AccVelDataLink!A2101","v":2098},2097,2099,null,{"$f":"AccVelDataLink!G2101","v":25},"○","○",null,0,25000,2098,2097,2099,"RCS4-RRA8C-400-20-水平",25,null,"○"]
[2099,0,40000,{"$f":"AccVelDataLink!A2102","v":2099},2098,2100,null,{"$f":"AccVelDataLink!G2102","v":40},"○","○",null,0,40000,2099,2098,2100,"RCS4-RRA8C-400-20-水平",40,null,"○"]
[2100,0,60000,{"$f":"AccVelDataLink!A2103","v":2100},2099,2101,null,{"$f":"AccVelDataLink!G2103","v":60},"○","○",null,0,60000,2100,2099,2101,"RCS4-RRA8C-400-20-水平",60,null,"○"]
[2101,1,12000,{"$f":"AccVelDataLink!A2104","v":2101},2100,2102,{"$f":"AccVelDataLink!F2104","v":"RCS4-RRA8C-400-20-垂直"},{"$f":"AccVelDataLink!G2104","v":12},"○","○",null,1,12000,2101,2100,2102,"RCS4-RRA8C-400-20-垂直",12,null,"○"]
[{"$f":"A2104+1","v":2102},1,15000,{"$f":"AccVelDataLink!A2105","v":2102},2101,2103,null,{"$f":"AccVelDataLink!G2105","v":15},"○","○",null,1,15000,2102,2101,2103,"RCS4-RRA8C-400-20-垂直",15,null,"○"]
[2103,1,20000,{"$f":"AccVelDataLink!A2106","v":2103},2102,-1,null,{"$f":"AccVelDataLink!G2106","v":20},"○","終端",null,1,20000,2103,2102,-1,"RCS4-RRA8C-400-20-垂直",20,null,"○"]
[2104,0,8000,{"$f":"AccVelDataLink!A2107","v":2104},-1,2105,{"$f":"AccVelDataLink!F2107","v":"RCS4-RRA8C-400-30-水平"},{"$f":"AccVelDataLink!G2107","v":8},"先頭","○",null,0,8000,2104,-1,2105,"RCS4-RRA8C-400-30-水平",8,null,"○"]
[2105,0,10000,{"$f":"AccVelDataLink!A2108","v":2105},2104,2106,null,{"$f":"AccVelDataLink!G2108","v":10},"○","○",null,0,10000,2105,2104,2106,"RCS4-RRA8C-400-30-水平",10,null,"○"]
[2106,0,15000,{"$f":"AccVelDataLink!A2109","v":2106},2105,2107,null,{"$f":"AccVelDataLink!G2109","v":15},{"$f":"IF(E2109=A2108,\"○\",IF(G2109=0,\"つなぎまちがい\",\"先頭\"))","v":"○"},{"$f":"IF(F2109=A2110,\"○\",IF(F2109<>E2110,\"つなぎまちがい\",\"終端\"))","v":"○"},null,0,15000,2106,2105,2107,"RCS4-RRA8C-400-30-水平",15,null,"○"]
[2107,0,20000,{"$f":"AccVelDataLink!A2110","v":2107},2106,2108,null,{"$f":"AccVelDataLink!G2110","v":20},"○","○",null,0,20000,2107,2106,2108,"RCS4-RRA8C-400-30-水平",20,null,"○"]
[2108,0,30000,{"$f":"AccVelDataLink!A2111","v":2108},2107,2109,null,{"$f":"AccVelDataLink!G2111","v":30},"○","○",null,0,30000,2108,2107,2109,"RCS4-RRA8C-400-30-水平",30,null,"○"]
[2109,1,6000,{"$f":"AccVelDataLink!A2112","v":2109},2108,2110,{"$f":"AccVelDataLink!F2112","v":"RCS4-RRA8C-400-30-垂直"},{"$f":"AccVelDataLink!G2112","v":6},"○","○",null,1,6000,2109,2108,2110,"RCS4-RRA8C-400-30-垂直",6,null,"○"]
[2110,1,8000,{"$f":"AccVelDataLink!A2113","v":2110},2109,-1,null,{"$f":"AccVelDataLink!G2113","v":8},"○","終端",null,1,8000,2110,2109,-1,"RCS4-RRA8C-400-30-垂直",8,null,"○"]
[2111,0,25000,{"$f":"AccVelDataLink!A2114","v":2111},-1,2112,{"$f":"AccVelDataLink!F2114","v":"RCS4-WRA10C-60-2.5-水平"},{"$f":"AccVelDataLink!G2114","v":25},"先頭","○",null,0,25000,2111,-1,2112,"RCS4-WRA10C-60-2.5-水平",25,null,"○"]
[2112,0,35000,{"$f":"AccVelDataLink!A2115","v":2112},2111,2113,null,{"$f":"AccVelDataLink!G2115","v":35},"○","○",null,0,35000,2112,2111,2113,"RCS4-WRA10C-60-2.5-水平",35,null,"○"]
[2113,0,40000,{"$f":"AccVelDataLink!A2116","v":2113},2112,2114,null,{"$f":"AccVelDataLink!G2116","v":40},"○","○",null,0,40000,2113,2112,2114,"RCS4-WRA10C-60-2.5-水平",40,null,"○"]
[2114,1,8000,{"$f":"AccVelDataLink!A2117","v":2114},2113,2115,{"$f":"AccVelDataLink!F2117","v":"RCS4-WRA10C-60-2.5-垂直"},{"$f":"AccVelDataLink!G2117","v":8},"○","○",null,1,8000,2114,2113,2115,"RCS4-WRA10C-60-2.5-垂直",8,null,"○"]
[2115,1,10000,{"$f":"AccVelDataLink!A2118","v":2115},2114,-1,null,{"$f":"AccVelDataLink!G2118","v":10},"○","終端",null,1,10000,2115,2114,-1,"RCS4-WRA10C-60-2.5-垂直",10,null,"○"]
[2116,0,10000,{"$f":"AccVelDataLink!A2119","v":2116},-1,2117,{"$f":"AccVelDataLink!F2119","v":"RCS4-WRA10C-60-5-水平"},{"$f":"AccVelDataLink!G2119","v":10},"先頭","○",null,0,10000,2116,-1,2117,"RCS4-WRA10C-60-5-水平",10,null,"○"]
[2117,0,15000,{"$f":"AccVelDataLink!A2120","v":2117},2116,2118,null,{"$f":"AccVelDataLink!G2120","v":15},"○","○",null,0,15000,2117,2116,2118,"RCS4-WRA10C-60-5-水平",15,null,"○"]
[2118,0,20000,{"$f":"AccVelDataLink!A2121","v":2118},2117,2119,null,{"$f":"AccVelDataLink!G2121","v":20},"○","○",null,0,20000,2118,2117,2119,"RCS4-WRA10C-60-5-水平",20,null,"○"]
[2119,0,25000,{"$f":"AccVelDataLink!A2122","v":2119},2118,2120,null,{"$f":"AccVelDataLink!G2122","v":25},"○","○",null,0,25000,2119,2118,2120,"RCS4-WRA10C-60-5-水平",25,null,"○"]
[2120,1,5000,{"$f":"AccVelDataLink!A2123","v":2120},2119,-1,{"$f":"AccVelDataLink!F2123","v":"RCS4-WRA10C-60-5-垂直"},{"$f":"AccVelDataLink!G2123","v":5},"○","終端",null,1,5000,2120,2119,-1,"RCS4-WRA10C-60-5-垂直",5,null,"○"]
[2121,0,8000,{"$f":"AccVelDataLink!A2124","v":2121},-1,2122,{"$f":"AccVelDataLink!F2124","v":"RCS4-WRA10C-60-10-水平"},{"$f":"AccVelDataLink!G2124","v":8},"先頭","○",null,0,8000,2121,-1,2122,"RCS4-WRA10C-60-10-水平",8,null,"○"]
[2122,0,10000,{"$f":"AccVelDataLink!A2125","v":2122},2121,2123,null,{"$f":"AccVelDataLink!G2125","v":10},"○","○",null,0,10000,2122,2121,2123,"RCS4-WRA10C-60-10-水平",10,null,"○"]
[2123,0,12000,{"$f":"AccVelDataLink!A2126","v":2123},2122,2124,null,{"$f":"AccVelDataLink!G2126","v":12},"○","○",null,0,12000,2123,2122,2124,"RCS4-WRA10C-60-10-水平",12,null,"○"]
[2124,0,16000,{"$f":"AccVelDataLink!A2127","v":2124},2123,2125,null,{"$f":"AccVelDataLink!G2127","v":16},"○","○",null,0,16000,2124,2123,2125,"RCS4-WRA10C-60-10-水平",16,null,"○"]
[2125,1,1000,{"$f":"AccVelDataLink!A2128","v":2125},2124,2126,{"$f":"AccVelDataLink!F2128","v":"RCS4-WRA10C-60-10-垂直"},{"$f":"AccVelDataLink!G2128","v":1},"○","○",null,1,1000,2125,2124,2126,"RCS4-WRA10C-60-10-垂直",1,null,"○"]
[2126,1,2000,{"$f":"AccVelDataLink!A2129","v":2126},2125,2127,null,{"$f":"AccVelDataLink!G2129","v":2},{"$f":"IF(E2129=A2128,\"○\",IF(G2129=0,\"つなぎまちがい\",\"先頭\"))","v":"○"},{"$f":"IF(F2129=A2130,\"○\",IF(F2129<>E2130,\"つなぎまちがい\",\"終端\"))","v":"○"},null,1,2000,2126,2125,2127,"RCS4-WRA10C-60-10-垂直",2,null,"○"]
[2127,1,3000,{"$f":"AccVelDataLink!A2130","v":2127},2126,-1,null,{"$f":"AccVelDataLink!G2130","v":3},"○","終端",null,1,3000,2127,2126,-1,"RCS4-WRA10C-60-10-垂直",3,null,"○"]
[2128,0,2000,{"$f":"AccVelDataLink!A2131","v":2128},-1,2129,{"$f":"AccVelDataLink!F2131","v":"RCS4-WRA10C-60-16-水平"},{"$f":"AccVelDataLink!G2131","v":2},"先頭","○",null,0,2000,2128,-1,2129,"RCS4-WRA10C-60-16-水平",2,null,"○"]
[2129,0,3000,{"$f":"AccVelDataLink!A2132","v":2129},2128,2130,null,{"$f":"AccVelDataLink!G2132","v":3},"○","○",null,0,3000,2129,2128,2130,"RCS4-WRA10C-60-16-水平",3,null,"○"]
[2130,0,4000,{"$f":"AccVelDataLink!A2133","v":2130},2129,2131,null,{"$f":"AccVelDataLink!G2133","v":4},"○","○",null,0,4000,2130,2129,2131,"RCS4-WRA10C-60-16-水平",4,null,"○"]
[2131,0,5000,{"$f":"AccVelDataLink!A2134","v":2131},2130,-1,null,{"$f":"AccVelDataLink!G2134","v":5},"○","終端",null,0,5000,2131,2130,-1,"RCS4-WRA10C-60-16-水平",5,null,"○"]
[2132,0,40000,{"$f":"AccVelDataLink!A2135","v":2132},-1,2133,{"$f":"AccVelDataLink!F2135","v":"RCS4-WRA12C-100-3-水平"},{"$f":"AccVelDataLink!G2135","v":40},"先頭","○",null,0,40000,2132,-1,2133,"RCS4-WRA12C-100-3-水平",40,null,"○"]
[2133,0,50000,{"$f":"AccVelDataLink!A2136","v":2133},2132,2134,null,{"$f":"AccVelDataLink!G2136","v":50},"○","○",null,0,50000,2133,2132,2134,"RCS4-WRA12C-100-3-水平",50,null,"○"]
[2134,0,60000,{"$f":"AccVelDataLink!A2137","v":2134},2133,2135,null,{"$f":"AccVelDataLink!G2137","v":60},"○","○",null,0,60000,2134,2133,2135,"RCS4-WRA12C-100-3-水平",60,null,"○"]
[2135,1,20000,{"$f":"AccVelDataLink!A2138","v":2135},2134,-1,{"$f":"AccVelDataLink!F2138","v":"RCS4-WRA12C-100-3-垂直"},{"$f":"AccVelDataLink!G2138","v":20},"○","終端",null,1,20000,2135,2134,-1,"RCS4-WRA12C-100-3-垂直",20,null,"○"]
[2136,0,25000,{"$f":"AccVelDataLink!A2139","v":2136},-1,2137,{"$f":"AccVelDataLink!F2139","v":"RCS4-WRA12C-100-6-水平"},{"$f":"AccVelDataLink!G2139","v":25},"先頭","○",null,0,25000,2136,-1,2137,"RCS4-WRA12C-100-6-水平",25,null,"○"]
[2137,0,30000,{"$f":"AccVelDataLink!A2140","v":2137},2136,2138,null,{"$f":"AccVelDataLink!G2140","v":30},"○","○",null,0,30000,2137,2136,2138,"RCS4-WRA12C-100-6-水平",30,null,"○"]
[2138,0,40000,{"$f":"AccVelDataLink!A2141","v":2138},2137,2139,null,{"$f":"AccVelDataLink!G2141","v":40},"○","○",null,0,40000,2138,2137,2139,"RCS4-WRA12C-100-6-水平",40,null,"○"]
[2139,1,12000,{"$f":"AccVelDataLink!A2142","v":2139},2138,2140,{"$f":"AccVelDataLink!F2142","v":"RCS4-WRA12C-100-6-垂直"},{"$f":"AccVelDataLink!G2142","v":12},"○","○",null,1,12000,2139,2138,2140,"RCS4-WRA12C-100-6-垂直",12,null,"○"]
[2140,1,15000,{"$f":"AccVelDataLink!A2143","v":2140},2139,-1,null,{"$f":"AccVelDataLink!G2143","v":15},"○","終端",null,1,15000,2140,2139,-1,"RCS4-WRA12C-100-6-垂直",15,null,"○"]
[2141,0,15000,{"$f":"AccVelDataLink!A2144","v":2141},-1,2142,{"$f":"AccVelDataLink!F2144","v":"RCS4-WRA12C-100-12-水平"},{"$f":"AccVelDataLink!G2144","v":15},"先頭","○",null,0,15000,2141,-1,2142,"RCS4-WRA12C-100-12-水平",15,null,"○"]
[2142,0,20000,{"$f":"AccVelDataLink!A2145","v":2142},2141,2143,null,{"$f":"AccVelDataLink!G2145","v":20},"○","○",null,0,20000,2142,2141,2143,"RCS4-WRA12C-100-12-水平",20,null,"○"]
[2143,0,25000,{"$f":"AccVelDataLink!A2146","v":2143},2142,2144,null,{"$f":"AccVelDataLink!G2146","v":25},"○","○",null,0,25000,2143,2142,2144,"RCS4-WRA12C-100-12-水平",25,null,"○"]
[2144,1,5000,{"$f":"AccVelDataLink!A2147","v":2144},2143,2145,{"$f":"AccVelDataLink!F2147","v":"RCS4-WRA12C-100-12-垂直"},{"$f":"AccVelDataLink!G2147","v":5},"○","○",null,1,5000,2144,2143,2145,"RCS4-WRA12C-100-12-垂直",5,null,"○"]
[2145,1,6000,{"$f":"AccVelDataLink!A2148","v":2145},2144,-1,null,{"$f":"AccVelDataLink!G2148","v":6},"○","終端",null,1,6000,2145,2144,-1,"RCS4-WRA12C-100-12-垂直",6,null,"○"]
[2146,0,4000,{"$f":"AccVelDataLink!A2149","v":2146},-1,2147,{"$f":"AccVelDataLink!F2149","v":"RCS4-WRA12C-100-20-水平"},{"$f":"AccVelDataLink!G2149","v":4},"先頭","○",null,0,4000,2146,-1,2147,"RCS4-WRA12C-100-20-水平",4,null,"○"]
[2147,0,6000,{"$f":"AccVelDataLink!A2150","v":2147},2146,2148,null,{"$f":"AccVelDataLink!G2150","v":6},"○","○",null,0,6000,2147,2146,2148,"RCS4-WRA12C-100-20-水平",6,null,{"$f":"IF(AND(L2150=B2150, M2150=C2150, N2150=D2150, O2150=E2150, P2150=F2150, R2150=H2150), \"○\", \"●\")","v":"○"}]
[2148,0,{"$f":"H2151*$H$1","v":8000},{"$f":"AccVelDataLink!A2151","v":2148},{"$f":"A2150","v":2147},{"$f":"A2152","v":2149},null,{"$f":"AccVelDataLink!G2151","v":8},"○","○",null,0,8000,2148,2147,2149,"RCS4-WRA12C-100-20-水平",8,null,"○"]
[2149,0,10000,{"$f":"AccVelDataLink!A2152","v":2149},2148,2150,null,{"$f":"AccVelDataLink!G2152","v":10},"○","○",null,0,10000,2149,2148,2150,"RCS4-WRA12C-100-20-水平",10,null,"○"]
[2150,0,12000,{"$f":"AccVelDataLink!A2153","v":2150},2149,2151,null,{"$f":"AccVelDataLink!G2153","v":12},"○","○",null,0,12000,2150,2149,2151,"RCS4-WRA12C-100-20-水平",12,null,"○"]
[2151,1,1000,{"$f":"AccVelDataLink!A2154","v":2151},2150,2152,{"$f":"AccVelDataLink!F2154","v":"RCS4-WRA12C-100-20-垂直"},{"$f":"AccVelDataLink!G2154","v":1},"○","○",null,1,1000,2151,2150,2152,"RCS4-WRA12C-100-20-垂直",1,null,"○"]
[2152,1,1500,{"$f":"AccVelDataLink!A2155","v":2152},2151,2153,null,{"$f":"AccVelDataLink!G2155","v":1.5},"○","○",null,1,1500,2152,2151,2153,"RCS4-WRA12C-100-20-垂直",1.5,null,"○"]
[2153,1,2000,{"$f":"AccVelDataLink!A2156","v":2153},2152,-1,null,{"$f":"AccVelDataLink!G2156","v":2},"○","終端",null,1,2000,2153,2152,-1,"RCS4-WRA12C-100-20-垂直",2,null,"○"]
[2154,0,60000,{"$f":"AccVelDataLink!A2157","v":2154},-1,2155,{"$f":"AccVelDataLink!F2157","v":"RCS4-WRA14C-200-4-水平"},{"$f":"AccVelDataLink!G2157","v":60},"先頭","○",null,0,60000,2154,-1,2155,"RCS4-WRA14C-200-4-水平",60,null,"○"]
[2155,0,70000,{"$f":"AccVelDataLink!A2158","v":2155},2154,2156,null,{"$f":"AccVelDataLink!G2158","v":70},"○","○",null,0,70000,2155,2154,2156,"RCS4-WRA14C-200-4-水平",70,null,"○"]
[2156,0,85000,{"$f":"AccVelDataLink!A2159","v":2156},2155,2157,null,{"$f":"AccVelDataLink!G2159","v":85},"○","○",null,0,85000,2156,2155,2157,"RCS4-WRA14C-200-4-水平",85,null,"○"]
[2157,1,30000,{"$f":"AccVelDataLink!A2160","v":2157},2156,-1,{"$f":"AccVelDataLink!F2160","v":"RCS4-WRA14C-200-4-垂直"},{"$f":"AccVelDataLink!G2160","v":30},{"$f":"IF(E2160=A2159,\"○\",IF(G2160=0,\"つなぎまちがい\",\"先頭\"))","v":"○"},{"$f":"IF(F2160=A2161,\"○\",IF(F2160<>E2161,\"つなぎまちがい\",\"終端\"))","v":"終端"},null,1,30000,2157,2156,-1,"RCS4-WRA14C-200-4-垂直",30,null,"○"]
[2158,0,40000,{"$f":"AccVelDataLink!A2161","v":2158},-1,2159,{"$f":"AccVelDataLink!F2161","v":"RCS4-WRA14C-200-8-水平"},{"$f":"AccVelDataLink!G2161","v":40},"先頭","○",null,0,40000,2158,-1,2159,"RCS4-WRA14C-200-8-水平",40,null,"○"]
[2159,0,50000,{"$f":"AccVelDataLink!A2162","v":2159},2158,2160,null,{"$f":"AccVelDataLink!G2162","v":50},"○","○",null,0,50000,2159,2158,2160,"RCS4-WRA14C-200-8-水平",50,null,"○"]
[2160,0,65000,{"$f":"AccVelDataLink!A2163","v":2160},2159,2161,null,{"$f":"AccVelDataLink!G2163","v":65},"○","○",null,0,65000,2160,2159,2161,"RCS4-WRA14C-200-8-水平",65,null,"○"]
[2161,1,20000,{"$f":"AccVelDataLink!A2164","v":2161},2160,-1,{"$f":"AccVelDataLink!F2164","v":"RCS4-WRA14C-200-8-垂直"},{"$f":"AccVelDataLink!G2164","v":20},"○","終端",null,1,20000,2161,2160,-1,"RCS4-WRA14C-200-8-垂直",20,null,"○"]
[2162,0,15000,{"$f":"AccVelDataLink!A2165","v":2162},-1,2163,{"$f":"AccVelDataLink!F2165","v":"RCS4-WRA14C-200-16-水平"},{"$f":"AccVelDataLink!G2165","v":15},"先頭","○",null,0,15000,2162,-1,2163,"RCS4-WRA14C-200-16-水平",15,null,"○"]
[2163,0,20000,{"$f":"AccVelDataLink!A2166","v":2163},2162,2164,null,{"$f":"AccVelDataLink!G2166","v":20},"○","○",null,0,20000,2163,2162,2164,"RCS4-WRA14C-200-16-水平",20,null,"○"]
[2164,0,25000,{"$f":"AccVelDataLink!A2167","v":2164},2163,2165,null,{"$f":"AccVelDataLink!G2167","v":25},"○","○",null,0,25000,2164,2163,2165,"RCS4-WRA14C-200-16-水平",25,null,"○"]
[2165,0,30000,{"$f":"AccVelDataLink!A2168","v":2165},2164,2166,null,{"$f":"AccVelDataLink!G2168","v":30},"○","○",null,0,30000,2165,2164,2166,"RCS4-WRA14C-200-16-水平",30,null,"○"]
[{"$f":"A2168+1","v":2166},0,50000,{"$f":"AccVelDataLink!A2169","v":2166},2165,2167,null,{"$f":"AccVelDataLink!G2169","v":50},"○","○",null,0,50000,2166,2165,2167,"RCS4-WRA14C-200-16-水平",50,null,"○"]
[2167,1,5000,{"$f":"AccVelDataLink!A2170","v":2167},2166,2168,{"$f":"AccVelDataLink!F2170","v":"RCS4-WRA14C-200-16-垂直"},{"$f":"AccVelDataLink!G2170","v":5},"○","○",null,1,5000,2167,2166,2168,"RCS4-WRA14C-200-16-垂直",5,null,"○"]
[2168,1,6000,{"$f":"AccVelDataLink!A2171","v":2168},2167,2169,null,{"$f":"AccVelDataLink!G2171","v":6},"○","○",null,1,6000,2168,2167,2169,"RCS4-WRA14C-200-16-垂直",6,null,"○"]
[2169,1,8000,{"$f":"AccVelDataLink!A2172","v":2169},2168,-1,null,{"$f":"AccVelDataLink!G2172","v":8},"○","終端",null,1,8000,2169,2168,-1,"RCS4-WRA14C-200-16-垂直",8,null,"○"]
[2170,0,4000,{"$f":"AccVelDataLink!A2173","v":2170},-1,2171,{"$f":"AccVelDataLink!F2173","v":"RCS4-WRA14C-200-24-水平"},{"$f":"AccVelDataLink!G2173","v":4},"先頭","○",null,0,4000,2170,-1,2171,"RCS4-WRA14C-200-24-水平",4,null,"○"]
[2171,0,6000,{"$f":"AccVelDataLink!A2174","v":2171},2170,2172,null,{"$f":"AccVelDataLink!G2174","v":6},"○","○",null,0,6000,2171,2170,2172,"RCS4-WRA14C-200-24-水平",6,null,"○"]
[2172,0,10000,{"$f":"AccVelDataLink!A2175","v":2172},2171,2173,null,{"$f":"AccVelDataLink!G2175","v":10},"○","○",null,0,10000,2172,2171,2173,"RCS4-WRA14C-200-24-水平",10,null,"○"]
[2173,0,15000,{"$f":"AccVelDataLink!A2176","v":2173},2172,2174,null,{"$f":"AccVelDataLink!G2176","v":15},"○","○",null,0,15000,2173,2172,2174,"RCS4-WRA14C-200-24-水平",15,null,"○"]
[2174,0,25000,{"$f":"AccVelDataLink!A2177","v":2174},2173,2175,null,{"$f":"AccVelDataLink!G2177","v":25},"○","○",null,0,25000,2174,2173,2175,"RCS4-WRA14C-200-24-水平",25,null,"○"]
[2175,1,2000,{"$f":"AccVelDataLink!A2178","v":2175},2174,2176,{"$f":"AccVelDataLink!F2178","v":"RCS4-WRA14C-200-24-垂直"},{"$f":"AccVelDataLink!G2178","v":2},"○","○",null,1,2000,2175,2174,2176,"RCS4-WRA14C-200-24-垂直",2,null,"○"]
[2176,1,3000,{"$f":"AccVelDataLink!A2179","v":2176},2175,-1,null,{"$f":"AccVelDataLink!G2179","v":3},"○","終端",null,1,3000,2176,2175,-1,"RCS4-WRA14C-200-24-垂直",3,null,"○"]
[2177,0,60000,{"$f":"AccVelDataLink!A2180","v":2177},-1,2178,{"$f":"AccVelDataLink!F2180","v":"RCS4-WRA16C-400-5-水平"},{"$f":"AccVelDataLink!G2180","v":60},"先頭","○",null,0,60000,2177,-1,2178,"RCS4-WRA16C-400-5-水平",60,null,"○"]
[2178,0,80000,{"$f":"AccVelDataLink!A2181","v":2178},2177,2179,null,{"$f":"AccVelDataLink!G2181","v":80},"○","○",null,0,80000,2178,2177,2179,"RCS4-WRA16C-400-5-水平",80,null,"○"]
[2179,0,100000,{"$f":"AccVelDataLink!A2182","v":2179},2178,2180,null,{"$f":"AccVelDataLink!G2182","v":100},"○","○",null,0,100000,2179,2178,2180,"RCS4-WRA16C-400-5-水平",100,null,"○"]
[2180,1,25000,{"$f":"AccVelDataLink!A2183","v":2180},2179,2181,{"$f":"AccVelDataLink!F2183","v":"RCS4-WRA16C-400-5-垂直"},{"$f":"AccVelDataLink!G2183","v":25},"○","○",null,1,25000,2180,2179,2181,"RCS4-WRA16C-400-5-垂直",25,null,"○"]
[2181,1,30000,{"$f":"AccVelDataLink!A2184","v":2181},2180,2182,null,{"$f":"AccVelDataLink!G2184","v":30},"○","○",null,1,30000,2181,2180,2182,"RCS4-WRA16C-400-5-垂直",30,null,"○"]
[2182,1,50000,{"$f":"AccVelDataLink!A2185","v":2182},2181,-1,null,{"$f":"AccVelDataLink!G2185","v":50},"○","終端",null,1,50000,2182,2181,-1,"RCS4-WRA16C-400-5-垂直",50,null,"○"]
[2183,0,60000,{"$f":"AccVelDataLink!A2186","v":2183},-1,2184,{"$f":"AccVelDataLink!F2186","v":"RCS4-WRA16C-400-10-水平"},{"$f":"AccVelDataLink!G2186","v":60},"先頭","○",null,0,60000,2183,-1,2184,"RCS4-WRA16C-400-10-水平",60,null,"○"]
[2184,0,70000,{"$f":"AccVelDataLink!A2187","v":2184},2183,2185,null,{"$f":"AccVelDataLink!G2187","v":70},"○","○",null,0,70000,2184,2183,2185,"RCS4-WRA16C-400-10-水平",70,null,"○"]
[2185,0,80000,{"$f":"AccVelDataLink!A2188","v":2185},2184,2186,null,{"$f":"AccVelDataLink!G2188","v":80},"○","○",null,0,80000,2185,2184,2186,"RCS4-WRA16C-400-10-水平",80,null,"○"]
[2186,1,20000,{"$f":"AccVelDataLink!A2189","v":2186},2185,2187,{"$f":"AccVelDataLink!F2189","v":"RCS4-WRA16C-400-10-垂直"},{"$f":"AccVelDataLink!G2189","v":20},{"$f":"IF(E2189=A2188,\"○\",IF(G2189=0,\"つなぎまちがい\",\"先頭\"))","v":"○"},{"$f":"IF(F2189=A2190,\"○\",IF(F2189<>E2190,\"つなぎまちがい\",\"終端\"))","v":"○"},null,1,20000,2186,2185,2187,"RCS4-WRA16C-400-10-垂直",20,null,"○"]
[2187,1,35000,{"$f":"AccVelDataLink!A2190","v":2187},2186,-1,null,{"$f":"AccVelDataLink!G2190","v":35},"○","終端",null,1,35000,2187,2186,-1,"RCS4-WRA16C-400-10-垂直",35,null,{"$f":"IF(AND(L2190=B2190, M2190=C2190, N2190=D2190, O2190=E2190, P2190=F2190, R2190=H2190), \"○\", \"●\")","v":"○"}]
[2188,0,15000,{"$f":"AccVelDataLink!A2191","v":2188},-1,2189,{"$f":"AccVelDataLink!F2191","v":"RCS4-WRA16C-400-20-水平"},{"$f":"AccVelDataLink!G2191","v":15},"先頭","○",null,0,15000,2188,-1,2189,"RCS4-WRA16C-400-20-水平",15,null,"○"]
[2189,0,20000,{"$f":"AccVelDataLink!A2192","v":2189},2188,2190,null,{"$f":"AccVelDataLink!G2192","v":20},"○","○",null,0,20000,2189,2188,2190,"RCS4-WRA16C-400-20-水平",20,null,"○"]
[2190,0,25000,{"$f":"AccVelDataLink!A2193","v":2190},2189,2191,null,{"$f":"AccVelDataLink!G2193","v":25},"○","○",null,0,25000,2190,2189,2191,"RCS4-WRA16C-400-20-水平",25,null,"○"]
[2191,0,40000,{"$f":"AccVelDataLink!A2194","v":2191},2190,2192,null,{"$f":"AccVelDataLink!G2194","v":40},"○","○",null,0,40000,2191,2190,2192,"RCS4-WRA16C-400-20-水平",40,null,"○"]
[2192,0,60000,{"$f":"AccVelDataLink!A2195","v":2192},2191,2193,null,{"$f":"AccVelDataLink!G2195","v":60},"○","○",null,0,60000,2192,2191,2193,"RCS4-WRA16C-400-20-水平",60,null,"○"]
[2193,1,8000,{"$f":"AccVelDataLink!A2196","v":2193},2192,2194,{"$f":"AccVelDataLink!F2196","v":"RCS4-WRA16C-400-20-垂直"},{"$f":"AccVelDataLink!G2196","v":8},"○","○",null,1,8000,2193,2192,2194,"RCS4-WRA16C-400-20-垂直",8,null,"○"]
[2194,1,10000,{"$f":"AccVelDataLink!A2197","v":2194},2193,2195,null,{"$f":"AccVelDataLink!G2197","v":10},"○","○",null,1,10000,2194,2193,2195,"RCS4-WRA16C-400-20-垂直",10,null,"○"]
[2195,1,12000,{"$f":"AccVelDataLink!A2198","v":2195},2194,-1,null,{"$f":"AccVelDataLink!G2198","v":12},"○","終端",null,1,12000,2195,2194,-1,"RCS4-WRA16C-400-20-垂直",12,null,"○"]
[2196,0,6000,{"$f":"AccVelDataLink!A2199","v":2196},-1,2197,{"$f":"AccVelDataLink!F2199","v":"RCS4-WRA16C-400-30-水平"},{"$f":"AccVelDataLink!G2199","v":6},"先頭","○",null,0,6000,2196,-1,2197,"RCS4-WRA16C-400-30-水平",6,null,"○"]
[2197,0,8000,{"$f":"AccVelDataLink!A2200","v":2197},2196,2198,null,{"$f":"AccVelDataLink!G2200","v":8},"○","○",null,0,8000,2197,2196,2198,"RCS4-WRA16C-400-30-水平",8,null,"○"]
[2198,0,15000,{"$f":"AccVelDataLink!A2201","v":2198},2197,2199,null,{"$f":"AccVelDataLink!G2201","v":15},"○","○",null,0,15000,2198,2197,2199,"RCS4-WRA16C-400-30-水平",15,null,"○"]
[2199,0,20000,{"$f":"AccVelDataLink!A2202","v":2199},2198,2200,null,{"$f":"AccVelDataLink!G2202","v":20},"○","○",null,0,20000,2199,2198,2200,"RCS4-WRA16C-400-30-水平",20,null,"○"]
[2200,0,30000,{"$f":"AccVelDataLink!A2203","v":2200},2199,2201,null,{"$f":"AccVelDataLink!G2203","v":30},"○","○",null,0,30000,2200,2199,2201,"RCS4-WRA16C-400-30-水平",30,null,"○"]
[2201,1,1500,{"$f":"AccVelDataLink!A2204","v":2201},2200,2202,{"$f":"AccVelDataLink!F2204","v":"RCS4-WRA16C-400-30-垂直"},{"$f":"AccVelDataLink!G2204","v":1.5},"○","○",null,1,1500,2201,2200,2202,"RCS4-WRA16C-400-30-垂直",1.5,null,"○"]
[2202,1,3000,{"$f":"AccVelDataLink!A2205","v":2202},2201,2203,"RCS4-WRA16C-400-30-垂直",{"$f":"AccVelDataLink!G2205","v":3},"○","○",null,1,3000,2202,2201,2203,"RCS4-WRA16C-400-30-垂直",3,null,"○"]
[2203,1,4000,{"$f":"AccVelDataLink!A2206","v":2203},2202,2204,"RCS4-WRA16C-400-30-垂直",{"$f":"AccVelDataLink!G2206","v":4},"○","○",null,1,4000,2203,2202,2204,"RCS4-WRA16C-400-30-垂直",4,null,"○"]
[2204,1,5000,{"$f":"AccVelDataLink!A2207","v":2204},2203,2205,"RCS4-WRA16C-400-30-垂直",{"$f":"AccVelDataLink!G2207","v":5},"○","○",null,1,5000,2204,2203,2205,"RCS4-WRA16C-400-30-垂直",5,null,"○"]
[2205,1,{"$f":"H2208*$H$1","v":6000},{"$f":"AccVelDataLink!A2208","v":2205},2204,-1,"RCS4-WRA16C-400-30-垂直",{"$f":"AccVelDataLink!G2208","v":6},"○","終端",null,1,6000,2205,2204,-1,"RCS4-WRA16C-400-30-垂直",6,null,"○","*","*","*"]
[2206,0,{"$f":"H2209*$H$1","v":35000},{"$f":"I2209","v":2206},-1,{"$f":"A2210","v":2207},"RCS4-RA4R-60-2.5-水平",35,{"$f":"AccVelDataLink!A2209","v":2206}]
[2207,0,{"$f":"H2210*$H$1","v":40000},{"$f":"I2210","v":2207},{"$f":"A2209","v":2206},{"$f":"A2211","v":2208},"RCS4-RA4R-60-2.5-水平",40,{"$f":"AccVelDataLink!A2210","v":2207}]
[2208,1,10000,2208,{"$f":"A2210","v":2207},-1,"RCS4-RA4R-60-2.5-垂直",10,{"$f":"AccVelDataLink!A2211","v":2208}]
[2209,0,20000,2209,-1,{"$f":"A2213","v":2210},"RCS4-RA4R-60-5-水平",20,{"$f":"AccVelDataLink!A2212","v":2209}]
[2210,0,25000,2210,{"$f":"A2212","v":2209},{"$f":"A2214","v":2211},"RCS4-RA4R-60-5-水平",25,{"$f":"AccVelDataLink!A2213","v":2210}]
[2211,0,30000,2211,{"$f":"A2213","v":2210},{"$f":"A2215","v":2212},"RCS4-RA4R-60-5-水平",30,{"$f":"AccVelDataLink!A2214","v":2211}]
[2212,1,6000,2212,{"$f":"A2214","v":2211},-1,"RCS4-RA4R-60-5-垂直",6,{"$f":"AccVelDataLink!A2215","v":2212}]
[2213,0,12000,2213,-1,{"$f":"A2217","v":2214},"RCS4-RA4R-60-10-水平",12,{"$f":"AccVelDataLink!A2216","v":2213}]
[2214,0,15000,2214,{"$f":"A2216","v":2213},{"$f":"A2218","v":2215},"RCS4-RA4R-60-10-水平",15,{"$f":"AccVelDataLink!A2217","v":2214}]
[2215,0,18000,2215,{"$f":"A2217","v":2214},{"$f":"A2219","v":2216},"RCS4-RA4R-60-10-水平",18,{"$f":"AccVelDataLink!A2218","v":2215}]
[2216,1,4000,2216,{"$f":"A2218","v":2215},-1,"RCS4-RA4R-60-10-垂直",4,{"$f":"AccVelDataLink!A2219","v":2216}]
[2217,0,5000,2217,-1,{"$f":"A2221","v":2218},"RCS4-RA4R-60-16-水平",5,{"$f":"AccVelDataLink!A2220","v":2217}]
[2218,0,6000,2218,{"$f":"A2220","v":2217},{"$f":"A2222","v":2219},"RCS4-RA4R-60-16-水平",6,{"$f":"AccVelDataLink!A2221","v":2218}]
[2219,0,8000,2219,{"$f":"A2221","v":2218},{"$f":"A2223","v":2220},"RCS4-RA4R-60-16-水平",8,{"$f":"AccVelDataLink!A2222","v":2219}]
[2220,1,2000,2220,{"$f":"A2222","v":2219},-1,"RCS4-RA4R-60-16-垂直",2,{"$f":"AccVelDataLink!A2223","v":2220}]
[2221,0,40000,2221,-1,{"$f":"A2225","v":2222},"RCS4-RA6R-100-3-水平",40,{"$f":"AccVelDataLink!A2224","v":2221}]
[2222,0,50000,2222,{"$f":"A2224","v":2221},{"$f":"A2226","v":2223},"RCS4-RA6R-100-3-水平",50,{"$f":"AccVelDataLink!A2225","v":2222}]
[2223,0,60000,2223,{"$f":"A2225","v":2222},{"$f":"A2227","v":2224},"RCS4-RA6R-100-3-水平",60,{"$f":"AccVelDataLink!A2226","v":2223}]
[2224,1,20000,2224,{"$f":"A2226","v":2223},-1,"RCS4-RA6R-100-3-垂直",20,{"$f":"AccVelDataLink!A2227","v":2224}]
[2225,0,25000,2225,-1,{"$f":"A2229","v":2226},"RCS4-RA6R-100-6-水平",25,{"$f":"AccVelDataLink!A2228","v":2225}]
[2226,0,30000,2226,{"$f":"A2228","v":2225},2227,"RCS4-RA6R-100-6-水平",30,{"$f":"AccVelDataLink!A2229","v":2226}]
[2227,0,45000,2227,2226,2228,"RCS4-RA6R-100-6-水平",45,{"$f":"AccVelDataLink!A2230","v":2227}]
[2228,0,50000,2228,2227,2229,"RCS4-RA6R-100-6-水平",50,{"$f":"AccVelDataLink!A2231","v":2228}]
[2229,1,12000,2229,2228,2230,"RCS4-RA6R-100-6-垂直",12,{"$f":"AccVelDataLink!A2232","v":2229}]
[{"$f":"A2232+1","v":2230},1,15000,2230,2229,2231,"RCS4-RA6R-100-6-垂直",15,{"$f":"AccVelDataLink!A2233","v":2230}]
[2231,1,19000,2231,2230,-1,"RCS4-RA6R-100-6-垂直",19,{"$f":"AccVelDataLink!A2234","v":2231}]
[2232,0,12000,2232,-1,{"$f":"A2236","v":2233},"RCS4-RA6R-100-12-水平",12,{"$f":"AccVelDataLink!A2235","v":2232}]
[2233,0,20000,2233,{"$f":"A2235","v":2232},{"$f":"A2237","v":2234},"RCS4-RA6R-100-12-水平",20,{"$f":"AccVelDataLink!A2236","v":2233}]
[2234,0,25000,2234,{"$f":"A2236","v":2233},{"$f":"A2238","v":2235},"RCS4-RA6R-100-12-水平",25,{"$f":"AccVelDataLink!A2237","v":2234}]
[2235,1,6000,2235,{"$f":"A2237","v":2234},{"$f":"A2239","v":2236},"RCS4-RA6R-100-12-垂直",6,{"$f":"AccVelDataLink!A2238","v":2235}]
[2236,1,8000,2236,{"$f":"A2238","v":2235},{"$f":"A2240","v":2237},"RCS4-RA6R-100-12-垂直",8,{"$f":"AccVelDataLink!A2239","v":2236}]
[2237,1,9000,2237,{"$f":"A2239","v":2236},-1,"RCS4-RA6R-100-12-垂直",9,{"$f":"AccVelDataLink!A2240","v":2237}]
[2238,0,6000,2238,-1,{"$f":"A2242","v":2239},"RCS4-RA6R-100-20-水平",6,{"$f":"AccVelDataLink!A2241","v":2238}]
[2239,0,8000,2239,{"$f":"A2241","v":2238},{"$f":"A2243","v":2240},"RCS4-RA6R-100-20-水平",8,{"$f":"AccVelDataLink!A2242","v":2239}]
[2240,0,10000,2240,{"$f":"A2242","v":2239},{"$f":"A2244","v":2241},"RCS4-RA6R-100-20-水平",10,{"$f":"AccVelDataLink!A2243","v":2240}]
[2241,0,15000,2241,{"$f":"A2243","v":2240},{"$f":"A2245","v":2242},"RCS4-RA6R-100-20-水平",15,{"$f":"AccVelDataLink!A2244","v":2241}]
[2242,1,3000,2242,{"$f":"A2244","v":2241},{"$f":"A2246","v":2243},"RCS4-RA6R-100-20-垂直",3,{"$f":"AccVelDataLink!A2245","v":2242}]
[2243,1,4000,2243,{"$f":"A2245","v":2242},-1,"RCS4-RA6R-100-20-垂直",4,{"$f":"AccVelDataLink!A2246","v":2243}]
[2244,0,60000,2244,-1,{"$f":"A2248","v":2245},"RCS4-RA7R-200-4-水平",60,{"$f":"AccVelDataLink!A2247","v":2244}]
[2245,0,70000,2245,{"$f":"A2247","v":2244},{"$f":"A2249","v":2246},"RCS4-RA7R-200-4-水平",70,{"$f":"AccVelDataLink!A2248","v":2245}]
[2246,0,80000,2246,{"$f":"A2248","v":2245},{"$f":"A2250","v":2247},"RCS4-RA7R-200-4-水平",80,{"$f":"AccVelDataLink!A2249","v":2246}]
[2247,1,30000,2247,{"$f":"A2249","v":2246},{"$f":"A2251","v":2248},"RCS4-RA7R-200-4-垂直",30,{"$f":"AccVelDataLink!A2250","v":2247}]
[2248,1,35000,2248,{"$f":"A2250","v":2247},-1,"RCS4-RA7R-200-4-垂直",35,{"$f":"AccVelDataLink!A2251","v":2248}]
[2249,0,40000,2249,-1,{"$f":"A2253","v":2250},"RCS4-RA7R-200-8-水平",40,{"$f":"AccVelDataLink!A2252","v":2249}]
[2250,0,50000,2250,{"$f":"A2252","v":2249},{"$f":"A2254","v":2251},"RCS4-RA7R-200-8-水平",50,{"$f":"AccVelDataLink!A2253","v":2250}]
[2251,0,60000,2251,{"$f":"A2253","v":2250},{"$f":"A2255","v":2252},"RCS4-RA7R-200-8-水平",60,{"$f":"AccVelDataLink!A2254","v":2251}]
[2252,1,20000,2252,{"$f":"A2254","v":2251},{"$f":"A2256","v":2253},"RCS4-RA7R-200-8-垂直",20,{"$f":"AccVelDataLink!A2255","v":2252}]
[2253,1,25000,2253,{"$f":"A2255","v":2252},-1,"RCS4-RA7R-200-8-垂直",25,{"$f":"AccVelDataLink!A2256","v":2253}]
[2254,0,20000,2254,-1,{"$f":"A2258","v":2255},"RCS4-RA7R-200-16-水平",20,{"$f":"AccVelDataLink!A2257","v":2254}]
[2255,0,25000,2255,{"$f":"A2257","v":2254},2256,"RCS4-RA7R-200-16-水平",25,{"$f":"AccVelDataLink!A2258","v":2255}]
[2256,0,30000,2256,2255,2257,"RCS4-RA7R-200-16-水平",30,{"$f":"AccVelDataLink!A2259","v":2256}]
[2257,0,45000,2257,2256,2258,"RCS4-RA7R-200-16-水平",45,{"$f":"AccVelDataLink!A2260","v":2257}]
[2258,1,8000,2258,2257,2259,"RCS4-RA7R-200-16-垂直",8,{"$f":"AccVelDataLink!A2261","v":2258}]
[2259,1,10000,2259,2258,2260,"RCS4-RA7R-200-16-垂直",10,{"$f":"AccVelDataLink!A2262","v":2259}]
[2260,1,12000,2260,2259,-1,"RCS4-RA7R-200-16-垂直",12,{"$f":"AccVelDataLink!A2263","v":2260}]
[2261,0,10000,2261,-1,{"$f":"A2265","v":2262},"RCS4-RA7R-200-24-水平",10,{"$f":"AccVelDataLink!A2264","v":2261}]
[2262,0,15000,2262,{"$f":"A2264","v":2261},{"$f":"A2266","v":2263},"RCS4-RA7R-200-24-水平",15,{"$f":"AccVelDataLink!A2265","v":2262}]
[2263,0,20000,2263,{"$f":"A2265","v":2262},{"$f":"A2267","v":2264},"RCS4-RA7R-200-24-水平",20,{"$f":"AccVelDataLink!A2266","v":2263}]
[2264,1,4000,2264,{"$f":"A2266","v":2263},{"$f":"A2268","v":2265},"RCS4-RA7R-200-24-垂直",4,{"$f":"AccVelDataLink!A2267","v":2264}]
[2265,1,6000,2265,{"$f":"A2267","v":2264},-1,"RCS4-RA7R-200-24-垂直",6,{"$f":"AccVelDataLink!A2268","v":2265}]
[2266,0,60000,2266,-1,{"$f":"A2270","v":2267},"RCS4-RA8R-400-5-水平",60,{"$f":"AccVelDataLink!A2269","v":2266}]
[2267,0,80000,2267,{"$f":"A2269","v":2266},2268,"RCS4-RA8R-400-5-水平",80,{"$f":"AccVelDataLink!A2270","v":2267}]
[2268,0,100000,2268,2267,2269,"RCS4-RA8R-400-5-水平",100,{"$f":"AccVelDataLink!A2271","v":2268}]
[2269,1,25000,2269,2268,2270,"RCS4-RA8R-400-5-垂直",25,{"$f":"AccVelDataLink!A2272","v":2269}]
[2270,1,40000,2270,2269,2271,"RCS4-RA8R-400-5-垂直",40,{"$f":"AccVelDataLink!A2273","v":2270}]
[2271,1,{"$f":"H2274*$H$1","v":55000},{"$f":"I2274","v":2271},2270,2272,"RCS4-RA8R-400-5-垂直",55,{"$f":"AccVelDataLink!A2274","v":2271}]
[2272,1,72000,2272,2271,-1,"RCS4-RA8R-400-5-垂直",72,{"$f":"AccVelDataLink!A2275","v":2272}]
[2273,0,60000,2273,-1,{"$f":"A2277","v":2274},"RCS4-RA8R-400-10-水平",60,{"$f":"AccVelDataLink!A2276","v":2273}]
[2274,0,70000,2274,{"$f":"A2276","v":2273},{"$f":"A2278","v":2275},"RCS4-RA8R-400-10-水平",70,{"$f":"AccVelDataLink!A2277","v":2274}]
[2275,0,80000,2275,{"$f":"A2277","v":2274},{"$f":"A2279","v":2276},"RCS4-RA8R-400-10-水平",80,{"$f":"AccVelDataLink!A2278","v":2275}]
[2276,1,20000,2276,{"$f":"A2278","v":2275},{"$f":"A2280","v":2277},"RCS4-RA8R-400-10-垂直",20,{"$f":"AccVelDataLink!A2279","v":2276}]
[2277,1,30000,2277,{"$f":"A2279","v":2276},{"$f":"A2281","v":2278},"RCS4-RA8R-400-10-垂直",30,{"$f":"AccVelDataLink!A2280","v":2277}]
[2278,1,40000,2278,{"$f":"A2280","v":2277},-1,"RCS4-RA8R-400-10-垂直",40,{"$f":"AccVelDataLink!A2281","v":2278}]
[2279,0,20000,2279,-1,{"$f":"A2283","v":2280},"RCS4-RA8R-400-20-水平",20,{"$f":"AccVelDataLink!A2282","v":2279}]
[2280,0,25000,2280,{"$f":"A2282","v":2279},2281,"RCS4-RA8R-400-20-水平",25,{"$f":"AccVelDataLink!A2283","v":2280}]
[2281,0,40000,2281,2280,2282,"RCS4-RA8R-400-20-水平",40,{"$f":"AccVelDataLink!A2284","v":2281}]
[2282,0,60000,2282,2281,2283,"RCS4-RA8R-400-20-水平",60,{"$f":"AccVelDataLink!A2285","v":2282}]
[2283,1,12000,2283,2282,2284,"RCS4-RA8R-400-20-垂直",12,{"$f":"AccVelDataLink!A2286","v":2283}]
[2284,1,15000,2284,2283,2285,"RCS4-RA8R-400-20-垂直",15,{"$f":"AccVelDataLink!A2287","v":2284}]
[2285,1,20000,2285,2284,-1,"RCS4-RA8R-400-20-垂直",20,{"$f":"AccVelDataLink!A2288","v":2285}]
[2286,0,20000,2286,-1,{"$f":"A2290","v":2287},"RCS4-SA4R-60-2.5-水平",20,{"$f":"AccVelDataLink!A2289","v":2286}]
[2287,1,10000,2287,{"$f":"A2289","v":2286},{"$f":"A2291","v":2288},"RCS4-SA4R-60-2.5-垂直",10,{"$f":"AccVelDataLink!A2290","v":2287}]
[2288,1,12000,2288,{"$f":"A2290","v":2287},-1,"RCS4-SA4R-60-2.5-垂直",12,{"$f":"AccVelDataLink!A2291","v":2288}]
[2289,0,13000,2289,-1,{"$f":"A2293","v":2290},"RCS4-SA4R-60-5-水平",13,{"$f":"AccVelDataLink!A2292","v":2289}]
[2290,0,15000,2290,{"$f":"A2292","v":2289},{"$f":"A2294","v":2291},"RCS4-SA4R-60-5-水平",15,{"$f":"AccVelDataLink!A2293","v":2290}]
[2291,0,17000,2291,{"$f":"A2293","v":2290},{"$f":"A2295","v":2292},"RCS4-SA4R-60-5-水平",17,{"$f":"AccVelDataLink!A2294","v":2291}]
[2292,1,6000,2292,{"$f":"A2294","v":2291},{"$f":"A2296","v":2293},"RCS4-SA4R-60-5-垂直",6,{"$f":"AccVelDataLink!A2295","v":2292}]
[2293,1,8000,2293,{"$f":"A2295","v":2292},-1,"RCS4-SA4R-60-5-垂直",8,{"$f":"AccVelDataLink!A2296","v":2293}]
[{"$f":"A2296+1","v":2294},0,10000,2294,-1,{"$f":"A2298","v":2295},"RCS4-SA4R-60-10-水平",10,{"$f":"AccVelDataLink!A2297","v":2294}]
[2295,0,12000,2295,{"$f":"A2297","v":2294},{"$f":"A2299","v":2296},"RCS4-SA4R-60-10-水平",12,{"$f":"AccVelDataLink!A2298","v":2295}]
[2296,0,14000,2296,{"$f":"A2298","v":2295},{"$f":"A2300","v":2297},"RCS4-SA4R-60-10-水平",14,{"$f":"AccVelDataLink!A2299","v":2296}]
[2297,1,3000,2297,{"$f":"A2299","v":2296},{"$f":"A2301","v":2298},"RCS4-SA4R-60-10-垂直",3,{"$f":"AccVelDataLink!A2300","v":2297}]
[2298,1,4500,2298,{"$f":"A2300","v":2297},-1,"RCS4-SA4R-60-10-垂直",4.5,{"$f":"AccVelDataLink!A2301","v":2298}]
[2299,0,6000,2299,-1,{"$f":"A2303","v":2300},"RCS4-SA4R-60-16-水平",6,{"$f":"AccVelDataLink!A2302","v":2299}]
[2300,0,8000,2300,{"$f":"A2302","v":2299},{"$f":"A2304","v":2301},"RCS4-SA4R-60-16-水平",8,{"$f":"AccVelDataLink!A2303","v":2300}]
[2301,0,10000,2301,{"$f":"A2303","v":2300},{"$f":"A2305","v":2302},"RCS4-SA4R-60-16-水平",10,{"$f":"AccVelDataLink!A2304","v":2301}]
[2302,1,1500,2302,{"$f":"A2304","v":2301},{"$f":"A2306","v":2303},"RCS4-SA4R-60-16-垂直",1.5,{"$f":"AccVelDataLink!A2305","v":2302}]
[2303,1,2500,2303,{"$f":"A2305","v":2302},-1,"RCS4-SA4R-60-16-垂直",2.5,{"$f":"AccVelDataLink!A2306","v":2303}]
[2304,0,20000,2304,-1,{"$f":"A2308","v":2305},"RCS4-SA6R-100-3-水平",20,{"$f":"AccVelDataLink!A2307","v":2304}]
[2305,0,30000,2305,{"$f":"A2307","v":2304},{"$f":"A2309","v":2306},"RCS4-SA6R-100-3-水平",30,{"$f":"AccVelDataLink!A2308","v":2305}]
[2306,0,45000,2306,{"$f":"A2308","v":2305},{"$f":"A2310","v":2307},"RCS4-SA6R-100-3-水平",45,{"$f":"AccVelDataLink!A2309","v":2306}]
[2307,1,10000,2307,{"$f":"A2309","v":2306},{"$f":"A2311","v":2308},"RCS4-SA6R-100-3-垂直",10,{"$f":"AccVelDataLink!A2310","v":2307}]
[2308,1,14000,2308,{"$f":"A2310","v":2307},{"$f":"A2312","v":2309},"RCS4-SA6R-100-3-垂直",14,{"$f":"AccVelDataLink!A2311","v":2308}]
[2309,1,15000,2309,{"$f":"A2311","v":2308},-1,"RCS4-SA6R-100-3-垂直",15,{"$f":"AccVelDataLink!A2312","v":2309}]
[2310,0,20000,2310,-1,{"$f":"A2314","v":2311},"RCS4-SA6R-100-6-水平",20,{"$f":"AccVelDataLink!A2313","v":2310}]
[2311,0,30000,2311,{"$f":"A2313","v":2310},{"$f":"A2315","v":2312},"RCS4-SA6R-100-6-水平",30,{"$f":"AccVelDataLink!A2314","v":2311}]
[2312,0,45000,2312,{"$f":"A2314","v":2311},{"$f":"A2316","v":2313},"RCS4-SA6R-100-6-水平",45,{"$f":"AccVelDataLink!A2315","v":2312}]
[2313,1,15000,2313,{"$f":"A2315","v":2312},-1,"RCS4-SA6R-100-6-垂直",15,{"$f":"AccVelDataLink!A2316","v":2313}]
[2314,0,15000,2314,-1,{"$f":"A2318","v":2315},"RCS4-SA6R-100-12-水平",15,{"$f":"AccVelDataLink!A2317","v":2314}]
[2315,0,20000,2315,{"$f":"A2317","v":2314},{"$f":"A2319","v":2316},"RCS4-SA6R-100-12-水平",20,{"$f":"AccVelDataLink!A2318","v":2315}]
[2316,0,24000,2316,{"$f":"A2318","v":2315},{"$f":"A2320","v":2317},"RCS4-SA6R-100-12-水平",24,{"$f":"AccVelDataLink!A2319","v":2316}]
[2317,0,30000,2317,{"$f":"A2319","v":2316},{"$f":"A2321","v":2318},"RCS4-SA6R-100-12-水平",30,{"$f":"AccVelDataLink!A2320","v":2317}]
[2318,1,8000,2318,{"$f":"A2320","v":2317},{"$f":"A2322","v":2319},"RCS4-SA6R-100-12-垂直",8,{"$f":"AccVelDataLink!A2321","v":2318}]
[2319,1,9000,2319,{"$f":"A2321","v":2318},-1,"RCS4-SA6R-100-12-垂直",9,{"$f":"AccVelDataLink!A2322","v":2319}]
[2320,0,8000,2320,-1,{"$f":"A2324","v":2321},"RCS4-SA6R-100-20-水平",8,{"$f":"AccVelDataLink!A2323","v":2320}]
[2321,0,10000,2321,{"$f":"A2323","v":2320},{"$f":"A2325","v":2322},"RCS4-SA6R-100-20-水平",10,{"$f":"AccVelDataLink!A2324","v":2321}]
[2322,0,15000,2322,{"$f":"A2324","v":2321},{"$f":"A2326","v":2323},"RCS4-SA6R-100-20-水平",15,{"$f":"AccVelDataLink!A2325","v":2322}]
[2323,0,18000,2323,{"$f":"A2325","v":2322},{"$f":"A2327","v":2324},"RCS4-SA6R-100-20-水平",18,{"$f":"AccVelDataLink!A2326","v":2323}]
[2324,1,4000,2324,{"$f":"A2326","v":2323},{"$f":"A2328","v":2325},"RCS4-SA6R-100-20-垂直",4,{"$f":"AccVelDataLink!A2327","v":2324}]
[2325,1,5000,2325,{"$f":"A2327","v":2324},-1,"RCS4-SA6R-100-20-垂直",5,{"$f":"AccVelDataLink!A2328","v":2325}]
[2326,0,4000,2326,-1,{"$f":"A2330","v":2327},"RCS4-SA6R-100-30-水平",4,{"$f":"AccVelDataLink!A2329","v":2326}]
[2327,0,6000,2327,{"$f":"A2329","v":2326},{"$f":"A2331","v":2328},"RCS4-SA6R-100-30-水平",6,{"$f":"AccVelDataLink!A2330","v":2327}]
[2328,0,11000,2328,{"$f":"A2330","v":2327},{"$f":"A2332","v":2329},"RCS4-SA6R-100-30-水平",11,{"$f":"AccVelDataLink!A2331","v":2328}]
[2329,1,1500,2329,{"$f":"A2331","v":2328},{"$f":"A2333","v":2330},"RCS4-SA6R-100-30-垂直",1.5,{"$f":"AccVelDataLink!A2332","v":2329}]
[2330,1,2000,2330,{"$f":"A2332","v":2329},{"$f":"A2334","v":2331},"RCS4-SA6R-100-30-垂直",2,{"$f":"AccVelDataLink!A2333","v":2330}]
[2331,1,3000,2331,{"$f":"A2333","v":2330},-1,"RCS4-SA6R-100-30-垂直",3,{"$f":"AccVelDataLink!A2334","v":2331}]
[2332,0,40000,2332,-1,{"$f":"A2336","v":2333},"RCS4-SA7R-200-4-水平",40,{"$f":"AccVelDataLink!A2335","v":2332}]
[2333,0,50000,2333,{"$f":"A2335","v":2332},{"$f":"A2337","v":2334},"RCS4-SA7R-200-4-水平",50,{"$f":"AccVelDataLink!A2336","v":2333}]
[2334,1,20000,2334,{"$f":"A2336","v":2333},{"$f":"A2338","v":2335},"RCS4-SA7R-200-4-垂直",20,{"$f":"AccVelDataLink!A2337","v":2334}]
[2335,1,{"$f":"H2338*$H$1","v":25000},{"$f":"I2338","v":2335},{"$f":"A2337","v":2334},-1,"RCS4-SA7R-200-4-垂直",25,{"$f":"AccVelDataLink!A2338","v":2335}]
[2336,0,35000,2336,-1,{"$f":"A2340","v":2337},"RCS4-SA7R-200-8-水平",35,{"$f":"AccVelDataLink!A2339","v":2336}]
[2337,0,40000,2337,{"$f":"A2339","v":2336},{"$f":"A2341","v":2338},"RCS4-SA7R-200-8-水平",40,{"$f":"AccVelDataLink!A2340","v":2337}]
[2338,0,45000,2338,{"$f":"A2340","v":2337},{"$f":"A2342","v":2339},"RCS4-SA7R-200-8-水平",45,{"$f":"AccVelDataLink!A2341","v":2338}]
[2339,1,16000,2339,{"$f":"A2341","v":2338},{"$f":"A2343","v":2340},"RCS4-SA7R-200-8-垂直",16,{"$f":"AccVelDataLink!A2342","v":2339}]
[2340,1,18000,2340,{"$f":"A2342","v":2339},-1,"RCS4-SA7R-200-8-垂直",18,{"$f":"AccVelDataLink!A2343","v":2340}]
[2341,0,15000,2341,-1,{"$f":"A2345","v":2342},"RCS4-SA7R-200-16-水平",15,{"$f":"AccVelDataLink!A2344","v":2341}]
[2342,0,30000,2342,{"$f":"A2344","v":2341},{"$f":"A2346","v":2343},"RCS4-SA7R-200-16-水平",30,{"$f":"AccVelDataLink!A2345","v":2342}]
[2343,0,38000,2343,{"$f":"A2345","v":2342},{"$f":"A2347","v":2344},"RCS4-SA7R-200-16-水平",38,{"$f":"AccVelDataLink!A2346","v":2343}]
[2344,1,8000,2344,{"$f":"A2346","v":2343},{"$f":"A2348","v":2345},"RCS4-SA7R-200-16-垂直",8,{"$f":"AccVelDataLink!A2347","v":2344}]
[2345,1,10000,2345,{"$f":"A2347","v":2344},{"$f":"A2349","v":2346},"RCS4-SA7R-200-16-垂直",10,{"$f":"AccVelDataLink!A2348","v":2345}]
[2346,1,12000,2346,{"$f":"A2348","v":2345},-1,"RCS4-SA7R-200-16-垂直",12,{"$f":"AccVelDataLink!A2349","v":2346}]
[2347,0,6000,2347,-1,{"$f":"A2351","v":2348},"RCS4-SA7R-200-24-水平",6,{"$f":"AccVelDataLink!A2350","v":2347}]
[2348,0,10000,2348,{"$f":"A2350","v":2347},{"$f":"A2352","v":2349},"RCS4-SA7R-200-24-水平",10,{"$f":"AccVelDataLink!A2351","v":2348}]
[2349,0,12000,2349,{"$f":"A2351","v":2348},{"$f":"A2353","v":2350},"RCS4-SA7R-200-24-水平",12,{"$f":"AccVelDataLink!A2352","v":2349}]
[2350,0,30000,2350,{"$f":"A2352","v":2349},{"$f":"A2354","v":2351},"RCS4-SA7R-200-24-水平",30,{"$f":"AccVelDataLink!A2353","v":2350}]
[2351,1,5000,2351,{"$f":"A2353","v":2350},{"$f":"A2355","v":2352},"RCS4-SA7R-200-24-垂直",5,{"$f":"AccVelDataLink!A2354","v":2351}]
[2352,1,6000,2352,{"$f":"A2354","v":2351},-1,"RCS4-SA7R-200-24-垂直",6,{"$f":"AccVelDataLink!A2355","v":2352}]
[2353,0,4000,2353,-1,{"$f":"A2357","v":2354},"RCS4-SA7R-200-36-水平",4,{"$f":"AccVelDataLink!A2356","v":2353}]
[2354,0,6000,2354,{"$f":"A2356","v":2353},{"$f":"A2358","v":2355},"RCS4-SA7R-200-36-水平",6,{"$f":"AccVelDataLink!A2357","v":2354}]
[2355,0,7000,2355,{"$f":"A2357","v":2354},{"$f":"A2359","v":2356},"RCS4-SA7R-200-36-水平",7,{"$f":"AccVelDataLink!A2358","v":2355}]
[2356,1,2000,2356,{"$f":"A2358","v":2355},{"$f":"A2360","v":2357},"RCS4-SA7R-200-36-垂直",2,{"$f":"AccVelDataLink!A2359","v":2356}]
[2357,1,3000,2357,{"$f":"A2359","v":2356},{"$f":"A2361","v":2358},"RCS4-SA7R-200-36-垂直",3,{"$f":"AccVelDataLink!A2360","v":2357}]
[{"$f":"A2360+1","v":2358},1,4000,2358,{"$f":"A2360","v":2357},-1,"RCS4-SA7R-200-36-垂直",4,{"$f":"AccVelDataLink!A2361","v":2358}]
[2359,0,70000,2359,-1,{"$f":"A2363","v":2360},"RCS4-SA8R-400-5-水平",70,{"$f":"AccVelDataLink!A2362","v":2359}]
[2360,0,90000,2360,{"$f":"A2362","v":2359},{"$f":"A2364","v":2361},"RCS4-SA8R-400-5-水平",90,{"$f":"AccVelDataLink!A2363","v":2360}]
[2361,1,35000,2361,{"$f":"A2363","v":2360},{"$f":"A2365","v":2362},"RCS4-SA8R-400-5-垂直",35,{"$f":"AccVelDataLink!A2364","v":2361}]
[2362,1,45000,2362,{"$f":"A2364","v":2361},-1,"RCS4-SA8R-400-5-垂直",45,{"$f":"AccVelDataLink!A2365","v":2362}]
[2363,0,60000,2363,-1,{"$f":"A2367","v":2364},"RCS4-SA8R-400-10-水平",60,{"$f":"AccVelDataLink!A2366","v":2363}]
[2364,0,70000,2364,{"$f":"A2366","v":2363},{"$f":"A2368","v":2365},"RCS4-SA8R-400-10-水平",70,{"$f":"AccVelDataLink!A2367","v":2364}]
[2365,0,80000,2365,{"$f":"A2367","v":2364},{"$f":"A2369","v":2366},"RCS4-SA8R-400-10-水平",80,{"$f":"AccVelDataLink!A2368","v":2365}]
[2366,1,30000,2366,{"$f":"A2368","v":2365},{"$f":"A2370","v":2367},"RCS4-SA8R-400-10-垂直",30,{"$f":"AccVelDataLink!A2369","v":2366}]
[2367,1,35000,2367,{"$f":"A2369","v":2366},-1,"RCS4-SA8R-400-10-垂直",35,{"$f":"AccVelDataLink!A2370","v":2367}]
[2368,0,20000,2368,-1,{"$f":"A2372","v":2369},"RCS4-SA8R-400-20-水平",20,{"$f":"AccVelDataLink!A2371","v":2368}]
[2369,0,30000,2369,{"$f":"A2371","v":2368},2370,"RCS4-SA8R-400-20-水平",30,{"$f":"AccVelDataLink!A2372","v":2369}]
[2370,0,40000,2370,2369,2371,"RCS4-SA8R-400-20-水平",40,{"$f":"AccVelDataLink!A2373","v":2370}]
[2371,0,60000,2371,2370,2372,"RCS4-SA8R-400-20-水平",60,{"$f":"AccVelDataLink!A2374","v":2371}]
[2372,1,15000,2372,2371,2373,"RCS4-SA8R-400-20-垂直",15,{"$f":"AccVelDataLink!A2375","v":2372}]
[2373,1,18000,2373,2372,2374,"RCS4-SA8R-400-20-垂直",18,{"$f":"AccVelDataLink!A2376","v":2373}]
[2374,1,20000,2374,2373,-1,"RCS4-SA8R-400-20-垂直",20,{"$f":"AccVelDataLink!A2377","v":2374}]
[2375,0,15000,2375,-1,{"$f":"A2379","v":2376},"RCS4-SA8R-400-30-水平",15,{"$f":"AccVelDataLink!A2378","v":2375}]
[2376,0,20000,2376,{"$f":"A2378","v":2375},2377,"RCS4-SA8R-400-30-水平",20,{"$f":"AccVelDataLink!A2379","v":2376}]
[2377,0,25000,2377,2376,2378,"RCS4-SA8R-400-30-水平",25,{"$f":"AccVelDataLink!A2380","v":2377}]
[2378,0,30000,2378,2377,2379,"RCS4-SA8R-400-30-水平",30,{"$f":"AccVelDataLink!A2381","v":2378}]
[2379,1,8000,2379,2378,2380,"RCS4-SA8R-400-30-垂直",8,{"$f":"AccVelDataLink!A2382","v":2379}]
[2380,1,10000,2380,2379,2381,"RCS4-SA8R-400-30-垂直",10,{"$f":"AccVelDataLink!A2383","v":2380}]
[2381,1,12000,2381,2380,-1,"RCS4-SA8R-400-30-垂直",12,{"$f":"AccVelDataLink!A2384","v":2381}]
[2382,0,5000,2382,-1,{"$f":"A2386","v":2383},"RCS4-SA8R-400-48-水平",5,{"$f":"AccVelDataLink!A2385","v":2382}]
[2383,0,6000,2383,{"$f":"A2385","v":2382},{"$f":"A2387","v":2384},"RCS4-SA8R-400-48-水平",6,{"$f":"AccVelDataLink!A2386","v":2383}]
[2384,0,8000,2384,{"$f":"A2386","v":2383},-1,"RCS4-SA8R-400-48-水平",8,{"$f":"AccVelDataLink!A2387","v":2384}]
[2385,0,18000,2385,-1,{"$f":"A2389","v":2386},"RCS4-WSA10R-60-2.5-水平",18,{"$f":"AccVelDataLink!A2388","v":2385}]
[2386,0,30000,2386,{"$f":"A2388","v":2385},{"$f":"A2390","v":2387},"RCS4-WSA10R-60-2.5-水平",30,{"$f":"AccVelDataLink!A2389","v":2386}]
[2387,0,40000,2387,{"$f":"A2389","v":2386},{"$f":"A2391","v":2388},"RCS4-WSA10R-60-2.5-水平",40,{"$f":"AccVelDataLink!A2390","v":2387}]
[2388,1,6000,2388,{"$f":"A2390","v":2387},{"$f":"A2392","v":2389},"RCS4-WSA10R-60-2.5-垂直",6,{"$f":"AccVelDataLink!A2391","v":2388}]
[2389,1,10000,2389,{"$f":"A2391","v":2388},-1,"RCS4-WSA10R-60-2.5-垂直",10,{"$f":"AccVelDataLink!A2392","v":2389}]
[2390,0,18000,2390,-1,{"$f":"A2394","v":2391},"RCS4-WSA10R-60-5-水平",18,{"$f":"AccVelDataLink!A2393","v":2390}]
[2391,0,20000,2391,{"$f":"A2393","v":2390},{"$f":"A2395","v":2392},"RCS4-WSA10R-60-5-水平",20,{"$f":"AccVelDataLink!A2394","v":2391}]
[2392,0,27000,2392,{"$f":"A2394","v":2391},{"$f":"A2396","v":2393},"RCS4-WSA10R-60-5-水平",27,{"$f":"AccVelDataLink!A2395","v":2392}]
[2393,1,5000,2393,{"$f":"A2395","v":2392},-1,"RCS4-WSA10R-60-5-垂直",5,{"$f":"AccVelDataLink!A2396","v":2393}]
[2394,0,12000,2394,-1,{"$f":"A2398","v":2395},"RCS4-WSA10R-60-10-水平",12,{"$f":"AccVelDataLink!A2397","v":2394}]
[2395,0,16000,2395,{"$f":"A2397","v":2394},{"$f":"A2399","v":2396},"RCS4-WSA10R-60-10-水平",16,{"$f":"AccVelDataLink!A2398","v":2395}]
[2396,1,3000,2396,{"$f":"A2398","v":2395},-1,"RCS4-WSA10R-60-10-垂直",3,{"$f":"AccVelDataLink!A2399","v":2396}]
[2397,0,4000,2397,-1,{"$f":"A2401","v":2398},"RCS4-WSA10R-60-16-水平",4,{"$f":"AccVelDataLink!A2400","v":2397}]
[2398,0,5000,2398,{"$f":"A2400","v":2397},{"$f":"A2402","v":2399},"RCS4-WSA10R-60-16-水平",5,{"$f":"AccVelDataLink!A2401","v":2398}]
[2399,0,{"$f":"H2402*$H$1","v":7000},{"$f":"I2402","v":2399},{"$f":"A2401","v":2398},-1,"RCS4-WSA10R-60-16-水平",7,{"$f":"AccVelDataLink!A2402","v":2399}]
[2400,0,15000,2400,-1,{"$f":"A2404","v":2401},"RCS4-WSA12R-100-3-水平",15,{"$f":"AccVelDataLink!A2403","v":2400}]
[2401,0,30000,2401,{"$f":"A2403","v":2400},{"$f":"A2405","v":2402},"RCS4-WSA12R-100-3-水平",30,{"$f":"AccVelDataLink!A2404","v":2401}]
[2402,0,55000,2402,{"$f":"A2404","v":2401},{"$f":"A2406","v":2403},"RCS4-WSA12R-100-3-水平",55,{"$f":"AccVelDataLink!A2405","v":2402}]
[2403,1,6000,2403,{"$f":"A2405","v":2402},{"$f":"A2407","v":2404},"RCS4-WSA12R-100-3-垂直",6,{"$f":"AccVelDataLink!A2406","v":2403}]
[2404,1,10000,2404,{"$f":"A2406","v":2403},{"$f":"A2408","v":2405},"RCS4-WSA12R-100-3-垂直",10,{"$f":"AccVelDataLink!A2407","v":2404}]
[2405,1,15000,2405,{"$f":"A2407","v":2404},-1,"RCS4-WSA12R-100-3-垂直",15,{"$f":"AccVelDataLink!A2408","v":2405}]
[2406,0,20000,2406,-1,{"$f":"A2410","v":2407},"RCS4-WSA12R-100-6-水平",20,{"$f":"AccVelDataLink!A2409","v":2406}]
[2407,0,30000,2407,{"$f":"A2409","v":2406},2408,"RCS4-WSA12R-100-6-水平",30,{"$f":"AccVelDataLink!A2410","v":2407}]
[2408,0,40000,2408,2407,2409,"RCS4-WSA12R-100-6-水平",40,{"$f":"AccVelDataLink!A2411","v":2408}]
[2409,0,43000,2409,2408,2410,"RCS4-WSA12R-100-6-水平",43,{"$f":"AccVelDataLink!A2412","v":2409}]
[2410,1,10000,2410,2409,2411,"RCS4-WSA12R-100-6-垂直",10,{"$f":"AccVelDataLink!A2413","v":2410}]
[2411,1,12000,2411,2410,2412,"RCS4-WSA12R-100-6-垂直",12,{"$f":"AccVelDataLink!A2414","v":2411}]
[2412,1,15000,2412,2411,-1,"RCS4-WSA12R-100-6-垂直",15,{"$f":"AccVelDataLink!A2415","v":2412}]
[2413,0,15000,2413,-1,{"$f":"A2417","v":2414},"RCS4-WSA12R-100-12-水平",15,{"$f":"AccVelDataLink!A2416","v":2413}]
[2414,0,16000,2414,{"$f":"A2416","v":2413},{"$f":"A2418","v":2415},"RCS4-WSA12R-100-12-水平",16,{"$f":"AccVelDataLink!A2417","v":2414}]
[2415,0,23000,2415,{"$f":"A2417","v":2414},{"$f":"A2419","v":2416},"RCS4-WSA12R-100-12-水平",23,{"$f":"AccVelDataLink!A2418","v":2415}]
[2416,1,6000,2416,{"$f":"A2418","v":2415},{"$f":"A2420","v":2417},"RCS4-WSA12R-100-12-垂直",6,{"$f":"AccVelDataLink!A2419","v":2416}]
[2417,1,8000,2417,{"$f":"A2419","v":2416},-1,"RCS4-WSA12R-100-12-垂直",8,{"$f":"AccVelDataLink!A2420","v":2417}]
[2418,0,6000,2418,-1,{"$f":"A2422","v":2419},"RCS4-WSA12R-100-20-水平",6,{"$f":"AccVelDataLink!A2421","v":2418}]
[2419,0,8000,2419,{"$f":"A2421","v":2418},{"$f":"A2423","v":2420},"RCS4-WSA12R-100-20-水平",8,{"$f":"AccVelDataLink!A2422","v":2419}]
[2420,0,10000,2420,{"$f":"A2422","v":2419},{"$f":"A2424","v":2421},"RCS4-WSA12R-100-20-水平",10,{"$f":"AccVelDataLink!A2423","v":2420}]
[2421,0,13000,2421,{"$f":"A2423","v":2420},{"$f":"A2425","v":2422},"RCS4-WSA12R-100-20-水平",13,{"$f":"AccVelDataLink!A2424","v":2421}]
[{"$f":"A2424+1","v":2422},1,2000,2422,{"$f":"A2424","v":2421},{"$f":"A2426","v":2423},"RCS4-WSA12R-100-20-垂直",2,{"$f":"AccVelDataLink!A2425","v":2422}]
[2423,1,3000,2423,{"$f":"A2425","v":2422},-1,"RCS4-WSA12R-100-20-垂直",3,{"$f":"AccVelDataLink!A2426","v":2423}]
[2424,0,4000,2424,-1,{"$f":"A2428","v":2425},"RCS4-WSA12R-100-30-水平",4,{"$f":"AccVelDataLink!A2427","v":2424}]
[2425,0,5000,2425,{"$f":"A2427","v":2424},-1,"RCS4-WSA12R-100-30-水平",5,{"$f":"AccVelDataLink!A2428","v":2425}]
[2426,0,30000,2426,-1,{"$f":"A2430","v":2427},"RCS4-WSA14R-200-4-水平",30,{"$f":"AccVelDataLink!A2429","v":2426}]
[2427,0,60000,2427,{"$f":"A2429","v":2426},{"$f":"A2431","v":2428},"RCS4-WSA14R-200-4-水平",60,{"$f":"AccVelDataLink!A2430","v":2427}]
[2428,0,75000,2428,{"$f":"A2430","v":2427},{"$f":"A2432","v":2429},"RCS4-WSA14R-200-4-水平",75,{"$f":"AccVelDataLink!A2431","v":2428}]
[2429,1,12000,2429,{"$f":"A2431","v":2428},{"$f":"A2433","v":2430},"RCS4-WSA14R-200-4-垂直",12,{"$f":"AccVelDataLink!A2432","v":2429}]
[2430,1,20000,2430,{"$f":"A2432","v":2429},{"$f":"A2434","v":2431},"RCS4-WSA14R-200-4-垂直",20,{"$f":"AccVelDataLink!A2433","v":2430}]
[2431,1,25000,2431,{"$f":"A2433","v":2430},-1,"RCS4-WSA14R-200-4-垂直",25,{"$f":"AccVelDataLink!A2434","v":2431}]
[2432,0,40000,2432,-1,{"$f":"A2436","v":2433},"RCS4-WSA14R-200-8-水平",40,{"$f":"AccVelDataLink!A2435","v":2432}]
[2433,0,50000,2433,{"$f":"A2435","v":2432},{"$f":"A2437","v":2434},"RCS4-WSA14R-200-8-水平",50,{"$f":"AccVelDataLink!A2436","v":2433}]
[2434,0,65000,2434,{"$f":"A2436","v":2433},{"$f":"A2438","v":2435},"RCS4-WSA14R-200-8-水平",65,{"$f":"AccVelDataLink!A2437","v":2434}]
[2435,1,10000,2435,{"$f":"A2437","v":2434},-1,"RCS4-WSA14R-200-8-垂直",10,{"$f":"AccVelDataLink!A2438","v":2435}]
[2436,0,20000,2436,-1,{"$f":"A2440","v":2437},"RCS4-WSA14R-200-16-水平",20,{"$f":"AccVelDataLink!A2439","v":2436}]
[2437,0,30000,2437,{"$f":"A2439","v":2436},{"$f":"A2441","v":2438},"RCS4-WSA14R-200-16-水平",30,{"$f":"AccVelDataLink!A2440","v":2437}]
[2438,0,45000,2438,{"$f":"A2440","v":2437},{"$f":"A2442","v":2439},"RCS4-WSA14R-200-16-水平",45,{"$f":"AccVelDataLink!A2441","v":2438}]
[2439,1,8000,2439,{"$f":"A2441","v":2438},-1,"RCS4-WSA14R-200-16-垂直",8,{"$f":"AccVelDataLink!A2442","v":2439}]
[2440,0,10000,2440,-1,{"$f":"A2444","v":2441},"RCS4-WSA14R-200-24-水平",10,{"$f":"AccVelDataLink!A2443","v":2440}]
[2441,0,15000,2441,{"$f":"A2443","v":2440},{"$f":"A2445","v":2442},"RCS4-WSA14R-200-24-水平",15,{"$f":"AccVelDataLink!A2444","v":2441}]
[2442,0,20000,2442,{"$f":"A2444","v":2441},{"$f":"A2446","v":2443},"RCS4-WSA14R-200-24-水平",20,{"$f":"AccVelDataLink!A2445","v":2442}]
[2443,1,2500,2443,{"$f":"A2445","v":2442},-1,"RCS4-WSA14R-200-24-垂直",2.5,{"$f":"AccVelDataLink!A2446","v":2443}]
[2444,0,4000,2444,-1,{"$f":"A2448","v":2445},"RCS4-WSA14R-200-36-水平",4,{"$f":"AccVelDataLink!A2447","v":2444}]
[2445,0,6000,2445,{"$f":"A2447","v":2444},{"$f":"A2449","v":2446},"RCS4-WSA14R-200-36-水平",6,{"$f":"AccVelDataLink!A2448","v":2445}]
[2446,0,7000,2446,{"$f":"A2448","v":2445},-1,"RCS4-WSA14R-200-36-水平",7,{"$f":"AccVelDataLink!A2449","v":2446}]
[2447,0,80000,2447,-1,{"$f":"A2451","v":2448},"RCS4-WSA16R-400-5-水平",80,{"$f":"AccVelDataLink!A2450","v":2447}]
[2448,0,100000,2448,{"$f":"A2450","v":2447},{"$f":"A2452","v":2449},"RCS4-WSA16R-400-5-水平",100,{"$f":"AccVelDataLink!A2451","v":2448}]
[2449,1,30000,2449,{"$f":"A2451","v":2448},{"$f":"A2453","v":2450},"RCS4-WSA16R-400-5-垂直",30,{"$f":"AccVelDataLink!A2452","v":2449}]
[2450,1,45000,2450,{"$f":"A2452","v":2449},{"$f":"A2454","v":2451},"RCS4-WSA16R-400-5-垂直",45,{"$f":"AccVelDataLink!A2453","v":2450}]
[2451,1,50000,2451,{"$f":"A2453","v":2450},-1,"RCS4-WSA16R-400-5-垂直",50,{"$f":"AccVelDataLink!A2454","v":2451}]
[2452,0,60000,2452,-1,{"$f":"A2456","v":2453},"RCS4-WSA16R-400-10-水平",60,{"$f":"AccVelDataLink!A2455","v":2452}]
[2453,0,70000,2453,{"$f":"A2455","v":2452},{"$f":"A2457","v":2454},"RCS4-WSA16R-400-10-水平",70,{"$f":"AccVelDataLink!A2456","v":2453}]
[2454,0,80000,2454,{"$f":"A2456","v":2453},{"$f":"A2458","v":2455},"RCS4-WSA16R-400-10-水平",80,{"$f":"AccVelDataLink!A2457","v":2454}]
[2455,1,30000,2455,{"$f":"A2457","v":2454},{"$f":"A2459","v":2456},"RCS4-WSA16R-400-10-垂直",30,{"$f":"AccVelDataLink!A2458","v":2455}]
[2456,1,35000,2456,{"$f":"A2458","v":2455},-1,"RCS4-WSA16R-400-10-垂直",35,{"$f":"AccVelDataLink!A2459","v":2456}]
[2457,0,22000,2457,-1,{"$f":"A2461","v":2458},"RCS4-WSA16R-400-20-水平",22,{"$f":"AccVelDataLink!A2460","v":2457}]
[2458,0,25000,2458,{"$f":"A2460","v":2457},2459,"RCS4-WSA16R-400-20-水平",25,{"$f":"AccVelDataLink!A2461","v":2458}]
[2459,0,40000,2459,2458,2460,"RCS4-WSA16R-400-20-水平",40,{"$f":"AccVelDataLink!A2462","v":2459}]
[2460,0,60000,2460,2459,2461,"RCS4-WSA16R-400-20-水平",60,{"$f":"AccVelDataLink!A2463","v":2460}]
[2461,1,12000,2461,2460,2462,"RCS4-WSA16R-400-20-垂直",12,{"$f":"AccVelDataLink!A2464","v":2461}]
[2462,1,15000,2462,2461,2463,"RCS4-WSA16R-400-20-垂直",15,{"$f":"AccVelDataLink!A2465","v":2462}]
[2463,1,{"$f":"H2466*$H$1","v":18000},{"$f":"I2466","v":2463},2462,-1,"RCS4-WSA16R-400-20-垂直",18,{"$f":"AccVelDataLink!A2466","v":2463}]
[2464,0,10000,2464,-1,{"$f":"A2468","v":2465},"RCS4-WSA16R-400-30-水平",10,{"$f":"AccVelDataLink!A2467","v":2464}]
[2465,0,20000,2465,{"$f":"A2467","v":2464},{"$f":"A2469","v":2466},"RCS4-WSA16R-400-30-水平",20,{"$f":"AccVelDataLink!A2468","v":2465}]
[2466,0,25000,2466,{"$f":"A2468","v":2465},{"$f":"A2470","v":2467},"RCS4-WSA16R-400-30-水平",25,{"$f":"AccVelDataLink!A2469","v":2466}]
[2467,0,30000,2467,{"$f":"A2469","v":2466},{"$f":"A2471","v":2468},"RCS4-WSA16R-400-30-水平",30,{"$f":"AccVelDataLink!A2470","v":2467}]
[2468,1,8000,2468,{"$f":"A2470","v":2467},{"$f":"A2472","v":2469},"RCS4-WSA16R-400-30-垂直",8,{"$f":"AccVelDataLink!A2471","v":2468}]
[2469,1,12000,2469,{"$f":"A2471","v":2468},-1,"RCS4-WSA16R-400-30-垂直",12,{"$f":"AccVelDataLink!A2472","v":2469}]
[2470,0,5000,2470,-1,{"$f":"A2474","v":2471},"RCS4-TA4R(SB)-60-2.5-水平",5,{"$f":"AccVelDataLink!A2473","v":2470}]
[2471,1,9000,2471,{"$f":"A2473","v":2470},-1,"RCS4-TA4R(SB)-60-2.5-垂直",9,{"$f":"AccVelDataLink!A2474","v":2471}]
[2472,0,5000,2472,-1,{"$f":"A2476","v":2473},"RCS4-TA4R(SB)-60-5-水平",5,{"$f":"AccVelDataLink!A2475","v":2472}]
[2473,1,6000,2473,{"$f":"A2475","v":2472},-1,"RCS4-TA4R(SB)-60-5-垂直",6,{"$f":"AccVelDataLink!A2476","v":2473}]
[2474,0,5000,2474,-1,{"$f":"A2478","v":2475},"RCS4-TA4R(SB)-60-10-水平",5,{"$f":"AccVelDataLink!A2477","v":2474}]
[2475,1,3000,2475,{"$f":"A2477","v":2474},-1,"RCS4-TA4R(SB)-60-10-垂直",3,{"$f":"AccVelDataLink!A2478","v":2475}]
[2476,0,4000,2476,-1,{"$f":"A2480","v":2477},"RCS4-TA4R(SB)-60-16-水平",4,{"$f":"AccVelDataLink!A2479","v":2476}]
[2477,1,1500,2477,{"$f":"A2479","v":2476},-1,"RCS4-TA4R(SB)-60-16-垂直",1.5,{"$f":"AccVelDataLink!A2480","v":2477}]
[2478,0,8000,2478,-1,{"$f":"A2482","v":2479},"RCS4-TA6R(SB)-100-3-水平",8,{"$f":"AccVelDataLink!A2481","v":2478}]
[2479,0,10000,2479,{"$f":"A2481","v":2478},{"$f":"A2483","v":2480},"RCS4-TA6R(SB)-100-3-水平",10,{"$f":"AccVelDataLink!A2482","v":2479}]
[2480,1,8000,2480,{"$f":"A2482","v":2479},{"$f":"A2484","v":2481},"RCS4-TA6R(SB)-100-3-垂直",8,{"$f":"AccVelDataLink!A2483","v":2480}]
[2481,1,10000,2481,{"$f":"A2483","v":2480},-1,"RCS4-TA6R(SB)-100-3-垂直",10,{"$f":"AccVelDataLink!A2484","v":2481}]
[2482,0,8000,2482,-1,{"$f":"A2486","v":2483},"RCS4-TA6R(SB)-100-6-水平",8,{"$f":"AccVelDataLink!A2485","v":2482}]
[2483,1,8000,2483,{"$f":"A2485","v":2482},{"$f":"A2487","v":2484},"RCS4-TA6R(SB)-100-6-垂直",8,{"$f":"AccVelDataLink!A2486","v":2483}]
[2484,1,10000,2484,{"$f":"A2486","v":2483},-1,"RCS4-TA6R(SB)-100-6-垂直",10,{"$f":"AccVelDataLink!A2487","v":2484}]
[2485,0,8000,2485,-1,{"$f":"A2489","v":2486},"RCS4-TA6R(SB)-100-12-水平",8,{"$f":"AccVelDataLink!A2488","v":2485}]
[{"$f":"A2488+1","v":2486},1,6000,2486,{"$f":"A2488","v":2485},-1,"RCS4-TA6R(SB)-100-12-垂直",6,{"$f":"AccVelDataLink!A2489","v":2486}]
[2487,0,6000,2487,-1,{"$f":"A2491","v":2488},"RCS4-TA6R(SB)-100-20-水平",6,{"$f":"AccVelDataLink!A2490","v":2487}]
[2488,0,8000,2488,{"$f":"A2490","v":2487},{"$f":"A2492","v":2489},"RCS4-TA6R(SB)-100-20-水平",8,{"$f":"AccVelDataLink!A2491","v":2488}]
[2489,1,3000,2489,{"$f":"A2491","v":2488},{"$f":"A2493","v":2490},"RCS4-TA6R(SB)-100-20-垂直",3,{"$f":"AccVelDataLink!A2492","v":2489}]
[2490,1,4000,2490,{"$f":"A2492","v":2489},-1,"RCS4-TA6R(SB)-100-20-垂直",4,{"$f":"AccVelDataLink!A2493","v":2490}]
[2491,0,15000,2491,-1,{"$f":"A2495","v":2492},"RCS4-TA7R(SB)-200-4-水平",15,{"$f":"AccVelDataLink!A2494","v":2491}]
[2492,1,20000,2492,{"$f":"A2494","v":2491},-1,"RCS4-TA7R(SB)-200-4-垂直",20,{"$f":"AccVelDataLink!A2495","v":2492}]
[2493,0,15000,2493,-1,{"$f":"A2497","v":2494},"RCS4-TA7R(SB)-200-8-水平",15,{"$f":"AccVelDataLink!A2496","v":2493}]
[2494,1,18000,2494,{"$f":"A2496","v":2493},-1,"RCS4-TA7R(SB)-200-8-垂直",18,{"$f":"AccVelDataLink!A2497","v":2494}]
[2495,0,15000,2495,-1,{"$f":"A2499","v":2496},"RCS4-TA7R(SB)-200-16-水平",15,{"$f":"AccVelDataLink!A2498","v":2495}]
[2496,1,8000,2496,{"$f":"A2498","v":2495},{"$f":"A2500","v":2497},"RCS4-TA7R(SB)-200-16-垂直",8,{"$f":"AccVelDataLink!A2499","v":2496}]
[2497,1,10000,2497,{"$f":"A2499","v":2496},-1,"RCS4-TA7R(SB)-200-16-垂直",10,{"$f":"AccVelDataLink!A2500","v":2497}]
[2498,0,10000,2498,-1,{"$f":"A2502","v":2499},"RCS4-TA7R(SB)-200-24-水平",10,{"$f":"AccVelDataLink!A2501","v":2498}]
[2499,0,12000,2499,{"$f":"A2501","v":2498},{"$f":"A2503","v":2500},"RCS4-TA7R(SB)-200-24-水平",12,{"$f":"AccVelDataLink!A2502","v":2499}]
[2500,1,4000,2500,{"$f":"A2502","v":2499},{"$f":"A2504","v":2501},"RCS4-TA7R(SB)-200-24-垂直",4,{"$f":"AccVelDataLink!A2503","v":2500}]
[2501,1,5000,2501,{"$f":"A2503","v":2500},-1,"RCS4-TA7R(SB)-200-24-垂直",5,{"$f":"AccVelDataLink!A2504","v":2501}]
[2502,0,10000,2502,-1,{"$f":"A2506","v":2503},"RCS4-TA4R(DB)-60-2.5-水平",10,{"$f":"AccVelDataLink!A2505","v":2502}]
[2503,1,9000,2503,{"$f":"A2505","v":2502},-1,"RCS4-TA4R(DB)-60-2.5-垂直",9,{"$f":"AccVelDataLink!A2506","v":2503}]
[2504,0,8000,2504,-1,{"$f":"A2508","v":2505},"RCS4-TA4R(DB)-60-5-水平",8,{"$f":"AccVelDataLink!A2507","v":2504}]
[2505,0,10000,2505,{"$f":"A2507","v":2504},{"$f":"A2509","v":2506},"RCS4-TA4R(DB)-60-5-水平",10,{"$f":"AccVelDataLink!A2508","v":2505}]
[2506,1,6000,2506,{"$f":"A2508","v":2505},-1,"RCS4-TA4R(DB)-60-5-垂直",6,{"$f":"AccVelDataLink!A2509","v":2506}]
[2507,0,6000,2507,-1,{"$f":"A2511","v":2508},"RCS4-TA4R(DB)-60-10-水平",6,{"$f":"AccVelDataLink!A2510","v":2507}]
[2508,0,8000,2508,{"$f":"A2510","v":2507},{"$f":"A2512","v":2509},"RCS4-TA4R(DB)-60-10-水平",8,{"$f":"AccVelDataLink!A2511","v":2508}]
[2509,1,3000,2509,{"$f":"A2511","v":2508},-1,"RCS4-TA4R(DB)-60-10-垂直",3,{"$f":"AccVelDataLink!A2512","v":2509}]
[2510,0,20000,2510,-1,{"$f":"A2514","v":2511},"RCS4-TA6R(DB)-100-3-水平",20,{"$f":"AccVelDataLink!A2513","v":2510}]
[2511,1,12000,2511,{"$f":"A2513","v":2510},-1,"RCS4-TA6R(DB)-100-3-垂直",12,{"$f":"AccVelDataLink!A2514","v":2511}]
[2512,0,20000,2512,-1,{"$f":"A2516","v":2513},"RCS4-TA6R(DB)-100-6-水平",20,{"$f":"AccVelDataLink!A2515","v":2512}]
[2513,1,10000,2513,{"$f":"A2515","v":2512},-1,"RCS4-TA6R(DB)-100-6-垂直",10,{"$f":"AccVelDataLink!A2516","v":2513}]
[2514,0,14000,2514,-1,{"$f":"A2518","v":2515},"RCS4-TA6R(DB)-100-12-水平",14,{"$f":"AccVelDataLink!A2517","v":2514}]
[2515,1,6000,2515,{"$f":"A2517","v":2514},-1,"RCS4-TA6R(DB)-100-12-垂直",6,{"$f":"AccVelDataLink!A2518","v":2515}]
[2516,0,30000,2516,-1,{"$f":"A2520","v":2517},"RCS4-TA7R(DB)-200-4-水平",30,{"$f":"AccVelDataLink!A2519","v":2516}]
[2517,1,24000,2517,{"$f":"A2519","v":2516},-1,"RCS4-TA7R(DB)-200-4-垂直",24,{"$f":"AccVelDataLink!A2520","v":2517}]
[2518,0,25000,2518,-1,{"$f":"A2522","v":2519},"RCS4-TA7R(DB)-200-8-水平",25,{"$f":"AccVelDataLink!A2521","v":2518}]
[2519,0,30000,2519,{"$f":"A2521","v":2518},{"$f":"A2523","v":2520},"RCS4-TA7R(DB)-200-8-水平",30,{"$f":"AccVelDataLink!A2522","v":2519}]
[2520,1,18000,2520,{"$f":"A2522","v":2519},-1,"RCS4-TA7R(DB)-200-8-垂直",18,{"$f":"AccVelDataLink!A2523","v":2520}]
[2521,0,20000,2521,-1,{"$f":"A2525","v":2522},"RCS4-TA7R(DB)-200-16-水平",20,{"$f":"AccVelDataLink!A2524","v":2521}]
[2522,0,25000,2522,{"$f":"A2524","v":2521},{"$f":"A2526","v":2523},"RCS4-TA7R(DB)-200-16-水平",25,{"$f":"AccVelDataLink!A2525","v":2522}]
[2523,1,8000,2523,{"$f":"A2525","v":2522},-1,"RCS4-TA7R(DB)-200-16-垂直",8,{"$f":"AccVelDataLink!A2526","v":2523}]
[2524,0,35000,2524,-1,{"$f":"A2528","v":2525},"RCS4-RRA4R-60-2.5-水平",35,{"$f":"AccVelDataLink!A2527","v":2524}]
[2525,0,40000,2525,{"$f":"A2527","v":2524},{"$f":"A2529","v":2526},"RCS4-RRA4R-60-2.5-水平",40,{"$f":"AccVelDataLink!A2528","v":2525}]
[2526,1,10000,2526,{"$f":"A2528","v":2525},-1,"RCS4-RRA4R-60-2.5-垂直",10,{"$f":"AccVelDataLink!A2529","v":2526}]
[2527,0,{"$f":"H2530*$H$1","v":20000},{"$f":"I2530","v":2527},-1,{"$f":"A2531","v":2528},"RCS4-RRA4R-60-5-水平",20,{"$f":"AccVelDataLink!A2530","v":2527}]
[2528,0,25000,2528,{"$f":"A2530","v":2527},{"$f":"A2532","v":2529},"RCS4-RRA4R-60-5-水平",25,{"$f":"AccVelDataLink!A2531","v":2528}]
[2529,0,30000,2529,{"$f":"A2531","v":2528},{"$f":"A2533","v":2530},"RCS4-RRA4R-60-5-水平",30,{"$f":"AccVelDataLink!A2532","v":2529}]
[2530,1,6000,2530,{"$f":"A2532","v":2529},-1,"RCS4-RRA4R-60-5-垂直",6,{"$f":"AccVelDataLink!A2533","v":2530}]
[2531,0,12000,2531,-1,{"$f":"A2535","v":2532},"RCS4-RRA4R-60-10-水平",12,{"$f":"AccVelDataLink!A2534","v":2531}]
[2532,0,15000,2532,{"$f":"A2534","v":2531},{"$f":"A2536","v":2533},"RCS4-RRA4R-60-10-水平",15,{"$f":"AccVelDataLink!A2535","v":2532}]
[2533,0,18000,2533,{"$f":"A2535","v":2532},{"$f":"A2537","v":2534},"RCS4-RRA4R-60-10-水平",18,{"$f":"AccVelDataLink!A2536","v":2533}]
[2534,1,4000,2534,{"$f":"A2536","v":2533},-1,"RCS4-RRA4R-60-10-垂直",4,{"$f":"AccVelDataLink!A2537","v":2534}]
[2535,0,5000,2535,-1,{"$f":"A2539","v":2536},"RCS4-RRA4R-60-16-水平",5,{"$f":"AccVelDataLink!A2538","v":2535}]
[2536,0,6000,2536,{"$f":"A2538","v":2535},{"$f":"A2540","v":2537},"RCS4-RRA4R-60-16-水平",6,{"$f":"AccVelDataLink!A2539","v":2536}]
[2537,0,8000,2537,{"$f":"A2539","v":2536},{"$f":"A2541","v":2538},"RCS4-RRA4R-60-16-水平",8,{"$f":"AccVelDataLink!A2540","v":2537}]
[2538,1,2000,2538,{"$f":"A2540","v":2537},-1,"RCS4-RRA4R-60-16-垂直",2,{"$f":"AccVelDataLink!A2541","v":2538}]
[2539,0,40000,2539,-1,{"$f":"A2543","v":2540},"RCS4-RRA6R-100-3-水平",40,{"$f":"AccVelDataLink!A2542","v":2539}]
[2540,0,50000,2540,{"$f":"A2542","v":2539},{"$f":"A2544","v":2541},"RCS4-RRA6R-100-3-水平",50,{"$f":"AccVelDataLink!A2543","v":2540}]
[2541,0,60000,2541,{"$f":"A2543","v":2540},{"$f":"A2545","v":2542},"RCS4-RRA6R-100-3-水平",60,{"$f":"AccVelDataLink!A2544","v":2541}]
[2542,1,20000,2542,{"$f":"A2544","v":2541},-1,"RCS4-RRA6R-100-3-垂直",20,{"$f":"AccVelDataLink!A2545","v":2542}]
[2543,0,25000,2543,-1,{"$f":"A2547","v":2544},"RCS4-RRA6R-100-6-水平",25,{"$f":"AccVelDataLink!A2546","v":2543}]
[2544,0,30000,2544,{"$f":"A2546","v":2543},2545,"RCS4-RRA6R-100-6-水平",30,{"$f":"AccVelDataLink!A2547","v":2544}]
[2545,0,45000,2545,2544,2546,"RCS4-RRA6R-100-6-水平",45,{"$f":"AccVelDataLink!A2548","v":2545}]
[2546,0,50000,2546,2545,2547,"RCS4-RRA6R-100-6-水平",50,{"$f":"AccVelDataLink!A2549","v":2546}]
[2547,1,12000,2547,2546,2548,"RCS4-RRA6R-100-6-垂直",12,{"$f":"AccVelDataLink!A2550","v":2547}]
[2548,1,15000,2548,2547,2549,"RCS4-RRA6R-100-6-垂直",15,{"$f":"AccVelDataLink!A2551","v":2548}]
[2549,1,19000,2549,2548,-1,"RCS4-RRA6R-100-6-垂直",19,{"$f":"AccVelDataLink!A2552","v":2549}]
[{"$f":"A2552+1","v":2550},0,12000,2550,-1,{"$f":"A2554","v":2551},"RCS4-RRA6R-100-12-水平",12,{"$f":"AccVelDataLink!A2553","v":2550}]
[2551,0,20000,2551,{"$f":"A2553","v":2550},{"$f":"A2555","v":2552},"RCS4-RRA6R-100-12-水平",20,{"$f":"AccVelDataLink!A2554","v":2551}]
[2552,0,25000,2552,{"$f":"A2554","v":2551},{"$f":"A2556","v":2553},"RCS4-RRA6R-100-12-水平",25,{"$f":"AccVelDataLink!A2555","v":2552}]
[2553,1,6000,2553,{"$f":"A2555","v":2552},{"$f":"A2557","v":2554},"RCS4-RRA6R-100-12-垂直",6,{"$f":"AccVelDataLink!A2556","v":2553}]
[2554,1,8000,2554,{"$f":"A2556","v":2553},{"$f":"A2558","v":2555},"RCS4-RRA6R-100-12-垂直",8,{"$f":"AccVelDataLink!A2557","v":2554}]
[2555,1,9000,2555,{"$f":"A2557","v":2554},-1,"RCS4-RRA6R-100-12-垂直",9,{"$f":"AccVelDataLink!A2558","v":2555}]
[2556,0,6000,2556,-1,{"$f":"A2560","v":2557},"RCS4-RRA6R-100-20-水平",6,{"$f":"AccVelDataLink!A2559","v":2556}]
[2557,0,8000,2557,{"$f":"A2559","v":2556},{"$f":"A2561","v":2558},"RCS4-RRA6R-100-20-水平",8,{"$f":"AccVelDataLink!A2560","v":2557}]
[2558,0,10000,2558,{"$f":"A2560","v":2557},{"$f":"A2562","v":2559},"RCS4-RRA6R-100-20-水平",10,{"$f":"AccVelDataLink!A2561","v":2558}]
[2559,0,15000,2559,{"$f":"A2561","v":2558},{"$f":"A2563","v":2560},"RCS4-RRA6R-100-20-水平",15,{"$f":"AccVelDataLink!A2562","v":2559}]
[2560,1,3000,2560,{"$f":"A2562","v":2559},{"$f":"A2564","v":2561},"RCS4-RRA6R-100-20-垂直",3,{"$f":"AccVelDataLink!A2563","v":2560}]
[2561,1,4000,2561,{"$f":"A2563","v":2560},-1,"RCS4-RRA6R-100-20-垂直",4,{"$f":"AccVelDataLink!A2564","v":2561}]
[2562,0,60000,2562,-1,{"$f":"A2566","v":2563},"RCS4-RRA7R-200-4-水平",60,{"$f":"AccVelDataLink!A2565","v":2562}]
[2563,0,70000,2563,{"$f":"A2565","v":2562},{"$f":"A2567","v":2564},"RCS4-RRA7R-200-4-水平",70,{"$f":"AccVelDataLink!A2566","v":2563}]
[2564,0,80000,2564,{"$f":"A2566","v":2563},{"$f":"A2568","v":2565},"RCS4-RRA7R-200-4-水平",80,{"$f":"AccVelDataLink!A2567","v":2564}]
[2565,1,30000,2565,{"$f":"A2567","v":2564},{"$f":"A2569","v":2566},"RCS4-RRA7R-200-4-垂直",30,{"$f":"AccVelDataLink!A2568","v":2565}]
[2566,1,35000,2566,{"$f":"A2568","v":2565},-1,"RCS4-RRA7R-200-4-垂直",35,{"$f":"AccVelDataLink!A2569","v":2566}]
[2567,0,40000,2567,-1,{"$f":"A2571","v":2568},"RCS4-RRA7R-200-8-水平",40,{"$f":"AccVelDataLink!A2570","v":2567}]
[2568,0,50000,2568,{"$f":"A2570","v":2567},{"$f":"A2572","v":2569},"RCS4-RRA7R-200-8-水平",50,{"$f":"AccVelDataLink!A2571","v":2568}]
[2569,0,60000,2569,{"$f":"A2571","v":2568},{"$f":"A2573","v":2570},"RCS4-RRA7R-200-8-水平",60,{"$f":"AccVelDataLink!A2572","v":2569}]
[2570,1,20000,2570,{"$f":"A2572","v":2569},{"$f":"A2574","v":2571},"RCS4-RRA7R-200-8-垂直",20,{"$f":"AccVelDataLink!A2573","v":2570}]
[2571,1,25000,2571,{"$f":"A2573","v":2570},-1,"RCS4-RRA7R-200-8-垂直",25,{"$f":"AccVelDataLink!A2574","v":2571}]
[2572,0,20000,2572,-1,{"$f":"A2576","v":2573},"RCS4-RRA7R-200-16-水平",20,{"$f":"AccVelDataLink!A2575","v":2572}]
[2573,0,25000,2573,{"$f":"A2575","v":2572},2574,"RCS4-RRA7R-200-16-水平",25,{"$f":"AccVelDataLink!A2576","v":2573}]
[2574,0,30000,2574,2573,2575,"RCS4-RRA7R-200-16-水平",30,{"$f":"AccVelDataLink!A2577","v":2574}]
[2575,0,45000,2575,2574,2576,"RCS4-RRA7R-200-16-水平",45,{"$f":"AccVelDataLink!A2578","v":2575}]
[2576,1,8000,2576,2575,2577,"RCS4-RRA7R-200-16-垂直",8,{"$f":"AccVelDataLink!A2579","v":2576}]
[2577,1,10000,2577,2576,2578,"RCS4-RRA7R-200-16-垂直",10,{"$f":"AccVelDataLink!A2580","v":2577}]
[2578,1,12000,2578,2577,-1,"RCS4-RRA7R-200-16-垂直",12,{"$f":"AccVelDataLink!A2581","v":2578}]
[2579,0,10000,2579,-1,{"$f":"A2583","v":2580},"RCS4-RRA7R-200-24-水平",10,{"$f":"AccVelDataLink!A2582","v":2579}]
[2580,0,15000,2580,{"$f":"A2582","v":2579},{"$f":"A2584","v":2581},"RCS4-RRA7R-200-24-水平",15,{"$f":"AccVelDataLink!A2583","v":2580}]
[2581,0,20000,2581,{"$f":"A2583","v":2580},{"$f":"A2585","v":2582},"RCS4-RRA7R-200-24-水平",20,{"$f":"AccVelDataLink!A2584","v":2581}]
[2582,1,4000,2582,{"$f":"A2584","v":2581},{"$f":"A2586","v":2583},"RCS4-RRA7R-200-24-垂直",4,{"$f":"AccVelDataLink!A2585","v":2582}]
[2583,1,6000,2583,{"$f":"A2585","v":2582},-1,"RCS4-RRA7R-200-24-垂直",6,{"$f":"AccVelDataLink!A2586","v":2583}]
[2584,0,60000,2584,-1,{"$f":"A2588","v":2585},"RCS4-RRA8R-400-5-水平",60,{"$f":"AccVelDataLink!A2587","v":2584}]
[2585,0,80000,2585,{"$f":"A2587","v":2584},2586,"RCS4-RRA8R-400-5-水平",80,{"$f":"AccVelDataLink!A2588","v":2585}]
[2586,0,100000,2586,2585,2587,"RCS4-RRA8R-400-5-水平",100,{"$f":"AccVelDataLink!A2589","v":2586}]
[2587,1,25000,2587,2586,2588,"RCS4-RRA8R-400-5-垂直",25,{"$f":"AccVelDataLink!A2590","v":2587}]
[2588,1,40000,2588,2587,2589,"RCS4-RRA8R-400-5-垂直",40,{"$f":"AccVelDataLink!A2591","v":2588}]
[2589,1,50000,2589,2588,2590,"RCS4-RRA8R-400-5-垂直",50,{"$f":"AccVelDataLink!A2592","v":2589}]
[2590,1,72000,2590,2589,-1,"RCS4-RRA8R-400-5-垂直",72,{"$f":"AccVelDataLink!A2593","v":2590}]
[2591,0,{"$f":"H2594*$H$1","v":60000},{"$f":"I2594","v":2591},-1,{"$f":"A2595","v":2592},"RCS4-RRA8R-400-10-水平",60,{"$f":"AccVelDataLink!A2594","v":2591}]
[2592,0,70000,2592,{"$f":"A2594","v":2591},{"$f":"A2596","v":2593},"RCS4-RRA8R-400-10-水平",70,{"$f":"AccVelDataLink!A2595","v":2592}]
[2593,0,80000,2593,{"$f":"A2595","v":2592},{"$f":"A2597","v":2594},"RCS4-RRA8R-400-10-水平",80,{"$f":"AccVelDataLink!A2596","v":2593}]
[2594,1,20000,2594,{"$f":"A2596","v":2593},{"$f":"A2598","v":2595},"RCS4-RRA8R-400-10-垂直",20,{"$f":"AccVelDataLink!A2597","v":2594}]
[2595,1,30000,2595,{"$f":"A2597","v":2594},{"$f":"A2599","v":2596},"RCS4-RRA8R-400-10-垂直",30,{"$f":"AccVelDataLink!A2598","v":2595}]
[2596,1,34000,2596,{"$f":"A2598","v":2595},-1,"RCS4-RRA8R-400-10-垂直",34,{"$f":"AccVelDataLink!A2599","v":2596}]
[2597,0,20000,2597,-1,{"$f":"A2601","v":2598},"RCS4-RRA8R-400-20-水平",20,{"$f":"AccVelDataLink!A2600","v":2597}]
[2598,0,25000,2598,{"$f":"A2600","v":2597},2599,"RCS4-RRA8R-400-20-水平",25,{"$f":"AccVelDataLink!A2601","v":2598}]
[2599,0,40000,2599,2598,2600,"RCS4-RRA8R-400-20-水平",40,{"$f":"AccVelDataLink!A2602","v":2599}]
[2600,0,60000,2600,2599,2601,"RCS4-RRA8R-400-20-水平",60,{"$f":"AccVelDataLink!A2603","v":2600}]
[2601,1,12000,2601,2600,2602,"RCS4-RRA8R-400-20-垂直",12,{"$f":"AccVelDataLink!A2604","v":2601}]
[2602,1,15000,2602,2601,2603,"RCS4-RRA8R-400-20-垂直",15,{"$f":"AccVelDataLink!A2605","v":2602}]
[2603,1,17000,2603,2602,-1,"RCS4-RRA8R-400-20-垂直",17,{"$f":"AccVelDataLink!A2606","v":2603}]
[2604,0,10000,2604,-1,{"$f":"A2608","v":2605},"RCS4-RRA8R-400-30-水平",10,{"$f":"AccVelDataLink!A2607","v":2604}]
[2605,0,15000,2605,{"$f":"A2607","v":2604},{"$f":"A2609","v":2606},"RCS4-RRA8R-400-30-水平",15,{"$f":"AccVelDataLink!A2608","v":2605}]
[2606,0,20000,2606,{"$f":"A2608","v":2605},{"$f":"A2610","v":2607},"RCS4-RRA8R-400-30-水平",20,{"$f":"AccVelDataLink!A2609","v":2606}]
[2607,0,30000,2607,{"$f":"A2609","v":2606},{"$f":"A2611","v":2608},"RCS4-RRA8R-400-30-水平",30,{"$f":"AccVelDataLink!A2610","v":2607}]
[2608,1,6000,2608,{"$f":"A2610","v":2607},{"$f":"A2612","v":2609},"RCS4-RRA8R-400-30-垂直",6,{"$f":"AccVelDataLink!A2611","v":2608}]
[2609,1,8000,2609,{"$f":"A2611","v":2608},-1,"RCS4-RRA8R-400-30-垂直",8,{"$f":"AccVelDataLink!A2612","v":2609}]
[2610,0,25000,2610,-1,{"$f":"A2614","v":2611},"RCS4-WRA10R-60-2.5-水平",25,{"$f":"AccVelDataLink!A2613","v":2610}]
[2611,0,35000,2611,{"$f":"A2613","v":2610},{"$f":"A2615","v":2612},"RCS4-WRA10R-60-2.5-水平",35,{"$f":"AccVelDataLink!A2614","v":2611}]
[2612,0,40000,2612,{"$f":"A2614","v":2611},{"$f":"A2616","v":2613},"RCS4-WRA10R-60-2.5-水平",40,{"$f":"AccVelDataLink!A2615","v":2612}]
[2613,1,8000,2613,{"$f":"A2615","v":2612},{"$f":"A2617","v":2614},"RCS4-WRA10R-60-2.5-垂直",8,{"$f":"AccVelDataLink!A2616","v":2613}]
[{"$f":"A2616+1","v":2614},1,10000,2614,{"$f":"A2616","v":2613},-1,"RCS4-WRA10R-60-2.5-垂直",10,{"$f":"AccVelDataLink!A2617","v":2614}]
[2615,0,10000,2615,-1,{"$f":"A2619","v":2616},"RCS4-WRA10R-60-5-水平",10,{"$f":"AccVelDataLink!A2618","v":2615}]
[2616,0,15000,2616,{"$f":"A2618","v":2615},{"$f":"A2620","v":2617},"RCS4-WRA10R-60-5-水平",15,{"$f":"AccVelDataLink!A2619","v":2616}]
[2617,0,20000,2617,{"$f":"A2619","v":2616},{"$f":"A2621","v":2618},"RCS4-WRA10R-60-5-水平",20,{"$f":"AccVelDataLink!A2620","v":2617}]
[2618,0,25000,2618,{"$f":"A2620","v":2617},{"$f":"A2622","v":2619},"RCS4-WRA10R-60-5-水平",25,{"$f":"AccVelDataLink!A2621","v":2618}]
[2619,1,5000,2619,{"$f":"A2621","v":2618},-1,"RCS4-WRA10R-60-5-垂直",5,{"$f":"AccVelDataLink!A2622","v":2619}]
[2620,0,6000,2620,-1,{"$f":"A2624","v":2621},"RCS4-WRA10R-60-10-水平",6,{"$f":"AccVelDataLink!A2623","v":2620}]
[2621,0,9000,2621,{"$f":"A2623","v":2620},{"$f":"A2625","v":2622},"RCS4-WRA10R-60-10-水平",9,{"$f":"AccVelDataLink!A2624","v":2621}]
[2622,0,13000,2622,{"$f":"A2624","v":2621},{"$f":"A2626","v":2623},"RCS4-WRA10R-60-10-水平",13,{"$f":"AccVelDataLink!A2625","v":2622}]
[2623,1,2000,2623,{"$f":"A2625","v":2622},{"$f":"A2627","v":2624},"RCS4-WRA10R-60-10-垂直",2,{"$f":"AccVelDataLink!A2626","v":2623}]
[2624,1,2500,2624,{"$f":"A2626","v":2623},-1,"RCS4-WRA10R-60-10-垂直",2.5,{"$f":"AccVelDataLink!A2627","v":2624}]
[2625,0,3000,2625,-1,{"$f":"A2629","v":2626},"RCS4-WRA10R-60-16-水平",3,{"$f":"AccVelDataLink!A2628","v":2625}]
[2626,0,4000,2626,{"$f":"A2628","v":2625},{"$f":"A2630","v":2627},"RCS4-WRA10R-60-16-水平",4,{"$f":"AccVelDataLink!A2629","v":2626}]
[2627,0,5000,2627,{"$f":"A2629","v":2626},-1,"RCS4-WRA10R-60-16-水平",5,{"$f":"AccVelDataLink!A2630","v":2627}]
[2628,0,40000,2628,-1,{"$f":"A2632","v":2629},"RCS4-WRA12R-100-3-水平",40,{"$f":"AccVelDataLink!A2631","v":2628}]
[2629,0,50000,2629,{"$f":"A2631","v":2628},{"$f":"A2633","v":2630},"RCS4-WRA12R-100-3-水平",50,{"$f":"AccVelDataLink!A2632","v":2629}]
[2630,0,60000,2630,{"$f":"A2632","v":2629},{"$f":"A2634","v":2631},"RCS4-WRA12R-100-3-水平",60,{"$f":"AccVelDataLink!A2633","v":2630}]
[2631,1,20000,2631,{"$f":"A2633","v":2630},-1,"RCS4-WRA12R-100-3-垂直",20,{"$f":"AccVelDataLink!A2634","v":2631}]
[2632,0,25000,2632,-1,{"$f":"A2636","v":2633},"RCS4-WRA12R-100-6-水平",25,{"$f":"AccVelDataLink!A2635","v":2632}]
[2633,0,30000,2633,{"$f":"A2635","v":2632},{"$f":"A2637","v":2634},"RCS4-WRA12R-100-6-水平",30,{"$f":"AccVelDataLink!A2636","v":2633}]
[2634,0,40000,2634,{"$f":"A2636","v":2633},{"$f":"A2638","v":2635},"RCS4-WRA12R-100-6-水平",40,{"$f":"AccVelDataLink!A2637","v":2634}]
[2635,1,12000,2635,{"$f":"A2637","v":2634},{"$f":"A2639","v":2636},"RCS4-WRA12R-100-6-垂直",12,{"$f":"AccVelDataLink!A2638","v":2635}]
[2636,1,15000,2636,{"$f":"A2638","v":2635},-1,"RCS4-WRA12R-100-6-垂直",15,{"$f":"AccVelDataLink!A2639","v":2636}]
[2637,0,15000,2637,-1,{"$f":"A2641","v":2638},"RCS4-WRA12R-100-12-水平",15,{"$f":"AccVelDataLink!A2640","v":2637}]
[2638,0,20000,2638,{"$f":"A2640","v":2637},{"$f":"A2642","v":2639},"RCS4-WRA12R-100-12-水平",20,{"$f":"AccVelDataLink!A2641","v":2638}]
[2639,0,25000,2639,{"$f":"A2641","v":2638},{"$f":"A2643","v":2640},"RCS4-WRA12R-100-12-水平",25,{"$f":"AccVelDataLink!A2642","v":2639}]
[2640,1,5000,2640,{"$f":"A2642","v":2639},{"$f":"A2644","v":2641},"RCS4-WRA12R-100-12-垂直",5,{"$f":"AccVelDataLink!A2643","v":2640}]
[2641,1,6000,2641,{"$f":"A2643","v":2640},-1,"RCS4-WRA12R-100-12-垂直",6,{"$f":"AccVelDataLink!A2644","v":2641}]
[2642,0,6000,2642,-1,{"$f":"A2646","v":2643},"RCS4-WRA12R-100-20-水平",6,{"$f":"AccVelDataLink!A2645","v":2642}]
[2643,0,8000,2643,{"$f":"A2645","v":2642},{"$f":"A2647","v":2644},"RCS4-WRA12R-100-20-水平",8,{"$f":"AccVelDataLink!A2646","v":2643}]
[2644,0,10000,2644,{"$f":"A2646","v":2643},{"$f":"A2648","v":2645},"RCS4-WRA12R-100-20-水平",10,{"$f":"AccVelDataLink!A2647","v":2644}]
[2645,0,12000,2645,{"$f":"A2647","v":2644},{"$f":"A2649","v":2646},"RCS4-WRA12R-100-20-水平",12,{"$f":"AccVelDataLink!A2648","v":2645}]
[2646,1,1500,2646,{"$f":"A2648","v":2645},{"$f":"A2650","v":2647},"RCS4-WRA12R-100-20-垂直",1.5,{"$f":"AccVelDataLink!A2649","v":2646}]
[2647,1,2000,2647,{"$f":"A2649","v":2646},-1,"RCS4-WRA12R-100-20-垂直",2,{"$f":"AccVelDataLink!A2650","v":2647}]
[2648,0,60000,2648,-1,{"$f":"A2652","v":2649},"RCS4-WRA14R-200-4-水平",60,{"$f":"AccVelDataLink!A2651","v":2648}]
[2649,0,70000,2649,{"$f":"A2651","v":2648},{"$f":"A2653","v":2650},"RCS4-WRA14R-200-4-水平",70,{"$f":"AccVelDataLink!A2652","v":2649}]
[2650,0,85000,2650,{"$f":"A2652","v":2649},{"$f":"A2654","v":2651},"RCS4-WRA14R-200-4-水平",85,{"$f":"AccVelDataLink!A2653","v":2650}]
[2651,1,30000,2651,{"$f":"A2653","v":2650},-1,"RCS4-WRA14R-200-4-垂直",30,{"$f":"AccVelDataLink!A2654","v":2651}]
[2652,0,40000,2652,-1,{"$f":"A2656","v":2653},"RCS4-WRA14R-200-8-水平",40,{"$f":"AccVelDataLink!A2655","v":2652}]
[2653,0,50000,2653,{"$f":"A2655","v":2652},{"$f":"A2657","v":2654},"RCS4-WRA14R-200-8-水平",50,{"$f":"AccVelDataLink!A2656","v":2653}]
[2654,0,65000,2654,{"$f":"A2656","v":2653},{"$f":"A2658","v":2655},"RCS4-WRA14R-200-8-水平",65,{"$f":"AccVelDataLink!A2657","v":2654}]
[2655,1,{"$f":"H2658*$H$1","v":20000},{"$f":"I2658","v":2655},{"$f":"A2657","v":2654},-1,"RCS4-WRA14R-200-8-垂直",20,{"$f":"AccVelDataLink!A2658","v":2655}]
[2656,0,20000,2656,-1,{"$f":"A2660","v":2657},"RCS4-WRA14R-200-16-水平",20,{"$f":"AccVelDataLink!A2659","v":2656}]
[2657,0,25000,2657,{"$f":"A2659","v":2656},{"$f":"A2661","v":2658},"RCS4-WRA14R-200-16-水平",25,{"$f":"AccVelDataLink!A2660","v":2657}]
[2658,0,30000,2658,{"$f":"A2660","v":2657},{"$f":"A2662","v":2659},"RCS4-WRA14R-200-16-水平",30,{"$f":"AccVelDataLink!A2661","v":2658}]
[2659,0,50000,2659,{"$f":"A2661","v":2658},{"$f":"A2663","v":2660},"RCS4-WRA14R-200-16-水平",50,{"$f":"AccVelDataLink!A2662","v":2659}]
[2660,1,6000,2660,{"$f":"A2662","v":2659},{"$f":"A2664","v":2661},"RCS4-WRA14R-200-16-垂直",6,{"$f":"AccVelDataLink!A2663","v":2660}]
[2661,1,8000,2661,{"$f":"A2663","v":2660},-1,"RCS4-WRA14R-200-16-垂直",8,{"$f":"AccVelDataLink!A2664","v":2661}]
[2662,0,6000,2662,-1,{"$f":"A2666","v":2663},"RCS4-WRA14R-200-24-水平",6,{"$f":"AccVelDataLink!A2665","v":2662}]
[2663,0,10000,2663,{"$f":"A2665","v":2662},{"$f":"A2667","v":2664},"RCS4-WRA14R-200-24-水平",10,{"$f":"AccVelDataLink!A2666","v":2663}]
[2664,0,15000,2664,{"$f":"A2666","v":2663},{"$f":"A2668","v":2665},"RCS4-WRA14R-200-24-水平",15,{"$f":"AccVelDataLink!A2667","v":2664}]
[2665,0,25000,2665,{"$f":"A2667","v":2664},{"$f":"A2669","v":2666},"RCS4-WRA14R-200-24-水平",25,{"$f":"AccVelDataLink!A2668","v":2665}]
[2666,1,2000,2666,{"$f":"A2668","v":2665},{"$f":"A2670","v":2667},"RCS4-WRA14R-200-24-垂直",2,{"$f":"AccVelDataLink!A2669","v":2666}]
[2667,1,3000,2667,{"$f":"A2669","v":2666},-1,"RCS4-WRA14R-200-24-垂直",3,{"$f":"AccVelDataLink!A2670","v":2667}]
[2668,0,60000,2668,-1,{"$f":"A2672","v":2669},"RCS4-WRA16R-400-5-水平",60,{"$f":"AccVelDataLink!A2671","v":2668}]
[2669,0,80000,2669,{"$f":"A2671","v":2668},{"$f":"A2673","v":2670},"RCS4-WRA16R-400-5-水平",80,{"$f":"AccVelDataLink!A2672","v":2669}]
[2670,0,100000,2670,{"$f":"A2672","v":2669},{"$f":"A2674","v":2671},"RCS4-WRA16R-400-5-水平",100,{"$f":"AccVelDataLink!A2673","v":2670}]
[2671,1,25000,2671,{"$f":"A2673","v":2670},{"$f":"A2675","v":2672},"RCS4-WRA16R-400-5-垂直",25,{"$f":"AccVelDataLink!A2674","v":2671}]
[2672,1,30000,2672,{"$f":"A2674","v":2671},{"$f":"A2676","v":2673},"RCS4-WRA16R-400-5-垂直",30,{"$f":"AccVelDataLink!A2675","v":2672}]
[2673,1,50000,2673,{"$f":"A2675","v":2672},-1,"RCS4-WRA16R-400-5-垂直",50,{"$f":"AccVelDataLink!A2676","v":2673}]
[2674,0,60000,2674,-1,{"$f":"A2678","v":2675},"RCS4-WRA16R-400-10-水平",60,{"$f":"AccVelDataLink!A2677","v":2674}]
[{"$f":"A2677+1","v":2675},0,70000,2675,{"$f":"A2677","v":2674},{"$f":"A2679","v":2676},"RCS4-WRA16R-400-10-水平",70,{"$f":"AccVelDataLink!A2678","v":2675}]
[2676,0,80000,2676,{"$f":"A2678","v":2675},{"$f":"A2680","v":2677},"RCS4-WRA16R-400-10-水平",80,{"$f":"AccVelDataLink!A2679","v":2676}]
[2677,1,20000,2677,{"$f":"A2679","v":2676},{"$f":"A2681","v":2678},"RCS4-WRA16R-400-10-垂直",20,{"$f":"AccVelDataLink!A2680","v":2677}]
[{"$f":"A2680+1","v":2678},1,35000,2678,{"$f":"A2680","v":2677},-1,"RCS4-WRA16R-400-10-垂直",35,{"$f":"AccVelDataLink!A2681","v":2678}]
[{"$f":"A2681+1","v":2679},0,20000,2679,-1,{"$f":"A2683","v":2680},"RCS4-WRA16R-400-20-水平",20,{"$f":"AccVelDataLink!A2682","v":2679}]
[2680,0,25000,2680,{"$f":"A2682","v":2679},{"$f":"A2684","v":2681},"RCS4-WRA16R-400-20-水平",25,{"$f":"AccVelDataLink!A2683","v":2680}]
[2681,0,40000,2681,{"$f":"A2683","v":2680},{"$f":"A2685","v":2682},"RCS4-WRA16R-400-20-水平",40,{"$f":"AccVelDataLink!A2684","v":2681}]
[2682,0,60000,2682,{"$f":"A2684","v":2681},{"$f":"A2686","v":2683},"RCS4-WRA16R-400-20-水平",60,{"$f":"AccVelDataLink!A2685","v":2682}]
[2683,1,10000,2683,{"$f":"A2685","v":2682},{"$f":"A2687","v":2684},"RCS4-WRA16R-400-20-垂直",10,{"$f":"AccVelDataLink!A2686","v":2683}]
[2684,1,12000,2684,{"$f":"A2686","v":2683},-1,"RCS4-WRA16R-400-20-垂直",12,{"$f":"AccVelDataLink!A2687","v":2684}]
[2685,0,8000,2685,-1,{"$f":"A2689","v":2686},"RCS4-WRA16R-400-30-水平",8,{"$f":"AccVelDataLink!A2688","v":2685}]
[2686,0,15000,2686,{"$f":"A2688","v":2685},2687,"RCS4-WRA16R-400-30-水平",15,{"$f":"AccVelDataLink!A2689","v":2686}]
[2687,0,20000,2687,2686,2688,"RCS4-WRA16R-400-30-水平",20,{"$f":"AccVelDataLink!A2690","v":2687}]
[2688,0,30000,2688,2687,2689,"RCS4-WRA16R-400-30-水平",30,{"$f":"AccVelDataLink!A2691","v":2688}]
[2689,1,3000,2689,2688,2690,"RCS4-WRA16R-400-30-垂直",3,{"$f":"AccVelDataLink!A2692","v":2689}]
[2690,1,4000,2690,2689,2691,"RCS4-WRA16R-400-30-垂直",4,{"$f":"AccVelDataLink!A2693","v":2690}]
[2691,1,5000,2691,2690,2692,"RCS4-WRA16R-400-30-垂直",5,{"$f":"AccVelDataLink!A2694","v":2691}]
[2692,1,6000,2692,2691,-1,"RCS4-WRA16R-400-30-垂直",6,{"$f":"AccVelDataLink!A2695","v":2692}]
[2693,0,100000,2693,-1,2694,"ISB-WXM-750-10-水平","↓ Ver3.12 ISB-WXM/WXMXは垂直搬送重量変更の為上書き"]
[2694,0,120000,2694,2693,2695,"ISB-WXM-750-10-水平"]
[2695,0,150000,2695,2694,2696,"ISB-WXM-750-10-水平"]
[2696,0,200000,2696,2695,2697,"ISB-WXM-750-10-水平"]
[2697,1,50000,2698,2696,2698,"ISB-WXM-750-10-垂直"]
[2698,1,60000,2699,2697,2699,"ISB-WXM-750-10-垂直"]
[2699,1,65000,2700,2698,-1,"ISB-WXM-750-10-垂直"]
[2700,0,30000,2702,-1,2701,"ISB-WXM-750-25-水平"]
[2701,0,36000,2703,2700,2702,"ISB-WXM-750-25-水平"]
[2702,0,46000,2704,2701,2703,"ISB-WXM-750-25-水平"]
[2703,0,54000,2705,2702,2704,"ISB-WXM-750-25-水平"]
[2704,0,60000,2706,2703,2705,"ISB-WXM-750-25-水平"]
[2705,0,68000,2707,2704,2706,"ISB-WXM-750-25-水平"]
[2706,0,80000,2708,2705,2707,"ISB-WXM-750-25-水平"]
[2707,0,96000,2709,2706,2708,"ISB-WXM-750-25-水平"]
[2708,0,120000,2710,2707,2709,"ISB-WXM-750-25-水平"]
[2709,0,160000,2711,2708,2710,"ISB-WXM-750-25-水平"]
[2710,1,20000,2713,2709,2711,"ISB-WXM-750-25-垂直"]
[2711,1,22000,2714,2710,2712,"ISB-WXM-750-25-垂直"]
[2712,1,24000,2715,2711,2713,"ISB-WXM-750-25-垂直"]
[2713,1,26000,2716,2712,2714,"ISB-WXM-750-25-垂直"]
[2714,1,29000,2717,2713,2715,"ISB-WXM-750-25-垂直"]
[2715,1,31000,2718,2714,2716,"ISB-WXM-750-25-垂直"]
[2716,1,32000,2719,2715,-1,"ISB-WXM-750-25-垂直"]
[2717,0,15000,2722,-1,2718,"ISB-WXM-750-50-水平"]
[2718,0,18000,2723,2717,2719,"ISB-WXM-750-50-水平"]
[2719,0,23000,2724,2718,2720,"ISB-WXM-750-50-水平"]
[2720,0,27000,2725,2719,2721,"ISB-WXM-750-50-水平"]
[2721,0,30000,2726,2720,2722,"ISB-WXM-750-50-水平"]
[2722,0,34000,2727,2721,2723,"ISB-WXM-750-50-水平"]
[2723,0,40000,2728,2722,2724,"ISB-WXM-750-50-水平"]
[2724,0,48000,2729,2723,2725,"ISB-WXM-750-50-水平"]
[2725,0,60000,2730,2724,2726,"ISB-WXM-750-50-水平"]
[2726,0,80000,2731,2725,2727,"ISB-WXM-750-50-水平"]
[2727,1,10000,2733,2726,2728,"ISB-WXM-750-50-垂直"]
[2728,1,11000,2734,2727,2729,"ISB-WXM-750-50-垂直"]
[2729,1,12000,2735,2728,2730,"ISB-WXM-750-50-垂直"]
[2730,1,13000,2736,2729,2731,"ISB-WXM-750-50-垂直"]
[2731,1,14000,2737,2730,-1,"ISB-WXM-750-50-垂直"]
[2732,0,135000,2742,-1,2733,"ISPB-WXM-750-HLA-10-水平"]
[2733,0,160000,2743,2732,2734,"ISPB-WXM-750-HLA-10-水平"]
[2734,0,200000,2744,2733,2735,"ISPB-WXM-750-HLA-10-水平"]
[2735,0,265000,2745,2734,2736,"ISPB-WXM-750-HLA-10-水平"]
[2736,0,400000,2746,2735,2737,"ISPB-WXM-750-HLA-10-水平"]
[2737,1,64000,2747,2736,2738,"ISPB-WXM-750-HLA-10-垂直"]
[2738,1,68000,2748,2737,2739,"ISPB-WXM-750-HLA-10-垂直"]
[2739,1,80000,2749,2738,-1,"ISPB-WXM-750-HLA-10-垂直"]
[2740,0,30000,2751,-1,2741,"ISB-WXMX-750-25-水平"]
[2741,0,36000,2752,2740,2742,"ISB-WXMX-750-25-水平"]
[2742,0,46000,2753,2741,2743,"ISB-WXMX-750-25-水平"]
[2743,0,54000,2754,2742,2744,"ISB-WXMX-750-25-水平"]
[2744,0,60000,2755,2743,2745,"ISB-WXMX-750-25-水平"]
[2745,0,68000,2756,2744,2746,"ISB-WXMX-750-25-水平"]
[2746,0,80000,2757,2745,2747,"ISB-WXMX-750-25-水平"]
[2747,0,96000,2758,2746,2748,"ISB-WXMX-750-25-水平"]
[2748,0,120000,2759,2747,2749,"ISB-WXMX-750-25-水平"]
[2749,0,160000,2760,2748,-1,"ISB-WXMX-750-25-水平"]
[2750,0,15000,2762,-1,2751,"ISB-WXMX-750-50-水平"]
[2751,0,18000,2763,2750,2752,"ISB-WXMX-750-50-水平"]
[2752,0,23000,2764,2751,2753,"ISB-WXMX-750-50-水平"]
[2753,0,27000,2765,2752,2754,"ISB-WXMX-750-50-水平"]
[2754,0,30000,2766,2753,2755,"ISB-WXMX-750-50-水平"]
[2755,0,34000,2767,2754,2756,"ISB-WXMX-750-50-水平"]
[2756,0,40000,2768,2755,2757,"ISB-WXMX-750-50-水平"]
[2757,0,48000,2769,2756,2758,"ISB-WXMX-750-50-水平"]
[2758,0,60000,2770,2757,2759,"ISB-WXMX-750-50-水平"]
[2759,0,80000,2771,2758,-1,"ISB-WXMX-750-50-水平"]
[2760,0,90000,2773,-1,2761,"ISB-WXM-750-W-10-水平"]
[2761,0,110000,2774,2760,2762,"ISB-WXM-750-W-10-水平"]
[2762,0,140000,2775,2761,2763,"ISB-WXM-750-W-10-水平"]
[2763,0,190000,2776,2762,2764,"ISB-WXM-750-W-10-水平"]
[2764,1,40000,2778,2763,2765,"ISB-WXM-750-W-10-垂直"]
[2765,1,50000,2779,2764,2766,"ISB-WXM-750-W-10-垂直"]
[2766,1,56000,2780,2765,-1,"ISB-WXM-750-W-10-垂直"]
[2767,0,20000,2782,-1,2768,"ISB-WXM-750-W-25-水平"]
[2768,0,26000,2783,2767,2769,"ISB-WXM-750-W-25-水平"]
[2769,0,36000,2784,2768,2770,"ISB-WXM-750-W-25-水平"]
[2770,0,44000,2785,2769,2771,"ISB-WXM-750-W-25-水平"]
[2771,0,50000,2786,2770,2772,"ISB-WXM-750-W-25-水平"]
[2772,0,58000,2787,2771,2773,"ISB-WXM-750-W-25-水平"]
[2773,0,70000,2788,2772,2774,"ISB-WXM-750-W-25-水平"]
[2774,0,86000,2789,2773,2775,"ISB-WXM-750-W-25-水平"]
[2775,0,110000,2790,2774,2776,"ISB-WXM-750-W-25-水平"]
[2776,0,150000,2791,2775,2777,"ISB-WXM-750-W-25-水平"]
[2777,1,7000,2793,2776,2778,"ISB-WXM-750-W-25-垂直"]
[2778,1,9000,2794,2777,2779,"ISB-WXM-750-W-25-垂直"]
[2779,1,12000,2795,2778,2780,"ISB-WXM-750-W-25-垂直"]
[2780,1,15000,2796,2779,2781,"ISB-WXM-750-W-25-垂直"]
[2781,1,19000,2797,2780,2782,"ISB-WXM-750-W-25-垂直"]
[2782,1,20000,2798,2781,2783,"ISB-WXM-750-W-25-垂直"]
[2783,1,22000,2799,2782,2784,"ISB-WXM-750-W-25-垂直"]
[2784,1,25000,2800,2783,-1,"ISB-WXM-750-W-25-垂直"]
[2785,0,5000,2802,-1,2786,"ISB-WXM-750-W-50-水平"]
[2786,0,8000,2803,2785,2787,"ISB-WXM-750-W-50-水平"]
[2787,0,14000,2804,2786,2788,"ISB-WXM-750-W-50-水平"]
[2788,0,17000,2805,2787,2789,"ISB-WXM-750-W-50-水平"]
[2789,0,20000,2806,2788,2790,"ISB-WXM-750-W-50-水平"]
[2790,0,24000,2807,2789,2791,"ISB-WXM-750-W-50-水平"]
[2791,0,30000,2808,2790,2792,"ISB-WXM-750-W-50-水平"]
[2792,0,38000,2809,2791,2793,"ISB-WXM-750-W-50-水平"]
[2793,0,50000,2810,2792,2794,"ISB-WXM-750-W-50-水平"]
[2794,0,70000,2811,2793,2795,"ISB-WXM-750-W-50-水平"]
[2795,1,1000,2813,2794,2796,"ISB-WXM-750-W-50-垂直"]
[2796,1,2000,2814,2795,2797,"ISB-WXM-750-W-50-垂直"]
[2797,1,2500,2815,2796,2798,"ISB-WXM-750-W-50-垂直"]
[2798,1,3000,2816,2797,2799,"ISB-WXM-750-W-50-垂直"]
[2799,1,4000,2817,2798,2800,"ISB-WXM-750-W-50-垂直"]
[2800,1,6000,2818,2799,2801,"ISB-WXM-750-W-50-垂直"]
[2801,1,8000,2819,2800,2802,"ISB-WXM-750-W-50-垂直"]
[2802,1,10000,2820,2801,-1,"ISB-WXM-750-W-50-垂直"]
[2803,0,125000,2822,-1,2804,"ISPB-WXM-750-HLA-W-10-水平"]
[2804,0,150000,2823,2803,2805,"ISPB-WXM-750-HLA-W-10-水平"]
[2805,0,190000,2824,2804,2806,"ISPB-WXM-750-HLA-W-10-水平"]
[2806,0,255000,2825,2805,2807,"ISPB-WXM-750-HLA-W-10-水平"]
[2807,0,390000,2826,2806,2808,"ISPB-WXM-750-HLA-W-10-水平"]
[2808,1,54000,2827,2807,2809,"ISPB-WXM-750-HLA-W-10-垂直"]
[2809,1,58000,2828,2808,2810,"ISPB-WXM-750-HLA-W-10-垂直"]
[2810,1,70000,2829,2809,-1,"ISPB-WXM-750-HLA-W-10-垂直"]
[2811,0,20000,2831,-1,2812,"ISB-WXMX-750-W-25-水平"]
[2812,0,26000,2832,2811,2813,"ISB-WXMX-750-W-25-水平"]
[2813,0,36000,2833,2812,2814,"ISB-WXMX-750-W-25-水平"]
[2814,0,44000,2834,2813,2815,"ISB-WXMX-750-W-25-水平"]
[2815,0,50000,2835,2814,2816,"ISB-WXMX-750-W-25-水平"]
[2816,0,58000,2836,2815,2817,"ISB-WXMX-750-W-25-水平"]
[2817,0,70000,2837,2816,2818,"ISB-WXMX-750-W-25-水平"]
[2818,0,86000,2838,2817,2819,"ISB-WXMX-750-W-25-水平"]
[2819,0,110000,2839,2818,2820,"ISB-WXMX-750-W-25-水平"]
[2820,0,150000,2840,2819,-1,"ISB-WXMX-750-W-25-水平"]
[2821,0,5000,2842,-1,2822,"ISB-WXMX-750-W-50-水平"]
[2822,0,8000,2843,2821,2823,"ISB-WXMX-750-W-50-水平"]
[2823,0,14000,2844,2822,2824,"ISB-WXMX-750-W-50-水平"]
[2824,0,17000,2845,2823,2825,"ISB-WXMX-750-W-50-水平"]
[2825,0,20000,2846,2824,2826,"ISB-WXMX-750-W-50-水平"]
[2826,0,24000,2847,2825,2827,"ISB-WXMX-750-W-50-水平"]
[2827,0,30000,2848,2826,2828,"ISB-WXMX-750-W-50-水平"]
[2828,0,38000,2849,2827,2829,"ISB-WXMX-750-W-50-水平"]
[2829,0,50000,2850,2828,2830,"ISB-WXMX-750-W-50-水平"]
[2830,0,70000,2851,2829,-1,"ISB-WXMX-750-W-50-水平"]
[2831,0,85000,2853,-1,2832,"EC-S10L-5-水平"]
[2832,1,21000,2854,2831,-1,"EC-S10L-5-垂直"]
[2833,0,19000,2855,-1,2834,"EC-S10M-10-水平"]
[2834,0,33000,2856,2833,2835,"EC-S10M-10-水平"]
[2835,0,65000,2857,2834,2836,"EC-S10M-10-水平"]
[2836,1,9000,2858,2835,2837,"EC-S10M-10-垂直"]
[2837,1,11000,2859,2836,-1,"EC-S10M-10-垂直"]
[2838,0,7500,2860,-1,2839,"EC-S10H-20-水平"]
[2839,0,12500,2861,2838,2840,"EC-S10H-20-水平"]
[2840,0,19500,2862,2839,2841,"EC-S10H-20-水平"]
[2841,0,30000,2863,2840,2842,"EC-S10H-20-水平"]
[2842,1,3500,2864,2841,2843,"EC-S10H-20-垂直"]
[2843,1,4500,2865,2842,2844,"EC-S10H-20-垂直"]
[2844,1,5000,2866,2843,-1,"EC-S10H-20-垂直"]
[2845,0,4500,2867,-1,2846,"EC-S10S-30-水平"]
[2846,0,7500,2868,2845,2847,"EC-S10S-30-水平"]
[2847,0,11000,2869,2846,2848,"EC-S10S-30-水平"]
[2848,0,17000,2870,2847,2849,"EC-S10S-30-水平"]
[2849,1,2000,2871,2848,-1,"EC-S10S-30-垂直"]
[2850,0,85000,2874,-1,2851,"EC-S10XL-5-水平"]
[2851,1,21000,2875,2850,-1,"EC-S10XL-5-垂直"]
[2852,0,19000,2876,-1,2853,"EC-S10XM-10-水平"]
[2853,0,33000,2877,2852,2854,"EC-S10XM-10-水平"]
[2854,0,65000,2878,2853,2855,"EC-S10XM-10-水平"]
[2855,1,9000,2879,2854,2856,"EC-S10XM-10-垂直"]
[2856,1,11000,2880,2855,-1,"EC-S10XM-10-垂直"]
[2857,0,7500,2881,-1,2858,"EC-S10XH-20-水平"]
[2858,0,12500,2882,2857,2859,"EC-S10XH-20-水平"]
[2859,0,19500,2883,2858,2860,"EC-S10XH-20-水平"]
[2860,0,30000,2884,2859,2861,"EC-S10XH-20-水平"]
[2861,1,3500,2885,2860,2862,"EC-S10XH-20-垂直"]
[2862,1,4500,2886,2861,2863,"EC-S10XH-20-垂直"]
[2863,1,5000,2887,2862,-1,"EC-S10XH-20-垂直"]
[2864,0,4500,2888,-1,2865,"EC-S10XS-30-水平"]
[2865,0,7500,2889,2864,2866,"EC-S10XS-30-水平"]
[2866,0,11000,2890,2865,2867,"EC-S10XS-30-水平"]
[2867,0,17000,2891,2866,2868,"EC-S10XS-30-水平"]
[2868,1,2000,2892,2867,-1,"EC-S10XS-30-垂直"]
[2869,0,72000,2895,-1,2870,"EC-S13L-5-水平"]
[2870,0,90000,2896,2869,2871,"EC-S13L-5-水平"]
[2871,1,30600,2897,2870,-1,"EC-S13L-5-垂直"]
[2872,0,36000,2898,-1,2873,"EC-S13M-10-水平"]
[2873,0,59400,2899,2872,2874,"EC-S13M-10-水平"]
[2874,0,81000,2900,2873,2875,"EC-S13M-10-水平"]
[2875,1,15300,2901,2874,2876,"EC-S13M-10-垂直"]
[2876,1,18000,2902,2875,-1,"EC-S13M-10-垂直"]
[2877,0,13500,2903,-1,2878,"EC-S13H-20-水平"]
[2878,0,20700,2904,2877,2879,"EC-S13H-20-水平"]
[2879,0,31500,2905,2878,2880,"EC-S13H-20-水平"]
[2880,0,40500,2906,2879,2881,"EC-S13H-20-水平"]
[2881,1,6300,2907,2880,2882,"EC-S13H-20-垂直"]
[2882,1,7650,2908,2881,2883,"EC-S13H-20-垂直"]
[2883,1,9000,2909,2882,-1,"EC-S13H-20-垂直"]
[2884,0,10800,2910,-1,2885,"EC-S13S-30-水平"]
[2885,0,15300,2911,2884,2886,"EC-S13S-30-水平"]
[2886,0,21600,2912,2885,2887,"EC-S13S-30-水平"]
[2887,0,27000,2913,2886,2888,"EC-S13S-30-水平"]
[2888,1,4050,2914,2887,2889,"EC-S13S-30-垂直"]
[2889,1,4950,2915,2888,2890,"EC-S13S-30-垂直"]
[2890,1,5400,2916,2889,-1,"EC-S13S-30-垂直"]
[2891,0,72000,2917,-1,2892,"EC-S13XL-5-水平"]
[2892,0,90000,2918,2891,2893,"EC-S13XL-5-水平"]
[2893,1,30600,2919,2892,-1,"EC-S13XL-5-垂直"]
[2894,0,36000,2920,-1,2895,"EC-S13XM-10-水平"]
[2895,0,59400,2921,2894,2896,"EC-S13XM-10-水平"]
[2896,0,81000,2922,2895,2897,"EC-S13XM-10-水平"]
[2897,1,15300,2923,2896,2898,"EC-S13XM-10-垂直"]
[2898,1,18000,2924,2897,-1,"EC-S13XM-10-垂直"]
[2899,0,13500,2925,-1,2900,"EC-S13XH-20-水平"]
[2900,0,20700,2926,2899,2901,"EC-S13XH-20-水平"]
[2901,0,31500,2927,2900,2902,"EC-S13XH-20-水平"]
[2902,0,40500,2928,2901,2903,"EC-S13XH-20-水平"]
[2903,1,6300,2929,2902,2904,"EC-S13XH-20-垂直"]
[2904,1,7650,2930,2903,2905,"EC-S13XH-20-垂直"]
[2905,1,9000,2931,2904,-1,"EC-S13XH-20-垂直"]
[2906,0,10800,2932,-1,2907,"EC-S13XS-30-水平"]
[2907,0,15300,2933,2906,2908,"EC-S13XS-30-水平"]
[2908,0,21600,2934,2907,2909,"EC-S13XS-30-水平"]
[2909,0,27000,2935,2908,2910,"EC-S13XS-30-水平"]
[2910,1,4050,2936,2909,2911,"EC-S13XS-30-垂直"]
[2911,1,4950,2937,2910,2912,"EC-S13XS-30-垂直"]
[2912,1,5400,2938,2911,-1,"EC-S13XS-30-垂直"]
[2913,0,54000,2939,-1,2914,"EC-S15L-10-水平"]
[2914,0,82800,2940,2913,2915,"EC-S15L-10-水平"]
[2915,0,108000,2941,2914,2916,"EC-S15L-10-水平"]
[2916,1,30600,2942,2915,2917,"EC-S15L-10-垂直"]
[2917,1,36000,2943,2916,-1,"EC-S15L-10-垂直"]
[2918,0,27000,2944,-1,2919,"EC-S15M-20-水平"]
[2919,0,42300,2945,2918,2920,"EC-S15M-20-水平"]
[2920,0,63000,2946,2919,2921,"EC-S15M-20-水平"]
[2921,0,81000,2947,2920,2922,"EC-S15M-20-水平"]
[2922,1,12600,2948,2921,2923,"EC-S15M-20-垂直"]
[2923,1,15300,2949,2922,2924,"EC-S15M-20-垂直"]
[2924,1,18000,2950,2923,-1,"EC-S15M-20-垂直"]
[2925,0,15300,2951,-1,2926,"EC-S15H-40-水平"]
[2926,0,20700,2952,2925,2927,"EC-S15H-40-水平"]
[2927,0,28800,2953,2926,2928,"EC-S15H-40-水平"]
[2928,0,36000,2954,2927,2929,"EC-S15H-40-水平"]
[2929,1,6300,2955,2928,2930,"EC-S15H-40-垂直"]
[2930,1,7650,2956,2929,2931,"EC-S15H-40-垂直"]
[2931,1,9000,2957,2930,-1,"EC-S15H-40-垂直"]
[2932,0,54000,2958,-1,2933,"EC-S15XL-10-水平"]
[2933,0,82800,2959,2932,2934,"EC-S15XL-10-水平"]
[2934,0,108000,2960,2933,2935,"EC-S15XL-10-水平"]
[2935,1,30600,2961,2934,2936,"EC-S15XL-10-垂直"]
[2936,1,36000,2962,2935,-1,"EC-S15XL-10-垂直"]
[2937,0,27000,2963,-1,2938,"EC-S15XM-20-水平"]
[2938,0,42300,2964,2937,2939,"EC-S15XM-20-水平"]
[2939,0,63000,2965,2938,2940,"EC-S15XM-20-水平"]
[2940,0,81000,2966,2939,2941,"EC-S15XM-20-水平"]
[2941,1,12600,2967,2940,2942,"EC-S15XM-20-垂直"]
[2942,1,15300,2968,2941,2943,"EC-S15XM-20-垂直"]
[2943,1,18000,2969,2942,-1,"EC-S15XM-20-垂直"]
[2944,0,15300,2970,-1,2945,"EC-S15XH-40-水平"]
[2945,0,20700,2971,2944,2946,"EC-S15XH-40-水平"]
[2946,0,28800,2972,2945,2947,"EC-S15XH-40-水平"]
[2947,0,36000,2973,2946,2948,"EC-S15XH-40-水平"]
[2948,1,6300,2974,2947,2949,"EC-S15XH-40-垂直"]
[2949,1,7650,2975,2948,2950,"EC-S15XH-40-垂直"]
[2950,1,9000,2976,2949,-1,"EC-S15XH-40-垂直"]
[2951,0,80000,2977,-1,2952,"EC-S10L-W-5-水平"]
[2952,1,16000,2978,2951,-1,"EC-S10L-W-5-垂直"]
[2953,0,14000,2979,-1,2954,"EC-S10M-W-10-水平"]
[2954,0,28000,2980,2953,2955,"EC-S10M-W-10-水平"]
[2955,0,60000,2981,2954,2956,"EC-S10M-W-10-水平"]
[2956,1,4000,2982,2955,2957,"EC-S10M-W-10-垂直"]
[2957,1,6000,2983,2956,-1,"EC-S10M-W-10-垂直"]
[2958,0,2500,2984,-1,2959,"EC-S10H-W-20-水平"]
[2959,0,7500,2985,2958,2960,"EC-S10H-W-20-水平"]
[2960,0,14500,2986,2959,2961,"EC-S10H-W-20-水平"]
[2961,0,25000,2987,2960,-1,"EC-S10H-W-20-水平"]
[2962,0,2500,2988,-1,2963,"EC-S10S-W-30-水平"]
[2963,0,6000,2989,2962,2964,"EC-S10S-W-30-水平"]
[2964,0,12000,2990,2963,-1,"EC-S10S-W-30-水平"]
[2965,0,80000,2991,-1,2966,"EC-S10XL-W-5-水平"]
[2966,1,16000,2992,2965,-1,"EC-S10XL-W-5-垂直"]
[2967,0,14000,2993,-1,2968,"EC-S10XM-W-10-水平"]
[2968,0,28000,2994,2967,2969,"EC-S10XM-W-10-水平"]
[2969,0,60000,2995,2968,2970,"EC-S10XM-W-10-水平"]
[2970,1,4000,2996,2969,2971,"EC-S10XM-W-10-垂直"]
[2971,1,6000,2997,2970,-1,"EC-S10XM-W-10-垂直"]
[2972,0,2500,2998,-1,2973,"EC-S10XH-W-20-水平"]
[2973,0,7500,2999,2972,2974,"EC-S10XH-W-20-水平"]
[2974,0,14500,3000,2973,2975,"EC-S10XH-W-20-水平"]
[2975,0,25000,3001,2974,-1,"EC-S10XH-W-20-水平"]
[2976,0,2500,3002,-1,2977,"EC-S10XS-W-30-水平"]
[2977,0,6000,3003,2976,2978,"EC-S10XS-W-30-水平"]
[2978,0,12000,3004,2977,-1,"EC-S10XS-W-30-水平"]
[2979,0,67000,3005,-1,2980,"EC-S13L-W-5-水平"]
[2980,0,85000,3006,2979,2981,"EC-S13L-W-5-水平"]
[2981,1,25600,3007,2980,-1,"EC-S13L-W-5-垂直"]
[2982,0,31000,3008,-1,2983,"EC-S13M-W-10-水平"]
[2983,0,54400,3009,2982,2984,"EC-S13M-W-10-水平"]
[2984,0,76000,3010,2983,2985,"EC-S13M-W-10-水平"]
[2985,1,10300,3011,2984,2986,"EC-S13M-W-10-垂直"]
[2986,1,13000,3012,2985,-1,"EC-S13M-W-10-垂直"]
[2987,0,8500,3013,-1,2988,"EC-S13H-W-20-水平"]
[2988,0,15700,3014,2987,2989,"EC-S13H-W-20-水平"]
[2989,0,26500,3015,2988,2990,"EC-S13H-W-20-水平"]
[2990,0,35500,3016,2989,2991,"EC-S13H-W-20-水平"]
[2991,1,2700,3017,2990,2992,"EC-S13H-W-20-垂直"]
[2992,1,4000,3018,2991,-1,"EC-S13H-W-20-垂直"]
[2993,0,5800,3019,-1,2994,"EC-S13S-W-30-水平"]
[2994,0,10300,3020,2993,2995,"EC-S13S-W-30-水平"]
[2995,0,16600,3021,2994,2996,"EC-S13S-W-30-水平"]
[2996,0,22000,3022,2995,-1,"EC-S13S-W-30-水平"]
[2997,0,67000,3023,-1,2998,"EC-S13XL-W-5-水平"]
[2998,0,85000,3024,2997,2999,"EC-S13XL-W-5-水平"]
[2999,1,25600,3025,2998,-1,"EC-S13XL-W-5-垂直"]
[3000,0,31000,3026,-1,3001,"EC-S13XM-W-10-水平"]
[3001,0,54400,3027,3000,3002,"EC-S13XM-W-10-水平"]
[3002,0,76000,3028,3001,3003,"EC-S13XM-W-10-水平"]
[3003,1,10300,3029,3002,3004,"EC-S13XM-W-10-垂直"]
[3004,1,13000,3030,3003,-1,"EC-S13XM-W-10-垂直"]
[3005,0,8500,3031,-1,3006,"EC-S13XH-W-20-水平"]
[3006,0,15700,3032,3005,3007,"EC-S13XH-W-20-水平"]
[3007,0,26500,3033,3006,3008,"EC-S13XH-W-20-水平"]
[3008,0,35500,3034,3007,3009,"EC-S13XH-W-20-水平"]
[3009,1,2700,3035,3008,3010,"EC-S13XH-W-20-垂直"]
[3010,1,4000,3036,3009,-1,"EC-S13XH-W-20-垂直"]
[3011,0,5800,3037,-1,3012,"EC-S13XS-W-30-水平"]
[3012,0,10300,3038,3011,3013,"EC-S13XS-W-30-水平"]
[3013,0,16600,3039,3012,3014,"EC-S13XS-W-30-水平"]
[3014,0,22000,3040,3013,-1,"EC-S13XS-W-30-水平"]
[3015,0,49000,3041,-1,3016,"EC-S15L-W-10-水平"]
[3016,0,77800,3042,3015,3017,"EC-S15L-W-10-水平"]
[3017,0,103000,3043,3016,3018,"EC-S15L-W-10-水平"]
[3018,1,25600,3044,3017,3019,"EC-S15L-W-10-垂直"]
[3019,1,31000,3045,3018,-1,"EC-S15L-W-10-垂直"]
[3020,0,22000,3046,-1,3021,"EC-S15M-W-20-水平"]
[3021,0,37300,3047,3020,3022,"EC-S15M-W-20-水平"]
[3022,0,58000,3048,3021,3023,"EC-S15M-W-20-水平"]
[3023,0,76000,3049,3022,3024,"EC-S15M-W-20-水平"]
[3024,1,7600,3050,3023,3025,"EC-S15M-W-20-垂直"]
[3025,1,10300,3051,3024,3026,"EC-S15M-W-20-垂直"]
[3026,1,13000,3052,3025,-1,"EC-S15M-W-20-垂直"]
[3027,0,10300,3053,-1,3028,"EC-S15H-W-40-水平"]
[3028,0,15700,3054,3027,3029,"EC-S15H-W-40-水平"]
[3029,0,23800,3055,3028,3030,"EC-S15H-W-40-水平"]
[3030,0,31000,3056,3029,3031,"EC-S15H-W-40-水平"]
[3031,1,2700,3057,3030,3032,"EC-S15H-W-40-垂直"]
[3032,1,4000,3058,3031,-1,"EC-S15H-W-40-垂直"]
[3033,0,49000,3059,-1,3034,"EC-S15XL-W-10-水平"]
[3034,0,77800,3060,3033,3035,"EC-S15XL-W-10-水平"]
[3035,0,103000,3061,3034,3036,"EC-S15XL-W-10-水平"]
[3036,1,25600,3062,3035,3037,"EC-S15XL-W-10-垂直"]
[3037,1,31000,3063,3036,-1,"EC-S15XL-W-10-垂直"]
[3038,0,22000,3064,-1,3039,"EC-S15XM-W-20-水平"]
[3039,0,37300,3065,3038,3040,"EC-S15XM-W-20-水平"]
[3040,0,58000,3066,3039,3041,"EC-S15XM-W-20-水平"]
[3041,0,76000,3067,3040,3042,"EC-S15XM-W-20-水平"]
[3042,1,7600,3068,3041,3043,"EC-S15XM-W-20-垂直"]
[3043,1,10300,3069,3042,3044,"EC-S15XM-W-20-垂直"]
[3044,1,13000,3070,3043,-1,"EC-S15XM-W-20-垂直"]
[3045,0,10300,3071,-1,3046,"EC-S15XH-W-40-水平"]
[3046,0,15700,3072,3045,3047,"EC-S15XH-W-40-水平"]
[3047,0,23800,3073,3046,3048,"EC-S15XH-W-40-水平"]
[3048,0,31000,3074,3047,3049,"EC-S15XH-W-40-水平"]
[3049,1,2700,3075,3048,3050,"EC-S15XH-W-40-垂直"]
[3050,1,4000,3076,3049,-1,"EC-S15XH-W-40-垂直","↑ Ver3.12"]
[3051,0,2000,3077,-1,3052,"IFA-SA-100(-1450st)-28-水平","↓ Ver3.13"]
[3052,0,2200,3078,3051,3053,"IFA-SA-100(-1450st)-28-水平"]
[3053,0,2400,3079,3052,3054,"IFA-SA-100(-1450st)-28-水平"]
[3054,0,2700,3080,3053,3055,"IFA-SA-100(-1450st)-28-水平"]
[3055,0,3000,3081,3054,3056,"IFA-SA-100(-1450st)-28-水平"]
[3056,0,3200,3082,3055,3057,"IFA-SA-100(-1450st)-28-水平"]
[3057,0,3500,3083,3056,3058,"IFA-SA-100(-1450st)-28-水平"]
[3058,0,3900,3084,3057,3059,"IFA-SA-100(-1450st)-28-水平"]
[3059,0,4300,3085,3058,3060,"IFA-SA-100(-1450st)-28-水平"]
[3060,0,4700,3086,3059,3061,"IFA-SA-100(-1450st)-28-水平"]
[3061,0,5500,3087,3060,3062,"IFA-SA-100(-1450st)-28-水平"]
[3062,0,6500,3088,3061,3063,"IFA-SA-100(-1450st)-28-水平"]
[3063,0,7500,3089,3062,3064,"IFA-SA-100(-1450st)-28-水平"]
[3064,0,8500,3090,3063,3065,"IFA-SA-100(-1450st)-28-水平"]
[3065,0,10000,3091,3064,3066,"IFA-SA-100(-1450st)-28-水平"]
[3066,0,12500,3092,3065,3067,"IFA-SA-100(-1450st)-28-水平"]
[3067,0,15500,3093,3066,3068,"IFA-SA-100(-1450st)-28-水平"]
[3068,0,20000,3094,3067,-1,"IFA-SA-100(-1450st)-28-水平"]
[3069,0,2000,3095,-1,3070,"IFA-SA-100(1500st-)-28-水平"]
[3070,0,2200,3096,3069,3071,"IFA-SA-100(1500st-)-28-水平"]
[3071,0,2400,3097,3070,3072,"IFA-SA-100(1500st-)-28-水平"]
[3072,0,2700,3098,3071,3073,"IFA-SA-100(1500st-)-28-水平"]
[3073,0,3000,3099,3072,3074,"IFA-SA-100(1500st-)-28-水平"]
[3074,0,3200,3100,3073,3075,"IFA-SA-100(1500st-)-28-水平"]
[3075,0,3500,3101,3074,3076,"IFA-SA-100(1500st-)-28-水平"]
[3076,0,3900,3102,3075,3077,"IFA-SA-100(1500st-)-28-水平"]
[3077,0,4300,3103,3076,3078,"IFA-SA-100(1500st-)-28-水平"]
[3078,0,4700,3104,3077,3079,"IFA-SA-100(1500st-)-28-水平"]
[3079,0,5500,3105,3078,3080,"IFA-SA-100(1500st-)-28-水平"]
[3080,0,6500,3106,3079,3081,"IFA-SA-100(1500st-)-28-水平"]
[3081,0,7500,3107,3080,3082,"IFA-SA-100(1500st-)-28-水平"]
[3082,0,8500,3108,3081,3083,"IFA-SA-100(1500st-)-28-水平"]
[3083,0,10000,3109,3082,3084,"IFA-SA-100(1500st-)-28-水平"]
[3084,0,12500,3110,3083,3085,"IFA-SA-100(1500st-)-28-水平"]
[3085,0,15000,3111,3084,-1,"IFA-SA-100(1500st-)-28-水平"]
[3086,0,1000,3113,-1,3087,"IFA-MA-200-42-水平"]
[3087,0,1200,3114,3086,3088,"IFA-MA-200-42-水平"]
[3088,0,1400,3115,3087,3089,"IFA-MA-200-42-水平"]
[3089,0,1700,3116,3088,3090,"IFA-MA-200-42-水平"]
[3090,0,2000,3117,3089,3091,"IFA-MA-200-42-水平"]
[3091,0,2300,3118,3090,3092,"IFA-MA-200-42-水平"]
[3092,0,2600,3119,3091,3093,"IFA-MA-200-42-水平"]
[3093,0,3200,3120,3092,3094,"IFA-MA-200-42-水平"]
[3094,0,3800,3121,3093,3095,"IFA-MA-200-42-水平"]
[3095,0,4600,3122,3094,3096,"IFA-MA-200-42-水平"]
[3096,0,5500,3123,3095,3097,"IFA-MA-200-42-水平"]
[3097,0,6500,3124,3096,3098,"IFA-MA-200-42-水平"]
[3098,0,7500,3125,3097,3099,"IFA-MA-200-42-水平"]
[3099,0,9000,3126,3098,3100,"IFA-MA-200-42-水平"]
[3100,0,11000,3127,3099,3101,"IFA-MA-200-42-水平"]
[3101,0,14000,3128,3100,3102,"IFA-MA-200-42-水平"]
[3102,0,18000,3129,3101,3103,"IFA-MA-200-42-水平"]
[3103,0,25000,3130,3102,-1,"IFA-MA-200-42-水平"]
[3104,0,3500,3131,-1,3105,"IFA-MA-400-42-水平"]
[3105,0,3800,3132,3104,3106,"IFA-MA-400-42-水平"]
[3106,0,4200,3133,3105,3107,"IFA-MA-400-42-水平"]
[3107,0,4600,3134,3106,3108,"IFA-MA-400-42-水平"]
[3108,0,5000,3135,3107,3109,"IFA-MA-400-42-水平"]
[3109,0,5600,3136,3108,3110,"IFA-MA-400-42-水平"]
[3110,0,6300,3137,3109,3111,"IFA-MA-400-42-水平"]
[3111,0,7000,3138,3110,3112,"IFA-MA-400-42-水平"]
[3112,0,8000,3139,3111,3113,"IFA-MA-400-42-水平"]
[3113,0,9000,3140,3112,3114,"IFA-MA-400-42-水平"]
[3114,0,10000,3141,3113,3115,"IFA-MA-400-42-水平"]
[3115,0,12000,3142,3114,3116,"IFA-MA-400-42-水平"]
[3116,0,13000,3143,3115,3117,"IFA-MA-400-42-水平"]
[3117,0,16000,3144,3116,3118,"IFA-MA-400-42-水平"]
[3118,0,19000,3145,3117,3119,"IFA-MA-400-42-水平"]
[3119,0,23000,3146,3118,3120,"IFA-MA-400-42-水平"]
[3120,0,30000,3147,3119,3121,"IFA-MA-400-42-水平"]
[3121,0,40000,3148,3120,-1,"IFA-MA-400-42-水平"]
[3122,0,1000,3149,-1,3123,"IFA-MA-200-AC100V-42-水平"]
[3123,0,1200,3150,3122,3124,"IFA-MA-200-AC100V-42-水平"]
[3124,0,1400,3151,3123,3125,"IFA-MA-200-AC100V-42-水平"]
[3125,0,1700,3152,3124,3126,"IFA-MA-200-AC100V-42-水平"]
[3126,0,2000,3153,3125,3127,"IFA-MA-200-AC100V-42-水平"]
[3127,0,2300,3154,3126,3128,"IFA-MA-200-AC100V-42-水平"]
[3128,0,2600,3155,3127,3129,"IFA-MA-200-AC100V-42-水平"]
[3129,0,2700,3156,3128,3130,"IFA-MA-200-AC100V-42-水平"]
[3130,0,2900,3157,3129,3131,"IFA-MA-200-AC100V-42-水平"]
[3131,0,3200,3158,3130,3132,"IFA-MA-200-AC100V-42-水平"]
[3132,0,3500,3159,3131,3133,"IFA-MA-200-AC100V-42-水平"]
[3133,0,4000,3160,3132,3134,"IFA-MA-200-AC100V-42-水平"]
[3134,0,4500,3161,3133,3135,"IFA-MA-200-AC100V-42-水平"]
[3135,0,5500,3162,3134,3136,"IFA-MA-200-AC100V-42-水平"]
[3136,0,6500,3163,3135,3137,"IFA-MA-200-AC100V-42-水平"]
[3137,0,8000,3164,3136,3138,"IFA-MA-200-AC100V-42-水平"]
[3138,0,11000,3165,3137,3139,"IFA-MA-200-AC100V-42-水平"]
[3139,0,17000,3166,3138,-1,"IFA-MA-200-AC100V-42-水平"]
[3140,0,0,3167,-1,3141,"IFA-SA-100-W(-1450st)-28-水平"]
[3141,0,200,3168,3140,3142,"IFA-SA-100-W(-1450st)-28-水平"]
[3142,0,400,3169,3141,3143,"IFA-SA-100-W(-1450st)-28-水平"]
[3143,0,700,3170,3142,3144,"IFA-SA-100-W(-1450st)-28-水平"]
[3144,0,1000,3171,3143,3145,"IFA-SA-100-W(-1450st)-28-水平"]
[3145,0,1200,3172,3144,3146,"IFA-SA-100-W(-1450st)-28-水平"]
[3146,0,1500,3173,3145,3147,"IFA-SA-100-W(-1450st)-28-水平"]
[3147,0,1900,3174,3146,3148,"IFA-SA-100-W(-1450st)-28-水平"]
[3148,0,2300,3175,3147,3149,"IFA-SA-100-W(-1450st)-28-水平"]
[3149,0,2700,3176,3148,3150,"IFA-SA-100-W(-1450st)-28-水平"]
[3150,0,3500,3177,3149,3151,"IFA-SA-100-W(-1450st)-28-水平"]
[3151,0,4500,3178,3150,3152,"IFA-SA-100-W(-1450st)-28-水平"]
[3152,0,5500,3179,3151,3153,"IFA-SA-100-W(-1450st)-28-水平"]
[3153,0,6500,3180,3152,3154,"IFA-SA-100-W(-1450st)-28-水平"]
[3154,0,8000,3181,3153,3155,"IFA-SA-100-W(-1450st)-28-水平"]
[3155,0,10500,3182,3154,3156,"IFA-SA-100-W(-1450st)-28-水平"]
[3156,0,13500,3183,3155,3157,"IFA-SA-100-W(-1450st)-28-水平"]
[3157,0,18000,3184,3156,-1,"IFA-SA-100-W(-1450st)-28-水平"]
[3158,0,0,3185,-1,3159,"IFA-SA-100-W(1500st-)-28-水平"]
[3159,0,200,3186,3158,3160,"IFA-SA-100-W(1500st-)-28-水平"]
[3160,0,400,3187,3159,3161,"IFA-SA-100-W(1500st-)-28-水平"]
[3161,0,700,3188,3160,3162,"IFA-SA-100-W(1500st-)-28-水平"]
[3162,0,1000,3189,3161,3163,"IFA-SA-100-W(1500st-)-28-水平"]
[3163,0,1200,3190,3162,3164,"IFA-SA-100-W(1500st-)-28-水平"]
[3164,0,1500,3191,3163,3165,"IFA-SA-100-W(1500st-)-28-水平"]
[3165,0,1900,3192,3164,3166,"IFA-SA-100-W(1500st-)-28-水平"]
[3166,0,2300,3193,3165,3167,"IFA-SA-100-W(1500st-)-28-水平"]
[3167,0,2700,3194,3166,3168,"IFA-SA-100-W(1500st-)-28-水平"]
[3168,0,3500,3195,3167,3169,"IFA-SA-100-W(1500st-)-28-水平"]
[3169,0,4500,3196,3168,3170,"IFA-SA-100-W(1500st-)-28-水平"]
[3170,0,5500,3197,3169,3171,"IFA-SA-100-W(1500st-)-28-水平"]
[3171,0,6500,3198,3170,3172,"IFA-SA-100-W(1500st-)-28-水平"]
[3172,0,8000,3199,3171,3173,"IFA-SA-100-W(1500st-)-28-水平"]
[3173,0,10500,3200,3172,3174,"IFA-SA-100-W(1500st-)-28-水平"]
[3174,0,13000,3201,3173,-1,"IFA-SA-100-W(1500st-)-28-水平"]
[3175,0,0,3203,-1,3176,"IFA-MA-200-W-42-水平"]
[3176,0,600,3212,3175,3177,"IFA-MA-200-W-42-水平"]
[3177,0,1500,3213,3176,3178,"IFA-MA-200-W-42-水平"]
[3178,0,2500,3214,3177,3179,"IFA-MA-200-W-42-水平"]
[3179,0,3500,3215,3178,3180,"IFA-MA-200-W-42-水平"]
[3180,0,5000,3216,3179,3181,"IFA-MA-200-W-42-水平"]
[3181,0,7000,3217,3180,3182,"IFA-MA-200-W-42-水平"]
[3182,0,10000,3218,3181,3183,"IFA-MA-200-W-42-水平"]
[3183,0,14000,3219,3182,3184,"IFA-MA-200-W-42-水平"]
[3184,0,21000,3220,3183,-1,"IFA-MA-200-W-42-水平"]
[3185,0,0,3221,-1,3186,"IFA-MA-400-W-42-水平"]
[3186,0,300,3222,3185,3187,"IFA-MA-400-W-42-水平"]
[3187,0,700,3223,3186,3188,"IFA-MA-400-W-42-水平"]
[3188,0,1100,3224,3187,3189,"IFA-MA-400-W-42-水平"]
[3189,0,1500,3225,3188,3190,"IFA-MA-400-W-42-水平"]
[3190,0,2100,3226,3189,3191,"IFA-MA-400-W-42-水平"]
[3191,0,2800,3227,3190,3192,"IFA-MA-400-W-42-水平"]
[3192,0,3500,3228,3191,3193,"IFA-MA-400-W-42-水平"]
[3193,0,4500,3229,3192,3194,"IFA-MA-400-W-42-水平"]
[3194,0,5500,3230,3193,3195,"IFA-MA-400-W-42-水平"]
[3195,0,6500,3231,3194,3196,"IFA-MA-400-W-42-水平"]
[3196,0,8500,3232,3195,3197,"IFA-MA-400-W-42-水平"]
[3197,0,9500,3233,3196,3198,"IFA-MA-400-W-42-水平"]
[3198,0,12500,3234,3197,3199,"IFA-MA-400-W-42-水平"]
[3199,0,15500,3235,3198,3200,"IFA-MA-400-W-42-水平"]
[3200,0,19500,3236,3199,3201,"IFA-MA-400-W-42-水平"]
[3201,0,26500,3237,3200,3202,"IFA-MA-400-W-42-水平"]
[3202,0,36500,3238,3201,-1,"IFA-MA-400-W-42-水平"]
[3203,0,0,3239,-1,3204,"IFA-MA-200-W-AC100V-42-水平"]
[3204,0,500,3251,3203,3205,"IFA-MA-200-W-AC100V-42-水平"]
[3205,0,1500,3252,3204,3206,"IFA-MA-200-W-AC100V-42-水平"]
[3206,0,2500,3253,3205,3207,"IFA-MA-200-W-AC100V-42-水平"]
[3207,0,4000,3254,3206,3208,"IFA-MA-200-W-AC100V-42-水平"]
[3208,0,7000,3255,3207,3209,"IFA-MA-200-W-AC100V-42-水平"]
[3209,0,13000,3256,3208,-1,"IFA-MA-200-W-AC100V-42-水平","↑ Ver3.13"]
[3210,0,100000,3257,-1,3211,"ISB-WXM-750-10-水平","↓ Ver3.14"]
[3211,0,120000,3258,3210,3212,"ISB-WXM-750-10-水平"]
[3212,0,150000,3259,3211,3213,"ISB-WXM-750-10-水平"]
[3213,0,200000,3260,3212,3214,"ISB-WXM-750-10-水平"]
[3214,1,50000,3262,3213,3215,"ISB-WXM-750-10-垂直"]
[3215,1,60000,3263,3214,3216,"ISB-WXM-750-10-垂直"]
[3216,1,65000,3264,3215,-1,"ISB-WXM-750-10-垂直"]
[3217,0,30000,3266,-1,3218,"ISB-WXM-750-25-水平"]
[3218,0,36000,3267,3217,3219,"ISB-WXM-750-25-水平"]
[3219,0,46000,3268,3218,3220,"ISB-WXM-750-25-水平"]
[3220,0,54000,3269,3219,3221,"ISB-WXM-750-25-水平"]
[3221,0,60000,3270,3220,3222,"ISB-WXM-750-25-水平"]
[3222,0,68000,3271,3221,3223,"ISB-WXM-750-25-水平"]
[3223,0,80000,3272,3222,3224,"ISB-WXM-750-25-水平"]
[3224,0,96000,3273,3223,3225,"ISB-WXM-750-25-水平"]
[3225,0,120000,3274,3224,3226,"ISB-WXM-750-25-水平"]
[3226,0,160000,3275,3225,3227,"ISB-WXM-750-25-水平"]
[3227,1,20000,3277,3226,3228,"ISB-WXM-750-25-垂直"]
[3228,1,22000,3278,3227,3229,"ISB-WXM-750-25-垂直"]
[3229,1,24000,3279,3228,3230,"ISB-WXM-750-25-垂直"]
[3230,1,26000,3280,3229,3231,"ISB-WXM-750-25-垂直"]
[3231,1,29000,3281,3230,3232,"ISB-WXM-750-25-垂直"]
[3232,1,31000,3282,3231,3233,"ISB-WXM-750-25-垂直"]
[3233,1,32000,3283,3232,-1,"ISB-WXM-750-25-垂直"]
[3234,0,15000,3286,-1,3235,"ISB-WXM-750-50-水平"]
[3235,0,18000,3287,3234,3236,"ISB-WXM-750-50-水平"]
[3236,0,23000,3288,3235,3237,"ISB-WXM-750-50-水平"]
[3237,0,27000,3289,3236,3238,"ISB-WXM-750-50-水平"]
[3238,0,30000,3290,3237,3239,"ISB-WXM-750-50-水平"]
[3239,0,34000,3291,3238,3240,"ISB-WXM-750-50-水平"]
[3240,0,40000,3292,3239,3241,"ISB-WXM-750-50-水平"]
[3241,0,48000,3293,3240,3242,"ISB-WXM-750-50-水平"]
[3242,0,60000,3294,3241,3243,"ISB-WXM-750-50-水平"]
[3243,0,80000,3295,3242,3244,"ISB-WXM-750-50-水平"]
[3244,1,10000,3297,3243,3245,"ISB-WXM-750-50-垂直"]
[3245,1,11000,3298,3244,3246,"ISB-WXM-750-50-垂直"]
[3246,1,12000,3299,3245,3247,"ISB-WXM-750-50-垂直"]
[3247,1,13000,3300,3246,3248,"ISB-WXM-750-50-垂直"]
[3248,1,14000,3301,3247,-1,"ISB-WXM-750-50-垂直"]
[3249,0,135000,3306,-1,3250,"ISPB-WXM-750-HLA-10-水平"]
[3250,0,160000,3307,3249,3251,"ISPB-WXM-750-HLA-10-水平"]
[3251,0,200000,3308,3250,3252,"ISPB-WXM-750-HLA-10-水平"]
[3252,0,265000,3309,3251,3253,"ISPB-WXM-750-HLA-10-水平"]
[3253,0,400000,3310,3252,3254,"ISPB-WXM-750-HLA-10-水平"]
[3254,1,64000,3311,3253,3255,"ISPB-WXM-750-HLA-10-垂直"]
[3255,1,68000,3312,3254,3256,"ISPB-WXM-750-HLA-10-垂直"]
[3256,1,80000,3313,3255,-1,"ISPB-WXM-750-HLA-10-垂直"]
[3257,0,30000,3315,-1,3258,"ISB-WXMX-750-25-水平"]
[3258,0,36000,3316,3257,3259,"ISB-WXMX-750-25-水平"]
[3259,0,46000,3317,3258,3260,"ISB-WXMX-750-25-水平"]
[3260,0,54000,3318,3259,3261,"ISB-WXMX-750-25-水平"]
[3261,0,60000,3319,3260,3262,"ISB-WXMX-750-25-水平"]
[3262,0,68000,3320,3261,3263,"ISB-WXMX-750-25-水平"]
[3263,0,80000,3321,3262,3264,"ISB-WXMX-750-25-水平"]
[3264,0,96000,3322,3263,3265,"ISB-WXMX-750-25-水平"]
[3265,0,120000,3323,3264,3266,"ISB-WXMX-750-25-水平"]
[3266,0,160000,3324,3265,3267,"ISB-WXMX-750-25-水平"]
[3267,1,21000,3326,3266,3268,"ISB-WXMX-750-25-垂直"]
[3268,1,26000,3327,3267,3269,"ISB-WXMX-750-25-垂直"]
[3269,1,32000,3328,3268,-1,"ISB-WXMX-750-25-垂直"]
[3270,0,15000,3331,-1,3271,"ISB-WXMX-750-50-水平"]
[3271,0,18000,3332,3270,3272,"ISB-WXMX-750-50-水平"]
[3272,0,23000,3333,3271,3273,"ISB-WXMX-750-50-水平"]
[3273,0,27000,3334,3272,3274,"ISB-WXMX-750-50-水平"]
[3274,0,30000,3335,3273,3275,"ISB-WXMX-750-50-水平"]
[3275,0,34000,3336,3274,3276,"ISB-WXMX-750-50-水平"]
[3276,0,40000,3337,3275,3277,"ISB-WXMX-750-50-水平"]
[3277,0,48000,3338,3276,3278,"ISB-WXMX-750-50-水平"]
[3278,0,60000,3339,3277,3279,"ISB-WXMX-750-50-水平"]
[3279,0,80000,3340,3278,3280,"ISB-WXMX-750-50-水平"]
[3280,1,7000,3342,3279,3281,"ISB-WXMX-750-50-垂直"]
[3281,1,8000,3343,3280,3282,"ISB-WXMX-750-50-垂直"]
[3282,1,9000,3344,3281,3283,"ISB-WXMX-750-50-垂直"]
[3283,1,10000,3345,3282,3284,"ISB-WXMX-750-50-垂直"]
[3284,1,12000,3346,3283,3285,"ISB-WXMX-750-50-垂直"]
[3285,1,14000,3347,3284,-1,"ISB-WXMX-750-50-垂直"]
[3286,0,90000,3351,-1,3287,"ISB-WXM-750-W-10-水平"]
[3287,0,110000,3352,3286,3288,"ISB-WXM-750-W-10-水平"]
[3288,0,140000,3353,3287,3289,"ISB-WXM-750-W-10-水平"]
[3289,0,190000,3354,3288,3290,"ISB-WXM-750-W-10-水平"]
[3290,1,40000,3356,3289,3291,"ISB-WXM-750-W-10-垂直"]
[3291,1,50000,3357,3290,3292,"ISB-WXM-750-W-10-垂直"]
[3292,1,56000,3358,3291,-1,"ISB-WXM-750-W-10-垂直"]
[3293,0,20000,3360,-1,3294,"ISB-WXM-750-W-25-水平"]
[3294,0,26000,3361,3293,3295,"ISB-WXM-750-W-25-水平"]
[3295,0,36000,3362,3294,3296,"ISB-WXM-750-W-25-水平"]
[3296,0,44000,3363,3295,3297,"ISB-WXM-750-W-25-水平"]
[3297,0,50000,3364,3296,3298,"ISB-WXM-750-W-25-水平"]
[3298,0,58000,3365,3297,3299,"ISB-WXM-750-W-25-水平"]
[3299,0,70000,3366,3298,3300,"ISB-WXM-750-W-25-水平"]
[3300,0,86000,3367,3299,3301,"ISB-WXM-750-W-25-水平"]
[3301,0,110000,3368,3300,3302,"ISB-WXM-750-W-25-水平"]
[3302,0,150000,3369,3301,3303,"ISB-WXM-750-W-25-水平"]
[3303,1,7000,3371,3302,3304,"ISB-WXM-750-W-25-垂直"]
[3304,1,9000,3372,3303,3305,"ISB-WXM-750-W-25-垂直"]
[3305,1,12000,3373,3304,3306,"ISB-WXM-750-W-25-垂直"]
[3306,1,15000,3374,3305,3307,"ISB-WXM-750-W-25-垂直"]
[3307,1,19000,3375,3306,3308,"ISB-WXM-750-W-25-垂直"]
[3308,1,20000,3376,3307,3309,"ISB-WXM-750-W-25-垂直"]
[3309,1,22000,3377,3308,3310,"ISB-WXM-750-W-25-垂直"]
[3310,1,25000,3378,3309,-1,"ISB-WXM-750-W-25-垂直"]
[3311,0,5000,3380,-1,3312,"ISB-WXM-750-W-50-水平"]
[3312,0,8000,3381,3311,3313,"ISB-WXM-750-W-50-水平"]
[3313,0,14000,3382,3312,3314,"ISB-WXM-750-W-50-水平"]
[3314,0,17000,3383,3313,3315,"ISB-WXM-750-W-50-水平"]
[3315,0,20000,3384,3314,3316,"ISB-WXM-750-W-50-水平"]
[3316,0,24000,3385,3315,3317,"ISB-WXM-750-W-50-水平"]
[3317,0,30000,3386,3316,3318,"ISB-WXM-750-W-50-水平"]
[3318,0,38000,3387,3317,3319,"ISB-WXM-750-W-50-水平"]
[3319,0,50000,3388,3318,3320,"ISB-WXM-750-W-50-水平"]
[3320,0,70000,3389,3319,3321,"ISB-WXM-750-W-50-水平"]
[3321,1,1000,3391,3320,3322,"ISB-WXM-750-W-50-垂直"]
[3322,1,2000,3392,3321,3323,"ISB-WXM-750-W-50-垂直"]
[3323,1,2500,3393,3322,3324,"ISB-WXM-750-W-50-垂直"]
[3324,1,3000,3394,3323,3325,"ISB-WXM-750-W-50-垂直"]
[3325,1,4000,3395,3324,3326,"ISB-WXM-750-W-50-垂直"]
[3326,1,6000,3396,3325,3327,"ISB-WXM-750-W-50-垂直"]
[3327,1,8000,3397,3326,3328,"ISB-WXM-750-W-50-垂直"]
[3328,1,10000,3398,3327,-1,"ISB-WXM-750-W-50-垂直"]
[3329,0,125000,3400,-1,3330,"ISPB-WXM-750-HLA-W-10-水平"]
[3330,0,150000,3401,3329,3331,"ISPB-WXM-750-HLA-W-10-水平"]
[3331,0,190000,3402,3330,3332,"ISPB-WXM-750-HLA-W-10-水平"]
[3332,0,255000,3403,3331,3333,"ISPB-WXM-750-HLA-W-10-水平"]
[3333,0,390000,3404,3332,3334,"ISPB-WXM-750-HLA-W-10-水平"]
[3334,1,54000,3405,3333,3335,"ISPB-WXM-750-HLA-W-10-垂直"]
[3335,1,58000,3406,3334,3336,"ISPB-WXM-750-HLA-W-10-垂直"]
[3336,1,70000,3407,3335,-1,"ISPB-WXM-750-HLA-W-10-垂直"]
[3337,0,20000,3409,-1,3338,"ISB-WXMX-750-W-25-水平"]
[3338,0,26000,3410,3337,3339,"ISB-WXMX-750-W-25-水平"]
[3339,0,36000,3411,3338,3340,"ISB-WXMX-750-W-25-水平"]
[3340,0,44000,3412,3339,3341,"ISB-WXMX-750-W-25-水平"]
[3341,0,50000,3413,3340,3342,"ISB-WXMX-750-W-25-水平"]
[3342,0,58000,3414,3341,3343,"ISB-WXMX-750-W-25-水平"]
[3343,0,70000,3415,3342,3344,"ISB-WXMX-750-W-25-水平"]
[3344,0,86000,3416,3343,3345,"ISB-WXMX-750-W-25-水平"]
[3345,0,110000,3417,3344,3346,"ISB-WXMX-750-W-25-水平"]
[3346,0,150000,3418,3345,3347,"ISB-WXMX-750-W-25-水平"]
[3347,1,19000,3420,3346,3348,"ISB-WXMX-750-W-25-垂直"]
[3348,1,20000,3421,3347,3349,"ISB-WXMX-750-W-25-垂直"]
[3349,1,22000,3422,3348,3350,"ISB-WXMX-750-W-25-垂直"]
[3350,1,25000,3423,3349,-1,"ISB-WXMX-750-W-25-垂直"]
[3351,0,5000,3425,-1,3352,"ISB-WXMX-750-W-50-水平"]
[3352,0,8000,3426,3351,3353,"ISB-WXMX-750-W-50-水平"]
[3353,0,14000,3427,3352,3354,"ISB-WXMX-750-W-50-水平"]
[3354,0,17000,3428,3353,3355,"ISB-WXMX-750-W-50-水平"]
[3355,0,20000,3429,3354,3356,"ISB-WXMX-750-W-50-水平"]
[3356,0,24000,3430,3355,3357,"ISB-WXMX-750-W-50-水平"]
[3357,0,30000,3431,3356,3358,"ISB-WXMX-750-W-50-水平"]
[3358,0,38000,3432,3357,3359,"ISB-WXMX-750-W-50-水平"]
[3359,0,50000,3433,3358,3360,"ISB-WXMX-750-W-50-水平"]
[3360,0,70000,3434,3359,3361,"ISB-WXMX-750-W-50-水平"]
[3361,1,4000,3436,3360,3362,"ISB-WXMX-750-W-50-垂直"]
[3362,1,6000,3437,3361,3363,"ISB-WXMX-750-W-50-垂直"]
[3363,1,8000,3438,3362,3364,"ISB-WXMX-750-W-50-垂直"]
[3364,1,10000,3439,3363,-1,"ISB-WXMX-750-W-50-垂直","↑ Ver3.14"]
[3365,0,45000,3441,-1,3366,"EC-S18L (～1350st)-10-水平","↓ Ver.3.15"]
[3366,0,90000,3442,3365,3367,"EC-S18L (～1350st)-10-水平"]
[3367,0,150000,3443,3366,3368,"EC-S18L (～1350st)-10-水平"]
[3368,1,40000,3444,3367,3369,"EC-S18L (～1350st)-10-垂直"]
[3369,1,60000,3445,3368,-1,"EC-S18L (～1350st)-10-垂直"]
[3370,0,45000,3446,-1,3371,"EC-S18L (1400st～)-10-水平"]
[3371,0,90000,3447,3370,3372,"EC-S18L (1400st～)-10-水平"]
[3372,0,150000,3448,3371,3373,"EC-S18L (1400st～)-10-水平"]
[3373,1,40000,3449,3372,3374,"EC-S18L (1400st～)-10-垂直"]
[3374,1,60000,3450,3373,-1,"EC-S18L (1400st～)-10-垂直"]
[3375,0,31000,3451,-1,3376,"EC-S18M (～1350st)-20-水平"]
[3376,0,52000,3452,3375,3377,"EC-S18M (～1350st)-20-水平"]
[3377,0,72000,3453,3376,3378,"EC-S18M (～1350st)-20-水平"]
[3378,0,120000,3454,3377,3379,"EC-S18M (～1350st)-20-水平"]
[3379,1,17500,3455,3378,3380,"EC-S18M (～1350st)-20-垂直"]
[3380,1,23000,3456,3379,3381,"EC-S18M (～1350st)-20-垂直"]
[3381,1,29000,3457,3380,-1,"EC-S18M (～1350st)-20-垂直"]
[3382,0,31000,3458,-1,3383,"EC-S18M (1400st～)-20-水平"]
[3383,0,52000,3459,3382,3384,"EC-S18M (1400st～)-20-水平"]
[3384,0,72000,3460,3383,3385,"EC-S18M (1400st～)-20-水平"]
[3385,0,120000,3461,3384,3386,"EC-S18M (1400st～)-20-水平"]
[3386,1,17500,3462,3385,3387,"EC-S18M (1400st～)-20-垂直"]
[3387,1,23000,3463,3386,3388,"EC-S18M (1400st～)-20-垂直"]
[3388,1,29000,3464,3387,-1,"EC-S18M (1400st～)-20-垂直"]
[3389,0,18000,3465,-1,3390,"EC-S18H (～1350st)-40-水平"]
[3390,0,26000,3466,3389,3391,"EC-S18H (～1350st)-40-水平"]
[3391,0,36000,3467,3390,3392,"EC-S18H (～1350st)-40-水平"]
[3392,0,60000,3468,3391,3393,"EC-S18H (～1350st)-40-水平"]
[3393,1,6700,3469,3392,3394,"EC-S18H (～1350st)-40-垂直"]
[3394,1,10000,3470,3393,3395,"EC-S18H (～1350st)-40-垂直"]
[3395,1,14000,3471,3394,-1,"EC-S18H (～1350st)-40-垂直"]
[3396,0,18000,3472,-1,3397,"EC-S18H (1400st～)-40-水平"]
[3397,0,26000,3473,3396,3398,"EC-S18H (1400st～)-40-水平"]
[3398,0,36000,3474,3397,3399,"EC-S18H (1400st～)-40-水平"]
[3399,0,60000,3475,3398,3400,"EC-S18H (1400st～)-40-水平"]
[3400,1,6700,3476,3399,3401,"EC-S18H (1400st～)-40-垂直"]
[3401,1,10000,3477,3400,3402,"EC-S18H (1400st～)-40-垂直"]
[3402,1,14000,3478,3401,-1,"EC-S18H (1400st～)-40-垂直"]
[3403,0,95000,3479,-1,3404,"EC-S18LP (～1350st)-10-水平"]
[3404,0,160000,3480,3403,3405,"EC-S18LP (～1350st)-10-水平"]
[3405,0,265000,3481,3404,3406,"EC-S18LP (～1350st)-10-水平"]
[3406,0,400000,3482,3405,3407,"EC-S18LP (～1350st)-10-水平"]
[3407,1,64000,3483,3406,3408,"EC-S18LP (～1350st)-10-垂直"]
[3408,1,80000,3484,3407,-1,"EC-S18LP (～1350st)-10-垂直"]
[3409,0,95000,3486,-1,3410,"EC-S18LP (1400st～)-10-水平"]
[3410,0,160000,3487,3409,3411,"EC-S18LP (1400st～)-10-水平"]
[3411,0,265000,3488,3410,3412,"EC-S18LP (1400st～)-10-水平"]
[3412,0,400000,3489,3411,3413,"EC-S18LP (1400st～)-10-水平"]
[3413,1,64000,3490,3412,3414,"EC-S18LP (1400st～)-10-垂直"]
[3414,1,80000,3491,3413,-1,"EC-S18LP (1400st～)-10-垂直"]
[3415,0,45000,3493,-1,3416,"EC-S18XL (～2200st)-10-水平"]
[3416,0,90000,3494,3415,3417,"EC-S18XL (～2200st)-10-水平"]
[3417,0,150000,3495,3416,3418,"EC-S18XL (～2200st)-10-水平"]
[3418,1,40000,3496,3417,3419,"EC-S18XL (～2200st)-10-垂直"]
[3419,1,60000,3497,3418,-1,"EC-S18XL (～2200st)-10-垂直"]
[3420,0,45000,3498,-1,3421,"EC-S18XL (2250st～)-10-水平"]
[3421,0,90000,3499,3420,3422,"EC-S18XL (2250st～)-10-水平"]
[3422,0,150000,3500,3421,3423,"EC-S18XL (2250st～)-10-水平"]
[3423,1,40000,3501,3422,3424,"EC-S18XL (2250st～)-10-垂直"]
[3424,1,60000,3502,3423,-1,"EC-S18XL (2250st～)-10-垂直"]
[3425,0,31000,3503,-1,3426,"EC-S18XM (～2200st)-20-水平"]
[3426,0,52000,3504,3425,3427,"EC-S18XM (～2200st)-20-水平"]
[3427,0,72000,3505,3426,3428,"EC-S18XM (～2200st)-20-水平"]
[3428,0,120000,3506,3427,3429,"EC-S18XM (～2200st)-20-水平"]
[3429,1,17500,3507,3428,3430,"EC-S18XM (～2200st)-20-垂直"]
[3430,1,23000,3508,3429,3431,"EC-S18XM (～2200st)-20-垂直"]
[3431,1,29000,3509,3430,-1,"EC-S18XM (～2200st)-20-垂直"]
[3432,0,31000,3510,-1,3433,"EC-S18XM (2250st～)-20-水平"]
[3433,0,52000,3511,3432,3434,"EC-S18XM (2250st～)-20-水平"]
[3434,0,72000,3512,3433,3435,"EC-S18XM (2250st～)-20-水平"]
[3435,0,120000,3513,3434,3436,"EC-S18XM (2250st～)-20-水平"]
[3436,1,17500,3514,3435,3437,"EC-S18XM (2250st～)-20-垂直"]
[3437,1,23000,3515,3436,3438,"EC-S18XM (2250st～)-20-垂直"]
[3438,1,29000,3516,3437,-1,"EC-S18XM (2250st～)-20-垂直"]
[3439,0,18000,3517,-1,3440,"EC-S18XH (～2200st)-40-水平"]
[3440,0,26000,3518,3439,3441,"EC-S18XH (～2200st)-40-水平"]
[3441,0,36000,3519,3440,3442,"EC-S18XH (～2200st)-40-水平"]
[3442,0,60000,3520,3441,3443,"EC-S18XH (～2200st)-40-水平"]
[3443,1,6700,3521,3442,3444,"EC-S18XH (～2200st)-40-垂直"]
[3444,1,10000,3522,3443,3445,"EC-S18XH (～2200st)-40-垂直"]
[3445,1,14000,3523,3444,-1,"EC-S18XH (～2200st)-40-垂直"]
[3446,0,18000,3524,-1,3447,"EC-S18XH (2250st～)-40-水平"]
[3447,0,26000,3525,3446,3448,"EC-S18XH (2250st～)-40-水平"]
[3448,0,36000,3526,3447,3449,"EC-S18XH (2250st～)-40-水平"]
[3449,0,60000,3527,3448,3450,"EC-S18XH (2250st～)-40-水平"]
[3450,1,6700,3528,3449,3451,"EC-S18XH (2250st～)-40-垂直"]
[3451,1,10000,3529,3450,3452,"EC-S18XH (2250st～)-40-垂直"]
[3452,1,14000,3530,3451,-1,"EC-S18XH (2250st～)-40-垂直"]
[3453,0,95000,3531,-1,3454,"EC-S18XLP-10-水平"]
[3454,0,160000,3532,3453,3455,"EC-S18XLP-10-水平"]
[3455,0,265000,3533,3454,3456,"EC-S18XLP-10-水平"]
[3456,0,400000,3534,3455,3457,"EC-S18XLP-10-水平"]
[3457,1,64000,3535,3456,3458,"EC-S18XLP-10-垂直"]
[3458,1,80000,3536,3457,-1,"EC-S18XLP-10-垂直"]
[3459,0,41000,3538,-1,3460,"EC-S18L-W (～1350st)-10-水平"]
[3460,0,86000,3539,3459,3461,"EC-S18L-W (～1350st)-10-水平"]
[3461,0,146000,3540,3460,3462,"EC-S18L-W (～1350st)-10-水平"]
[3462,1,36000,3541,3461,3463,"EC-S18L-W (～1350st)-10-垂直"]
[3463,1,56000,3542,3462,-1,"EC-S18L-W (～1350st)-10-垂直"]
[3464,0,41000,3543,-1,3465,"EC-S18L-W (1400st～)-10-水平"]
[3465,0,86000,3544,3464,3466,"EC-S18L-W (1400st～)-10-水平"]
[3466,0,146000,3545,3465,3467,"EC-S18L-W (1400st～)-10-水平"]
[3467,1,36000,3546,3466,3468,"EC-S18L-W (1400st～)-10-垂直"]
[3468,1,56000,3547,3467,-1,"EC-S18L-W (1400st～)-10-垂直"]
[3469,0,27000,3548,-1,3470,"EC-S18M-W (～1350st)-20-水平"]
[3470,0,48000,3549,3469,3471,"EC-S18M-W (～1350st)-20-水平"]
[3471,0,68000,3550,3470,3472,"EC-S18M-W (～1350st)-20-水平"]
[3472,0,116000,3551,3471,3473,"EC-S18M-W (～1350st)-20-水平"]
[3473,1,13500,3552,3472,3474,"EC-S18M-W (～1350st)-20-垂直"]
[3474,1,19000,3553,3473,3475,"EC-S18M-W (～1350st)-20-垂直"]
[3475,1,25000,3554,3474,-1,"EC-S18M-W (～1350st)-20-垂直"]
[3476,0,27000,3555,-1,3477,"EC-S18M-W (1400st～)-20-水平"]
[3477,0,48000,3556,3476,3478,"EC-S18M-W (1400st～)-20-水平"]
[3478,0,68000,3557,3477,3479,"EC-S18M-W (1400st～)-20-水平"]
[3479,0,116000,3558,3478,3480,"EC-S18M-W (1400st～)-20-水平"]
[3480,1,13500,3559,3479,3481,"EC-S18M-W (1400st～)-20-垂直"]
[3481,1,19000,3560,3480,3482,"EC-S18M-W (1400st～)-20-垂直"]
[3482,1,25000,3561,3481,-1,"EC-S18M-W (1400st～)-20-垂直"]
[3483,0,14000,3562,-1,3484,"EC-S18H-W (～1350st)-40-水平"]
[3484,0,22000,3563,3483,3485,"EC-S18H-W (～1350st)-40-水平"]
[3485,0,32000,3564,3484,3486,"EC-S18H-W (～1350st)-40-水平"]
[3486,0,56000,3565,3485,3487,"EC-S18H-W (～1350st)-40-水平"]
[3487,1,2700,3566,3486,3488,"EC-S18H-W (～1350st)-40-垂直"]
[3488,1,6000,3567,3487,3489,"EC-S18H-W (～1350st)-40-垂直"]
[3489,1,10000,3568,3488,-1,"EC-S18H-W (～1350st)-40-垂直"]
[3490,0,14000,3569,-1,3491,"EC-S18H-W (1400st～)-40-水平"]
[3491,0,22000,3570,3490,3492,"EC-S18H-W (1400st～)-40-水平"]
[3492,0,32000,3571,3491,3493,"EC-S18H-W (1400st～)-40-水平"]
[3493,0,56000,3572,3492,3494,"EC-S18H-W (1400st～)-40-水平"]
[3494,1,2700,3573,3493,3495,"EC-S18H-W (1400st～)-40-垂直"]
[3495,1,6000,3574,3494,3496,"EC-S18H-W (1400st～)-40-垂直"]
[3496,1,10000,3575,3495,-1,"EC-S18H-W (1400st～)-40-垂直"]
[3497,0,91000,3576,-1,3498,"EC-S18LP-W (～1350st)-10-水平"]
[3498,0,156000,3577,3497,3499,"EC-S18LP-W (～1350st)-10-水平"]
[3499,0,261000,3578,3498,3500,"EC-S18LP-W (～1350st)-10-水平"]
[3500,0,396000,3579,3499,3501,"EC-S18LP-W (～1350st)-10-水平"]
[3501,1,60000,3580,3500,3502,"EC-S18LP-W (～1350st)-10-垂直"]
[3502,1,76000,3581,3501,-1,"EC-S18LP-W (～1350st)-10-垂直"]
[3503,0,91000,3583,-1,3504,"EC-S18LP-W (1400st～)-10-水平"]
[3504,0,156000,3584,3503,3505,"EC-S18LP-W (1400st～)-10-水平"]
[3505,0,261000,3585,3504,3506,"EC-S18LP-W (1400st～)-10-水平"]
[3506,0,396000,3586,3505,3507,"EC-S18LP-W (1400st～)-10-水平"]
[3507,1,60000,3587,3506,3508,"EC-S18LP-W (1400st～)-10-垂直"]
[3508,1,76000,3588,3507,-1,"EC-S18LP-W (1400st～)-10-垂直"]
[3509,0,41000,3590,-1,3510,"EC-S18XL-W (～2200st)-10-水平"]
[3510,0,86000,3591,3509,3511,"EC-S18XL-W (～2200st)-10-水平"]
[3511,0,146000,3592,3510,3512,"EC-S18XL-W (～2200st)-10-水平"]
[3512,1,36000,3593,3511,3513,"EC-S18XL-W (～2200st)-10-垂直"]
[3513,1,56000,3594,3512,-1,"EC-S18XL-W (～2200st)-10-垂直"]
[3514,0,41000,3595,-1,3515,"EC-S18XL-W (2250st～)-10-水平"]
[3515,0,86000,3596,3514,3516,"EC-S18XL-W (2250st～)-10-水平"]
[3516,0,146000,3597,3515,3517,"EC-S18XL-W (2250st～)-10-水平"]
[3517,1,36000,3598,3516,3518,"EC-S18XL-W (2250st～)-10-垂直"]
[3518,1,56000,3599,3517,-1,"EC-S18XL-W (2250st～)-10-垂直"]
[3519,0,27000,3600,-1,3520,"EC-S18XM-W (～2200st)-20-水平"]
[3520,0,48000,3601,3519,3521,"EC-S18XM-W (～2200st)-20-水平"]
[3521,0,68000,3602,3520,3522,"EC-S18XM-W (～2200st)-20-水平"]
[3522,0,116000,3603,3521,3523,"EC-S18XM-W (～2200st)-20-水平"]
[3523,1,13500,3604,3522,3524,"EC-S18XM-W (～2200st)-20-垂直"]
[3524,1,19000,3605,3523,3525,"EC-S18XM-W (～2200st)-20-垂直"]
[3525,1,25000,3606,3524,-1,"EC-S18XM-W (～2200st)-20-垂直"]
[3526,0,27000,3607,-1,3527,"EC-S18XM-W (2250st～)-20-水平"]
[3527,0,48000,3608,3526,3528,"EC-S18XM-W (2250st～)-20-水平"]
[3528,0,68000,3609,3527,3529,"EC-S18XM-W (2250st～)-20-水平"]
[3529,0,116000,3610,3528,3530,"EC-S18XM-W (2250st～)-20-水平"]
[3530,1,13500,3611,3529,3531,"EC-S18XM-W (2250st～)-20-垂直"]
[3531,1,19000,3612,3530,3532,"EC-S18XM-W (2250st～)-20-垂直"]
[3532,1,25000,3613,3531,-1,"EC-S18XM-W (2250st～)-20-垂直"]
[3533,0,14000,3614,-1,3534,"EC-S18XH-W (～2200st)-40-水平"]
[3534,0,22000,3615,3533,3535,"EC-S18XH-W (～2200st)-40-水平"]
[3535,0,32000,3616,3534,3536,"EC-S18XH-W (～2200st)-40-水平"]
[3536,0,56000,3617,3535,3537,"EC-S18XH-W (～2200st)-40-水平"]
[3537,1,2700,3618,3536,3538,"EC-S18XH-W (～2200st)-40-垂直"]
[3538,1,6000,3619,3537,3539,"EC-S18XH-W (～2200st)-40-垂直"]
[3539,1,10000,3620,3538,-1,"EC-S18XH-W (～2200st)-40-垂直"]
[3540,0,14000,3621,-1,3541,"EC-S18XH-W (2250st～)-40-水平"]
[3541,0,22000,3622,3540,3542,"EC-S18XH-W (2250st～)-40-水平"]
[3542,0,32000,3623,3541,3543,"EC-S18XH-W (2250st～)-40-水平"]
[3543,0,56000,3624,3542,3544,"EC-S18XH-W (2250st～)-40-水平"]
[3544,1,2700,3625,3543,3545,"EC-S18XH-W (2250st～)-40-垂直"]
[3545,1,6000,3626,3544,3546,"EC-S18XH-W (2250st～)-40-垂直"]
[3546,1,10000,3627,3545,-1,"EC-S18XH-W (2250st～)-40-垂直"]
[3547,0,91000,3628,-1,3548,"EC-S18XLP-W-10-水平"]
[3548,0,156000,3629,3547,3549,"EC-S18XLP-W-10-水平"]
[3549,0,261000,3630,3548,3550,"EC-S18XLP-W-10-水平"]
[3550,0,396000,3631,3549,3551,"EC-S18XLP-W-10-水平"]
[3551,1,60000,3632,3550,3552,"EC-S18XLP-W-10-垂直"]
[3552,1,76000,3633,3551,-1,"EC-S18XLP-W-10-垂直","↑ Ver.3.15"]
[3553,0,4000,3635,-1,3554,"EC-B8SS-54-水平",4,"↓ Ver.3.16 追加"]
[3554,0,6000,3636,3553,3555,"EC-B8SS-54-水平",6]
[3555,0,9000,3637,3554,3556,"EC-B8SS-54-水平",9]
[3556,0,15000,3638,3555,-1,"EC-B8SS-54-水平",15]
[3557,0,4000,3639,-1,3558,"EC-B8SSU-54-水平",4]
[3558,0,6000,3640,3557,3559,"EC-B8SSU-54-水平",6]
[3559,0,9000,3641,3558,3560,"EC-B8SSU-54-水平",9]
[3560,0,15000,3642,3559,-1,"EC-B8SSU-54-水平",15]
[3561,0,40000,3643,-1,3562,"RCS4-HSA6C-100-4-水平",40]
[3562,0,60000,3644,3561,3563,"RCS4-HSA6C-100-4-水平",60]
[3563,0,90000,3645,3562,3564,"RCS4-HSA6C-100-4-水平",90]
[3564,1,20000,3646,3563,3565,"RCS4-HSA6C-100-4-垂直",20]
[3565,1,25000,3647,3564,3566,"RCS4-HSA6C-100-4-垂直",25]
[3566,1,30000,3648,3565,-1,"RCS4-HSA6C-100-4-垂直",30]
[3567,0,20000,3649,-1,3568,"RCS4-HSA6C-100-8-水平",20]
[3568,0,30000,3650,3567,3569,"RCS4-HSA6C-100-8-水平",30]
[3569,0,40000,3651,3568,3570,"RCS4-HSA6C-100-8-水平",40]
[3570,0,50000,3652,3569,3571,"RCS4-HSA6C-100-8-水平",50]
[3571,1,15000,3653,3570,-1,"RCS4-HSA6C-100-8-垂直",15]
[3572,0,13000,3657,-1,3573,"RCS4-HSA6C-100-16-水平",13]
[3573,0,15000,3658,3572,3574,"RCS4-HSA6C-100-16-水平",15]
[3574,0,20000,3659,3573,3575,"RCS4-HSA6C-100-16-水平",20]
[3575,0,24000,3660,3574,3576,"RCS4-HSA6C-100-16-水平",24]
[3576,0,33000,3661,3575,3577,"RCS4-HSA6C-100-16-水平",33]
[3577,1,6000,3662,3576,-1,"RCS4-HSA6C-100-16-垂直",6]
[3578,0,6000,3667,-1,3579,"RCS4-HSA6C-100-24-水平",6]
[3579,0,8000,3668,3578,3580,"RCS4-HSA6C-100-24-水平",8]
[3580,0,10000,3669,3579,3581,"RCS4-HSA6C-100-24-水平",10]
[3581,0,15000,3670,3580,3582,"RCS4-HSA6C-100-24-水平",15]
[3582,0,18000,3671,3581,3583,"RCS4-HSA6C-100-24-水平",18]
[3583,1,2000,3672,3582,3584,"RCS4-HSA6C-100-24-垂直",2]
[3584,1,4000,3673,3583,-1,"RCS4-HSA6C-100-24-垂直",4]
[3585,0,70000,3677,-1,3586,"RCS4-HSA7C-200-5-水平",70]
[3586,0,90000,3678,3585,3587,"RCS4-HSA7C-200-5-水平",90]
[3587,0,120000,3679,3586,3588,"RCS4-HSA7C-200-5-水平",120]
[3588,1,30000,3680,3587,3589,"RCS4-HSA7C-200-5-垂直",30]
[3589,1,40000,3681,3588,3590,"RCS4-HSA7C-200-5-垂直",40]
[3590,1,50000,3682,3589,-1,"RCS4-HSA7C-200-5-垂直",50]
[3591,0,35000,3683,-1,3592,"RCS4-HSA7C-200-10-水平",35]
[3592,0,40000,3684,3591,3593,"RCS4-HSA7C-200-10-水平",40]
[3593,0,50000,3685,3592,3594,"RCS4-HSA7C-200-10-水平",50]
[3594,0,60000,3686,3593,3595,"RCS4-HSA7C-200-10-水平",60]
[3595,1,18000,3687,3594,3596,"RCS4-HSA7C-200-10-垂直",18]
[3596,1,20000,3688,3595,3597,"RCS4-HSA7C-200-10-垂直",20]
[3597,1,25000,3690,3596,-1,"RCS4-HSA7C-200-10-垂直",25]
[3598,0,12000,3691,-1,3599,"RCS4-HSA7C-200-20-水平",12]
[3599,0,15000,3692,3598,3600,"RCS4-HSA7C-200-20-水平",15]
[3600,0,30000,3694,3599,3601,"RCS4-HSA7C-200-20-水平",30]
[3601,0,40000,3695,3600,3602,"RCS4-HSA7C-200-20-水平",40]
[3602,1,8000,3696,3601,3603,"RCS4-HSA7C-200-20-垂直",8]
[3603,1,10000,3698,3602,3604,"RCS4-HSA7C-200-20-垂直",10]
[3604,1,12000,3699,3603,-1,"RCS4-HSA7C-200-20-垂直",12]
[3605,0,5000,3701,-1,3606,"RCS4-HSA7C-200-30-水平",5]
[3606,0,6000,3702,3605,3607,"RCS4-HSA7C-200-30-水平",6]
[3607,0,10000,3703,3606,3608,"RCS4-HSA7C-200-30-水平",10]
[3608,0,12000,3704,3607,3609,"RCS4-HSA7C-200-30-水平",12]
[3609,0,30000,3705,3608,3610,"RCS4-HSA7C-200-30-水平",30]
[3610,1,4000,3706,3609,3611,"RCS4-HSA7C-200-30-垂直",4]
[3611,1,5000,3707,3610,3612,"RCS4-HSA7C-200-30-垂直",5]
[3612,1,6000,3708,3611,3613,"RCS4-HSA7C-200-30-垂直",6]
[3613,1,7000,3709,3612,-1,"RCS4-HSA7C-200-30-垂直",7]
[3614,0,34000,3711,-1,3615,"RCS4-HSA6C-100-W-4-水平",34]
[3615,0,54000,3712,3614,3616,"RCS4-HSA6C-100-W-4-水平",54]
[3616,0,84000,3713,3615,3617,"RCS4-HSA6C-100-W-4-水平",84]
[3617,1,14000,3714,3616,3618,"RCS4-HSA6C-100-W-4-垂直",14]
[3618,1,19000,3715,3617,3619,"RCS4-HSA6C-100-W-4-垂直",19]
[3619,1,24000,3716,3618,-1,"RCS4-HSA6C-100-W-4-垂直",24]
[3620,0,14000,3717,-1,3621,"RCS4-HSA6C-100-W-8-水平",14]
[3621,0,24000,3718,3620,3622,"RCS4-HSA6C-100-W-8-水平",24]
[3622,0,34000,3719,3621,3623,"RCS4-HSA6C-100-W-8-水平",34]
[3623,0,44000,3720,3622,3624,"RCS4-HSA6C-100-W-8-水平",44]
[3624,1,9000,3721,3623,-1,"RCS4-HSA6C-100-W-8-垂直",9]
[3625,0,7000,3725,-1,3626,"RCS4-HSA6C-100-W-16-水平",7]
[3626,0,9000,3726,3625,3627,"RCS4-HSA6C-100-W-16-水平",9]
[3627,0,14000,3727,3626,3628,"RCS4-HSA6C-100-W-16-水平",14]
[3628,0,18000,3728,3627,3629,"RCS4-HSA6C-100-W-16-水平",18]
[3629,0,27000,3729,3628,-1,"RCS4-HSA6C-100-W-16-水平",27]
[3630,0,64000,3730,-1,3631,"RCS4-HSA7C-200-W-5-水平",64]
[3631,0,84000,3731,3630,3632,"RCS4-HSA7C-200-W-5-水平",84]
[3632,0,114000,3732,3631,3633,"RCS4-HSA7C-200-W-5-水平",114]
[3633,1,24000,3733,3632,3634,"RCS4-HSA7C-200-W-5-垂直",24]
[3634,1,34000,3734,3633,3635,"RCS4-HSA7C-200-W-5-垂直",34]
[3635,1,44000,3735,3634,-1,"RCS4-HSA7C-200-W-5-垂直",44]
[3636,0,29000,3736,-1,3637,"RCS4-HSA7C-200-W-10-水平",29]
[3637,0,34000,3737,3636,3638,"RCS4-HSA7C-200-W-10-水平",34]
[3638,0,44000,3738,3637,3639,"RCS4-HSA7C-200-W-10-水平",44]
[3639,0,54000,3739,3638,3640,"RCS4-HSA7C-200-W-10-水平",54]
[3640,1,12000,3740,3639,3641,"RCS4-HSA7C-200-W-10-垂直",12]
[3641,1,14000,3741,3640,3642,"RCS4-HSA7C-200-W-10-垂直",14]
[3642,1,19000,3743,3641,-1,"RCS4-HSA7C-200-W-10-垂直",19]
[3643,0,6000,3744,-1,3644,"RCS4-HSA7C-200-W-20-水平",6]
[3644,0,9000,3745,3643,3645,"RCS4-HSA7C-200-W-20-水平",9]
[3645,0,24000,3747,3644,3646,"RCS4-HSA7C-200-W-20-水平",24]
[3646,0,34000,3748,3645,-1,"RCS4-HSA7C-200-W-20-水平",34,"↑ Ver.3.16 追加"]
["EOF"]

{"sheet":"AccVelDataLink","index":6,"n_rows":3752,"n_cols":19,"rows_kept":3752,"cut":false,"hidden":true,"merged":[]}
[{"$f":"LeadData!A1","v":9.8066499999999994},1,2,3,4]
["ﾃﾞｰﾀ№","水平定格加速度","最高速度","前ﾃﾞｰﾀ№","次ﾃﾞｰﾀ№","備考"]
[{"$f":"ModelData!A3","v":0},"0.001mm/s^2","㎜/s","ﾚｺｰﾄﾞ№","ﾚｺｰﾄﾞ№","型式-姿勢","kg","G","mm/s"]
[{"$f":"A3+1","v":1},{"$f":"H4*$A$1*1000*1000","v":4903325},{"$f":"I4","v":240},-1,-1,"ISB-SXM-60-4-水平",30,0.5,240]
[2,3922660,240,-1,-1,"ISB-SXM-60-4-水平",38,0.4,240]
[3,2941995,240,-1,-1,"ISB-SXM-60-4-水平",50,0.3,240]
[4,1961330,240,-1,-1,"ISB-SXM-60-4-水平",55,0.2,240]
[5,3922660,240,-1,-1,"ISB-SXM-60-4-垂直",12,0.4,240]
[6,2941995,240,-1,-1,"ISB-SXM-60-4-垂直",13,0.3,240]
[7,1961330,240,-1,-1,"ISB-SXM-60-4-垂直",14,0.2,240]
[8,6864654.9999999991,480,-1,-1,"ISB-SXM-60-8-水平",12,0.7,480]
[9,5883990,480,-1,-1,"ISB-SXM-60-8-水平",15,0.6,480]
[10,4903325,480,-1,-1,"ISB-SXM-60-8-水平",20,0.5,480]
[11,3922660,480,-1,-1,"ISB-SXM-60-8-水平",27,0.4,480]
[12,5883990,480,-1,-1,"ISB-SXM-60-8-垂直",5,0.6,480]
[13,4903325,480,-1,-1,"ISB-SXM-60-8-垂直",6,0.5,480]
[14,3922660,480,-1,-1,"ISB-SXM-60-8-垂直",7,0.4,480]
[15,11767980,960,-1,-1,"ISB-SXM-60-16-水平",3.5,1.2,960]
[16,10787314.999999998,960,-1,-1,"ISB-SXM-60-16-水平",4,1.1000000000000001,960]
[17,9806650,960,-1,-1,"ISB-SXM-60-16-水平",4.5,1,960]
[18,8825984.9999999981,960,-1,-1,"ISB-SXM-60-16-水平",5.5,0.9,960]
[19,7845320,960,-1,-1,"ISB-SXM-60-16-水平",6,0.8,960]
[20,6864654.9999999991,960,-1,-1,"ISB-SXM-60-16-水平",7,0.7,960]
[21,5883990,960,-1,-1,"ISB-SXM-60-16-水平",8.5,0.6,960]
[22,4903325,960,-1,-1,"ISB-SXM-60-16-水平",10.5,0.5,960]
[23,3922660,960,-1,-1,"ISB-SXM-60-16-水平",13,0.4,960]
[24,7845320,960,-1,-1,"ISB-SXM-60-16-垂直",2,0.8,960]
[25,6864654.9999999991,960,-1,-1,"ISB-SXM-60-16-垂直",2.2999999999999998,0.7,960]
[26,5883990,960,-1,-1,"ISB-SXM-60-16-垂直",2.6,0.6,960]
[27,4903325,960,-1,-1,"ISB-SXM-60-16-垂直",3,0.5,960]
[28,3922660,960,-1,-1,"ISB-SXM-60-16-垂直",3.5,0.4,960]
[29,4903325,300,-1,-1,"ISB-MXM-100-5-水平",45,0.5,300]
[30,3922660,300,-1,-1,"ISB-MXM-100-5-水平",60,0.4,300]
[31,2941995,300,-1,-1,"ISB-MXM-100-5-水平",80,0.3,300]
[32,1961330,300,-1,-1,"ISB-MXM-100-5-水平",85,0.2,300]
[33,3922660,300,-1,-1,"ISB-MXM-100-5-垂直",15,0.4,300]
[34,2941995,300,-1,-1,"ISB-MXM-100-5-垂直",17,0.3,300]
[35,1961330,300,-1,-1,"ISB-MXM-100-5-垂直",20,0.2,300]
[36,{"$f":"H39*$A$1*1000*1000","v":6864654.9999999991},{"$f":"I39","v":600},-1,-1,"ISB-MXM-100-10-水平",20,0.7,600]
[37,5883990,600,-1,-1,"ISB-MXM-100-10-水平",23,0.6,600]
[38,4903325,600,-1,-1,"ISB-MXM-100-10-水平",30,0.5,600]
[39,3922660,600,-1,-1,"ISB-MXM-100-10-水平",45,0.4,600]
[40,5883990,600,-1,-1,"ISB-MXM-100-10-垂直",7,0.6,600]
[41,4903325,600,-1,-1,"ISB-MXM-100-10-垂直",8,0.5,600]
[42,3922660,600,-1,-1,"ISB-MXM-100-10-垂直",10,0.4,600]
[43,11767980,1200,-1,-1,"ISB-MXM-100-20-水平",6,1.2,1200]
[44,10787314.999999998,1200,-1,-1,"ISB-MXM-100-20-水平",7,1.1000000000000001,1200]
[45,9806650,1200,-1,-1,"ISB-MXM-100-20-水平",8,1,1200]
[46,8825984.9999999981,1200,-1,-1,"ISB-MXM-100-20-水平",9,0.9,1200]
[47,7845320,1200,-1,-1,"ISB-MXM-100-20-水平",11,0.8,1200]
[48,6864654.9999999991,1200,-1,-1,"ISB-MXM-100-20-水平",13,0.7,1200]
[49,5883990,1200,-1,-1,"ISB-MXM-100-20-水平",15,0.6,1200]
[50,4903325,1200,-1,-1,"ISB-MXM-100-20-水平",18,0.5,1200]
[51,3922660,1200,-1,-1,"ISB-MXM-100-20-水平",23,0.4,1200]
[52,9806650,{"$f":"I55","v":1200},-1,-1,"ISB-MXM-100-20-垂直",2.5,1,1200]
[53,8825984.9999999981,1200,-1,-1,"ISB-MXM-100-20-垂直",2.8,0.9,1200]
[54,7845320,1200,-1,-1,"ISB-MXM-100-20-垂直",3,0.8,1200]
[55,6864654.9999999991,1200,-1,-1,"ISB-MXM-100-20-垂直",3.5,0.7,1200]
[56,5883990,1200,-1,-1,"ISB-MXM-100-20-垂直",4,0.6,1200]
[57,4903325,1200,-1,-1,"ISB-MXM-100-20-垂直",4.5,0.5,1200]
[58,3922660,1200,-1,-1,"ISB-MXM-100-20-垂直",5,0.4,1200]
[59,11767980,1800,-1,-1,"ISB-MXM-100-30-水平",3,1.2,1800]
[60,10787314.999999998,1800,-1,-1,"ISB-MXM-100-30-水平",3.5,1.1000000000000001,1800]
[61,9806650,1800,-1,-1,"ISB-MXM-100-30-水平",4,1,1800]
[62,8825984.9999999981,1800,-1,-1,"ISB-MXM-100-30-水平",5,0.9,1800]
[63,7845320,1800,-1,-1,"ISB-MXM-100-30-水平",6,0.8,1800]
[64,6864654.9999999991,1800,-1,-1,"ISB-MXM-100-30-水平",7,0.7,1800]
[{"$f":"A67+1","v":65},5883990,1800,-1,-1,"ISB-MXM-100-30-水平",9,0.6,1800]
[66,4903325,1800,-1,-1,"ISB-MXM-100-30-水平",11,0.5,1800]
[67,3922660,1800,-1,-1,"ISB-MXM-100-30-水平",15,0.4,1800]
[68,11767980,{"$f":"I71","v":1800},-1,-1,"ISB-MXM-100-30-垂直",1,1.2,1800]
[69,10787314.999999998,1800,-1,-1,"ISB-MXM-100-30-垂直",1.1000000000000001,1.1000000000000001,1800]
[70,9806650,1800,-1,-1,"ISB-MXM-100-30-垂直",1.2,1,1800]
[71,8825984.9999999981,1800,-1,-1,"ISB-MXM-100-30-垂直",1.4,0.9,1800]
[72,7845320,1800,-1,-1,"ISB-MXM-100-30-垂直",1.5,0.8,1800]
[73,6864654.9999999991,1800,-1,-1,"ISB-MXM-100-30-垂直",1.7,0.7,1800]
[74,5883990,1800,-1,-1,"ISB-MXM-100-30-垂直",1.9,0.6,1800]
[75,4903325,1800,-1,-1,"ISB-MXM-100-30-垂直",2.2000000000000002,0.5,1800]
[76,3922660,1800,-1,-1,"ISB-MXM-100-30-垂直",2.5,0.4,1800]
[77,4903325,300,-1,-1,"ISB-MXM-200-5-水平",80,0.5,300]
[78,3922660,300,-1,-1,"ISB-MXM-200-5-水平",90,0.4,300]
[79,2941995,300,-1,-1,"ISB-MXM-200-5-水平",100,0.3,300]
[80,1961330,300,-1,-1,"ISB-MXM-200-5-水平",110,0.2,300]
[81,3922660,300,-1,-1,"ISB-MXM-200-5-垂直",30,0.4,300]
[82,2941995,300,-1,-1,"ISB-MXM-200-5-垂直",34,0.3,300]
[83,1961330,300,-1,-1,"ISB-MXM-200-5-垂直",40,0.2,300]
[84,6864654.9999999991,600,-1,-1,"ISB-MXM-200-10-水平",40,0.7,600]
[85,5883990,600,-1,-1,"ISB-MXM-200-10-水平",51,0.6,600]
[86,4903325,600,-1,-1,"ISB-MXM-200-10-水平",66,0.5,600]
[87,3922660,600,-1,-1,"ISB-MXM-200-10-水平",90,0.4,600]
[88,{"$f":"H91*$A$1*1000*1000","v":5883990},{"$f":"I91","v":600},-1,-1,"ISB-MXM-200-10-垂直",15,0.6,600]
[89,4903325,600,-1,-1,"ISB-MXM-200-10-垂直",17,0.5,600]
[90,3922660,600,-1,-1,"ISB-MXM-200-10-垂直",20,0.4,600]
[91,11767980,1200,-1,-1,"ISB-MXM-200-20-水平",12,1.2,1200]
[92,10787314.999999998,1200,-1,-1,"ISB-MXM-200-20-水平",13,1.1000000000000001,1200]
[93,9806650,1200,-1,-1,"ISB-MXM-200-20-水平",15,1,1200]
[94,8825984.9999999981,1200,-1,-1,"ISB-MXM-200-20-水平",17,0.9,1200]
[95,7845320,1200,-1,-1,"ISB-MXM-200-20-水平",20,0.8,1200]
[96,6864654.9999999991,1200,-1,-1,"ISB-MXM-200-20-水平",23,0.7,1200]
[97,5883990,1200,-1,-1,"ISB-MXM-200-20-水平",28,0.6,1200]
[98,4903325,1200,-1,-1,"ISB-MXM-200-20-水平",35,0.5,1200]
[99,3922660,1200,-1,-1,"ISB-MXM-200-20-水平",45,0.4,1200]
[100,9806650,{"$f":"I103","v":1200},-1,-1,"ISB-MXM-200-20-垂直",5,1,1200]
[101,8825984.9999999981,1200,-1,-1,"ISB-MXM-200-20-垂直",5.5,0.9,1200]
[102,7845320,1200,-1,-1,"ISB-MXM-200-20-垂直",6,0.8,1200]
[103,6864654.9999999991,1200,-1,-1,"ISB-MXM-200-20-垂直",7,0.7,1200]
[104,5883990,1200,-1,-1,"ISB-MXM-200-20-垂直",7.5,0.6,1200]
[105,4903325,1200,-1,-1,"ISB-MXM-200-20-垂直",8.5,0.5,1200]
[106,3922660,1200,-1,-1,"ISB-MXM-200-20-垂直",10,0.4,1200]
[107,11767980,1800,-1,-1,"ISB-MXM-200-30-水平",9,1.2,1800]
[108,10787314.999999998,1800,-1,-1,"ISB-MXM-200-30-水平",10,1.1000000000000001,1800]
[109,9806650,1800,-1,-1,"ISB-MXM-200-30-水平",12,1,1800]
[110,8825984.9999999981,1800,-1,-1,"ISB-MXM-200-30-水平",13,0.9,1800]
[111,7845320,1800,-1,-1,"ISB-MXM-200-30-水平",15,0.8,1800]
[112,6864654.9999999991,1800,-1,-1,"ISB-MXM-200-30-水平",17,0.7,1800]
[113,5883990,1800,-1,-1,"ISB-MXM-200-30-水平",20,0.6,1800]
[114,4903325,1800,-1,-1,"ISB-MXM-200-30-水平",24,0.5,1800]
[115,3922660,1800,-1,-1,"ISB-MXM-200-30-水平",30,0.4,1800]
[116,11767980,{"$f":"I119","v":1800},-1,-1,"ISB-MXM-200-30-垂直",2,1.2,1800]
[117,10787314.999999998,1800,-1,-1,"ISB-MXM-200-30-垂直",2.5,1.1000000000000001,1800]
[118,9806650,1800,-1,-1,"ISB-MXM-200-30-垂直",3,1,1800]
[119,8825984.9999999981,1800,-1,-1,"ISB-MXM-200-30-垂直",3.5,0.9,1800]
[120,7845320,1800,-1,-1,"ISB-MXM-200-30-垂直",4,0.8,1800]
[121,6864654.9999999991,1800,-1,-1,"ISB-MXM-200-30-垂直",4.5,0.7,1800]
[122,5883990,1800,-1,-1,"ISB-MXM-200-30-垂直",5,0.6,1800]
[123,4903325,1800,-1,-1,"ISB-MXM-200-30-垂直",5.5,0.5,1800]
[124,3922660,1800,-1,-1,"ISB-MXM-200-30-垂直",6,0.4,1800]
[125,6864654.9999999991,600,-1,-1,"ISB-LXM-200-10-水平",40,0.7,600]
[126,5883990,600,-1,-1,"ISB-LXM-200-10-水平",51,0.6,600]
[127,4903325,600,-1,-1,"ISB-LXM-200-10-水平",66,0.5,600]
[128,3922660,600,-1,-1,"ISB-LXM-200-10-水平",90,0.4,600]
[{"$f":"A131+1","v":129},5883990,600,-1,-1,"ISB-LXM-200-10-垂直",14,0.6,600]
[130,4903325,600,-1,-1,"ISB-LXM-200-10-垂直",16,0.5,600]
[131,3922660,600,-1,-1,"ISB-LXM-200-10-垂直",20,0.4,600]
[132,11767980,1200,-1,-1,"ISB-LXM-200-20-水平",12,1.2,1200]
[133,10787314.999999998,1200,-1,-1,"ISB-LXM-200-20-水平",13,1.1000000000000001,1200]
[134,9806650,1200,-1,-1,"ISB-LXM-200-20-水平",15,1,1200]
[135,8825984.9999999981,1200,-1,-1,"ISB-LXM-200-20-水平",17,0.9,1200]
[136,{"$f":"H139*$A$1*1000*1000","v":7845320},{"$f":"I139","v":1200},-1,-1,"ISB-LXM-200-20-水平",20,0.8,1200]
[137,6864654.9999999991,1200,-1,-1,"ISB-LXM-200-20-水平",23,0.7,1200]
[138,5883990,1200,-1,-1,"ISB-LXM-200-20-水平",28,0.6,1200]
[139,4903325,1200,-1,-1,"ISB-LXM-200-20-水平",35,0.5,1200]
[140,3922660,1200,-1,-1,"ISB-LXM-200-20-水平",45,0.4,1200]
[141,9806650,1200,-1,-1,"ISB-LXM-200-20-垂直",5,1,1200]
[142,8825984.9999999981,1200,-1,-1,"ISB-LXM-200-20-垂直",5.5,0.9,1200]
[143,7845320,1200,-1,-1,"ISB-LXM-200-20-垂直",6,0.8,1200]
[144,6864654.9999999991,1200,-1,-1,"ISB-LXM-200-20-垂直",7,0.7,1200]
[145,5883990,1200,-1,-1,"ISB-LXM-200-20-垂直",7.5,0.6,1200]
[146,4903325,1200,-1,-1,"ISB-LXM-200-20-垂直",8.5,0.5,1200]
[147,3922660,1200,-1,-1,"ISB-LXM-200-20-垂直",10,0.4,1200]
[148,11767980,2400,-1,-1,"ISB-LXM-200-40-水平",6,1.2,2400]
[149,10787314.999999998,2400,-1,-1,"ISB-LXM-200-40-水平",6.5,1.1000000000000001,2400]
[150,9806650,2400,-1,-1,"ISB-LXM-200-40-水平",7,1,2400]
[151,8825984.9999999981,2400,-1,-1,"ISB-LXM-200-40-水平",7.5,0.9,2400]
[152,7845320,2400,-1,-1,"ISB-LXM-200-40-水平",8,0.8,2400]
[153,6864654.9999999991,2400,-1,-1,"ISB-LXM-200-40-水平",9,0.7,2400]
[154,5883990,2400,-1,-1,"ISB-LXM-200-40-水平",10.5,0.6,2400]
[155,4903325,2400,-1,-1,"ISB-LXM-200-40-水平",12,0.5,2400]
[156,3922660,2400,-1,-1,"ISB-LXM-200-40-水平",15,0.4,2400]
[157,11767980,{"$f":"I160","v":2400},-1,-1,"ISB-LXM-200-40-垂直",1.6,1.2,2400]
[158,10787314.999999998,2400,-1,-1,"ISB-LXM-200-40-垂直",1.8,1.1000000000000001,2400]
[159,9806650,2400,-1,-1,"ISB-LXM-200-40-垂直",2,1,2400]
[160,8825984.9999999981,2400,-1,-1,"ISB-LXM-200-40-垂直",2.2000000000000002,0.9,2400]
[161,7845320,2400,-1,-1,"ISB-LXM-200-40-垂直",2.5,0.8,2400]
[162,6864654.9999999991,2400,-1,-1,"ISB-LXM-200-40-垂直",2.8,0.7,2400]
[163,5883990,2400,-1,-1,"ISB-LXM-200-40-垂直",3.1,0.6,2400]
[164,4903325,2400,-1,-1,"ISB-LXM-200-40-垂直",3.5,0.5,2400]
[165,3922660,2400,-1,-1,"ISB-LXM-200-40-垂直",4,0.4,2400]
[166,6864654.9999999991,600,-1,-1,"ISB-LXM-400-10-水平",60,0.7,600]
[167,5883990,600,-1,-1,"ISB-LXM-400-10-水平",73,0.6,600]
[168,4903325,600,-1,-1,"ISB-LXM-400-10-水平",92,0.5,600]
[169,3922660,600,-1,-1,"ISB-LXM-400-10-水平",120,0.4,600]
[170,5883990,600,-1,-1,"ISB-LXM-400-10-垂直",30,0.6,600]
[171,4903325,600,-1,-1,"ISB-LXM-400-10-垂直",34,0.5,600]
[172,3922660,600,-1,-1,"ISB-LXM-400-10-垂直",40,0.4,600]
[173,11767980,1200,-1,-1,"ISB-LXM-400-20-水平",24,1.2,1200]
[174,10787314.999999998,1200,-1,-1,"ISB-LXM-400-20-水平",27,1.1000000000000001,1200]
[175,9806650,1200,-1,-1,"ISB-LXM-400-20-水平",30,1,1200]
[176,8825984.9999999981,1200,-1,-1,"ISB-LXM-400-20-水平",35,0.9,1200]
[177,7845320,1200,-1,-1,"ISB-LXM-400-20-水平",40,0.8,1200]
[178,6864654.9999999991,1200,-1,-1,"ISB-LXM-400-20-水平",47,0.7,1200]
[179,{"$f":"H182*$A$1*1000*1000","v":5883990},{"$f":"I182","v":1200},-1,-1,"ISB-LXM-400-20-水平",57,0.6,1200]
[180,4903325,1200,-1,-1,"ISB-LXM-400-20-水平",70,0.5,1200]
[181,3922660,1200,-1,-1,"ISB-LXM-400-20-水平",90,0.4,1200]
[182,9806650,1200,-1,-1,"ISB-LXM-400-20-垂直",10,1,1200]
[183,8825984.9999999981,1200,-1,-1,"ISB-LXM-400-20-垂直",11,0.9,1200]
[184,7845320,1200,-1,-1,"ISB-LXM-400-20-垂直",12,0.8,1200]
[185,6864654.9999999991,1200,-1,-1,"ISB-LXM-400-20-垂直",14,0.7,1200]
[186,5883990,1200,-1,-1,"ISB-LXM-400-20-垂直",15,0.6,1200]
[187,4903325,1200,-1,-1,"ISB-LXM-400-20-垂直",17,0.5,1200]
[188,3922660,1200,-1,-1,"ISB-LXM-400-20-垂直",20,0.4,1200]
[189,11767980,2400,-1,-1,"ISB-LXM-400-40-水平",15,1.2,2400]
[190,10787314.999999998,2400,-1,-1,"ISB-LXM-400-40-水平",16,1.1000000000000001,2400]
[191,9806650,2400,-1,-1,"ISB-LXM-400-40-水平",17,1,2400]
[192,8825984.9999999981,2400,-1,-1,"ISB-LXM-400-40-水平",19,0.9,2400]
[{"$f":"A195+1","v":193},7845320,2400,-1,-1,"ISB-LXM-400-40-水平",21,0.8,2400]
[194,6864654.9999999991,2400,-1,-1,"ISB-LXM-400-40-水平",23,0.7,2400]
[195,5883990,2400,-1,-1,"ISB-LXM-400-40-水平",27,0.6,2400]
[196,4903325,2400,-1,-1,"ISB-LXM-400-40-水平",32,0.5,2400]
[197,3922660,2400,-1,-1,"ISB-LXM-400-40-水平",40,0.4,2400]
[198,11767980,{"$f":"I201","v":2400},-1,-1,"ISB-LXM-400-40-垂直",4,1.2,2400]
[199,10787314.999999998,2400,-1,-1,"ISB-LXM-400-40-垂直",4.5,1.1000000000000001,2400]
[200,9806650,2400,-1,-1,"ISB-LXM-400-40-垂直",5,1,2400]
[201,8825984.9999999981,2400,-1,-1,"ISB-LXM-400-40-垂直",5.5,0.9,2400]
[202,7845320,2400,-1,-1,"ISB-LXM-400-40-垂直",6,0.8,2400]
[203,6864654.9999999991,2400,-1,-1,"ISB-LXM-400-40-垂直",7,0.7,2400]
[204,5883990,2400,-1,-1,"ISB-LXM-400-40-垂直",7.5,0.6,2400]
[205,4903325,2400,-1,-1,"ISB-LXM-400-40-垂直",8.5,0.5,2400]
[206,3922660,2400,-1,-1,"ISB-LXM-400-40-垂直",10,0.4,2400]
[207,4903325,240,-1,-1,"ISB-SXL-60-4-水平",30,0.5,240]
[208,3922660,240,-1,-1,"ISB-SXL-60-4-水平",38,0.4,240]
[209,2941995,240,-1,-1,"ISB-SXL-60-4-水平",50,0.3,240]
[210,1961330,240,-1,-1,"ISB-SXL-60-4-水平",55,0.2,240]
[211,3922660,240,-1,-1,"ISB-SXL-60-4-垂直",12,0.4,240]
[212,2941995,240,-1,-1,"ISB-SXL-60-4-垂直",13,0.3,240]
[213,1961330,240,-1,-1,"ISB-SXL-60-4-垂直",14,0.2,240]
[214,6864654.9999999991,480,-1,-1,"ISB-SXL-60-8-水平",12,0.7,480]
[215,5883990,480,-1,-1,"ISB-SXL-60-8-水平",15,0.6,480]
[216,4903325,480,-1,-1,"ISB-SXL-60-8-水平",20,0.5,480]
[217,3922660,480,-1,-1,"ISB-SXL-60-8-水平",27,0.4,480]
[218,5883990,480,-1,-1,"ISB-SXL-60-8-垂直",5,0.6,480]
[219,4903325,480,-1,-1,"ISB-SXL-60-8-垂直",6,0.5,480]
[220,3922660,480,-1,-1,"ISB-SXL-60-8-垂直",7,0.4,480]
[221,{"$f":"H224*$A$1*1000*1000","v":11767980},{"$f":"I224","v":960},-1,-1,"ISB-SXL-60-16-水平",3.5,1.2,960]
[222,10787314.999999998,960,-1,-1,"ISB-SXL-60-16-水平",4,1.1000000000000001,960]
[223,9806650,960,-1,-1,"ISB-SXL-60-16-水平",4.5,1,960]
[224,8825984.9999999981,960,-1,-1,"ISB-SXL-60-16-水平",5.5,0.9,960]
[225,7845320,960,-1,-1,"ISB-SXL-60-16-水平",6,0.8,960]
[226,6864654.9999999991,960,-1,-1,"ISB-SXL-60-16-水平",7,0.7,960]
[227,5883990,960,-1,-1,"ISB-SXL-60-16-水平",8.5,0.6,960]
[228,4903325,960,-1,-1,"ISB-SXL-60-16-水平",10.5,0.5,960]
[229,3922660,960,-1,-1,"ISB-SXL-60-16-水平",13,0.4,960]
[230,7845320,960,-1,-1,"ISB-SXL-60-16-垂直",2,0.8,960]
[231,6864654.9999999991,960,-1,-1,"ISB-SXL-60-16-垂直",2.2999999999999998,0.7,960]
[232,5883990,960,-1,-1,"ISB-SXL-60-16-垂直",2.6,0.6,960]
[233,4903325,960,-1,-1,"ISB-SXL-60-16-垂直",3,0.5,960]
[234,3922660,960,-1,-1,"ISB-SXL-60-16-垂直",3.5,0.4,960]
[235,4903325,300,-1,-1,"ISB-MXL-100-5-水平",45,0.5,300]
[236,3922660,300,-1,-1,"ISB-MXL-100-5-水平",60,0.4,300]
[237,2941995,300,-1,-1,"ISB-MXL-100-5-水平",80,0.3,300]
[238,1961330,300,-1,-1,"ISB-MXL-100-5-水平",85,0.2,300]
[239,3922660,300,-1,-1,"ISB-MXL-100-5-垂直",15,0.4,300]
[240,2941995,300,-1,-1,"ISB-MXL-100-5-垂直",17,0.3,300]
[241,1961330,300,-1,-1,"ISB-MXL-100-5-垂直",20,0.2,300]
[242,6864654.9999999991,600,-1,-1,"ISB-MXL-100-10-水平",20,0.7,600]
[243,5883990,600,-1,-1,"ISB-MXL-100-10-水平",23,0.6,600]
[244,4903325,600,-1,-1,"ISB-MXL-100-10-水平",30,0.5,600]
[245,3922660,600,-1,-1,"ISB-MXL-100-10-水平",45,0.4,600]
[246,5883990,600,-1,-1,"ISB-MXL-100-10-垂直",7,0.6,600]
[247,4903325,600,-1,-1,"ISB-MXL-100-10-垂直",8,0.5,600]
[248,3922660,600,-1,-1,"ISB-MXL-100-10-垂直",10,0.4,600]
[249,11767980,1200,-1,-1,"ISB-MXL-100-20-水平",6,1.2,1200]
[250,10787314.999999998,1200,-1,-1,"ISB-MXL-100-20-水平",7,1.1000000000000001,1200]
[251,9806650,1200,-1,-1,"ISB-MXL-100-20-水平",8,1,1200]
[252,8825984.9999999981,1200,-1,-1,"ISB-MXL-100-20-水平",9,0.9,1200]
[253,7845320,1200,-1,-1,"ISB-MXL-100-20-水平",11,0.8,1200]
[254,6864654.9999999991,1200,-1,-1,"ISB-MXL-100-20-水平",13,0.7,1200]
[255,5883990,1200,-1,-1,"ISB-MXL-100-20-水平",15,0.6,1200]
[256,4903325,1200,-1,-1,"ISB-MXL-100-20-水平",18,0.5,1200]
[{"$f":"A259+1","v":257},{"$f":"H260*$A$1*1000*1000","v":3922660},{"$f":"I260","v":1200},-1,-1,"ISB-MXL-100-20-水平",23,0.4,1200]
[258,9806650,1200,-1,-1,"ISB-MXL-100-20-垂直",2.5,1,1200]
[259,8825984.9999999981,1200,-1,-1,"ISB-MXL-100-20-垂直",2.8,0.9,1200]
[260,7845320,1200,-1,-1,"ISB-MXL-100-20-垂直",3,0.8,1200]
[261,6864654.9999999991,1200,-1,-1,"ISB-MXL-100-20-垂直",3.5,0.7,1200]
[262,5883990,1200,-1,-1,"ISB-MXL-100-20-垂直",4,0.6,1200]
[263,4903325,1200,-1,-1,"ISB-MXL-100-20-垂直",4.5,0.5,1200]
[264,3922660,1200,-1,-1,"ISB-MXL-100-20-垂直",5,0.4,1200]
[265,11767980,1800,-1,-1,"ISB-MXL-100-30-水平",3,1.2,1800]
[266,10787314.999999998,1800,-1,-1,"ISB-MXL-100-30-水平",3.5,1.1000000000000001,1800]
[267,9806650,1800,-1,-1,"ISB-MXL-100-30-水平",4,1,1800]
[268,8825984.9999999981,1800,-1,-1,"ISB-MXL-100-30-水平",5,0.9,1800]
[269,7845320,1800,-1,-1,"ISB-MXL-100-30-水平",6,0.8,1800]
[270,6864654.9999999991,1800,-1,-1,"ISB-MXL-100-30-水平",7,0.7,1800]
[271,5883990,1800,-1,-1,"ISB-MXL-100-30-水平",9,0.6,1800]
[272,4903325,1800,-1,-1,"ISB-MXL-100-30-水平",11,0.5,1800]
[273,3922660,1800,-1,-1,"ISB-MXL-100-30-水平",15,0.4,1800]
[274,11767980,1800,-1,-1,"ISB-MXL-100-30-垂直",1,1.2,1800]
[275,10787314.999999998,1800,-1,-1,"ISB-MXL-100-30-垂直",1.1000000000000001,1.1000000000000001,1800]
[276,9806650,1800,-1,-1,"ISB-MXL-100-30-垂直",1.2,1,1800]
[277,8825984.9999999981,1800,-1,-1,"ISB-MXL-100-30-垂直",1.4,0.9,1800]
[278,7845320,1800,-1,-1,"ISB-MXL-100-30-垂直",1.5,0.8,1800]
[279,6864654.9999999991,1800,-1,-1,"ISB-MXL-100-30-垂直",1.7,0.7,1800]
[280,5883990,1800,-1,-1,"ISB-MXL-100-30-垂直",1.9,0.6,1800]
[281,4903325,1800,-1,-1,"ISB-MXL-100-30-垂直",2.2000000000000002,0.5,1800]
[282,3922660,1800,-1,-1,"ISB-MXL-100-30-垂直",2.5,0.4,1800]
[283,4903325,300,-1,-1,"ISB-MXL-200-5-水平",80,0.5,300]
[284,3922660,300,-1,-1,"ISB-MXL-200-5-水平",90,0.4,300]
[285,2941995,300,-1,-1,"ISB-MXL-200-5-水平",100,0.3,300]
[286,1961330,300,-1,-1,"ISB-MXL-200-5-水平",110,0.2,300]
[287,3922660,300,-1,-1,"ISB-MXL-200-5-垂直",30,0.4,300]
[288,2941995,300,-1,-1,"ISB-MXL-200-5-垂直",34,0.3,300]
[289,1961330,300,-1,-1,"ISB-MXL-200-5-垂直",40,0.2,300]
[290,6864654.9999999991,600,-1,-1,"ISB-MXL-200-10-水平",40,0.7,600]
[291,5883990,600,-1,-1,"ISB-MXL-200-10-水平",51,0.6,600]
[292,4903325,600,-1,-1,"ISB-MXL-200-10-水平",66,0.5,600]
[293,3922660,600,-1,-1,"ISB-MXL-200-10-水平",90,0.4,600]
[294,5883990,600,-1,-1,"ISB-MXL-200-10-垂直",15,0.6,600]
[295,4903325,600,-1,-1,"ISB-MXL-200-10-垂直",17,0.5,600]
[296,3922660,600,-1,-1,"ISB-MXL-200-10-垂直",20,0.4,600]
[297,11767980,1200,-1,-1,"ISB-MXL-200-20-水平",12,1.2,1200]
[298,10787314.999999998,1200,-1,-1,"ISB-MXL-200-20-水平",13,1.1000000000000001,1200]
[299,9806650,1200,-1,-1,"ISB-MXL-200-20-水平",15,1,1200]
[300,8825984.9999999981,1200,-1,-1,"ISB-MXL-200-20-水平",17,0.9,1200]
[301,7845320,1200,-1,-1,"ISB-MXL-200-20-水平",20,0.8,1200]
[302,6864654.9999999991,1200,-1,-1,"ISB-MXL-200-20-水平",23,0.7,1200]
[303,5883990,1200,-1,-1,"ISB-MXL-200-20-水平",28,0.6,1200]
[304,4903325,1200,-1,-1,"ISB-MXL-200-20-水平",35,0.5,1200]
[305,3922660,1200,-1,-1,"ISB-MXL-200-20-水平",45,0.4,1200]
[306,9806650,1200,-1,-1,"ISB-MXL-200-20-垂直",5,1,1200]
[307,8825984.9999999981,1200,-1,-1,"ISB-MXL-200-20-垂直",5.5,0.9,1200]
[308,7845320,1200,-1,-1,"ISB-MXL-200-20-垂直",6,0.8,1200]
[309,6864654.9999999991,1200,-1,-1,"ISB-MXL-200-20-垂直",7,0.7,1200]
[310,5883990,1200,-1,-1,"ISB-MXL-200-20-垂直",7.5,0.6,1200]
[311,4903325,1200,-1,-1,"ISB-MXL-200-20-垂直",8.5,0.5,1200]
[312,3922660,1200,-1,-1,"ISB-MXL-200-20-垂直",10,0.4,1200]
[313,{"$f":"H316*$A$1*1000*1000","v":11767980},{"$f":"I316","v":1800},-1,-1,"ISB-MXL-200-30-水平",9,1.2,1800]
[314,10787314.999999998,1800,-1,-1,"ISB-MXL-200-30-水平",10,1.1000000000000001,1800]
[315,9806650,1800,-1,-1,"ISB-MXL-200-30-水平",12,1,1800]
[316,8825984.9999999981,1800,-1,-1,"ISB-MXL-200-30-水平",13,0.9,1800]
[317,7845320,1800,-1,-1,"ISB-MXL-200-30-水平",15,0.8,1800]
[318,6864654.9999999991,1800,-1,-1,"ISB-MXL-200-30-水平",17,0.7,1800]
[319,5883990,1800,-1,-1,"ISB-MXL-200-30-水平",20,0.6,1800]
[320,4903325,1800,-1,-1,"ISB-MXL-200-30-水平",24,0.5,1800]
[{"$f":"A323+1","v":321},3922660,1800,-1,-1,"ISB-MXL-200-30-水平",30,0.4,1800]
[322,11767980,1800,-1,-1,"ISB-MXL-200-30-垂直",2,1.2,1800]
[323,10787314.999999998,1800,-1,-1,"ISB-MXL-200-30-垂直",2.5,1.1000000000000001,1800]
[324,9806650,1800,-1,-1,"ISB-MXL-200-30-垂直",3,1,1800]
[325,8825984.9999999981,1800,-1,-1,"ISB-MXL-200-30-垂直",3.5,0.9,1800]
[326,7845320,1800,-1,-1,"ISB-MXL-200-30-垂直",4,0.8,1800]
[327,6864654.9999999991,1800,-1,-1,"ISB-MXL-200-30-垂直",4.5,0.7,1800]
[328,5883990,1800,-1,-1,"ISB-MXL-200-30-垂直",5,0.6,1800]
[329,4903325,1800,-1,-1,"ISB-MXL-200-30-垂直",5.5,0.5,1800]
[330,3922660,1800,-1,-1,"ISB-MXL-200-30-垂直",6,0.4,1800]
[331,6864654.9999999991,600,-1,-1,"ISB-LXL-200-10-水平",40,0.7,600]
[332,5883990,600,-1,-1,"ISB-LXL-200-10-水平",51,0.6,600]
[333,4903325,600,-1,-1,"ISB-LXL-200-10-水平",66,0.5,600]
[334,3922660,600,-1,-1,"ISB-LXL-200-10-水平",90,0.4,600]
[335,5883990,600,-1,-1,"ISB-LXL-200-10-垂直",14,0.6,600]
[336,4903325,600,-1,-1,"ISB-LXL-200-10-垂直",16,0.5,600]
[337,3922660,600,-1,-1,"ISB-LXL-200-10-垂直",20,0.4,600]
[338,11767980,1200,-1,-1,"ISB-LXL-200-20-水平",12,1.2,1200]
[339,10787314.999999998,1200,-1,-1,"ISB-LXL-200-20-水平",13,1.1000000000000001,1200]
[340,9806650,1200,-1,-1,"ISB-LXL-200-20-水平",15,1,1200]
[341,8825984.9999999981,1200,-1,-1,"ISB-LXL-200-20-水平",17,0.9,1200]
[342,7845320,1200,-1,-1,"ISB-LXL-200-20-水平",20,0.8,1200]
[343,6864654.9999999991,1200,-1,-1,"ISB-LXL-200-20-水平",23,0.7,1200]
[344,5883990,1200,-1,-1,"ISB-LXL-200-20-水平",28,0.6,1200]
[345,4903325,1200,-1,-1,"ISB-LXL-200-20-水平",35,0.5,1200]
[346,3922660,1200,-1,-1,"ISB-LXL-200-20-水平",45,0.4,1200]
[347,9806650,1200,-1,-1,"ISB-LXL-200-20-垂直",5,1,1200]
[348,8825984.9999999981,1200,-1,-1,"ISB-LXL-200-20-垂直",5.5,0.9,1200]
[349,7845320,1200,-1,-1,"ISB-LXL-200-20-垂直",6,0.8,1200]
[350,6864654.9999999991,1200,-1,-1,"ISB-LXL-200-20-垂直",7,0.7,1200]
[351,5883990,1200,-1,-1,"ISB-LXL-200-20-垂直",7.5,0.6,1200]
[352,4903325,1200,-1,-1,"ISB-LXL-200-20-垂直",8.5,0.5,1200]
[353,3922660,1200,-1,-1,"ISB-LXL-200-20-垂直",10,0.4,1200]
[354,{"$f":"H357*$A$1*1000*1000","v":11767980},{"$f":"I357","v":2400},-1,-1,"ISB-LXL-200-40-水平",6,1.2,2400]
[355,10787314.999999998,2400,-1,-1,"ISB-LXL-200-40-水平",6.5,1.1000000000000001,2400]
[356,9806650,2400,-1,-1,"ISB-LXL-200-40-水平",7,1,2400]
[357,8825984.9999999981,2400,-1,-1,"ISB-LXL-200-40-水平",7.5,0.9,2400]
[358,7845320,2400,-1,-1,"ISB-LXL-200-40-水平",8,0.8,2400]
[359,6864654.9999999991,2400,-1,-1,"ISB-LXL-200-40-水平",9,0.7,2400]
[360,5883990,2400,-1,-1,"ISB-LXL-200-40-水平",10.5,0.6,2400]
[361,4903325,2400,-1,-1,"ISB-LXL-200-40-水平",12,0.5,2400]
[362,3922660,2400,-1,-1,"ISB-LXL-200-40-水平",15,0.4,2400]
[363,11767980,2400,-1,-1,"ISB-LXL-200-40-垂直",1.6,1.2,2400]
[364,10787314.999999998,2400,-1,-1,"ISB-LXL-200-40-垂直",1.8,1.1000000000000001,2400]
[365,9806650,2400,-1,-1,"ISB-LXL-200-40-垂直",2,1,2400]
[366,8825984.9999999981,2400,-1,-1,"ISB-LXL-200-40-垂直",2.2000000000000002,0.9,2400]
[367,7845320,2400,-1,-1,"ISB-LXL-200-40-垂直",2.5,0.8,2400]
[368,6864654.9999999991,2400,-1,-1,"ISB-LXL-200-40-垂直",2.8,0.7,2400]
[369,5883990,2400,-1,-1,"ISB-LXL-200-40-垂直",3.1,0.6,2400]
[370,4903325,2400,-1,-1,"ISB-LXL-200-40-垂直",3.5,0.5,2400]
[371,3922660,2400,-1,-1,"ISB-LXL-200-40-垂直",4,0.4,2400]
[372,6864654.9999999991,600,-1,-1,"ISB-LXL-400-10-水平",60,0.7,600]
[373,5883990,600,-1,-1,"ISB-LXL-400-10-水平",73,0.6,600]
[374,4903325,600,-1,-1,"ISB-LXL-400-10-水平",92,0.5,600]
[375,3922660,600,-1,-1,"ISB-LXL-400-10-水平",120,0.4,600]
[376,5883990,600,-1,-1,"ISB-LXL-400-10-垂直",30,0.6,600]
[377,4903325,600,-1,-1,"ISB-LXL-400-10-垂直",34,0.5,600]
[378,3922660,600,-1,-1,"ISB-LXL-400-10-垂直",40,0.4,600]
[379,11767980,1200,-1,-1,"ISB-LXL-400-20-水平",24,1.2,1200]
[380,10787314.999999998,1200,-1,-1,"ISB-LXL-400-20-水平",27,1.1000000000000001,1200]
[381,9806650,1200,-1,-1,"ISB-LXL-400-20-水平",30,1,1200]
[382,8825984.9999999981,1200,-1,-1,"ISB-LXL-400-20-水平",35,0.9,1200]
[383,7845320,1200,-1,-1,"ISB-LXL-400-20-水平",40,0.8,1200]
[384,6864654.9999999991,1200,-1,-1,"ISB-LXL-400-20-水平",47,0.7,1200]
[{"$f":"A387+1","v":385},5883990,1200,-1,-1,"ISB-LXL-400-20-水平",57,0.6,1200]
[386,4903325,1200,-1,-1,"ISB-LXL-400-20-水平",70,0.5,1200]
[387,3922660,1200,-1,-1,"ISB-LXL-400-20-水平",90,0.4,1200]
[388,9806650,1200,-1,-1,"ISB-LXL-400-20-垂直",10,1,1200]
[389,8825984.9999999981,1200,-1,-1,"ISB-LXL-400-20-垂直",11,0.9,1200]
[390,7845320,1200,-1,-1,"ISB-LXL-400-20-垂直",12,0.8,1200]
[391,6864654.9999999991,1200,-1,-1,"ISB-LXL-400-20-垂直",14,0.7,1200]
[392,5883990,1200,-1,-1,"ISB-LXL-400-20-垂直",15,0.6,1200]
[393,4903325,1200,-1,-1,"ISB-LXL-400-20-垂直",17,0.5,1200]
[394,3922660,1200,-1,-1,"ISB-LXL-400-20-垂直",20,0.4,1200]
[395,{"$f":"H398*$A$1*1000*1000","v":11767980},{"$f":"I398","v":2400},-1,-1,"ISB-LXL-400-40-水平",15,1.2,2400]
[396,10787314.999999998,2400,-1,-1,"ISB-LXL-400-40-水平",16,1.1000000000000001,2400]
[397,9806650,2400,-1,-1,"ISB-LXL-400-40-水平",17,1,2400]
[398,8825984.9999999981,2400,-1,-1,"ISB-LXL-400-40-水平",19,0.9,2400]
[399,7845320,2400,-1,-1,"ISB-LXL-400-40-水平",21,0.8,2400]
[400,6864654.9999999991,2400,-1,-1,"ISB-LXL-400-40-水平",23,0.7,2400]
[401,5883990,2400,-1,-1,"ISB-LXL-400-40-水平",27,0.6,2400]
[402,4903325,2400,-1,-1,"ISB-LXL-400-40-水平",32,0.5,2400]
[403,3922660,2400,-1,-1,"ISB-LXL-400-40-水平",40,0.4,2400]
[404,11767980,2400,-1,-1,"ISB-LXL-400-40-垂直",4,1.2,2400]
[405,10787314.999999998,2400,-1,-1,"ISB-LXL-400-40-垂直",4.5,1.1000000000000001,2400]
[406,9806650,2400,-1,-1,"ISB-LXL-400-40-垂直",5,1,2400]
[407,8825984.9999999981,2400,-1,-1,"ISB-LXL-400-40-垂直",5.5,0.9,2400]
[408,7845320,2400,-1,-1,"ISB-LXL-400-40-垂直",6,0.8,2400]
[409,6864654.9999999991,2400,-1,-1,"ISB-LXL-400-40-垂直",7,0.7,2400]
[410,5883990,2400,-1,-1,"ISB-LXL-400-40-垂直",7.5,0.6,2400]
[411,4903325,2400,-1,-1,"ISB-LXL-400-40-垂直",8.5,0.5,2400]
[412,3922660,2400,-1,-1,"ISB-LXL-400-40-垂直",10,0.4,2400]
[413,4903325,240,-1,-1,"ISDB-S-60-4-水平",30,0.5,240]
[414,3922660,240,-1,-1,"ISDB-S-60-4-水平",38,0.4,240]
[415,2941995,240,-1,-1,"ISDB-S-60-4-水平",50,0.3,240]
[416,1961330,240,-1,-1,"ISDB-S-60-4-水平",55,0.2,240]
[417,3922660,240,-1,-1,"ISDB-S-60-4-垂直",12,0.4,240]
[418,2941995,240,-1,-1,"ISDB-S-60-4-垂直",13,0.3,240]
[419,1961330,240,-1,-1,"ISDB-S-60-4-垂直",14,0.2,240]
[420,6864654.9999999991,480,-1,-1,"ISDB-S-60-8-水平",12,0.7,480]
[421,5883990,480,-1,-1,"ISDB-S-60-8-水平",15,0.6,480]
[422,4903325,480,-1,-1,"ISDB-S-60-8-水平",20,0.5,480]
[423,3922660,480,-1,-1,"ISDB-S-60-8-水平",27,0.4,480]
[424,5883990,480,-1,-1,"ISDB-S-60-8-垂直",5,0.6,480]
[425,4903325,480,-1,-1,"ISDB-S-60-8-垂直",5.5,0.5,480]
[426,3922660,480,-1,-1,"ISDB-S-60-8-垂直",6,0.4,480]
[427,9806650,960,-1,-1,"ISDB-S-60-16-水平",4.5,1,960]
[428,8825984.9999999981,960,-1,-1,"ISDB-S-60-16-水平",5.5,0.9,960]
[429,7845320,960,-1,-1,"ISDB-S-60-16-水平",6,0.8,960]
[430,6864654.9999999991,960,-1,-1,"ISDB-S-60-16-水平",7,0.7,960]
[431,5883990,960,-1,-1,"ISDB-S-60-16-水平",8.5,0.6,960]
[432,4903325,960,-1,-1,"ISDB-S-60-16-水平",10.5,0.5,960]
[433,3922660,960,-1,-1,"ISDB-S-60-16-水平",13,0.4,960]
[434,7845320,960,-1,-1,"ISDB-S-60-16-垂直",2,0.8,960]
[435,6864654.9999999991,960,-1,-1,"ISDB-S-60-16-垂直",2.2999999999999998,0.7,960]
[436,5883990,960,-1,-1,"ISDB-S-60-16-垂直",2.5,0.6,960]
[437,{"$f":"H440*$A$1*1000*1000","v":4903325},{"$f":"I440","v":960},-1,-1,"ISDB-S-60-16-垂直",2.8,0.5,960]
[438,3922660,960,-1,-1,"ISDB-S-60-16-垂直",3,0.4,960]
[439,4903325,300,-1,-1,"ISDB-M-100-5-水平",45,0.5,300]
[440,3922660,300,-1,-1,"ISDB-M-100-5-水平",60,0.4,300]
[441,2941995,300,-1,-1,"ISDB-M-100-5-水平",80,0.3,300]
[442,1961330,300,-1,-1,"ISDB-M-100-5-水平",85,0.2,300]
[443,3922660,300,-1,-1,"ISDB-M-100-5-垂直",15,0.4,300]
[444,2941995,300,-1,-1,"ISDB-M-100-5-垂直",17,0.3,300]
[445,1961330,300,-1,-1,"ISDB-M-100-5-垂直",20,0.2,300]
[446,6864654.9999999991,600,-1,-1,"ISDB-M-100-10-水平",20,0.7,600]
[447,5883990,600,-1,-1,"ISDB-M-100-10-水平",23,0.6,600]
[448,4903325,600,-1,-1,"ISDB-M-100-10-水平",30,0.5,600]
[{"$f":"A451+1","v":449},3922660,600,-1,-1,"ISDB-M-100-10-水平",45,0.4,600]
[450,5883990,600,-1,-1,"ISDB-M-100-10-垂直",7,0.6,600]
[451,4903325,600,-1,-1,"ISDB-M-100-10-垂直",8,0.5,600]
[452,3922660,600,-1,-1,"ISDB-M-100-10-垂直",10,0.4,600]
[453,9806650,1200,-1,-1,"ISDB-M-100-20-水平",8,1,1200]
[454,8825984.9999999981,1200,-1,-1,"ISDB-M-100-20-水平",9,0.9,1200]
[455,7845320,1200,-1,-1,"ISDB-M-100-20-水平",11,0.8,1200]
[456,6864654.9999999991,1200,-1,-1,"ISDB-M-100-20-水平",13,0.7,1200]
[457,5883990,1200,-1,-1,"ISDB-M-100-20-水平",15,0.6,1200]
[458,4903325,1200,-1,-1,"ISDB-M-100-20-水平",18,0.5,1200]
[459,3922660,1200,-1,-1,"ISDB-M-100-20-水平",23,0.4,1200]
[460,9806650,{"$f":"I463","v":1200},-1,-1,"ISDB-M-100-20-垂直",2.5,1,1200]
[461,8825984.9999999981,1200,-1,-1,"ISDB-M-100-20-垂直",2.8,0.9,1200]
[462,7845320,1200,-1,-1,"ISDB-M-100-20-垂直",3,0.8,1200]
[463,6864654.9999999991,1200,-1,-1,"ISDB-M-100-20-垂直",3.3,0.7,1200]
[464,5883990,1200,-1,-1,"ISDB-M-100-20-垂直",3.5,0.6,1200]
[465,4903325,1200,-1,-1,"ISDB-M-100-20-垂直",3.8,0.5,1200]
[466,3922660,1200,-1,-1,"ISDB-M-100-20-垂直",4,0.4,1200]
[467,9806650,1800,-1,-1,"ISDB-M-100-30-水平",4,1,1800]
[468,8825984.9999999981,1800,-1,-1,"ISDB-M-100-30-水平",5,0.9,1800]
[469,7845320,1800,-1,-1,"ISDB-M-100-30-水平",6,0.8,1800]
[470,6864654.9999999991,1800,-1,-1,"ISDB-M-100-30-水平",7,0.7,1800]
[471,5883990,1800,-1,-1,"ISDB-M-100-30-水平",9,0.6,1800]
[472,4903325,1800,-1,-1,"ISDB-M-100-30-水平",11,0.5,1800]
[473,3922660,1800,-1,-1,"ISDB-M-100-30-水平",15,0.4,1800]
[474,9806650,{"$f":"I477","v":1800},-1,-1,"ISDB-M-100-30-垂直",1.2,1,1800]
[475,8825984.9999999981,1800,-1,-1,"ISDB-M-100-30-垂直",1.3,0.9,1800]
[476,7845320,1800,-1,-1,"ISDB-M-100-30-垂直",1.4,0.8,1800]
[477,6864654.9999999991,1800,-1,-1,"ISDB-M-100-30-垂直",1.5,0.7,1800]
[478,5883990,1800,-1,-1,"ISDB-M-100-30-垂直",1.6,0.6,1800]
[479,4903325,1800,-1,-1,"ISDB-M-100-30-垂直",1.8,0.5,1800]
[480,3922660,1800,-1,-1,"ISDB-M-100-30-垂直",2,0.4,1800]
[481,4903325,300,-1,-1,"ISDB-M-200-5-水平",80,0.5,300]
[482,3922660,300,-1,-1,"ISDB-M-200-5-水平",90,0.4,300]
[483,2941995,300,-1,-1,"ISDB-M-200-5-水平",100,0.3,300]
[484,1961330,300,-1,-1,"ISDB-M-200-5-水平",110,0.2,300]
[485,3922660,300,-1,-1,"ISDB-M-200-5-垂直",30,0.4,300]
[486,2941995,300,-1,-1,"ISDB-M-200-5-垂直",34,0.3,300]
[487,1961330,300,-1,-1,"ISDB-M-200-5-垂直",40,0.2,300]
[488,{"$f":"H491*$A$1*1000*1000","v":6864654.9999999991},{"$f":"I491","v":600},-1,-1,"ISDB-M-200-10-水平",40,0.7,600]
[489,5883990,600,-1,-1,"ISDB-M-200-10-水平",51,0.6,600]
[490,4903325,600,-1,-1,"ISDB-M-200-10-水平",66,0.5,600]
[491,3922660,600,-1,-1,"ISDB-M-200-10-水平",90,0.4,600]
[492,5883990,600,-1,-1,"ISDB-M-200-10-垂直",15,0.6,600]
[493,4903325,600,-1,-1,"ISDB-M-200-10-垂直",17,0.5,600]
[494,3922660,600,-1,-1,"ISDB-M-200-10-垂直",20,0.4,600]
[495,9806650,1200,-1,-1,"ISDB-M-200-20-水平",16,1,1200]
[496,8825984.9999999981,1200,-1,-1,"ISDB-M-200-20-水平",18,0.9,1200]
[497,7845320,1200,-1,-1,"ISDB-M-200-20-水平",20,0.8,1200]
[498,6864654.9999999991,1200,-1,-1,"ISDB-M-200-20-水平",23,0.7,1200]
[499,5883990,1200,-1,-1,"ISDB-M-200-20-水平",28,0.6,1200]
[500,4903325,1200,-1,-1,"ISDB-M-200-20-水平",35,0.5,1200]
[501,3922660,1200,-1,-1,"ISDB-M-200-20-水平",45,0.4,1200]
[502,9806650,{"$f":"I505","v":1200},-1,-1,"ISDB-M-200-20-垂直",5,1,1200]
[503,8825984.9999999981,1200,-1,-1,"ISDB-M-200-20-垂直",5.5,0.9,1200]
[504,7845320,1200,-1,-1,"ISDB-M-200-20-垂直",6,0.8,1200]
[505,6864654.9999999991,1200,-1,-1,"ISDB-M-200-20-垂直",7,0.7,1200]
[506,5883990,1200,-1,-1,"ISDB-M-200-20-垂直",7.5,0.6,1200]
[507,4903325,1200,-1,-1,"ISDB-M-200-20-垂直",8.5,0.5,1200]
[508,3922660,1200,-1,-1,"ISDB-M-200-20-垂直",10,0.4,1200]
[509,9806650,1800,-1,-1,"ISDB-M-200-30-水平",12,1,1800]
[510,8825984.9999999981,1800,-1,-1,"ISDB-M-200-30-水平",13,0.9,1800]
[511,7845320,1800,-1,-1,"ISDB-M-200-30-水平",15,0.8,1800]
[512,6864654.9999999991,1800,-1,-1,"ISDB-M-200-30-水平",17,0.7,1800]
[{"$f":"A515+1","v":513},5883990,1800,-1,-1,"ISDB-M-200-30-水平",20,0.6,1800]
[514,4903325,1800,-1,-1,"ISDB-M-200-30-水平",24,0.5,1800]
[515,3922660,1800,-1,-1,"ISDB-M-200-30-水平",30,0.4,1800]
[516,9806650,{"$f":"I519","v":1800},-1,-1,"ISDB-M-200-30-垂直",3,1,1800]
[517,8825984.9999999981,1800,-1,-1,"ISDB-M-200-30-垂直",3.5,0.9,1800]
[518,7845320,1800,-1,-1,"ISDB-M-200-30-垂直",4,0.8,1800]
[519,6864654.9999999991,1800,-1,-1,"ISDB-M-200-30-垂直",4.5,0.7,1800]
[520,5883990,1800,-1,-1,"ISDB-M-200-30-垂直",5,0.6,1800]
[521,4903325,1800,-1,-1,"ISDB-M-200-30-垂直",5.5,0.5,1800]
[522,3922660,1800,-1,-1,"ISDB-M-200-30-垂直",6,0.4,1800]
[523,6864654.9999999991,600,-1,-1,"ISDB-L-200-10-水平",40,0.7,600]
[524,5883990,600,-1,-1,"ISDB-L-200-10-水平",51,0.6,600]
[525,4903325,600,-1,-1,"ISDB-L-200-10-水平",66,0.5,600]
[526,3922660,600,-1,-1,"ISDB-L-200-10-水平",90,0.4,600]
[527,5883990,600,-1,-1,"ISDB-L-200-10-垂直",14,0.6,600]
[528,4903325,600,-1,-1,"ISDB-L-200-10-垂直",16,0.5,600]
[529,3922660,600,-1,-1,"ISDB-L-200-10-垂直",20,0.4,600]
[530,{"$f":"H533*$A$1*1000*1000","v":9806650},{"$f":"I533","v":1200},-1,-1,"ISDB-L-200-20-水平",15,1,1200]
[531,8825984.9999999981,1200,-1,-1,"ISDB-L-200-20-水平",17,0.9,1200]
[532,7845320,1200,-1,-1,"ISDB-L-200-20-水平",20,0.8,1200]
[533,6864654.9999999991,1200,-1,-1,"ISDB-L-200-20-水平",23,0.7,1200]
[534,5883990,1200,-1,-1,"ISDB-L-200-20-水平",28,0.6,1200]
[535,4903325,1200,-1,-1,"ISDB-L-200-20-水平",35,0.5,1200]
[536,3922660,1200,-1,-1,"ISDB-L-200-20-水平",45,0.4,1200]
[537,9806650,1200,-1,-1,"ISDB-L-200-20-垂直",5,1,1200]
[538,8825984.9999999981,1200,-1,-1,"ISDB-L-200-20-垂直",5.5,0.9,1200]
[539,7845320,1200,-1,-1,"ISDB-L-200-20-垂直",6,0.8,1200]
[540,6864654.9999999991,1200,-1,-1,"ISDB-L-200-20-垂直",7,0.7,1200]
[541,5883990,1200,-1,-1,"ISDB-L-200-20-垂直",7.5,0.6,1200]
[542,4903325,1200,-1,-1,"ISDB-L-200-20-垂直",8.5,0.5,1200]
[543,3922660,1200,-1,-1,"ISDB-L-200-20-垂直",9,0.4,1200]
[544,9806650,1800,-1,-1,"ISDB-L-200-40-水平",7,1,1800]
[545,8825984.9999999981,1800,-1,-1,"ISDB-L-200-40-水平",7.5,0.9,1800]
[546,7845320,1800,-1,-1,"ISDB-L-200-40-水平",8,0.8,1800]
[547,6864654.9999999991,1800,-1,-1,"ISDB-L-200-40-水平",9,0.7,1800]
[548,5883990,1800,-1,-1,"ISDB-L-200-40-水平",10.5,0.6,1800]
[549,4903325,1800,-1,-1,"ISDB-L-200-40-水平",12,0.5,1800]
[550,3922660,1800,-1,-1,"ISDB-L-200-40-水平",15,0.4,1800]
[551,9806650,{"$f":"I554","v":1800},-1,-1,"ISDB-L-200-40-垂直",2,1,1800]
[552,7845320,1800,-1,-1,"ISDB-L-200-40-垂直",2.1,0.8,1800]
[553,6864654.9999999991,1800,-1,-1,"ISDB-L-200-40-垂直",2.2000000000000002,0.7,1800]
[554,5883990,1800,-1,-1,"ISDB-L-200-40-垂直",2.2999999999999998,0.6,1800]
[555,4903325,1800,-1,-1,"ISDB-L-200-40-垂直",2.4,0.5,1800]
[556,3922660,1800,-1,-1,"ISDB-L-200-40-垂直",2.5,0.4,1800]
[557,6864654.9999999991,600,-1,-1,"ISDB-L-400-10-水平",60,0.7,600]
[558,5883990,600,-1,-1,"ISDB-L-400-10-水平",73,0.6,600]
[559,4903325,600,-1,-1,"ISDB-L-400-10-水平",92,0.5,600]
[560,3922660,600,-1,-1,"ISDB-L-400-10-水平",120,0.4,600]
[561,5883990,600,-1,-1,"ISDB-L-400-10-垂直",30,0.6,600]
[562,4903325,600,-1,-1,"ISDB-L-400-10-垂直",35,0.5,600]
[563,3922660,600,-1,-1,"ISDB-L-400-10-垂直",40,0.4,600]
[564,9806650,1200,-1,-1,"ISDB-L-400-20-水平",30,1,1200]
[565,8825984.9999999981,1200,-1,-1,"ISDB-L-400-20-水平",35,0.9,1200]
[566,7845320,1200,-1,-1,"ISDB-L-400-20-水平",40,0.8,1200]
[567,6864654.9999999991,1200,-1,-1,"ISDB-L-400-20-水平",47,0.7,1200]
[568,5883990,1200,-1,-1,"ISDB-L-400-20-水平",57,0.6,1200]
[569,4903325,1200,-1,-1,"ISDB-L-400-20-水平",70,0.5,1200]
[570,{"$f":"H573*$A$1*1000*1000","v":3922660},{"$f":"I573","v":1200},-1,-1,"ISDB-L-400-20-水平",90,0.4,1200]
[571,9806650,1200,-1,-1,"ISDB-L-400-20-垂直",10,1,1200]
[572,8825984.9999999981,1200,-1,-1,"ISDB-L-400-20-垂直",11,0.9,1200]
[573,7845320,1200,-1,-1,"ISDB-L-400-20-垂直",12,0.8,1200]
[574,6864654.9999999991,1200,-1,-1,"ISDB-L-400-20-垂直",14,0.7,1200]
[575,5883990,1200,-1,-1,"ISDB-L-400-20-垂直",15,0.6,1200]
[576,4903325,1200,-1,-1,"ISDB-L-400-20-垂直",17,0.5,1200]
[{"$f":"A579+1","v":577},3922660,1200,-1,-1,"ISDB-L-400-20-垂直",20,0.4,1200]
[578,9806650,1800,-1,-1,"ISDB-L-400-40-水平",17,1,1800]
[579,8825984.9999999981,1800,-1,-1,"ISDB-L-400-40-水平",19,0.9,1800]
[580,7845320,1800,-1,-1,"ISDB-L-400-40-水平",21,0.8,1800]
[581,6864654.9999999991,1800,-1,-1,"ISDB-L-400-40-水平",23,0.7,1800]
[582,5883990,1800,-1,-1,"ISDB-L-400-40-水平",27,0.6,1800]
[583,4903325,1800,-1,-1,"ISDB-L-400-40-水平",32,0.5,1800]
[584,3922660,1800,-1,-1,"ISDB-L-400-40-水平",40,0.4,1800]
[585,9806650,{"$f":"I588","v":1800},-1,-1,"ISDB-L-400-40-垂直",5,1,1800]
[586,8825984.9999999981,1800,-1,-1,"ISDB-L-400-40-垂直",5.5,0.9,1800]
[587,7845320,1800,-1,-1,"ISDB-L-400-40-垂直",6,0.8,1800]
[588,6864654.9999999991,1800,-1,-1,"ISDB-L-400-40-垂直",6.5,0.7,1800]
[589,5883990,1800,-1,-1,"ISDB-L-400-40-垂直",7,0.6,1800]
[590,4903325,1800,-1,-1,"ISDB-L-400-40-垂直",7.5,0.5,1800]
[591,3922660,1800,-1,-1,"ISDB-L-400-40-垂直",8,0.4,1800]
[592,4903325,240,-1,-1,"ISDBCR-S-60-4-水平",30,0.5,240]
[593,3922660,240,-1,-1,"ISDBCR-S-60-4-水平",38,0.4,240]
[594,2941995,240,-1,-1,"ISDBCR-S-60-4-水平",50,0.3,240]
[595,1961330,240,-1,-1,"ISDBCR-S-60-4-水平",55,0.2,240]
[596,3922660,240,-1,-1,"ISDBCR-S-60-4-垂直",12,0.4,240]
[597,2941995,240,-1,-1,"ISDBCR-S-60-4-垂直",13,0.3,240]
[598,1961330,240,-1,-1,"ISDBCR-S-60-4-垂直",14,0.2,240]
[599,6864654.9999999991,480,-1,-1,"ISDBCR-S-60-8-水平",12,0.7,480]
[600,5883990,480,-1,-1,"ISDBCR-S-60-8-水平",15,0.6,480]
[601,4903325,480,-1,-1,"ISDBCR-S-60-8-水平",20,0.5,480]
[602,3922660,480,-1,-1,"ISDBCR-S-60-8-水平",27,0.4,480]
[603,5883990,480,-1,-1,"ISDBCR-S-60-8-垂直",5,0.6,480]
[604,4903325,480,-1,-1,"ISDBCR-S-60-8-垂直",5.5,0.5,480]
[605,3922660,480,-1,-1,"ISDBCR-S-60-8-垂直",6,0.4,480]
[606,9806650,960,-1,-1,"ISDBCR-S-60-16-水平",4.5,1,960]
[607,8825984.9999999981,960,-1,-1,"ISDBCR-S-60-16-水平",5.5,0.9,960]
[608,7845320,960,-1,-1,"ISDBCR-S-60-16-水平",6,0.8,960]
[609,6864654.9999999991,960,-1,-1,"ISDBCR-S-60-16-水平",7,0.7,960]
[610,5883990,960,-1,-1,"ISDBCR-S-60-16-水平",8.5,0.6,960]
[611,4903325,960,-1,-1,"ISDBCR-S-60-16-水平",10.5,0.5,960]
[612,3922660,960,-1,-1,"ISDBCR-S-60-16-水平",13,0.4,960]
[613,7845320,960,-1,-1,"ISDBCR-S-60-16-垂直",2,0.8,960]
[614,6864654.9999999991,960,-1,-1,"ISDBCR-S-60-16-垂直",2.2999999999999998,0.7,960]
[615,{"$f":"H618*$A$1*1000*1000","v":5883990},{"$f":"I618","v":960},-1,-1,"ISDBCR-S-60-16-垂直",2.5,0.6,960]
[616,4903325,960,-1,-1,"ISDBCR-S-60-16-垂直",2.8,0.5,960]
[617,3922660,960,-1,-1,"ISDBCR-S-60-16-垂直",3,0.4,960]
[618,4903325,300,-1,-1,"ISDBCR-M-100-5-水平",45,0.5,300]
[619,3922660,300,-1,-1,"ISDBCR-M-100-5-水平",60,0.4,300]
[620,2941995,300,-1,-1,"ISDBCR-M-100-5-水平",80,0.3,300]
[621,1961330,300,-1,-1,"ISDBCR-M-100-5-水平",85,0.2,300]
[622,3922660,300,-1,-1,"ISDBCR-M-100-5-垂直",15,0.4,300]
[623,2941995,300,-1,-1,"ISDBCR-M-100-5-垂直",17,0.3,300]
[624,1961330,300,-1,-1,"ISDBCR-M-100-5-垂直",20,0.2,300]
[625,6864654.9999999991,600,-1,-1,"ISDBCR-M-100-10-水平",20,0.7,600]
[626,5883990,600,-1,-1,"ISDBCR-M-100-10-水平",23,0.6,600]
[627,4903325,600,-1,-1,"ISDBCR-M-100-10-水平",30,0.5,600]
[628,3922660,600,-1,-1,"ISDBCR-M-100-10-水平",45,0.4,600]
[629,5883990,600,-1,-1,"ISDBCR-M-100-10-垂直",7,0.6,600]
[630,4903325,600,-1,-1,"ISDBCR-M-100-10-垂直",8,0.5,600]
[631,3922660,600,-1,-1,"ISDBCR-M-100-10-垂直",10,0.4,600]
[632,9806650,1200,-1,-1,"ISDBCR-M-100-20-水平",8,1,1200]
[633,8825984.9999999981,1200,-1,-1,"ISDBCR-M-100-20-水平",9,0.9,1200]
[634,7845320,1200,-1,-1,"ISDBCR-M-100-20-水平",11,0.8,1200]
[635,6864654.9999999991,1200,-1,-1,"ISDBCR-M-100-20-水平",13,0.7,1200]
[636,5883990,1200,-1,-1,"ISDBCR-M-100-20-水平",15,0.6,1200]
[637,4903325,1200,-1,-1,"ISDBCR-M-100-20-水平",18,0.5,1200]
[638,3922660,1200,-1,-1,"ISDBCR-M-100-20-水平",23,0.4,1200]
[639,9806650,1200,-1,-1,"ISDBCR-M-100-20-垂直",2.5,1,1200]
[640,8825984.9999999981,1200,-1,-1,"ISDBCR-M-100-20-垂直",2.8,0.9,1200]
[{"$f":"A643+1","v":641},7845320,1200,-1,-1,"ISDBCR-M-100-20-垂直",3,0.8,1200]
[642,6864654.9999999991,1200,-1,-1,"ISDBCR-M-100-20-垂直",3.3,0.7,1200]
[643,5883990,1200,-1,-1,"ISDBCR-M-100-20-垂直",3.5,0.6,1200]
[644,4903325,1200,-1,-1,"ISDBCR-M-100-20-垂直",3.8,0.5,1200]
[645,3922660,1200,-1,-1,"ISDBCR-M-100-20-垂直",4,0.4,1200]
[646,9806650,1800,-1,-1,"ISDBCR-M-100-30-水平",4,1,1800]
[647,8825984.9999999981,1800,-1,-1,"ISDBCR-M-100-30-水平",5,0.9,1800]
[648,7845320,1800,-1,-1,"ISDBCR-M-100-30-水平",6,0.8,1800]
[649,6864654.9999999991,1800,-1,-1,"ISDBCR-M-100-30-水平",7,0.7,1800]
[650,5883990,1800,-1,-1,"ISDBCR-M-100-30-水平",9,0.6,1800]
[651,4903325,1800,-1,-1,"ISDBCR-M-100-30-水平",11,0.5,1800]
[652,3922660,1800,-1,-1,"ISDBCR-M-100-30-水平",15,0.4,1800]
[653,9806650,1800,-1,-1,"ISDBCR-M-100-30-垂直",1.2,1,1800]
[654,8825984.9999999981,1800,-1,-1,"ISDBCR-M-100-30-垂直",1.3,0.9,1800]
[655,7845320,1800,-1,-1,"ISDBCR-M-100-30-垂直",1.4,0.8,1800]
[656,6864654.9999999991,1800,-1,-1,"ISDBCR-M-100-30-垂直",1.5,0.7,1800]
[657,5883990,1800,-1,-1,"ISDBCR-M-100-30-垂直",1.6,0.6,1800]
[658,4903325,1800,-1,-1,"ISDBCR-M-100-30-垂直",1.8,0.5,1800]
[659,3922660,1800,-1,-1,"ISDBCR-M-100-30-垂直",2,0.4,1800]
[660,4903325,300,-1,-1,"ISDBCR-M-200-5-水平",80,0.5,300]
[661,3922660,300,-1,-1,"ISDBCR-M-200-5-水平",90,0.4,300]
[662,2941995,300,-1,-1,"ISDBCR-M-200-5-水平",100,0.3,300]
[663,1961330,300,-1,-1,"ISDBCR-M-200-5-水平",110,0.2,300]
[664,3922660,300,-1,-1,"ISDBCR-M-200-5-垂直",30,0.4,300]
[665,2941995,300,-1,-1,"ISDBCR-M-200-5-垂直",34,0.3,300]
[666,1961330,300,-1,-1,"ISDBCR-M-200-5-垂直",40,0.2,300]
[667,6864654.9999999991,600,-1,-1,"ISDBCR-M-200-10-水平",40,0.7,600]
[668,5883990,600,-1,-1,"ISDBCR-M-200-10-水平",51,0.6,600]
[669,4903325,600,-1,-1,"ISDBCR-M-200-10-水平",66,0.5,600]
[670,3922660,600,-1,-1,"ISDBCR-M-200-10-水平",90,0.4,600]
[671,5883990,600,-1,-1,"ISDBCR-M-200-10-垂直",15,0.6,600]
[672,4903325,600,-1,-1,"ISDBCR-M-200-10-垂直",17,0.5,600]
[673,3922660,600,-1,-1,"ISDBCR-M-200-10-垂直",20,0.4,600]
[674,9806650,1200,-1,-1,"ISDBCR-M-200-20-水平",16,1,1200]
[675,8825984.9999999981,1200,-1,-1,"ISDBCR-M-200-20-水平",18,0.9,1200]
[676,7845320,1200,-1,-1,"ISDBCR-M-200-20-水平",20,0.8,1200]
[677,6864654.9999999991,1200,-1,-1,"ISDBCR-M-200-20-水平",23,0.7,1200]
[678,5883990,1200,-1,-1,"ISDBCR-M-200-20-水平",28,0.6,1200]
[679,{"$f":"H682*$A$1*1000*1000","v":4903325},{"$f":"I682","v":1200},-1,-1,"ISDBCR-M-200-20-水平",35,0.5,1200]
[680,3922660,1200,-1,-1,"ISDBCR-M-200-20-水平",45,0.4,1200]
[681,9806650,1200,-1,-1,"ISDBCR-M-200-20-垂直",5,1,1200]
[682,8825984.9999999981,1200,-1,-1,"ISDBCR-M-200-20-垂直",5.5,0.9,1200]
[683,7845320,1200,-1,-1,"ISDBCR-M-200-20-垂直",6,0.8,1200]
[684,6864654.9999999991,1200,-1,-1,"ISDBCR-M-200-20-垂直",7,0.7,1200]
[685,5883990,1200,-1,-1,"ISDBCR-M-200-20-垂直",7.5,0.6,1200]
[686,4903325,1200,-1,-1,"ISDBCR-M-200-20-垂直",8.5,0.5,1200]
[687,3922660,1200,-1,-1,"ISDBCR-M-200-20-垂直",10,0.4,1200]
[688,9806650,1800,-1,-1,"ISDBCR-M-200-30-水平",12,1,1800]
[689,8825984.9999999981,1800,-1,-1,"ISDBCR-M-200-30-水平",13,0.9,1800]
[690,7845320,1800,-1,-1,"ISDBCR-M-200-30-水平",15,0.8,1800]
[691,6864654.9999999991,1800,-1,-1,"ISDBCR-M-200-30-水平",17,0.7,1800]
[692,5883990,1800,-1,-1,"ISDBCR-M-200-30-水平",20,0.6,1800]
[693,4903325,1800,-1,-1,"ISDBCR-M-200-30-水平",24,0.5,1800]
[694,3922660,1800,-1,-1,"ISDBCR-M-200-30-水平",30,0.4,1800]
[695,9806650,1800,-1,-1,"ISDBCR-M-200-30-垂直",3,1,1800]
[696,8825984.9999999981,1800,-1,-1,"ISDBCR-M-200-30-垂直",3.5,0.9,1800]
[697,7845320,1800,-1,-1,"ISDBCR-M-200-30-垂直",4,0.8,1800]
[698,6864654.9999999991,1800,-1,-1,"ISDBCR-M-200-30-垂直",4.5,0.7,1800]
[699,5883990,1800,-1,-1,"ISDBCR-M-200-30-垂直",5,0.6,1800]
[700,4903325,1800,-1,-1,"ISDBCR-M-200-30-垂直",5.5,0.5,1800]
[701,3922660,1800,-1,-1,"ISDBCR-M-200-30-垂直",6,0.4,1800]
[702,6864654.9999999991,600,-1,-1,"ISDBCR-L-200-10-水平",40,0.7,600]
[703,5883990,600,-1,-1,"ISDBCR-L-200-10-水平",51,0.6,600]
[704,4903325,600,-1,-1,"ISDBCR-L-200-10-水平",66,0.5,600]
[{"$f":"A707+1","v":705},3922660,600,-1,-1,"ISDBCR-L-200-10-水平",90,0.4,600]
[706,5883990,600,-1,-1,"ISDBCR-L-200-10-垂直",14,0.6,600]
[707,4903325,600,-1,-1,"ISDBCR-L-200-10-垂直",16,0.5,600]
[708,3922660,600,-1,-1,"ISDBCR-L-200-10-垂直",20,0.4,600]
[709,9806650,1200,-1,-1,"ISDBCR-L-200-20-水平",15,1,1200]
[710,8825984.9999999981,1200,-1,-1,"ISDBCR-L-200-20-水平",17,0.9,1200]
[711,7845320,1200,-1,-1,"ISDBCR-L-200-20-水平",20,0.8,1200]
[712,6864654.9999999991,1200,-1,-1,"ISDBCR-L-200-20-水平",23,0.7,1200]
[713,5883990,1200,-1,-1,"ISDBCR-L-200-20-水平",28,0.6,1200]
[714,4903325,1200,-1,-1,"ISDBCR-L-200-20-水平",35,0.5,1200]
[715,3922660,1200,-1,-1,"ISDBCR-L-200-20-水平",45,0.4,1200]
[716,9806650,1200,-1,-1,"ISDBCR-L-200-20-垂直",5,1,1200]
[717,8825984.9999999981,1200,-1,-1,"ISDBCR-L-200-20-垂直",5.5,0.9,1200]
[718,7845320,1200,-1,-1,"ISDBCR-L-200-20-垂直",6,0.8,1200]
[719,6864654.9999999991,1200,-1,-1,"ISDBCR-L-200-20-垂直",7,0.7,1200]
[720,5883990,1200,-1,-1,"ISDBCR-L-200-20-垂直",7.5,0.6,1200]
[721,4903325,1200,-1,-1,"ISDBCR-L-200-20-垂直",8.5,0.5,1200]
[722,3922660,1200,-1,-1,"ISDBCR-L-200-20-垂直",9,0.4,1200]
[723,9806650,1800,-1,-1,"ISDBCR-L-200-40-水平",7,1,1800]
[724,8825984.9999999981,1800,-1,-1,"ISDBCR-L-200-40-水平",7.5,0.9,1800]
[725,7845320,1800,-1,-1,"ISDBCR-L-200-40-水平",8,0.8,1800]
[726,6864654.9999999991,1800,-1,-1,"ISDBCR-L-200-40-水平",9,0.7,1800]
[727,5883990,1800,-1,-1,"ISDBCR-L-200-40-水平",10.5,0.6,1800]
[728,4903325,1800,-1,-1,"ISDBCR-L-200-40-水平",12,0.5,1800]
[729,3922660,1800,-1,-1,"ISDBCR-L-200-40-水平",15,0.4,1800]
[730,9806650,1800,-1,-1,"ISDBCR-L-200-40-垂直",2,1,1800]
[731,7845320,1800,-1,-1,"ISDBCR-L-200-40-垂直",2.1,0.8,1800]
[732,6864654.9999999991,1800,-1,-1,"ISDBCR-L-200-40-垂直",2.2000000000000002,0.7,1800]
[733,5883990,1800,-1,-1,"ISDBCR-L-200-40-垂直",2.2999999999999998,0.6,1800]
[734,4903325,1800,-1,-1,"ISDBCR-L-200-40-垂直",2.4,0.5,1800]
[735,3922660,1800,-1,-1,"ISDBCR-L-200-40-垂直",2.5,0.4,1800]
[736,6864654.9999999991,600,-1,-1,"ISDBCR-L-400-10-水平",60,0.7,600]
[737,5883990,600,-1,-1,"ISDBCR-L-400-10-水平",73,0.6,600]
[738,4903325,600,-1,-1,"ISDBCR-L-400-10-水平",92,0.5,600]
[739,3922660,600,-1,-1,"ISDBCR-L-400-10-水平",120,0.4,600]
[740,5883990,600,-1,-1,"ISDBCR-L-400-10-垂直",30,0.6,600]
[741,4903325,600,-1,-1,"ISDBCR-L-400-10-垂直",35,0.5,600]
[742,3922660,600,-1,-1,"ISDBCR-L-400-10-垂直",40,0.4,600]
[743,9806650,1200,-1,-1,"ISDBCR-L-400-20-水平",30,1,1200]
[744,8825984.9999999981,1200,-1,-1,"ISDBCR-L-400-20-水平",35,0.9,1200]
[745,{"$f":"H748*$A$1*1000*1000","v":7845320},{"$f":"I748","v":1200},-1,-1,"ISDBCR-L-400-20-水平",40,0.8,1200]
[746,6864654.9999999991,1200,-1,-1,"ISDBCR-L-400-20-水平",47,0.7,1200]
[747,5883990,1200,-1,-1,"ISDBCR-L-400-20-水平",57,0.6,1200]
[748,4903325,1200,-1,-1,"ISDBCR-L-400-20-水平",70,0.5,1200]
[749,3922660,1200,-1,-1,"ISDBCR-L-400-20-水平",90,0.4,1200]
[750,9806650,1200,-1,-1,"ISDBCR-L-400-20-垂直",10,1,1200]
[751,8825984.9999999981,1200,-1,-1,"ISDBCR-L-400-20-垂直",11,0.9,1200]
[752,7845320,1200,-1,-1,"ISDBCR-L-400-20-垂直",12,0.8,1200]
[753,6864654.9999999991,1200,-1,-1,"ISDBCR-L-400-20-垂直",14,0.7,1200]
[754,5883990,1200,-1,-1,"ISDBCR-L-400-20-垂直",15,0.6,1200]
[755,4903325,1200,-1,-1,"ISDBCR-L-400-20-垂直",17,0.5,1200]
[756,3922660,1200,-1,-1,"ISDBCR-L-400-20-垂直",20,0.4,1200]
[757,9806650,1800,-1,-1,"ISDBCR-L-400-40-水平",17,1,1800]
[758,8825984.9999999981,1800,-1,-1,"ISDBCR-L-400-40-水平",19,0.9,1800]
[759,7845320,1800,-1,-1,"ISDBCR-L-400-40-水平",21,0.8,1800]
[760,6864654.9999999991,1800,-1,-1,"ISDBCR-L-400-40-水平",23,0.7,1800]
[761,5883990,1800,-1,-1,"ISDBCR-L-400-40-水平",27,0.6,1800]
[762,4903325,1800,-1,-1,"ISDBCR-L-400-40-水平",32,0.5,1800]
[763,3922660,1800,-1,-1,"ISDBCR-L-400-40-水平",40,0.4,1800]
[764,9806650,1800,-1,-1,"ISDBCR-L-400-40-垂直",5,1,1800]
[765,8825984.9999999981,1800,-1,-1,"ISDBCR-L-400-40-垂直",5.5,0.9,1800]
[766,7845320,1800,-1,-1,"ISDBCR-L-400-40-垂直",6,0.8,1800]
[767,6864654.9999999991,1800,-1,-1,"ISDBCR-L-400-40-垂直",6.5,0.7,1800]
[768,5883990,1800,-1,-1,"ISDBCR-L-400-40-垂直",7,0.6,1800]
[{"$f":"A771+1","v":769},4903325,1800,-1,-1,"ISDBCR-L-400-40-垂直",7.5,0.5,1800]
[770,3922660,1800,-1,-1,"ISDBCR-L-400-40-垂直",8,0.4,1800]
[771,6864654.9999999991,600,-1,-1,"SSPA-SXM-200-10-水平",50,0.7,600]
[772,5883990,600,-1,-1,"SSPA-SXM-200-10-水平",60,0.6,600]
[773,4903325,600,-1,-1,"SSPA-SXM-200-10-水平",72,0.5,600]
[774,3922660,600,-1,-1,"SSPA-SXM-200-10-水平",90,0.4,600]
[775,5883990,{"$f":"I778","v":600},-1,-1,"SSPA-SXM-200-10-垂直",8,0.6,600]
[776,4903325,{"$f":"I779","v":600},-1,-1,"SSPA-SXM-200-10-垂直",10,0.5,600]
[777,3922660,{"$f":"I780","v":600},-1,-1,"SSPA-SXM-200-10-垂直",12,0.4,600]
[778,9806650,1200,-1,-1,"SSPA-SXM-200-20-水平",17,1,1200]
[779,8825984.9999999981,1200,-1,-1,"SSPA-SXM-200-20-水平",19.5,0.9,1200]
[780,7845320,1200,-1,-1,"SSPA-SXM-200-20-水平",22.5,0.8,1200]
[781,6864654.9999999991,1200,-1,-1,"SSPA-SXM-200-20-水平",26,0.7,1200]
[782,5883990,1200,-1,-1,"SSPA-SXM-200-20-水平",30,0.6,1200]
[783,4903325,1200,-1,-1,"SSPA-SXM-200-20-水平",36,0.5,1200]
[784,3922660,1200,-1,-1,"SSPA-SXM-200-20-水平",45,0.4,1200]
[785,9806650,{"$f":"I788","v":1200},-1,-1,"SSPA-SXM-200-20-垂直",2.4,1,1200]
[786,8825984.9999999981,1200,-1,-1,"SSPA-SXM-200-20-垂直",2.7,0.9,1200]
[787,7845320,1200,-1,-1,"SSPA-SXM-200-20-垂直",3,0.8,1200]
[788,6864654.9999999991,1200,-1,-1,"SSPA-SXM-200-20-垂直",3.4,0.7,1200]
[789,5883990,1200,-1,-1,"SSPA-SXM-200-20-垂直",4,0.6,1200]
[790,4903325,1200,-1,-1,"SSPA-SXM-200-20-垂直",4.8,0.5,1200]
[791,3922660,1200,-1,-1,"SSPA-SXM-200-20-垂直",6,0.4,1200]
[792,11767980,1800,-1,-1,"SSPA-SXM-200-30-水平",10,1.2,1800]
[793,10787314.999999998,1800,-1,-1,"SSPA-SXM-200-30-水平",11,1.1000000000000001,1800]
[794,9806650,1800,-1,-1,"SSPA-SXM-200-30-水平",12,1,1800]
[795,8825984.9999999981,1800,-1,-1,"SSPA-SXM-200-30-水平",13,0.9,1800]
[796,{"$f":"H799*$A$1*1000*1000","v":7845320},{"$f":"I799","v":1800},-1,-1,"SSPA-SXM-200-30-水平",15,0.8,1800]
[797,6864654.9999999991,{"$f":"I800","v":1800},-1,-1,"SSPA-SXM-200-30-水平",17,0.7,1800]
[798,5883990,{"$f":"I801","v":1800},-1,-1,"SSPA-SXM-200-30-水平",20,0.6,1800]
[799,4903325,{"$f":"I802","v":1800},-1,-1,"SSPA-SXM-200-30-水平",24,0.5,1800]
[800,3922660,{"$f":"I803","v":1800},-1,-1,"SSPA-SXM-200-30-水平",30,0.4,1800]
[801,11767980,{"$f":"I804","v":1800},-1,-1,"SSPA-SXM-200-30-垂直",1,1.2,1800]
[802,10787314.999999998,1800,-1,-1,"SSPA-SXM-200-30-垂直",1.2,1.1000000000000001,1800]
[803,9806650,1800,-1,-1,"SSPA-SXM-200-30-垂直",1.4,1,1800]
[804,8825984.9999999981,1800,-1,-1,"SSPA-SXM-200-30-垂直",1.7,0.9,1800]
[805,7845320,1800,-1,-1,"SSPA-SXM-200-30-垂直",2,0.8,1800]
[806,6864654.9999999991,1800,-1,-1,"SSPA-SXM-200-30-垂直",2.2999999999999998,0.7,1800]
[807,5883990,1800,-1,-1,"SSPA-SXM-200-30-垂直",2.7,0.6,1800]
[808,4903325,1800,-1,-1,"SSPA-SXM-200-30-垂直",3.2,0.5,1800]
[809,3922660,1800,-1,-1,"SSPA-SXM-200-30-垂直",4,0.4,1800]
[810,6864654.9999999991,{"$f":"I813","v":600},-1,-1,"SSPA-MXM-400-10-水平",70,0.7,600]
[811,5883990,600,-1,-1,"SSPA-MXM-400-10-水平",80,0.6,600]
[812,4903325,600,-1,-1,"SSPA-MXM-400-10-水平",96,0.5,600]
[813,3922660,600,-1,-1,"SSPA-MXM-400-10-水平",120,0.4,600]
[814,5883990,600,-1,-1,"SSPA-MXM-400-10-垂直",16.5,0.6,600]
[815,4903325,600,-1,-1,"SSPA-MXM-400-10-垂直",20,0.5,600]
[816,3922660,600,-1,-1,"SSPA-MXM-400-10-垂直",25,0.4,600]
[817,9806650,1200,-1,-1,"SSPA-MXM-400-20-水平",34,1,1200]
[818,8825984.9999999981,1200,-1,-1,"SSPA-MXM-400-20-水平",39,0.9,1200]
[819,7845320,1200,-1,-1,"SSPA-MXM-400-20-水平",45,0.8,1200]
[820,6864654.9999999991,1200,-1,-1,"SSPA-MXM-400-20-水平",51,0.7,1200]
[821,5883990,1200,-1,-1,"SSPA-MXM-400-20-水平",60,0.6,1200]
[822,4903325,1200,-1,-1,"SSPA-MXM-400-20-水平",72,0.5,1200]
[823,3922660,1200,-1,-1,"SSPA-MXM-400-20-水平",90,0.4,1200]
[824,9806650,{"$f":"I827","v":1200},-1,-1,"SSPA-MXM-400-20-垂直",4.8,1,1200]
[825,8825984.9999999981,1200,-1,-1,"SSPA-MXM-400-20-垂直",5.3,0.9,1200]
[826,7845320,1200,-1,-1,"SSPA-MXM-400-20-垂直",6,0.8,1200]
[827,6864654.9999999991,1200,-1,-1,"SSPA-MXM-400-20-垂直",6.9,0.7,1200]
[828,5883990,1200,-1,-1,"SSPA-MXM-400-20-垂直",8,0.6,1200]
[829,4903325,1200,-1,-1,"SSPA-MXM-400-20-垂直",9.6,0.5,1200]
[830,3922660,1200,-1,-1,"SSPA-MXM-400-20-垂直",12,0.4,1200]
[831,11767980,{"$f":"I834","v":2400},-1,-1,"SSPA-MXM-400-40-水平",13.5,1.2,2400]
[832,10787314.999999998,2400,-1,-1,"SSPA-MXM-400-40-水平",15,1.1000000000000001,2400]
[{"$f":"A835+1","v":833},9806650,2400,-1,-1,"SSPA-MXM-400-40-水平",17,1,2400]
[834,8825984.9999999981,2400,-1,-1,"SSPA-MXM-400-40-水平",19.5,0.9,2400]
[835,7845320,2400,-1,-1,"SSPA-MXM-400-40-水平",22.5,0.8,2400]
[836,6864654.9999999991,2400,-1,-1,"SSPA-MXM-400-40-水平",25.5,0.7,2400]
[837,5883990,2400,-1,-1,"SSPA-MXM-400-40-水平",30,0.6,2400]
[838,4903325,2400,-1,-1,"SSPA-MXM-400-40-水平",36,0.5,2400]
[839,3922660,2400,-1,-1,"SSPA-MXM-400-40-水平",45,0.4,2400]
[840,11767980,{"$f":"I843","v":2400},-1,-1,"SSPA-MXM-400-40-垂直",2,1.2,2400]
[841,10787314.999999998,2400,-1,-1,"SSPA-MXM-400-40-垂直",2.2000000000000002,1.1000000000000001,2400]
[842,9806650,2400,-1,-1,"SSPA-MXM-400-40-垂直",2.4,1,2400]
[843,8825984.9999999981,2400,-1,-1,"SSPA-MXM-400-40-垂直",2.7,0.9,2400]
[844,7845320,2400,-1,-1,"SSPA-MXM-400-40-垂直",3,0.8,2400]
[845,6864654.9999999991,2400,-1,-1,"SSPA-MXM-400-40-垂直",3.4,0.7,2400]
[846,5883990,2400,-1,-1,"SSPA-MXM-400-40-垂直",4,0.6,2400]
[847,4903325,2400,-1,-1,"SSPA-MXM-400-40-垂直",4.8,0.5,2400]
[848,3922660,2400,-1,-1,"SSPA-MXM-400-40-垂直",6,0.4,2400]
[849,11767980,{"$f":"I852","v":1250},-1,-1,"SSPA-LXM-750-25-水平",40,1.2,1250]
[850,{"$f":"H853*$A$1*1000*1000","v":10787314.999999998},{"$f":"I853","v":1250},-1,-1,"SSPA-LXM-750-25-水平",44,1.1000000000000001,1250]
[851,9806650,1250,-1,-1,"SSPA-LXM-750-25-水平",48,1,1250]
[852,8825984.9999999981,1250,-1,-1,"SSPA-LXM-750-25-水平",53,0.9,1250]
[853,7845320,1250,-1,-1,"SSPA-LXM-750-25-水平",60,0.8,1250]
[854,6864654.9999999991,1250,-1,-1,"SSPA-LXM-750-25-水平",69,0.7,1250]
[855,5883990,1250,-1,-1,"SSPA-LXM-750-25-水平",80,0.6,1250]
[856,4903325,1250,-1,-1,"SSPA-LXM-750-25-水平",96,0.5,1250]
[857,3922660,1250,-1,-1,"SSPA-LXM-750-25-水平",120,0.4,1250]
[858,11767980,{"$f":"I861","v":1250},-1,-1,"SSPA-LXM-750-25-垂直",8,1.2,1250]
[859,10787314.999999998,1250,-1,-1,"SSPA-LXM-750-25-垂直",9,1.1000000000000001,1250]
[860,9806650,1250,-1,-1,"SSPA-LXM-750-25-垂直",10,1,1250]
[861,8825984.9999999981,1250,-1,-1,"SSPA-LXM-750-25-垂直",11,0.9,1250]
[862,7845320,1250,-1,-1,"SSPA-LXM-750-25-垂直",13,0.8,1250]
[863,6864654.9999999991,1250,-1,-1,"SSPA-LXM-750-25-垂直",14,0.7,1250]
[864,5883990,1250,-1,-1,"SSPA-LXM-750-25-垂直",17,0.6,1250]
[865,4903325,1250,-1,-1,"SSPA-LXM-750-25-垂直",20,0.5,1250]
[866,3922660,1250,-1,-1,"SSPA-LXM-750-25-垂直",25,0.4,1250]
[867,11767980,2500,-1,-1,"SSPA-LXM-750-50-水平",20,1.2,2500]
[868,10787314.999999998,2500,-1,-1,"SSPA-LXM-750-50-水平",22,1.1000000000000001,2500]
[869,9806650,2500,-1,-1,"SSPA-LXM-750-50-水平",24,1,2500]
[870,8825984.9999999981,2500,-1,-1,"SSPA-LXM-750-50-水平",27,0.9,2500]
[871,7845320,2500,-1,-1,"SSPA-LXM-750-50-水平",30,0.8,2500]
[872,6864654.9999999991,2500,-1,-1,"SSPA-LXM-750-50-水平",34,0.7,2500]
[873,5883990,2500,-1,-1,"SSPA-LXM-750-50-水平",40,0.6,2500]
[874,4903325,2500,-1,-1,"SSPA-LXM-750-50-水平",48,0.5,2500]
[875,3922660,2500,-1,-1,"SSPA-LXM-750-50-水平",60,0.4,2500]
[876,11767980,{"$f":"I879","v":2500},-1,-1,"SSPA-LXM-750-50-垂直",4,1.2,2500]
[877,9806650,2500,-1,-1,"SSPA-LXM-750-50-垂直",5,1,2500]
[878,7845320,2500,-1,-1,"SSPA-LXM-750-50-垂直",6,0.8,2500]
[879,6864654.9999999991,2500,-1,-1,"SSPA-LXM-750-50-垂直",7,0.7,2500]
[880,5883990,2500,-1,-1,"SSPA-LXM-750-50-垂直",8,0.6,2500]
[881,4903325,2500,-1,-1,"SSPA-LXM-750-50-垂直",10,0.5,2500]
[882,3922660,2500,-1,-1,"SSPA-LXM-750-50-垂直",12,0.4,2500]
[883,6864654.9999999991,600,-1,-1,"SSPDACR-S-200-10-水平",50,0.7,600]
[884,5883990,600,-1,-1,"SSPDACR-S-200-10-水平",60,0.6,600]
[885,4903325,600,-1,-1,"SSPDACR-S-200-10-水平",72,0.5,600]
[886,3922660,600,-1,-1,"SSPDACR-S-200-10-水平",90,0.4,600]
[887,5883990,{"$f":"I890","v":600},-1,-1,"SSPDACR-S-200-10-垂直",8,0.6,600]
[888,4903325,{"$f":"I891","v":600},-1,-1,"SSPDACR-S-200-10-垂直",10,0.5,600]
[889,3922660,{"$f":"I892","v":600},-1,-1,"SSPDACR-S-200-10-垂直",12,0.4,600]
[890,9806650,1100,-1,-1,"SSPDACR-S-200-20-水平",17,1,1100]
[891,8825984.9999999981,1100,-1,-1,"SSPDACR-S-200-20-水平",19.5,0.9,1100]
[892,7845320,1100,-1,-1,"SSPDACR-S-200-20-水平",22.5,0.8,1100]
[893,6864654.9999999991,1100,-1,-1,"SSPDACR-S-200-20-水平",26,0.7,1100]
[894,5883990,1100,-1,-1,"SSPDACR-S-200-20-水平",30,0.6,1100]
[895,4903325,1100,-1,-1,"SSPDACR-S-200-20-水平",36,0.5,1100]
[896,3922660,1100,-1,-1,"SSPDACR-S-200-20-水平",45,0.4,1100]
[{"$f":"A899+1","v":897},9806650,1100,-1,-1,"SSPDACR-S-200-20-垂直",2.4,1,1100]
[898,8825984.9999999981,1100,-1,-1,"SSPDACR-S-200-20-垂直",2.7,0.9,1100]
[899,7845320,1100,-1,-1,"SSPDACR-S-200-20-垂直",3,0.8,1100]
[900,6864654.9999999991,1100,-1,-1,"SSPDACR-S-200-20-垂直",3.4,0.7,1100]
[901,5883990,1100,-1,-1,"SSPDACR-S-200-20-垂直",4,0.6,1100]
[902,4903325,1100,-1,-1,"SSPDACR-S-200-20-垂直",4.8,0.5,1100]
[903,3922660,1100,-1,-1,"SSPDACR-S-200-20-垂直",6,0.4,1100]
[904,11767980,1600,-1,-1,"SSPDACR-S-200-30-水平",10,1.2,1600]
[905,10787314.999999998,1600,-1,-1,"SSPDACR-S-200-30-水平",11,1.1000000000000001,1600]
[906,9806650,1600,-1,-1,"SSPDACR-S-200-30-水平",12,1,1600]
[907,8825984.9999999981,1600,-1,-1,"SSPDACR-S-200-30-水平",13,0.9,1600]
[908,7845320,1600,-1,-1,"SSPDACR-S-200-30-水平",15,0.8,1600]
[909,6864654.9999999991,1600,-1,-1,"SSPDACR-S-200-30-水平",17,0.7,1600]
[910,5883990,1600,-1,-1,"SSPDACR-S-200-30-水平",20,0.6,1600]
[911,4903325,1600,-1,-1,"SSPDACR-S-200-30-水平",24,0.5,1600]
[912,3922660,1600,-1,-1,"SSPDACR-S-200-30-水平",30,0.4,1600]
[913,11767980,1600,-1,-1,"SSPDACR-S-200-30-垂直",1,1.2,1600]
[914,10787314.999999998,1600,-1,-1,"SSPDACR-S-200-30-垂直",1.2,1.1000000000000001,1600]
[915,9806650,1600,-1,-1,"SSPDACR-S-200-30-垂直",1.4,1,1600]
[916,8825984.9999999981,1600,-1,-1,"SSPDACR-S-200-30-垂直",1.7,0.9,1600]
[917,7845320,1600,-1,-1,"SSPDACR-S-200-30-垂直",2,0.8,1600]
[918,6864654.9999999991,1600,-1,-1,"SSPDACR-S-200-30-垂直",2.2999999999999998,0.7,1600]
[919,5883990,1600,-1,-1,"SSPDACR-S-200-30-垂直",2.7,0.6,1600]
[920,4903325,1600,-1,-1,"SSPDACR-S-200-30-垂直",3.2,0.5,1600]
[921,3922660,1600,-1,-1,"SSPDACR-S-200-30-垂直",4,0.4,1600]
[922,6864654.9999999991,600,-1,-1,"SSPDACR-M-400-10-水平",70,0.7,600]
[923,5883990,600,-1,-1,"SSPDACR-M-400-10-水平",80,0.6,600]
[924,4903325,600,-1,-1,"SSPDACR-M-400-10-水平",96,0.5,600]
[925,3922660,600,-1,-1,"SSPDACR-M-400-10-水平",120,0.4,600]
[926,{"$f":"H929*$A$1*1000*1000","v":5883990},{"$f":"I929","v":600},-1,-1,"SSPDACR-M-400-10-垂直",16.5,0.6,600]
[927,4903325,{"$f":"I930","v":600},-1,-1,"SSPDACR-M-400-10-垂直",20,0.5,600]
[928,3922660,{"$f":"I931","v":600},-1,-1,"SSPDACR-M-400-10-垂直",25,0.4,600]
[929,9806650,{"$f":"I932","v":1100},-1,-1,"SSPDACR-M-400-20-水平",34,1,1100]
[930,8825984.9999999981,1100,-1,-1,"SSPDACR-M-400-20-水平",39,0.9,1100]
[931,7845320,1100,-1,-1,"SSPDACR-M-400-20-水平",45,0.8,1100]
[932,6864654.9999999991,1100,-1,-1,"SSPDACR-M-400-20-水平",51,0.7,1100]
[933,5883990,1100,-1,-1,"SSPDACR-M-400-20-水平",60,0.6,1100]
[934,4903325,1100,-1,-1,"SSPDACR-M-400-20-水平",72,0.5,1100]
[935,3922660,1100,-1,-1,"SSPDACR-M-400-20-水平",90,0.4,1100]
[936,9806650,1100,-1,-1,"SSPDACR-M-400-20-垂直",4.8,1,1100]
[937,8825984.9999999981,1100,-1,-1,"SSPDACR-M-400-20-垂直",5.3,0.9,1100]
[938,7845320,1100,-1,-1,"SSPDACR-M-400-20-垂直",6,0.8,1100]
[939,6864654.9999999991,1100,-1,-1,"SSPDACR-M-400-20-垂直",6.9,0.7,1100]
[940,5883990,1100,-1,-1,"SSPDACR-M-400-20-垂直",8,0.6,1100]
[941,4903325,1100,-1,-1,"SSPDACR-M-400-20-垂直",9.6,0.5,1100]
[942,3922660,1100,-1,-1,"SSPDACR-M-400-20-垂直",12,0.4,1100]
[943,11767980,1600,-1,-1,"SSPDACR-M-400-40-水平",13.5,1.2,1600]
[944,10787314.999999998,1600,-1,-1,"SSPDACR-M-400-40-水平",15,1.1000000000000001,1600]
[945,9806650,1600,-1,-1,"SSPDACR-M-400-40-水平",17,1,1600]
[946,8825984.9999999981,1600,-1,-1,"SSPDACR-M-400-40-水平",19.5,0.9,1600]
[947,7845320,1600,-1,-1,"SSPDACR-M-400-40-水平",22.5,0.8,1600]
[948,6864654.9999999991,1600,-1,-1,"SSPDACR-M-400-40-水平",25.5,0.7,1600]
[949,5883990,1600,-1,-1,"SSPDACR-M-400-40-水平",30,0.6,1600]
[950,4903325,1600,-1,-1,"SSPDACR-M-400-40-水平",36,0.5,1600]
[951,3922660,1600,-1,-1,"SSPDACR-M-400-40-水平",45,0.4,1600]
[952,11767980,1600,-1,-1,"SSPDACR-M-400-40-垂直",2,1.2,1600]
[953,10787314.999999998,1600,-1,-1,"SSPDACR-M-400-40-垂直",2.2000000000000002,1.1000000000000001,1600]
[954,9806650,1600,-1,-1,"SSPDACR-M-400-40-垂直",2.4,1,1600]
[955,8825984.9999999981,1600,-1,-1,"SSPDACR-M-400-40-垂直",2.7,0.9,1600]
[956,7845320,1600,-1,-1,"SSPDACR-M-400-40-垂直",3,0.8,1600]
[957,6864654.9999999991,1600,-1,-1,"SSPDACR-M-400-40-垂直",3.4,0.7,1600]
[958,5883990,1600,-1,-1,"SSPDACR-M-400-40-垂直",4,0.6,1600]
[959,4903325,1600,-1,-1,"SSPDACR-M-400-40-垂直",4.8,0.5,1600]
[960,3922660,1600,-1,-1,"SSPDACR-M-400-40-垂直",6,0.4,1600]
[{"$f":"A963+1","v":961},11767980,1100,-1,-1,"SSPDACR-L-750-25-水平",40,1.2,1100]
[962,10787314.999999998,1100,-1,-1,"SSPDACR-L-750-25-水平",44,1.1000000000000001,1100]
[963,9806650,1100,-1,-1,"SSPDACR-L-750-25-水平",48,1,1100]
[964,8825984.9999999981,1100,-1,-1,"SSPDACR-L-750-25-水平",53,0.9,1100]
[965,7845320,1100,-1,-1,"SSPDACR-L-750-25-水平",60,0.8,1100]
[966,6864654.9999999991,1100,-1,-1,"SSPDACR-L-750-25-水平",69,0.7,1100]
[967,5883990,1100,-1,-1,"SSPDACR-L-750-25-水平",80,0.6,1100]
[968,4903325,1100,-1,-1,"SSPDACR-L-750-25-水平",96,0.5,1100]
[969,3922660,1100,-1,-1,"SSPDACR-L-750-25-水平",120,0.4,1100]
[970,11767980,1100,-1,-1,"SSPDACR-L-750-25-垂直",8,1.2,1100]
[971,10787314.999999998,1100,-1,-1,"SSPDACR-L-750-25-垂直",9,1.1000000000000001,1100]
[972,9806650,1100,-1,-1,"SSPDACR-L-750-25-垂直",10,1,1100]
[973,8825984.9999999981,1100,-1,-1,"SSPDACR-L-750-25-垂直",11,0.9,1100]
[974,7845320,1100,-1,-1,"SSPDACR-L-750-25-垂直",13,0.8,1100]
[975,6864654.9999999991,1100,-1,-1,"SSPDACR-L-750-25-垂直",14,0.7,1100]
[976,5883990,1100,-1,-1,"SSPDACR-L-750-25-垂直",17,0.6,1100]
[977,4903325,1100,-1,-1,"SSPDACR-L-750-25-垂直",20,0.5,1100]
[978,3922660,1100,-1,-1,"SSPDACR-L-750-25-垂直",25,0.4,1100]
[979,11767980,1600,-1,-1,"SSPDACR-L-750-50-水平",20,1.2,1600]
[980,10787314.999999998,1600,-1,-1,"SSPDACR-L-750-50-水平",22,1.1000000000000001,1600]
[981,9806650,1600,-1,-1,"SSPDACR-L-750-50-水平",24,1,1600]
[982,8825984.9999999981,1600,-1,-1,"SSPDACR-L-750-50-水平",27,0.9,1600]
[983,7845320,1600,-1,-1,"SSPDACR-L-750-50-水平",30,0.8,1600]
[984,6864654.9999999991,1600,-1,-1,"SSPDACR-L-750-50-水平",34,0.7,1600]
[985,5883990,1600,-1,-1,"SSPDACR-L-750-50-水平",40,0.6,1600]
[986,4903325,1600,-1,-1,"SSPDACR-L-750-50-水平",48,0.5,1600]
[987,3922660,1600,-1,-1,"SSPDACR-L-750-50-水平",60,0.4,1600]
[988,11767980,1600,-1,-1,"SSPDACR-L-750-50-垂直",4,1.2,1600]
[989,9806650,1600,-1,-1,"SSPDACR-L-750-50-垂直",5,1,1600]
[990,7845320,1600,-1,-1,"SSPDACR-L-750-50-垂直",6,0.8,1600]
[991,6864654.9999999991,1600,-1,-1,"SSPDACR-L-750-50-垂直",7,0.7,1600]
[992,5883990,1600,-1,-1,"SSPDACR-L-750-50-垂直",8,0.6,1600]
[993,4903325,1600,-1,-1,"SSPDACR-L-750-50-垂直",10,0.5,1600]
[994,3922660,1600,-1,-1,"SSPDACR-L-750-50-垂直",12,0.4,1600]
[995,2941995,300,-1,-1,"RCS3-SA8C-100-5-水平",65,0.3,300]
[996,1961330,300,-1,-1,"RCS3-SA8C-100-5-水平",80,0.2,300]
[997,2941995,300,-1,-1,"RCS3-SA8C-100-5-垂直",12,0.3,300]
[{"$f":"A1000+1","v":998},1961330,300,-1,-1,"RCS3-SA8C-100-5-垂直",16,0.2,300]
[{"$f":"A1001+1","v":999},4903325,600,-1,-1,"RCS3-SA8C-100-10-水平",20,0.5,600]
[1000,3922660,600,-1,-1,"RCS3-SA8C-100-10-水平",28,0.4,600]
[1001,2941995,600,-1,-1,"RCS3-SA8C-100-10-水平",40,0.3,600]
[1002,4903325,600,-1,-1,"RCS3-SA8C-100-10-垂直",4,0.5,600]
[1003,{"$f":"H1006*$A$1*1000*1000","v":3922660},{"$f":"I1006","v":600},-1,-1,"RCS3-SA8C-100-10-垂直",5.5,0.4,600]
[1004,2941995,600,-1,-1,"RCS3-SA8C-100-10-垂直",8,0.3,600]
[1005,6864654.9999999991,1200,-1,-1,"RCS3-SA8C-100-20-水平",5,0.7,1200]
[1006,5883990,1200,-1,-1,"RCS3-SA8C-100-20-水平",7,0.6,1200]
[1007,4903325,1200,-1,-1,"RCS3-SA8C-100-20-水平",10,0.5,1200]
[1008,3922660,1200,-1,-1,"RCS3-SA8C-100-20-水平",14,0.4,1200]
[1009,2941995,1200,-1,-1,"RCS3-SA8C-100-20-水平",20,0.3,1200]
[1010,6864654.9999999991,1200,-1,-1,"RCS3-SA8C-100-20-垂直",1.5,0.7,1200]
[1011,5883990,1200,-1,-1,"RCS3-SA8C-100-20-垂直",1.75,0.6,1200]
[1012,4903325,1200,-1,-1,"RCS3-SA8C-100-20-垂直",2,0.5,1200]
[1013,3922660,1200,-1,-1,"RCS3-SA8C-100-20-垂直",3,0.4,1200]
[1014,2941995,1200,-1,-1,"RCS3-SA8C-100-20-垂直",4,0.3,1200]
[1015,9806650,1800,-1,-1,"RCS3-SA8C-100-30-水平",1,1,1800]
[1016,8825984.9999999981,1800,-1,-1,"RCS3-SA8C-100-30-水平",2,0.9,1800]
[1017,7845320,1800,-1,-1,"RCS3-SA8C-100-30-水平",3,0.8,1800]
[1018,6864654.9999999991,1800,-1,-1,"RCS3-SA8C-100-30-水平",4,0.7,1800]
[1019,5883990,1800,-1,-1,"RCS3-SA8C-100-30-水平",5,0.6,1800]
[1020,4903325,1800,-1,-1,"RCS3-SA8C-100-30-水平",6,0.5,1800]
[1021,3922660,1800,-1,-1,"RCS3-SA8C-100-30-水平",7,0.4,1800]
[1022,2941995,1800,-1,-1,"RCS3-SA8C-100-30-水平",8,0.3,1800]
[{"$f":"A1025+1","v":1023},6864654.9999999991,1800,-1,-1,"RCS3-SA8C-100-30-垂直",1,0.7,1800]
[1024,5883990,1800,-1,-1,"RCS3-SA8C-100-30-垂直",1.2,0.6,1800]
[1025,4903325,1800,-1,-1,"RCS3-SA8C-100-30-垂直",1.5,0.5,1800]
[1026,3922660,1800,-1,-1,"RCS3-SA8C-100-30-垂直",1.75,0.4,1800]
[1027,2941995,1800,-1,-1,"RCS3-SA8C-100-30-垂直",2,0.3,1800]
[1028,{"$f":"H1031*$A$1*1000*1000","v":4903325},{"$f":"I1031","v":600},-1,-1,"RCS3-SA8C-150-10-水平",30,0.5,600]
[1029,3922660,600,-1,-1,"RCS3-SA8C-150-10-水平",42,0.4,600]
[1030,2941995,600,-1,-1,"RCS3-SA8C-150-10-水平",60,0.3,600]
[1031,4903325,600,-1,-1,"RCS3-SA8C-150-10-垂直",6,0.5,600]
[1032,3922660,600,-1,-1,"RCS3-SA8C-150-10-垂直",8.5,0.4,600]
[1033,2941995,600,-1,-1,"RCS3-SA8C-150-10-垂直",12,0.3,600]
[1034,6864654.9999999991,1200,-1,-1,"RCS3-SA8C-150-20-水平",7.5,0.7,1200]
[1035,5883990,1200,-1,-1,"RCS3-SA8C-150-20-水平",11,0.6,1200]
[1036,4903325,1200,-1,-1,"RCS3-SA8C-150-20-水平",15,0.5,1200]
[1037,3922660,1200,-1,-1,"RCS3-SA8C-150-20-水平",21,0.4,1200]
[1038,2941995,1200,-1,-1,"RCS3-SA8C-150-20-水平",30,0.3,1200]
[1039,6864654.9999999991,1200,-1,-1,"RCS3-SA8C-150-20-垂直",2,0.7,1200]
[1040,5883990,1200,-1,-1,"RCS3-SA8C-150-20-垂直",2.4,0.6,1200]
[1041,4903325,1200,-1,-1,"RCS3-SA8C-150-20-垂直",3,0.5,1200]
[1042,3922660,1200,-1,-1,"RCS3-SA8C-150-20-垂直",4,0.4,1200]
[1043,2941995,1200,-1,-1,"RCS3-SA8C-150-20-垂直",6,0.3,1200]
[1044,{"$f":"H1047*$A$1*1000*1000","v":9806650},{"$f":"I1047","v":1800},-1,-1,"RCS3-SA8C-150-30-水平",2,1,1800]
[1045,8825984.9999999981,1800,-1,-1,"RCS3-SA8C-150-30-水平",3,0.9,1800]
[1046,7845320,1800,-1,-1,"RCS3-SA8C-150-30-水平",4.5,0.8,1800]
[1047,6864654.9999999991,1800,-1,-1,"RCS3-SA8C-150-30-水平",6,0.7,1800]
[1048,5883990,1800,-1,-1,"RCS3-SA8C-150-30-水平",8,0.6,1800]
[1049,4903325,1800,-1,-1,"RCS3-SA8C-150-30-水平",10,0.5,1800]
[1050,3922660,1800,-1,-1,"RCS3-SA8C-150-30-水平",11,0.4,1800]
[1051,2941995,1800,-1,-1,"RCS3-SA8C-150-30-水平",12,0.3,1800]
[1052,6864654.9999999991,1800,-1,-1,"RCS3-SA8C-150-30-垂直",1.5,0.7,1800]
[1053,5883990,1800,-1,-1,"RCS3-SA8C-150-30-垂直",1.75,0.6,1800]
[1054,4903325,1800,-1,-1,"RCS3-SA8C-150-30-垂直",2,0.5,1800]
[1055,3922660,1800,-1,-1,"RCS3-SA8C-150-30-垂直",2.5,0.4,1800]
[1056,2941995,1800,-1,-1,"RCS3-SA8C-150-30-垂直",3,0.3,1800]
[1057,2941995,300,-1,-1,"RCS3-SS8C-100-5-水平",65,0.3,300]
[1058,1961330,300,-1,-1,"RCS3-SS8C-100-5-水平",80,0.2,300]
[1059,2941995,300,-1,-1,"RCS3-SS8C-100-5-垂直",12,0.3,300]
[1060,1961330,300,-1,-1,"RCS3-SS8C-100-5-垂直",16,0.2,300]
[1061,4903325,600,-1,-1,"RCS3-SS8C-100-10-水平",20,0.5,600]
[1062,3922660,600,-1,-1,"RCS3-SS8C-100-10-水平",28,0.4,600]
[1063,2941995,600,-1,-1,"RCS3-SS8C-100-10-水平",40,0.3,600]
[1064,4903325,600,-1,-1,"RCS3-SS8C-100-10-垂直",4,0.5,600]
[1065,3922660,600,-1,-1,"RCS3-SS8C-100-10-垂直",5.5,0.4,600]
[1066,2941995,600,-1,-1,"RCS3-SS8C-100-10-垂直",8,0.3,600]
[1067,6864654.9999999991,1200,-1,-1,"RCS3-SS8C-100-20-水平",5,0.7,1200]
[1068,5883990,1200,-1,-1,"RCS3-SS8C-100-20-水平",7,0.6,1200]
[1069,4903325,1200,-1,-1,"RCS3-SS8C-100-20-水平",10,0.5,1200]
[1070,3922660,1200,-1,-1,"RCS3-SS8C-100-20-水平",14,0.4,1200]
[1071,2941995,1200,-1,-1,"RCS3-SS8C-100-20-水平",20,0.3,1200]
[1072,{"$f":"H1075*$A$1*1000*1000","v":6864654.9999999991},{"$f":"I1075","v":1200},-1,-1,"RCS3-SS8C-100-20-垂直",1.5,0.7,1200]
[1073,5883990,1200,-1,-1,"RCS3-SS8C-100-20-垂直",1.75,0.6,1200]
[1074,4903325,1200,-1,-1,"RCS3-SS8C-100-20-垂直",2,0.5,1200]
[1075,3922660,1200,-1,-1,"RCS3-SS8C-100-20-垂直",3,0.4,1200]
[1076,2941995,1200,-1,-1,"RCS3-SS8C-100-20-垂直",4,0.3,1200]
[1077,9806650,1800,-1,-1,"RCS3-SS8C-100-30-水平",1,1,1800]
[1078,8825984.9999999981,1800,-1,-1,"RCS3-SS8C-100-30-水平",2,0.9,1800]
[1079,7845320,1800,-1,-1,"RCS3-SS8C-100-30-水平",3,0.8,1800]
[1080,6864654.9999999991,1800,-1,-1,"RCS3-SS8C-100-30-水平",4,0.7,1800]
[1081,5883990,1800,-1,-1,"RCS3-SS8C-100-30-水平",5,0.6,1800]
[1082,4903325,1800,-1,-1,"RCS3-SS8C-100-30-水平",6,0.5,1800]
[1083,3922660,1800,-1,-1,"RCS3-SS8C-100-30-水平",7,0.4,1800]
[1084,2941995,1800,-1,-1,"RCS3-SS8C-100-30-水平",8,0.3,1800]
[1085,6864654.9999999991,1800,-1,-1,"RCS3-SS8C-100-30-垂直",1,0.7,1800]
[1086,5883990,1800,-1,-1,"RCS3-SS8C-100-30-垂直",1.2,0.6,1800]
[{"$f":"A1089+1","v":1087},4903325,1800,-1,-1,"RCS3-SS8C-100-30-垂直",1.5,0.5,1800]
[1088,3922660,1800,-1,-1,"RCS3-SS8C-100-30-垂直",1.75,0.4,1800]
[1089,2941995,1800,-1,-1,"RCS3-SS8C-100-30-垂直",2,0.3,1800]
[1090,4903325,600,-1,-1,"RCS3-SS8C-150-10-水平",30,0.5,600]
[1091,3922660,600,-1,-1,"RCS3-SS8C-150-10-水平",42,0.4,600]
[1092,2941995,600,-1,-1,"RCS3-SS8C-150-10-水平",60,0.3,600]
[1093,4903325,600,-1,-1,"RCS3-SS8C-150-10-垂直",6,0.5,600]
[1094,3922660,600,-1,-1,"RCS3-SS8C-150-10-垂直",8.5,0.4,600]
[1095,2941995,600,-1,-1,"RCS3-SS8C-150-10-垂直",12,0.3,600]
[1096,{"$f":"H1099*$A$1*1000*1000","v":6864654.9999999991},{"$f":"I1099","v":1200},-1,-1,"RCS3-SS8C-150-20-水平",7.5,0.7,1200]
[1097,5883990,1200,-1,-1,"RCS3-SS8C-150-20-水平",11,0.6,1200]
[1098,4903325,1200,-1,-1,"RCS3-SS8C-150-20-水平",15,0.5,1200]
[1099,3922660,1200,-1,-1,"RCS3-SS8C-150-20-水平",21,0.4,1200]
[1100,2941995,1200,-1,-1,"RCS3-SS8C-150-20-水平",30,0.3,1200]
[1101,6864654.9999999991,1200,-1,-1,"RCS3-SS8C-150-20-垂直",2,0.7,1200]
[1102,5883990,1200,-1,-1,"RCS3-SS8C-150-20-垂直",2.4,0.6,1200]
[1103,4903325,1200,-1,-1,"RCS3-SS8C-150-20-垂直",3,0.5,1200]
[1104,3922660,1200,-1,-1,"RCS3-SS8C-150-20-垂直",4,0.4,1200]
[1105,2941995,1200,-1,-1,"RCS3-SS8C-150-20-垂直",6,0.3,1200]
[1106,9806650,1800,-1,-1,"RCS3-SS8C-150-30-水平",2,1,1800]
[1107,8825984.9999999981,1800,-1,-1,"RCS3-SS8C-150-30-水平",3,0.9,1800]
[1108,7845320,1800,-1,-1,"RCS3-SS8C-150-30-水平",4.5,0.8,1800]
[1109,6864654.9999999991,1800,-1,-1,"RCS3-SS8C-150-30-水平",6,0.7,1800]
[1110,5883990,1800,-1,-1,"RCS3-SS8C-150-30-水平",8,0.6,1800]
[1111,4903325,1800,-1,-1,"RCS3-SS8C-150-30-水平",10,0.5,1800]
[1112,3922660,1800,-1,-1,"RCS3-SS8C-150-30-水平",11,0.4,1800]
[1113,2941995,1800,-1,-1,"RCS3-SS8C-150-30-水平",12,0.3,1800]
[1114,{"$f":"H1117*$A$1*1000*1000","v":6864654.9999999991},{"$f":"I1117","v":1800},-1,-1,"RCS3-SS8C-150-30-垂直",1.5,0.7,1800]
[1115,5883990,1800,-1,-1,"RCS3-SS8C-150-30-垂直",1.75,0.6,1800]
[1116,4903325,1800,-1,-1,"RCS3-SS8C-150-30-垂直",2,0.5,1800]
[1117,3922660,1800,-1,-1,"RCS3-SS8C-150-30-垂直",2.5,0.4,1800]
[1118,2941995,1800,-1,-1,"RCS3-SS8C-150-30-垂直",3,0.3,1800]
[1119,2941995,300,-1,-1,"RCS3CR-SA8C-100-5-水平",65,0.3,300]
[1120,1961330,300,-1,-1,"RCS3CR-SA8C-100-5-水平",80,0.2,300]
[1121,2941995,300,-1,-1,"RCS3CR-SA8C-100-5-垂直",12,0.3,300]
[1122,1961330,300,-1,-1,"RCS3CR-SA8C-100-5-垂直",16,0.2,300]
[1123,4903325,600,-1,-1,"RCS3CR-SA8C-100-10-水平",20,0.5,600]
[1124,3922660,600,-1,-1,"RCS3CR-SA8C-100-10-水平",28,0.4,600]
[1125,2941995,600,-1,-1,"RCS3CR-SA8C-100-10-水平",40,0.3,600]
[1126,4903325,600,-1,-1,"RCS3CR-SA8C-100-10-垂直",4,0.5,600]
[1127,3922660,600,-1,-1,"RCS3CR-SA8C-100-10-垂直",5.5,0.4,600]
[1128,2941995,600,-1,-1,"RCS3CR-SA8C-100-10-垂直",8,0.3,600]
[1129,6864654.9999999991,1200,-1,-1,"RCS3CR-SA8C-100-20-水平",5,0.7,1200]
[1130,5883990,1200,-1,-1,"RCS3CR-SA8C-100-20-水平",7,0.6,1200]
[1131,4903325,1200,-1,-1,"RCS3CR-SA8C-100-20-水平",10,0.5,1200]
[1132,3922660,1200,-1,-1,"RCS3CR-SA8C-100-20-水平",14,0.4,1200]
[1133,2941995,1200,-1,-1,"RCS3CR-SA8C-100-20-水平",20,0.3,1200]
[1134,6864654.9999999991,1200,-1,-1,"RCS3CR-SA8C-100-20-垂直",1.5,0.7,1200]
[1135,5883990,1200,-1,-1,"RCS3CR-SA8C-100-20-垂直",1.75,0.6,1200]
[1136,4903325,1200,-1,-1,"RCS3CR-SA8C-100-20-垂直",2,0.5,1200]
[1137,3922660,1200,-1,-1,"RCS3CR-SA8C-100-20-垂直",3,0.4,1200]
[1138,2941995,1200,-1,-1,"RCS3CR-SA8C-100-20-垂直",4,0.3,1200]
[1139,9806650,1800,-1,-1,"RCS3CR-SA8C-100-30-水平",1,1,1800]
[1140,8825984.9999999981,1800,-1,-1,"RCS3CR-SA8C-100-30-水平",2,0.9,1800]
[1141,7845320,1800,-1,-1,"RCS3CR-SA8C-100-30-水平",3,0.8,1800]
[1142,6864654.9999999991,1800,-1,-1,"RCS3CR-SA8C-100-30-水平",4,0.7,1800]
[1143,5883990,1800,-1,-1,"RCS3CR-SA8C-100-30-水平",5,0.6,1800]
[1144,4903325,1800,-1,-1,"RCS3CR-SA8C-100-30-水平",6,0.5,1800]
[1145,3922660,1800,-1,-1,"RCS3CR-SA8C-100-30-水平",7,0.4,1800]
[1146,2941995,1800,-1,-1,"RCS3CR-SA8C-100-30-水平",8,0.3,1800]
[1147,6864654.9999999991,1800,-1,-1,"RCS3CR-SA8C-100-30-垂直",1,0.7,1800]
[1148,5883990,1800,-1,-1,"RCS3CR-SA8C-100-30-垂直",1.2,0.6,1800]
[1149,4903325,1800,-1,-1,"RCS3CR-SA8C-100-30-垂直",1.5,0.5,1800]
[1150,3922660,1800,-1,-1,"RCS3CR-SA8C-100-30-垂直",1.75,0.4,1800]
[{"$f":"A1153+1","v":1151},2941995,1800,-1,-1,"RCS3CR-SA8C-100-30-垂直",2,0.3,1800]
[1152,4903325,600,-1,-1,"RCS3CR-SA8C-150-10-水平",30,0.5,600]
[1153,3922660,600,-1,-1,"RCS3CR-SA8C-150-10-水平",42,0.4,600]
[1154,2941995,600,-1,-1,"RCS3CR-SA8C-150-10-水平",60,0.3,600]
[1155,4903325,600,-1,-1,"RCS3CR-SA8C-150-10-垂直",6,0.5,600]
[1156,3922660,600,-1,-1,"RCS3CR-SA8C-150-10-垂直",8.5,0.4,600]
[1157,2941995,600,-1,-1,"RCS3CR-SA8C-150-10-垂直",12,0.3,600]
[1158,6864654.9999999991,1200,-1,-1,"RCS3CR-SA8C-150-20-水平",7.5,0.7,1200]
[1159,5883990,1200,-1,-1,"RCS3CR-SA8C-150-20-水平",11,0.6,1200]
[1160,4903325,1200,-1,-1,"RCS3CR-SA8C-150-20-水平",15,0.5,1200]
[1161,3922660,1200,-1,-1,"RCS3CR-SA8C-150-20-水平",21,0.4,1200]
[1162,2941995,1200,-1,-1,"RCS3CR-SA8C-150-20-水平",30,0.3,1200]
[1163,{"$f":"H1166*$A$1*1000*1000","v":6864654.9999999991},{"$f":"I1166","v":1200},-1,-1,"RCS3CR-SA8C-150-20-垂直",2,0.7,1200]
[1164,5883990,1200,-1,-1,"RCS3CR-SA8C-150-20-垂直",2.4,0.6,1200]
[1165,4903325,1200,-1,-1,"RCS3CR-SA8C-150-20-垂直",3,0.5,1200]
[1166,3922660,1200,-1,-1,"RCS3CR-SA8C-150-20-垂直",4,0.4,1200]
[1167,2941995,1200,-1,-1,"RCS3CR-SA8C-150-20-垂直",6,0.3,1200]
[1168,9806650,1800,-1,-1,"RCS3CR-SA8C-150-30-水平",2,1,1800]
[1169,8825984.9999999981,1800,-1,-1,"RCS3CR-SA8C-150-30-水平",3,0.9,1800]
[1170,7845320,1800,-1,-1,"RCS3CR-SA8C-150-30-水平",4.5,0.8,1800]
[1171,6864654.9999999991,1800,-1,-1,"RCS3CR-SA8C-150-30-水平",6,0.7,1800]
[1172,5883990,1800,-1,-1,"RCS3CR-SA8C-150-30-水平",8,0.6,1800]
[1173,4903325,1800,-1,-1,"RCS3CR-SA8C-150-30-水平",10,0.5,1800]
[1174,3922660,1800,-1,-1,"RCS3CR-SA8C-150-30-水平",11,0.4,1800]
[1175,2941995,1800,-1,-1,"RCS3CR-SA8C-150-30-水平",12,0.3,1800]
[1176,6864654.9999999991,1800,-1,-1,"RCS3CR-SA8C-150-30-垂直",1.5,0.7,1800]
[1177,5883990,1800,-1,-1,"RCS3CR-SA8C-150-30-垂直",1.75,0.6,1800]
[1178,4903325,1800,-1,-1,"RCS3CR-SA8C-150-30-垂直",2,0.5,1800]
[1179,3922660,1800,-1,-1,"RCS3CR-SA8C-150-30-垂直",2.5,0.4,1800]
[1180,2941995,1800,-1,-1,"RCS3CR-SA8C-150-30-垂直",3,0.3,1800]
[1181,2941995,300,-1,-1,"RCS3CR-SS8C-100-5-水平",65,0.3,300]
[1182,1961330,300,-1,-1,"RCS3CR-SS8C-100-5-水平",80,0.2,300]
[1183,2941995,300,-1,-1,"RCS3CR-SS8C-100-5-垂直",12,0.3,300]
[1184,1961330,300,-1,-1,"RCS3CR-SS8C-100-5-垂直",16,0.2,300]
[1185,4903325,600,-1,-1,"RCS3CR-SS8C-100-10-水平",20,0.5,600]
[1186,3922660,600,-1,-1,"RCS3CR-SS8C-100-10-水平",28,0.4,600]
[1187,2941995,600,-1,-1,"RCS3CR-SS8C-100-10-水平",40,0.3,600]
[1188,4903325,600,-1,-1,"RCS3CR-SS8C-100-10-垂直",4,0.5,600]
[1189,3922660,600,-1,-1,"RCS3CR-SS8C-100-10-垂直",5.5,0.4,600]
[1190,2941995,600,-1,-1,"RCS3CR-SS8C-100-10-垂直",8,0.3,600]
[1191,6864654.9999999991,1200,-1,-1,"RCS3CR-SS8C-100-20-水平",5,0.7,1200]
[1192,5883990,1200,-1,-1,"RCS3CR-SS8C-100-20-水平",7,0.6,1200]
[1193,4903325,1200,-1,-1,"RCS3CR-SS8C-100-20-水平",10,0.5,1200]
[1194,3922660,1200,-1,-1,"RCS3CR-SS8C-100-20-水平",14,0.4,1200]
[1195,2941995,1200,-1,-1,"RCS3CR-SS8C-100-20-水平",20,0.3,1200]
[1196,6864654.9999999991,1200,-1,-1,"RCS3CR-SS8C-100-20-垂直",1.5,0.7,1200]
[1197,5883990,1200,-1,-1,"RCS3CR-SS8C-100-20-垂直",1.75,0.6,1200]
[1198,4903325,1200,-1,-1,"RCS3CR-SS8C-100-20-垂直",2,0.5,1200]
[1199,3922660,1200,-1,-1,"RCS3CR-SS8C-100-20-垂直",3,0.4,1200]
[1200,2941995,1200,-1,-1,"RCS3CR-SS8C-100-20-垂直",4,0.3,1200]
[1201,9806650,1800,-1,-1,"RCS3CR-SS8C-100-30-水平",1,1,1800]
[1202,8825984.9999999981,1800,-1,-1,"RCS3CR-SS8C-100-30-水平",2,0.9,1800]
[1203,7845320,1800,-1,-1,"RCS3CR-SS8C-100-30-水平",3,0.8,1800]
[1204,6864654.9999999991,1800,-1,-1,"RCS3CR-SS8C-100-30-水平",4,0.7,1800]
[1205,5883990,1800,-1,-1,"RCS3CR-SS8C-100-30-水平",5,0.6,1800]
[1206,4903325,1800,-1,-1,"RCS3CR-SS8C-100-30-水平",6,0.5,1800]
[1207,3922660,1800,-1,-1,"RCS3CR-SS8C-100-30-水平",7,0.4,1800]
[1208,2941995,1800,-1,-1,"RCS3CR-SS8C-100-30-水平",8,0.3,1800]
[1209,6864654.9999999991,1800,-1,-1,"RCS3CR-SS8C-100-30-垂直",1,0.7,1800]
[1210,5883990,1800,-1,-1,"RCS3CR-SS8C-100-30-垂直",1.2,0.6,1800]
[1211,4903325,1800,-1,-1,"RCS3CR-SS8C-100-30-垂直",1.5,0.5,1800]
[1212,3922660,1800,-1,-1,"RCS3CR-SS8C-100-30-垂直",1.75,0.4,1800]
[1213,2941995,1800,-1,-1,"RCS3CR-SS8C-100-30-垂直",2,0.3,1800]
[1214,4903325,600,-1,-1,"RCS3CR-SS8C-150-10-水平",30,0.5,600]
[{"$f":"A1217+1","v":1215},3922660,600,-1,-1,"RCS3CR-SS8C-150-10-水平",42,0.4,600]
[1216,2941995,600,-1,-1,"RCS3CR-SS8C-150-10-水平",60,0.3,600]
[1217,{"$f":"H1220*$A$1*1000*1000","v":4903325},{"$f":"I1220","v":600},-1,-1,"RCS3CR-SS8C-150-10-垂直",6,0.5,600]
[1218,3922660,600,-1,-1,"RCS3CR-SS8C-150-10-垂直",8.5,0.4,600]
[1219,2941995,600,-1,-1,"RCS3CR-SS8C-150-10-垂直",12,0.3,600]
[1220,6864654.9999999991,1200,-1,-1,"RCS3CR-SS8C-150-20-水平",7.5,0.7,1200]
[1221,5883990,1200,-1,-1,"RCS3CR-SS8C-150-20-水平",11,0.6,1200]
[1222,4903325,1200,-1,-1,"RCS3CR-SS8C-150-20-水平",15,0.5,1200]
[1223,3922660,1200,-1,-1,"RCS3CR-SS8C-150-20-水平",21,0.4,1200]
[1224,2941995,1200,-1,-1,"RCS3CR-SS8C-150-20-水平",30,0.3,1200]
[1225,6864654.9999999991,1200,-1,-1,"RCS3CR-SS8C-150-20-垂直",2,0.7,1200]
[1226,5883990,1200,-1,-1,"RCS3CR-SS8C-150-20-垂直",2.4,0.6,1200]
[1227,4903325,1200,-1,-1,"RCS3CR-SS8C-150-20-垂直",3,0.5,1200]
[1228,3922660,1200,-1,-1,"RCS3CR-SS8C-150-20-垂直",4,0.4,1200]
[1229,2941995,1200,-1,-1,"RCS3CR-SS8C-150-20-垂直",6,0.3,1200]
[1230,9806650,1800,-1,-1,"RCS3CR-SS8C-150-30-水平",2,1,1800]
[1231,8825984.9999999981,1800,-1,-1,"RCS3CR-SS8C-150-30-水平",3,0.9,1800]
[1232,7845320,1800,-1,-1,"RCS3CR-SS8C-150-30-水平",4.5,0.8,1800]
[1233,6864654.9999999991,1800,-1,-1,"RCS3CR-SS8C-150-30-水平",6,0.7,1800]
[1234,5883990,1800,-1,-1,"RCS3CR-SS8C-150-30-水平",8,0.6,1800]
[1235,4903325,1800,-1,-1,"RCS3CR-SS8C-150-30-水平",10,0.5,1800]
[1236,3922660,1800,-1,-1,"RCS3CR-SS8C-150-30-水平",11,0.4,1800]
[1237,2941995,1800,-1,-1,"RCS3CR-SS8C-150-30-水平",12,0.3,1800]
[1238,6864654.9999999991,1800,-1,-1,"RCS3CR-SS8C-150-30-垂直",1.5,0.7,1800]
[1239,5883990,1800,-1,-1,"RCS3CR-SS8C-150-30-垂直",1.75,0.6,1800]
[1240,4903325,1800,-1,-1,"RCS3CR-SS8C-150-30-垂直",2,0.5,1800]
[1241,3922660,1800,-1,-1,"RCS3CR-SS8C-150-30-垂直",2.5,0.4,1800]
[1242,2941995,1800,-1,-1,"RCS3CR-SS8C-150-30-垂直",3,0.3,1800]
[1243,2941995,300,-1,-1,"RCS3-SA8R-100-5-水平",65,0.3,300]
[1244,1961330,300,-1,-1,"RCS3-SA8R-100-5-水平",80,0.2,300]
[1245,2941995,300,-1,-1,"RCS3-SA8R-100-5-垂直",12,0.3,300]
[1246,1961330,300,-1,-1,"RCS3-SA8R-100-5-垂直",16,0.2,300]
[1247,4903325,600,-1,-1,"RCS3-SA8R-100-10-水平",20,0.5,600]
[1248,3922660,600,-1,-1,"RCS3-SA8R-100-10-水平",28,0.4,600]
[1249,2941995,600,-1,-1,"RCS3-SA8R-100-10-水平",40,0.3,600]
[1250,4903325,600,-1,-1,"RCS3-SA8R-100-10-垂直",4,0.5,600]
[1251,3922660,600,-1,-1,"RCS3-SA8R-100-10-垂直",5.5,0.4,600]
[1252,2941995,600,-1,-1,"RCS3-SA8R-100-10-垂直",8,0.3,600]
[1253,6864654.9999999991,1200,-1,-1,"RCS3-SA8R-100-20-水平",5,0.7,1200]
[1254,5883990,1200,-1,-1,"RCS3-SA8R-100-20-水平",7,0.6,1200]
[1255,4903325,1200,-1,-1,"RCS3-SA8R-100-20-水平",10,0.5,1200]
[1256,3922660,1200,-1,-1,"RCS3-SA8R-100-20-水平",14,0.4,1200]
[1257,2941995,1200,-1,-1,"RCS3-SA8R-100-20-水平",20,0.3,1200]
[1258,6864654.9999999991,1200,-1,-1,"RCS3-SA8R-100-20-垂直",1.5,0.7,1200]
[1259,5883990,1200,-1,-1,"RCS3-SA8R-100-20-垂直",1.75,0.6,1200]
[1260,4903325,1200,-1,-1,"RCS3-SA8R-100-20-垂直",2,0.5,1200]
[1261,{"$f":"H1264*$A$1*1000*1000","v":3922660},{"$f":"I1264","v":1200},-1,-1,"RCS3-SA8R-100-20-垂直",3,0.4,1200]
[1262,2941995,1200,-1,-1,"RCS3-SA8R-100-20-垂直",4,0.3,1200]
[1263,9806650,1800,-1,-1,"RCS3-SA8R-100-30-水平",1,1,1800]
[1264,8825984.9999999981,1800,-1,-1,"RCS3-SA8R-100-30-水平",2,0.9,1800]
[1265,7845320,1800,-1,-1,"RCS3-SA8R-100-30-水平",3,0.8,1800]
[1266,6864654.9999999991,1800,-1,-1,"RCS3-SA8R-100-30-水平",4,0.7,1800]
[1267,5883990,1800,-1,-1,"RCS3-SA8R-100-30-水平",5,0.6,1800]
[1268,4903325,1800,-1,-1,"RCS3-SA8R-100-30-水平",6,0.5,1800]
[1269,3922660,1800,-1,-1,"RCS3-SA8R-100-30-水平",7,0.4,1800]
[1270,2941995,1800,-1,-1,"RCS3-SA8R-100-30-水平",8,0.3,1800]
[1271,6864654.9999999991,1800,-1,-1,"RCS3-SA8R-100-30-垂直",1,0.7,1800]
[1272,5883990,1800,-1,-1,"RCS3-SA8R-100-30-垂直",1.2,0.6,1800]
[1273,4903325,1800,-1,-1,"RCS3-SA8R-100-30-垂直",1.5,0.5,1800]
[1274,3922660,1800,-1,-1,"RCS3-SA8R-100-30-垂直",1.75,0.4,1800]
[1275,2941995,1800,-1,-1,"RCS3-SA8R-100-30-垂直",2,0.3,1800]
[1276,4903325,600,-1,-1,"RCS3-SA8R-150-10-水平",30,0.5,600]
[1277,3922660,600,-1,-1,"RCS3-SA8R-150-10-水平",42,0.4,600]
[1278,2941995,600,-1,-1,"RCS3-SA8R-150-10-水平",60,0.3,600]
[{"$f":"A1281+1","v":1279},4903325,600,-1,-1,"RCS3-SA8R-150-10-垂直",6,0.5,600]
[1280,3922660,600,-1,-1,"RCS3-SA8R-150-10-垂直",8.5,0.4,600]
[1281,2941995,600,-1,-1,"RCS3-SA8R-150-10-垂直",12,0.3,600]
[1282,6864654.9999999991,1200,-1,-1,"RCS3-SA8R-150-20-水平",7.5,0.7,1200]
[1283,5883990,1200,-1,-1,"RCS3-SA8R-150-20-水平",11,0.6,1200]
[1284,4903325,1200,-1,-1,"RCS3-SA8R-150-20-水平",15,0.5,1200]
[1285,3922660,1200,-1,-1,"RCS3-SA8R-150-20-水平",21,0.4,1200]
[1286,2941995,1200,-1,-1,"RCS3-SA8R-150-20-水平",30,0.3,1200]
[1287,6864654.9999999991,1200,-1,-1,"RCS3-SA8R-150-20-垂直",2,0.7,1200]
[1288,5883990,1200,-1,-1,"RCS3-SA8R-150-20-垂直",2.4,0.6,1200]
[1289,4903325,1200,-1,-1,"RCS3-SA8R-150-20-垂直",3,0.5,1200]
[1290,3922660,1200,-1,-1,"RCS3-SA8R-150-20-垂直",4,0.4,1200]
[1291,2941995,1200,-1,-1,"RCS3-SA8R-150-20-垂直",6,0.3,1200]
[1292,9806650,1800,-1,-1,"RCS3-SA8R-150-30-水平",2,1,1800]
[1293,8825984.9999999981,1800,-1,-1,"RCS3-SA8R-150-30-水平",3,0.9,1800]
[1294,7845320,1800,-1,-1,"RCS3-SA8R-150-30-水平",4.5,0.8,1800]
[1295,6864654.9999999991,1800,-1,-1,"RCS3-SA8R-150-30-水平",6,0.7,1800]
[1296,5883990,1800,-1,-1,"RCS3-SA8R-150-30-水平",8,0.6,1800]
[1297,4903325,1800,-1,-1,"RCS3-SA8R-150-30-水平",10,0.5,1800]
[1298,3922660,1800,-1,-1,"RCS3-SA8R-150-30-水平",11,0.4,1800]
[1299,2941995,1800,-1,-1,"RCS3-SA8R-150-30-水平",12,0.3,1800]
[1300,{"$f":"H1303*$A$1*1000*1000","v":6864654.9999999991},{"$f":"I1303","v":1800},-1,-1,"RCS3-SA8R-150-30-垂直",1.5,0.7,1800]
[1301,5883990,1800,-1,-1,"RCS3-SA8R-150-30-垂直",1.75,0.6,1800]
[1302,4903325,1800,-1,-1,"RCS3-SA8R-150-30-垂直",2,0.5,1800]
[1303,3922660,1800,-1,-1,"RCS3-SA8R-150-30-垂直",2.5,0.4,1800]
[1304,2941995,1800,-1,-1,"RCS3-SA8R-150-30-垂直",3,0.3,1800]
[1305,2941995,300,-1,-1,"RCS3-SS8R-100-5-水平",65,0.3,300]
[1306,1961330,300,-1,-1,"RCS3-SS8R-100-5-水平",80,0.2,300]
[1307,2941995,300,-1,-1,"RCS3-SS8R-100-5-垂直",12,0.3,300]
[1308,1961330,300,-1,-1,"RCS3-SS8R-100-5-垂直",16,0.2,300]
[1309,4903325,600,-1,-1,"RCS3-SS8R-100-10-水平",20,0.5,600]
[1310,3922660,600,-1,-1,"RCS3-SS8R-100-10-水平",28,0.4,600]
[1311,2941995,600,-1,-1,"RCS3-SS8R-100-10-水平",40,0.3,600]
[1312,4903325,600,-1,-1,"RCS3-SS8R-100-10-垂直",4,0.5,600]
[1313,3922660,600,-1,-1,"RCS3-SS8R-100-10-垂直",5.5,0.4,600]
[1314,2941995,600,-1,-1,"RCS3-SS8R-100-10-垂直",8,0.3,600]
[1315,6864654.9999999991,1200,-1,-1,"RCS3-SS8R-100-20-水平",5,0.7,1200]
[1316,5883990,1200,-1,-1,"RCS3-SS8R-100-20-水平",7,0.6,1200]
[1317,4903325,1200,-1,-1,"RCS3-SS8R-100-20-水平",10,0.5,1200]
[1318,3922660,1200,-1,-1,"RCS3-SS8R-100-20-水平",14,0.4,1200]
[1319,2941995,1200,-1,-1,"RCS3-SS8R-100-20-水平",20,0.3,1200]
[1320,6864654.9999999991,1200,-1,-1,"RCS3-SS8R-100-20-垂直",1.5,0.7,1200]
[1321,5883990,1200,-1,-1,"RCS3-SS8R-100-20-垂直",1.75,0.6,1200]
[1322,4903325,1200,-1,-1,"RCS3-SS8R-100-20-垂直",2,0.5,1200]
[1323,3922660,1200,-1,-1,"RCS3-SS8R-100-20-垂直",3,0.4,1200]
[1324,2941995,1200,-1,-1,"RCS3-SS8R-100-20-垂直",4,0.3,1200]
[1325,9806650,1800,-1,-1,"RCS3-SS8R-100-30-水平",1,1,1800]
[1326,8825984.9999999981,1800,-1,-1,"RCS3-SS8R-100-30-水平",2,0.9,1800]
[1327,7845320,1800,-1,-1,"RCS3-SS8R-100-30-水平",3,0.8,1800]
[1328,6864654.9999999991,1800,-1,-1,"RCS3-SS8R-100-30-水平",4,0.7,1800]
[1329,5883990,1800,-1,-1,"RCS3-SS8R-100-30-水平",5,0.6,1800]
[1330,4903325,1800,-1,-1,"RCS3-SS8R-100-30-水平",6,0.5,1800]
[1331,3922660,1800,-1,-1,"RCS3-SS8R-100-30-水平",7,0.4,1800]
[1332,2941995,1800,-1,-1,"RCS3-SS8R-100-30-水平",8,0.3,1800]
[1333,{"$f":"H1336*$A$1*1000*1000","v":6864654.9999999991},{"$f":"I1336","v":1800},-1,-1,"RCS3-SS8R-100-30-垂直",1,0.7,1800]
[1334,5883990,1800,-1,-1,"RCS3-SS8R-100-30-垂直",1.2,0.6,1800]
[1335,4903325,1800,-1,-1,"RCS3-SS8R-100-30-垂直",1.5,0.5,1800]
[1336,3922660,1800,-1,-1,"RCS3-SS8R-100-30-垂直",1.75,0.4,1800]
[1337,2941995,1800,-1,-1,"RCS3-SS8R-100-30-垂直",2,0.3,1800]
[1338,4903325,600,-1,-1,"RCS3-SS8R-150-10-水平",30,0.5,600]
[1339,3922660,600,-1,-1,"RCS3-SS8R-150-10-水平",42,0.4,600]
[1340,2941995,600,-1,-1,"RCS3-SS8R-150-10-水平",60,0.3,600]
[1341,4903325,600,-1,-1,"RCS3-SS8R-150-10-垂直",6,0.5,600]
[1342,3922660,600,-1,-1,"RCS3-SS8R-150-10-垂直",8.5,0.4,600]
[{"$f":"A1345+1","v":1343},2941995,600,-1,-1,"RCS3-SS8R-150-10-垂直",12,0.3,600]
[1344,6864654.9999999991,1200,-1,-1,"RCS3-SS8R-150-20-水平",7.5,0.7,1200]
[1345,5883990,1200,-1,-1,"RCS3-SS8R-150-20-水平",11,0.6,1200]
[1346,4903325,1200,-1,-1,"RCS3-SS8R-150-20-水平",15,0.5,1200]
[1347,3922660,1200,-1,-1,"RCS3-SS8R-150-20-水平",21,0.4,1200]
[1348,2941995,1200,-1,-1,"RCS3-SS8R-150-20-水平",30,0.3,1200]
[1349,6864654.9999999991,1200,-1,-1,"RCS3-SS8R-150-20-垂直",2,0.7,1200]
[1350,5883990,1200,-1,-1,"RCS3-SS8R-150-20-垂直",2.4,0.6,1200]
[1351,4903325,1200,-1,-1,"RCS3-SS8R-150-20-垂直",3,0.5,1200]
[1352,3922660,1200,-1,-1,"RCS3-SS8R-150-20-垂直",4,0.4,1200]
[1353,2941995,1200,-1,-1,"RCS3-SS8R-150-20-垂直",6,0.3,1200]
[1354,9806650,1800,-1,-1,"RCS3-SS8R-150-30-水平",2,1,1800]
[1355,8825984.9999999981,1800,-1,-1,"RCS3-SS8R-150-30-水平",3,0.9,1800]
[1356,7845320,1800,-1,-1,"RCS3-SS8R-150-30-水平",4.5,0.8,1800]
[1357,6864654.9999999991,1800,-1,-1,"RCS3-SS8R-150-30-水平",6,0.7,1800]
[1358,5883990,1800,-1,-1,"RCS3-SS8R-150-30-水平",8,0.6,1800]
[1359,4903325,1800,-1,-1,"RCS3-SS8R-150-30-水平",10,0.5,1800]
[1360,3922660,1800,-1,-1,"RCS3-SS8R-150-30-水平",11,0.4,1800]
[1361,2941995,1800,-1,-1,"RCS3-SS8R-150-30-水平",12,0.3,1800]
[1362,6864654.9999999991,1800,-1,-1,"RCS3-SS8R-150-30-垂直",1.5,0.7,1800]
[1363,5883990,1800,-1,-1,"RCS3-SS8R-150-30-垂直",1.75,0.6,1800]
[1364,4903325,1800,-1,-1,"RCS3-SS8R-150-30-垂直",2,0.5,1800]
[1365,3922660,1800,-1,-1,"RCS3-SS8R-150-30-垂直",2.5,0.4,1800]
[1366,2941995,1800,-1,-1,"RCS3-SS8R-150-30-垂直",3,0.3,1800]
[1367,1961330,165,-1,-1,"RCS2-SA4C-20-2.5-水平",8,0.2,165]
[1368,1961330,165,-1,-1,"RCS2-SA4C-20-2.5-垂直",4.5,0.2,165]
[1369,{"$f":"H1372*$A$1*1000*1000","v":2941995},{"$f":"I1372","v":330},-1,-1,"RCS2-SA4C-20-5-水平",6,0.3,330]
[1370,{"$f":"H1373*$A$1*1000*1000","v":2941995},{"$f":"I1373","v":330},-1,-1,"RCS2-SA4C-20-5-垂直",2.5,0.3,330]
[1371,{"$f":"H1374*$A$1*1000*1000","v":2941995},{"$f":"I1374","v":665},-1,-1,"RCS2-SA4C-20-10-水平",4,0.3,665]
[1372,{"$f":"H1375*$A$1*1000*1000","v":2941995},{"$f":"I1375","v":665},-1,-1,"RCS2-SA4C-20-10-垂直",1,0.3,665]
[1373,{"$f":"H1376*$A$1*1000*1000","v":2941995},{"$f":"I1376","v":1060},-1,-1,"RCS2-SA4C-20-16-水平",2.5,0.3,1060]
[1374,2941995,1060,-1,-1,"RCS2-SA4C-20-16-垂直",0.6,0.3,1060]
[1375,1961330,200,-1,-1,"RCS2-SA5C-20-3-水平",12,0.2,200]
[1376,1961330,200,-1,-1,"RCS2-SA5C-20-3-垂直",4,0.2,200]
[1377,2941995,400,-1,-1,"RCS2-SA5C-20-6-水平",8,0.3,400]
[1378,2941995,400,-1,-1,"RCS2-SA5C-20-6-垂直",2,0.3,400]
[1379,2941995,800,-1,-1,"RCS2-SA5C-20-12-水平",4,0.3,800]
[1380,2941995,800,-1,-1,"RCS2-SA5C-20-12-垂直",1,0.3,800]
[1381,{"$f":"H1384*$A$1*1000*1000","v":2941995},{"$f":"I1384","v":1300},-1,-1,"RCS2-SA5C-20-20-水平",2,0.3,1300]
[1382,2941995,1300,-1,-1,"RCS2-SA5C-20-20-垂直",0.5,0.3,1300]
[1383,1961330,200,-1,-1,"RCS2-SA6C-30-3-水平",18,0.2,200]
[1384,1961330,200,-1,-1,"RCS2-SA6C-30-3-垂直",6,0.2,200]
[1385,2941995,400,-1,-1,"RCS2-SA6C-30-6-水平",12,0.3,400]
[1386,2941995,400,-1,-1,"RCS2-SA6C-30-6-垂直",3,0.3,400]
[1387,2941995,800,-1,-1,"RCS2-SA6C-30-12-水平",6,0.3,800]
[1388,{"$f":"H1391*$A$1*1000*1000","v":2941995},{"$f":"I1391","v":800},-1,-1,"RCS2-SA6C-30-12-垂直",1.5,0.3,800]
[1389,2941995,1300,-1,-1,"RCS2-SA6C-30-20-水平",3,0.3,1300]
[1390,2941995,1300,-1,-1,"RCS2-SA6C-30-20-垂直",0.5,0.3,1300]
[1391,1961330,200,-1,-1,"RCS2-SA7C-60-4-水平",40,0.2,200]
[1392,1961330,200,-1,-1,"RCS2-SA7C-60-4-垂直",12,0.2,200]
[1393,2941995,400,-1,-1,"RCS2-SA7C-60-8-水平",25,0.3,400]
[1394,2941995,400,-1,-1,"RCS2-SA7C-60-8-垂直",6,0.3,400]
[1395,{"$f":"H1398*$A$1*1000*1000","v":2941995},{"$f":"I1398","v":800},-1,-1,"RCS2-SA7C-60-16-水平",12,0.3,800]
[1396,2941995,800,-1,-1,"RCS2-SA7C-60-16-垂直",3,0.3,800]
[1397,2941995,1200,-1,-1,"RCS2-SA7C-60-24-水平",8,0.3,1200]
[1398,2941995,1200,-1,-1,"RCS2-SA7C-60-24-垂直",1.4,0.3,1200]
[1399,2941995,300,-1,-1,"RCS2-SS7C-60-6-水平",30,0.3,300]
[1400,2941995,300,-1,-1,"RCS2-SS7C-60-6-垂直",8,0.3,300]
[1401,2941995,600,-1,-1,"RCS2-SS7C-60-12-水平",15,0.3,600]
[1402,2941995,600,-1,-1,"RCS2-SS7C-60-12-垂直",4,0.3,600]
[1403,2941995,1000,-1,-1,"RCS2-SS7C-60-20-水平",9,0.3,1000]
[1404,{"$f":"H1407*$A$1*1000*1000","v":2941995},{"$f":"I1407","v":1000},-1,-1,"RCS2-SS7C-60-20-垂直",2.4,0.3,1000]
[1405,1961330,165,-1,-1,"RCS2CR-SA4C-20-2.5-水平",8,0.2,165]
[1406,1961330,165,-1,-1,"RCS2CR-SA4C-20-2.5-垂直",4.5,0.2,165]
[{"$f":"A1409+1","v":1407},2941995,330,-1,-1,"RCS2CR-SA4C-20-5-水平",6,0.3,330]
[1408,2941995,330,-1,-1,"RCS2CR-SA4C-20-5-垂直",2.5,0.3,330]
[1409,2941995,665,-1,-1,"RCS2CR-SA4C-20-10-水平",4,0.3,665]
[1410,2941995,665,-1,-1,"RCS2CR-SA4C-20-10-垂直",1,0.3,665]
[1411,2941995,1060,-1,-1,"RCS2CR-SA4C-20-16-水平",2.5,0.3,1060]
[1412,2941995,1060,-1,-1,"RCS2CR-SA4C-20-16-垂直",0.6,0.3,1060]
[1413,1961330,200,-1,-1,"RCS2CR-SA5C-20-3-水平",12,0.2,200]
[1414,1961330,200,-1,-1,"RCS2CR-SA5C-20-3-垂直",4,0.2,200]
[1415,2941995,400,-1,-1,"RCS2CR-SA5C-20-6-水平",8,0.3,400]
[1416,2941995,400,-1,-1,"RCS2CR-SA5C-20-6-垂直",2,0.3,400]
[1417,2941995,800,-1,-1,"RCS2CR-SA5C-20-12-水平",4,0.3,800]
[1418,2941995,800,-1,-1,"RCS2CR-SA5C-20-12-垂直",1,0.3,800]
[1419,2941995,1300,-1,-1,"RCS2CR-SA5C-20-20-水平",2,0.3,1300]
[1420,2941995,1300,-1,-1,"RCS2CR-SA5C-20-20-垂直",0.5,0.3,1300]
[1421,1961330,200,-1,-1,"RCS2CR-SA6C-30-3-水平",18,0.2,200]
[1422,1961330,200,-1,-1,"RCS2CR-SA6C-30-3-垂直",6,0.2,200]
[1423,2941995,400,-1,-1,"RCS2CR-SA6C-30-6-水平",12,0.3,400]
[1424,2941995,400,-1,-1,"RCS2CR-SA6C-30-6-垂直",3,0.3,400]
[1425,2941995,800,-1,-1,"RCS2CR-SA6C-30-12-水平",6,0.3,800]
[1426,2941995,800,-1,-1,"RCS2CR-SA6C-30-12-垂直",1.5,0.3,800]
[1427,2941995,1300,-1,-1,"RCS2CR-SA6C-30-20-水平",3,0.3,1300]
[1428,2941995,1300,-1,-1,"RCS2CR-SA6C-30-20-垂直",0.5,0.3,1300]
[1429,1961330,200,-1,-1,"RCS2CR-SA7C-60-4-水平",40,0.2,200]
[1430,1961330,200,-1,-1,"RCS2CR-SA7C-60-4-垂直",12,0.2,200]
[1431,2941995,400,-1,-1,"RCS2CR-SA7C-60-8-水平",25,0.3,400]
[1432,2941995,400,-1,-1,"RCS2CR-SA7C-60-8-垂直",6,0.3,400]
[1433,2941995,800,-1,-1,"RCS2CR-SA7C-60-16-水平",12,0.3,800]
[1434,{"$f":"H1437*$A$1*1000*1000","v":2941995},{"$f":"I1437","v":800},-1,-1,"RCS2CR-SA7C-60-16-垂直",3,0.3,800]
[1435,2941995,1200,-1,-1,"RCS2CR-SA7C-60-24-水平",8,0.3,1200]
[1436,2941995,1200,-1,-1,"RCS2CR-SA7C-60-24-垂直",1.4,0.3,1200]
[1437,2941995,300,-1,-1,"RCS2CR-SS7C-60-6-水平",30,0.3,300]
[1438,2941995,300,-1,-1,"RCS2CR-SS7C-60-6-垂直",8,0.3,300]
[1439,2941995,600,-1,-1,"RCS2CR-SS7C-60-12-水平",15,0.3,600]
[1440,2941995,600,-1,-1,"RCS2CR-SS7C-60-12-垂直",4,0.3,600]
[1441,2941995,1000,-1,-1,"RCS2CR-SS7C-60-20-水平",9,0.3,1000]
[1442,2941995,1000,-1,-1,"RCS2CR-SS7C-60-20-垂直",2.4,0.3,1000]
[1443,1961330,165,-1,-1,"RCS2-SA4D-20-2.5-水平",8,0.2,165]
[1444,1961330,165,-1,-1,"RCS2-SA4D-20-2.5-垂直",4.5,0.2,165]
[1445,2941995,330,-1,-1,"RCS2-SA4D-20-5-水平",6,0.3,330]
[1446,2941995,330,-1,-1,"RCS2-SA4D-20-5-垂直",2.5,0.3,330]
[1447,2941995,665,-1,-1,"RCS2-SA4D-20-10-水平",4,0.3,665]
[1448,2941995,665,-1,-1,"RCS2-SA4D-20-10-垂直",1,0.3,665]
[1449,1961330,200,-1,-1,"RCS2-SA5D-20-3-水平",12,0.2,200]
[1450,1961330,200,-1,-1,"RCS2-SA5D-20-3-垂直",4,0.2,200]
[1451,2941995,400,-1,-1,"RCS2-SA5D-20-6-水平",8,0.3,400]
[1452,2941995,400,-1,-1,"RCS2-SA5D-20-6-垂直",2,0.3,400]
[1453,2941995,800,-1,-1,"RCS2-SA5D-20-12-水平",4,0.3,800]
[1454,2941995,800,-1,-1,"RCS2-SA5D-20-12-垂直",1,0.3,800]
[1455,1961330,200,-1,-1,"RCS2-SA6D-30-3-水平",18,0.2,200]
[1456,1961330,200,-1,-1,"RCS2-SA6D-30-3-垂直",6,0.2,200]
[1457,2941995,400,-1,-1,"RCS2-SA6D-30-6-水平",12,0.3,400]
[1458,2941995,400,-1,-1,"RCS2-SA6D-30-6-垂直",3,0.3,400]
[1459,2941995,800,-1,-1,"RCS2-SA6D-30-12-水平",6,0.3,800]
[1460,2941995,800,-1,-1,"RCS2-SA6D-30-12-垂直",1.5,0.3,800]
[1461,1961330,200,-1,-1,"RCS2CR-SA5D-20-3-水平",12,0.2,200]
[1462,1961330,200,-1,-1,"RCS2CR-SA5D-20-3-垂直",4,0.2,200]
[1463,2941995,400,-1,-1,"RCS2CR-SA5D-20-6-水平",8,0.3,400]
[1464,2941995,400,-1,-1,"RCS2CR-SA5D-20-6-垂直",2,0.3,400]
[1465,2941995,800,-1,-1,"RCS2CR-SA5D-20-12-水平",4,0.3,800]
[1466,2941995,800,-1,-1,"RCS2CR-SA5D-20-12-垂直",1,0.3,800]
[1467,1961330,200,-1,-1,"RCS2CR-SA6D-30-3-水平",18,0.2,200]
[1468,1961330,200,-1,-1,"RCS2CR-SA6D-30-3-垂直",6,0.2,200]
[1469,2941995,400,-1,-1,"RCS2CR-SA6D-30-6-水平",12,0.3,400]
[1470,2941995,400,-1,-1,"RCS2CR-SA6D-30-6-垂直",3,0.3,400]
[{"$f":"A1473+1","v":1471},2941995,800,-1,-1,"RCS2CR-SA6D-30-12-水平",6,0.3,800]
[1472,2941995,800,-1,-1,"RCS2CR-SA6D-30-12-垂直",1.5,0.3,800]
[1473,1961330,165,-1,-1,"RCS2-SA4R-20-2.5-水平",8,0.2,165]
[1474,1961330,165,-1,-1,"RCS2-SA4R-20-2.5-垂直",4.5,0.2,165]
[1475,2941995,330,-1,-1,"RCS2-SA4R-20-5-水平",6,0.3,330]
[1476,2941995,330,-1,-1,"RCS2-SA4R-20-5-垂直",2.5,0.3,330]
[1477,{"$f":"H1480*$A$1*1000*1000","v":2941995},{"$f":"I1480","v":665},-1,-1,"RCS2-SA4R-20-10-水平",4,0.3,665]
[1478,2941995,665,-1,-1,"RCS2-SA4R-20-10-垂直",1,0.3,665]
[1479,1961330,200,-1,-1,"RCS2-SA5R-20-3-水平",12,0.2,200]
[1480,1961330,200,-1,-1,"RCS2-SA5R-20-3-垂直",4,0.2,200]
[1481,2941995,400,-1,-1,"RCS2-SA5R-20-6-水平",8,0.3,400]
[1482,2941995,400,-1,-1,"RCS2-SA5R-20-6-垂直",2,0.3,400]
[1483,2941995,800,-1,-1,"RCS2-SA5R-20-12-水平",4,0.3,800]
[1484,2941995,800,-1,-1,"RCS2-SA5R-20-12-垂直",1,0.3,800]
[1485,1961330,200,-1,-1,"RCS2-SA6R-30-3-水平",18,0.2,200]
[1486,1961330,200,-1,-1,"RCS2-SA6R-30-3-垂直",6,0.2,200]
[1487,2941995,400,-1,-1,"RCS2-SA6R-30-6-水平",12,0.3,400]
[1488,2941995,400,-1,-1,"RCS2-SA6R-30-6-垂直",3,0.3,400]
[1489,2941995,800,-1,-1,"RCS2-SA6R-30-12-水平",6,0.3,800]
[1490,{"$f":"H1493*$A$1*1000*1000","v":2941995},{"$f":"I1493","v":800},-1,-1,"RCS2-SA6R-30-12-垂直",1.5,0.3,800]
[1491,1961330,200,-1,-1,"RCS2-SA7R-60-4-水平",40,0.2,200]
[1492,1961330,200,-1,-1,"RCS2-SA7R-60-4-垂直",12,0.2,200]
[1493,2941995,400,-1,-1,"RCS2-SA7R-60-8-水平",25,0.3,400]
[1494,2941995,400,-1,-1,"RCS2-SA7R-60-8-垂直",6,0.3,400]
[1495,2941995,800,-1,-1,"RCS2-SA7R-60-16-水平",12,0.3,800]
[1496,2941995,800,-1,-1,"RCS2-SA7R-60-16-垂直",3,0.3,800]
[1497,2941995,300,-1,-1,"RCS2-SS7R-60-6-水平",30,0.3,300]
[1498,2941995,300,-1,-1,"RCS2-SS7R-60-6-垂直",8,0.3,300]
[1499,2941995,600,-1,-1,"RCS2-SS7R-60-12-水平",15,0.3,600]
[1500,2941995,600,-1,-1,"RCS2-SS7R-60-12-垂直",4,0.3,600]
[1501,1961330,150,-1,-1,"RCS2-RA4C-20-3-水平",12,0.2,150]
[1502,{"$f":"H1505*$A$1*1000*1000","v":1961330},{"$f":"I1505","v":150},-1,-1,"RCS2-RA4C-20-3-垂直",4,0.2,150]
[1503,2941995,300,-1,-1,"RCS2-RA4C-20-6-水平",6,0.3,300]
[1504,2941995,300,-1,-1,"RCS2-RA4C-20-6-垂直",2,0.3,300]
[1505,2941995,600,-1,-1,"RCS2-RA4C-20-12-水平",3,0.3,600]
[1506,2941995,600,-1,-1,"RCS2-RA4C-20-12-垂直",1,0.3,600]
[1507,1961330,150,-1,-1,"RCS2-RA4C-30-3-水平",18,0.2,150]
[1508,1961330,150,-1,-1,"RCS2-RA4C-30-3-垂直",6.5,0.2,150]
[1509,2941995,300,-1,-1,"RCS2-RA4C-30-6-水平",9,0.3,300]
[1510,2941995,300,-1,-1,"RCS2-RA4C-30-6-垂直",3,0.3,300]
[1511,{"$f":"H1514*$A$1*1000*1000","v":2941995},{"$f":"I1514","v":600},-1,-1,"RCS2-RA4C-30-12-水平",4,0.3,600]
[1512,2941995,600,-1,-1,"RCS2-RA4C-30-12-垂直",1.5,0.3,600]
[1513,1961330,200,-1,-1,"RCS2-RA5C-60-4-水平",50,0.2,200]
[1514,1961330,200,-1,-1,"RCS2-RA5C-60-4-垂直",11.5,0.2,200]
[1515,2941995,400,-1,-1,"RCS2-RA5C-60-8-水平",25,0.3,400]
[1516,2941995,400,-1,-1,"RCS2-RA5C-60-8-垂直",5,0.3,400]
[1517,2941995,800,-1,-1,"RCS2-RA5C-60-16-水平",12,0.3,800]
[1518,{"$f":"H1521*$A$1*1000*1000","v":2941995},{"$f":"I1521","v":800},-1,-1,"RCS2-RA5C-60-16-垂直",2,0.3,800]
[1519,1961330,200,-1,-1,"RCS2-RA5C-100-4-水平",60,0.2,200]
[1520,1961330,200,-1,-1,"RCS2-RA5C-100-4-垂直",18,0.2,200]
[1521,2941995,400,-1,-1,"RCS2-RA5C-100-8-水平",30,0.3,400]
[1522,2941995,400,-1,-1,"RCS2-RA5C-100-8-垂直",9,0.3,400]
[1523,2941995,800,-1,-1,"RCS2-RA5C-100-16-水平",15,0.3,800]
[1524,2941995,800,-1,-1,"RCS2-RA5C-100-16-垂直",3.5,0.3,800]
[{"$f":"A1527+1","v":1525},{"$f":"H1528*$A$1*1000*1000","v":3922660},{"$f":"I1528","v":1200},-1,-1,"ISB-MXMX-200-20-水平",45,0.4,1200]
[1526,3922660,1800,-1,-1,"ISB-MXMX-200-30-水平",30,0.4,1800]
[1527,3922660,1200,-1,-1,"ISB-LXMX-200-20-水平",45,0.4,1200]
[1528,3922660,1200,-1,-1,"ISB-LXMX-400-20-水平",90,0.4,1200]
[1529,3922660,2400,-1,-1,"ISB-LXMX-400-40-水平",40,0.4,2400]
[1530,3922660,1200,-1,-1,"ISB-LXUWX-200-20-水平",45,0.4,1200]
[1531,3922660,1200,-1,-1,"ISB-LXUWX-400-20-水平",90,0.4,1200]
[1532,3922660,2400,-1,-1,"ISB-LXUWX-400-40-水平",40,0.4,2400]
[1533,3922660,1200,-1,-1,"ISDB-MX-200-20-水平",45,0.4,1200]
[1534,3922660,1800,-1,-1,"ISDB-MX-200-30-水平",30,0.4,1800]
[1535,3922660,1200,-1,-1,"ISDB-LX-200-20-水平",45,0.4,1200]
[1536,3922660,1800,-1,-1,"ISDB-LX-200-40-水平",15,0.4,1800]
[1537,3922660,1200,-1,-1,"ISDB-LX-400-20-水平",90,0.4,1200]
[1538,3922660,1800,-1,-1,"ISDB-LX-400-40-水平",40,0.4,1800]
[1539,3922660,1200,-1,-1,"ISDBCR-MX-200-20-水平",45,0.4,1200]
[1540,3922660,1800,-1,-1,"ISDBCR-MX-200-30-水平",30,0.4,1800]
[1541,3922660,1200,-1,-1,"ISDBCR-LX-200-20-水平",45,0.4,1200]
[1542,3922660,1800,-1,-1,"ISDBCR-LX-200-40-水平",15,0.4,1800]
[1543,3922660,1200,-1,-1,"ISDBCR-LX-400-20-水平",90,0.4,1200]
[1544,3922660,1800,-1,-1,"ISDBCR-LX-400-40-水平",40,0.4,1800]
[{"$f":"A1547+1","v":1545},19613300,2160,-1,-1,"ISB-SXM-100-36-水平",3.5,2,2160]
[1546,18632635,2160,-1,-1,"ISB-SXM-100-36-水平",3.6,1.9,2160]
[1547,17651969.999999996,2160,-1,-1,"ISB-SXM-100-36-水平",3.7,1.8,2160]
[1548,16671305,2160,-1,-1,"ISB-SXM-100-36-水平",3.8,1.7,2160]
[1549,15690640,2160,-1,-1,"ISB-SXM-100-36-水平",3.9,1.6,2160]
[1550,14709975,2160,-1,-1,"ISB-SXM-100-36-水平",4,1.5,2160]
[1551,13729309.999999998,2160,-1,-1,"ISB-SXM-100-36-水平",4.0999999999999996,1.4,2160]
[1552,12748645,2160,-1,-1,"ISB-SXM-100-36-水平",4.3,1.3,2160]
[1553,11767980,2160,-1,-1,"ISB-SXM-100-36-水平",4.5,1.2,2160]
[1554,10787314.999999998,2160,-1,-1,"ISB-SXM-100-36-水平",5,1.1000000000000001,2160]
[1555,9806650,2160,-1,-1,"ISB-SXM-100-36-水平",5.5,1,2160]
[1556,8825984.9999999981,2160,-1,-1,"ISB-SXM-100-36-水平",6,0.9,2160]
[1557,7845320,2160,-1,-1,"ISB-SXM-100-36-水平",6.7,0.8,2160]
[1558,6864654.9999999991,2160,-1,-1,"ISB-SXM-100-36-水平",7.5,0.7,2160]
[1559,5883990,2160,-1,-1,"ISB-SXM-100-36-水平",8.1999999999999993,0.6,2160]
[1560,4903325,2160,-1,-1,"ISB-SXM-100-36-水平",9,0.5,2160]
[1561,3922660,2160,-1,-1,"ISB-SXM-100-36-水平",10,0.4,2160]
[1562,15690640,2160,-1,-1,"ISB-SXM-100-36-垂直",2,1.6,2160]
[1563,19613300,2500,-1,-1,"ISB-MXM-400-48-水平",10,2,2500]
[1564,18632635,2500,-1,-1,"ISB-MXM-400-48-水平",10.4,1.9,2500]
[1565,17651969.999999996,2500,-1,-1,"ISB-MXM-400-48-水平",10.8,1.8,2500]
[1566,16671305,2500,-1,-1,"ISB-MXM-400-48-水平",11,1.7,2500]
[1567,15690640,2500,-1,-1,"ISB-MXM-400-48-水平",11.4,1.6,2500]
[1568,14709975,2500,-1,-1,"ISB-MXM-400-48-水平",11.8,1.5,2500]
[1569,{"$f":"H1572*$A$1*1000*1000","v":13729309.999999998},{"$f":"I1572","v":2500},-1,-1,"ISB-MXM-400-48-水平",12.2,1.4,2500]
[1570,12748645,2500,-1,-1,"ISB-MXM-400-48-水平",12.6,1.3,2500]
[1571,11767980,2500,-1,-1,"ISB-MXM-400-48-水平",13,1.2,2500]
[1572,10787314.999999998,2500,-1,-1,"ISB-MXM-400-48-水平",13.8,1.1000000000000001,2500]
[1573,9806650,2500,-1,-1,"ISB-MXM-400-48-水平",14.6,1,2500]
[1574,8825984.9999999981,2500,-1,-1,"ISB-MXM-400-48-水平",15.5,0.9,2500]
[1575,7845320,2500,-1,-1,"ISB-MXM-400-48-水平",16.399999999999999,0.8,2500]
[1576,6864654.9999999991,2500,-1,-1,"ISB-MXM-400-48-水平",17.3,0.7,2500]
[{"$f":"A1579+1","v":1577},5883990,2500,-1,-1,"ISB-MXM-400-48-水平",18.2,0.6,2500]
[1578,4903325,2500,-1,-1,"ISB-MXM-400-48-水平",19.100000000000001,0.5,2500]
[1579,3922660,2500,-1,-1,"ISB-MXM-400-48-水平",20,0.4,2500]
[1580,15690640,2500,-1,-1,"ISB-MXM-400-48-垂直",6,1.6,2500]
[1581,19613300,2160,-1,-1,"ISB-SXL-100-36-水平",3.5,2,2160]
[1582,18632635,2160,-1,-1,"ISB-SXL-100-36-水平",3.6,1.9,2160]
[1583,17651969.999999996,2160,-1,-1,"ISB-SXL-100-36-水平",3.7,1.8,2160]
[1584,16671305,2160,-1,-1,"ISB-SXL-100-36-水平",3.8,1.7,2160]
[1585,15690640,2160,-1,-1,"ISB-SXL-100-36-水平",3.9,1.6,2160]
[1586,14709975,2160,-1,-1,"ISB-SXL-100-36-水平",4,1.5,2160]
[1587,13729309.999999998,2160,-1,-1,"ISB-SXL-100-36-水平",4.0999999999999996,1.4,2160]
[1588,12748645,2160,-1,-1,"ISB-SXL-100-36-水平",4.3,1.3,2160]
[1589,11767980,2160,-1,-1,"ISB-SXL-100-36-水平",4.5,1.2,2160]
[1590,10787314.999999998,2160,-1,-1,"ISB-SXL-100-36-水平",5,1.1000000000000001,2160]
[1591,9806650,2160,-1,-1,"ISB-SXL-100-36-水平",5.5,1,2160]
[1592,8825984.9999999981,2160,-1,-1,"ISB-SXL-100-36-水平",6,0.9,2160]
[1593,7845320,2160,-1,-1,"ISB-SXL-100-36-水平",6.7,0.8,2160]
[1594,6864654.9999999991,2160,-1,-1,"ISB-SXL-100-36-水平",7.5,0.7,2160]
[1595,5883990,2160,-1,-1,"ISB-SXL-100-36-水平",8.1999999999999993,0.6,2160]
[1596,4903325,2160,-1,-1,"ISB-SXL-100-36-水平",9,0.5,2160]
[1597,3922660,2160,-1,-1,"ISB-SXL-100-36-水平",10,0.4,2160]
[1598,15690640,2160,-1,-1,"ISB-SXL-100-36-垂直",2,1.6,2160]
[1599,19613300,2500,-1,-1,"ISB-MXL-400-48-水平",10,2,2500]
[1600,18632635,2500,-1,-1,"ISB-MXL-400-48-水平",10.4,1.9,2500]
[1601,17651969.999999996,2500,-1,-1,"ISB-MXL-400-48-水平",10.8,1.8,2500]
[1602,16671305,2500,-1,-1,"ISB-MXL-400-48-水平",11,1.7,2500]
[1603,15690640,2500,-1,-1,"ISB-MXL-400-48-水平",11.4,1.6,2500]
[1604,14709975,2500,-1,-1,"ISB-MXL-400-48-水平",11.8,1.5,2500]
[1605,13729309.999999998,2500,-1,-1,"ISB-MXL-400-48-水平",12.2,1.4,2500]
[1606,12748645,2500,-1,-1,"ISB-MXL-400-48-水平",12.6,1.3,2500]
[1607,11767980,2500,-1,-1,"ISB-MXL-400-48-水平",13,1.2,2500]
[1608,10787314.999999998,2500,-1,-1,"ISB-MXL-400-48-水平",13.8,1.1000000000000001,2500]
[{"$f":"A1611+1","v":1609},9806650,2500,-1,-1,"ISB-MXL-400-48-水平",14.6,1,2500]
[1610,8825984.9999999981,2500,-1,-1,"ISB-MXL-400-48-水平",15.5,0.9,2500]
[1611,7845320,2500,-1,-1,"ISB-MXL-400-48-水平",16.399999999999999,0.8,2500]
[1612,6864654.9999999991,2500,-1,-1,"ISB-MXL-400-48-水平",17.3,0.7,2500]
[1613,{"$f":"H1616*$A$1*1000*1000","v":5883990},{"$f":"I1616","v":2500},-1,-1,"ISB-MXL-400-48-水平",18.2,0.6,2500]
[1614,4903325,2500,-1,-1,"ISB-MXL-400-48-水平",19.100000000000001,0.5,2500]
[1615,3922660,2500,-1,-1,"ISB-MXL-400-48-水平",20,0.4,2500]
[1616,15690640,2500,-1,-1,"ISB-MXL-400-48-垂直",6,1.6,2500]
[1617,17651969.999999996,2000,-1,-1,"ISDB-S-100-36-水平",3.5,1.8,2000]
[1618,16671305,2000,-1,-1,"ISDB-S-100-36-水平",3.6,1.7,2000]
[1619,15690640,2000,-1,-1,"ISDB-S-100-36-水平",3.7,1.6,2000]
[1620,14709975,2000,-1,-1,"ISDB-S-100-36-水平",3.8,1.5,2000]
[1621,13729309.999999998,2000,-1,-1,"ISDB-S-100-36-水平",3.9,1.4,2000]
[1622,12748645,2000,-1,-1,"ISDB-S-100-36-水平",4,1.3,2000]
[1623,11767980,2000,-1,-1,"ISDB-S-100-36-水平",4.0999999999999996,1.2,2000]
[1624,10787314.999999998,2000,-1,-1,"ISDB-S-100-36-水平",4.3,1.1000000000000001,2000]
[1625,9806650,2000,-1,-1,"ISDB-S-100-36-水平",4.5,1,2000]
[1626,8825984.9999999981,2000,-1,-1,"ISDB-S-100-36-水平",5.4,0.9,2000]
[1627,7845320,2000,-1,-1,"ISDB-S-100-36-水平",6.3,0.8,2000]
[1628,6864654.9999999991,2000,-1,-1,"ISDB-S-100-36-水平",7.2,0.7,2000]
[1629,5883990,2000,-1,-1,"ISDB-S-100-36-水平",8.1,0.6,2000]
[1630,4903325,2000,-1,-1,"ISDB-S-100-36-水平",9,0.5,2000]
[1631,3922660,2000,-1,-1,"ISDB-S-100-36-水平",10,0.4,2000]
[1632,15690640,2000,-1,-1,"ISDB-S-100-36-垂直",2,1.6,2000]
[1633,17651969.999999996,2200,-1,-1,"ISDB-M-400-48-水平",10,1.8,2200]
[1634,16671305,2200,-1,-1,"ISDB-M-400-48-水平",10.3,1.7,2200]
[1635,15690640,2200,-1,-1,"ISDB-M-400-48-水平",10.6,1.6,2200]
[1636,14709975,2200,-1,-1,"ISDB-M-400-48-水平",11,1.5,2200]
[1637,13729309.999999998,2200,-1,-1,"ISDB-M-400-48-水平",11.4,1.4,2200]
[1638,12748645,2200,-1,-1,"ISDB-M-400-48-水平",11.8,1.3,2200]
[1639,11767980,2200,-1,-1,"ISDB-M-400-48-水平",12.2,1.2,2200]
[1640,10787314.999999998,2200,-1,-1,"ISDB-M-400-48-水平",12.6,1.1000000000000001,2200]
[{"$f":"A1643+1","v":1641},9806650,2200,-1,-1,"ISDB-M-400-48-水平",13,1,2200]
[1642,8825984.9999999981,2200,-1,-1,"ISDB-M-400-48-水平",14,0.9,2200]
[1643,7845320,2200,-1,-1,"ISDB-M-400-48-水平",15.2,0.8,2200]
[1644,6864654.9999999991,2200,-1,-1,"ISDB-M-400-48-水平",16.399999999999999,0.7,2200]
[1645,5883990,2200,-1,-1,"ISDB-M-400-48-水平",17.600000000000001,0.6,2200]
[1646,4903325,2200,-1,-1,"ISDB-M-400-48-水平",18.8,0.5,2200]
[1647,3922660,2200,-1,-1,"ISDB-M-400-48-水平",20,0.4,2200]
[1648,15690640,2200,-1,-1,"ISDB-M-400-48-垂直",6,1.6,2200]
[1649,{"$f":"H1652*$A$1*1000*1000","v":3922660},{"$f":"I1652","v":2200},-1,-1,"ISB-MXMX-400-48-水平",20,0.4,2200]
[1650,{"$f":"H1653*$A$1*1000*1000","v":3922660},2200,-1,-1,"ISDB-MX-400-48-水平",20,0.4,2200]
[1651,{"$f":"H1654*$A$1*1000*1000","v":6864654.9999999991},125,-1,-1,"RCS4-RA4C-60-2.5-水平",35,0.7,125]
[1652,{"$f":"H1655*$A$1*1000*1000","v":4903325},125,-1,-1,"RCS4-RA4C-60-2.5-水平",40,0.5,125]
[1653,{"$f":"H1656*$A$1*1000*1000","v":6864654.9999999991},125,-1,-1,"RCS4-RA4C-60-2.5-垂直",10,0.7,125]
[1654,9806650,250,-1,-1,"RCS4-RA4C-60-5-水平",20,1,250]
[1655,6864654.9999999991,250,-1,-1,"RCS4-RA4C-60-5-水平",25,0.7,250]
[1656,{"$f":"H1659*$A$1*1000*1000","v":4903325},250,-1,-1,"RCS4-RA4C-60-5-水平",30,0.5,250]
[1657,{"$f":"H1660*$A$1*1000*1000","v":9806650},250,-1,-1,"RCS4-RA4C-60-5-垂直",6,1,250]
[1658,{"$f":"H1661*$A$1*1000*1000","v":11767980},500,-1,-1,"RCS4-RA4C-60-10-水平",8,1.2,500]
[1659,9806650,500,-1,-1,"RCS4-RA4C-60-10-水平",12,1,500]
[1660,4903325,{"$f":"I1663","v":500},-1,-1,"RCS4-RA4C-60-10-水平",15,0.5,500]
[1661,2941995,500,-1,-1,"RCS4-RA4C-60-10-水平",18,0.3,500]
[1662,11767980,500,-1,-1,"RCS4-RA4C-60-10-垂直",3,1.2,500]
[1663,9806650,500,-1,-1,"RCS4-RA4C-60-10-垂直",4,1,500]
[1664,11767980,800,-1,-1,"RCS4-RA4C-60-16-水平",4,1.2,800]
[1665,{"$f":"H1668*$A$1*1000*1000","v":9806650},{"$f":"I1668","v":800},-1,-1,"RCS4-RA4C-60-16-水平",5,1,800]
[1666,{"$f":"H1669*$A$1*1000*1000","v":6864654.9999999991},{"$f":"I1669","v":800},-1,-1,"RCS4-RA4C-60-16-水平",6,0.7,800]
[1667,{"$f":"H1670*$A$1*1000*1000","v":4903325},{"$f":"I1670","v":800},-1,-1,"RCS4-RA4C-60-16-水平",8,0.5,800]
[1668,11767980,800,-1,-1,"RCS4-RA4C-60-16-垂直",1,1.2,800]
[1669,9806650,800,-1,-1,"RCS4-RA4C-60-16-垂直",2,1,800]
[1670,{"$f":"H1673*$A$1*1000*1000","v":6864654.9999999991},{"$f":"I1673","v":150},-1,-1,"RCS4-RA6C-100-3-水平",40,0.7,150]
[1671,{"$f":"H1674*$A$1*1000*1000","v":4903325},{"$f":"I1674","v":150},-1,-1,"RCS4-RA6C-100-3-水平",50,0.5,150]
[1672,{"$f":"H1675*$A$1*1000*1000","v":2941995},{"$f":"I1675","v":150},-1,-1,"RCS4-RA6C-100-3-水平",60,0.3,150]
[1673,6864654.9999999991,{"$f":"I1676","v":150},-1,-1,"RCS4-RA6C-100-3-垂直",20,0.7,150]
[1674,9806650,{"$f":"I1677","v":300},-1,-1,"RCS4-RA6C-100-6-水平",25,1,300]
[1675,6864654.9999999991,300,-1,-1,"RCS4-RA6C-100-6-水平",30,0.7,300]
[1676,4903325,300,-1,-1,"RCS4-RA6C-100-6-水平",45,0.5,300]
[1677,2941995,300,-1,-1,"RCS4-RA6C-100-6-水平",50,0.3,300]
[1678,9806650,300,-1,-1,"RCS4-RA6C-100-6-垂直",12,1,300]
[1679,4903325,300,-1,-1,"RCS4-RA6C-100-6-垂直",15,0.5,300]
[1680,2941995,300,-1,-1,"RCS4-RA6C-100-6-垂直",20,0.3,300]
[1681,11767980,600,-1,-1,"RCS4-RA6C-100-12-水平",12,1.2,600]
[1682,6864654.9999999991,600,-1,-1,"RCS4-RA6C-100-12-水平",20,0.7,600]
[1683,2941995,600,-1,-1,"RCS4-RA6C-100-12-水平",25,0.3,600]
[1684,11767980,600,-1,-1,"RCS4-RA6C-100-12-垂直",6,1.2,600]
[1685,6864654.9999999991,600,-1,-1,"RCS4-RA6C-100-12-垂直",8,0.7,600]
[1686,2941995,600,-1,-1,"RCS4-RA6C-100-12-垂直",10,0.3,600]
[1687,11767980,1000,-1,-1,"RCS4-RA6C-100-20-水平",4,1.2,1000]
[1688,9806650,1000,-1,-1,"RCS4-RA6C-100-20-水平",6,1,1000]
[1689,6864654.9999999991,1000,-1,-1,"RCS4-RA6C-100-20-水平",8,0.7,1000]
[1690,4903325,1000,-1,-1,"RCS4-RA6C-100-20-水平",10,0.5,1000]
[1691,2941995,1000,-1,-1,"RCS4-RA6C-100-20-水平",15,0.3,1000]
[1692,11767980,1000,-1,-1,"RCS4-RA6C-100-20-垂直",2,1.2,1000]
[1693,9806650,1000,-1,-1,"RCS4-RA6C-100-20-垂直",3,1,1000]
[1694,4903325,1000,-1,-1,"RCS4-RA6C-100-20-垂直",4,0.5,1000]
[1695,6864654.9999999991,200,-1,-1,"RCS4-RA7C-200-4-水平",60,0.7,200]
[1696,{"$f":"H1699*$A$1*1000*1000","v":4903325},{"$f":"I1699","v":200},-1,-1,"RCS4-RA7C-200-4-水平",70,0.5,200]
[1697,2941995,200,-1,-1,"RCS4-RA7C-200-4-水平",80,0.3,200]
[1698,6864654.9999999991,200,-1,-1,"RCS4-RA7C-200-4-垂直",30,0.7,200]
[1699,4903325,200,-1,-1,"RCS4-RA7C-200-4-垂直",35,0.5,200]
[1700,9806650,400,-1,-1,"RCS4-RA7C-200-8-水平",40,1,400]
[1701,4903325,400,-1,-1,"RCS4-RA7C-200-8-水平",50,0.5,400]
[1702,2941995,400,-1,-1,"RCS4-RA7C-200-8-水平",60,0.3,400]
[1703,9806650,400,-1,-1,"RCS4-RA7C-200-8-垂直",20,1,400]
[1704,4903325,400,-1,-1,"RCS4-RA7C-200-8-垂直",25,0.5,400]
[1705,11767980,800,-1,-1,"RCS4-RA7C-200-16-水平",15,1.2,800]
[{"$f":"A1708+1","v":1706},9806650,800,-1,-1,"RCS4-RA7C-200-16-水平",20,1,800]
[1707,6864654.9999999991,800,-1,-1,"RCS4-RA7C-200-16-水平",25,0.7,800]
[1708,4903325,800,-1,-1,"RCS4-RA7C-200-16-水平",30,0.5,800]
[1709,2941995,800,-1,-1,"RCS4-RA7C-200-16-水平",45,0.3,800]
[1710,11767980,800,-1,-1,"RCS4-RA7C-200-16-垂直",8,1.2,800]
[1711,6864654.9999999991,800,-1,-1,"RCS4-RA7C-200-16-垂直",10,0.7,800]
[1712,4903325,800,-1,-1,"RCS4-RA7C-200-16-垂直",12,0.5,800]
[1713,11767980,1200,-1,-1,"RCS4-RA7C-200-24-水平",8,1.2,1200]
[1714,9806650,1200,-1,-1,"RCS4-RA7C-200-24-水平",10,1,1200]
[1715,4903325,1200,-1,-1,"RCS4-RA7C-200-24-水平",15,0.5,1200]
[1716,2941995,1200,-1,-1,"RCS4-RA7C-200-24-水平",20,0.3,1200]
[1717,11767980,1200,-1,-1,"RCS4-RA7C-200-24-垂直",4,1.2,1200]
[1718,6864654.9999999991,1200,-1,-1,"RCS4-RA7C-200-24-垂直",6,0.7,1200]
[1719,6864654.9999999991,250,-1,-1,"RCS4-RA8C-400-5-水平",60,0.7,250]
[1720,4903325,250,-1,-1,"RCS4-RA8C-400-5-水平",80,0.5,250]
[1721,2941995,250,-1,-1,"RCS4-RA8C-400-5-水平",100,0.3,250]
[1722,6864654.9999999991,250,-1,-1,"RCS4-RA8C-400-5-垂直",25,0.7,250]
[1723,{"$f":"H1726*$A$1*1000*1000","v":4903325},{"$f":"I1726","v":250},-1,-1,"RCS4-RA8C-400-5-垂直",40,0.5,250]
[1724,2941995,250,-1,-1,"RCS4-RA8C-400-5-垂直",55,0.3,250]
[1725,1961330,250,-1,-1,"RCS4-RA8C-400-5-垂直",72,0.2,250]
[1726,9806650,500,-1,-1,"RCS4-RA8C-400-10-水平",60,1,500]
[1727,6864654.9999999991,500,-1,-1,"RCS4-RA8C-400-10-水平",70,0.7,500]
[1728,4903325,500,-1,-1,"RCS4-RA8C-400-10-水平",80,0.5,500]
[1729,9806650,500,-1,-1,"RCS4-RA8C-400-10-垂直",20,1,500]
[1730,6864654.9999999991,500,-1,-1,"RCS4-RA8C-400-10-垂直",30,0.7,500]
[1731,2941995,500,-1,-1,"RCS4-RA8C-400-10-垂直",40,0.3,500]
[1732,11767980,1000,-1,-1,"RCS4-RA8C-400-20-水平",15,1.2,1000]
[1733,9806650,1000,-1,-1,"RCS4-RA8C-400-20-水平",20,1,1000]
[1734,6864654.9999999991,1000,-1,-1,"RCS4-RA8C-400-20-水平",25,0.7,1000]
[1735,4903325,1000,-1,-1,"RCS4-RA8C-400-20-水平",40,0.5,1000]
[1736,2941995,1000,-1,-1,"RCS4-RA8C-400-20-水平",60,0.3,1000]
[1737,11767980,1000,-1,-1,"RCS4-RA8C-400-20-垂直",12,1.2,1000]
[1738,6864654.9999999991,1000,-1,-1,"RCS4-RA8C-400-20-垂直",15,0.7,1000]
[1739,4903325,1000,-1,-1,"RCS4-RA8C-400-20-垂直",20,0.5,1000]
[1740,6864654.9999999991,150,-1,-1,"RCS4-SA4C-60-2.5-水平",20,0.7,150]
[1741,6864654.9999999991,150,-1,-1,"RCS4-SA4C-60-2.5-垂直",10,0.7,150]
[1742,4903325,150,-1,-1,"RCS4-SA4C-60-2.5-垂直",12,0.5,150]
[1743,9806650,300,-1,-1,"RCS4-SA4C-60-5-水平",15,1,300]
[1744,4903325,300,-1,-1,"RCS4-SA4C-60-5-水平",17,0.5,300]
[1745,9806650,300,-1,-1,"RCS4-SA4C-60-5-垂直",6,1,300]
[1746,4903325,300,-1,-1,"RCS4-SA4C-60-5-垂直",8,0.5,300]
[1747,11767980,600,-1,-1,"RCS4-SA4C-60-10-水平",6,1.2,600]
[1748,9806650,600,-1,-1,"RCS4-SA4C-60-10-水平",10,1,600]
[1749,6864654.9999999991,600,-1,-1,"RCS4-SA4C-60-10-水平",12,0.7,600]
[1750,4903325,600,-1,-1,"RCS4-SA4C-60-10-水平",14,0.5,600]
[1751,11767980,600,-1,-1,"RCS4-SA4C-60-10-垂直",2,1.2,600]
[1752,9806650,600,-1,-1,"RCS4-SA4C-60-10-垂直",3,1,600]
[1753,4903325,600,-1,-1,"RCS4-SA4C-60-10-垂直",5,0.5,600]
[1754,11767980,960,-1,-1,"RCS4-SA4C-60-16-水平",4,1.2,960]
[1755,9806650,960,-1,-1,"RCS4-SA4C-60-16-水平",6,1,960]
[1756,4903325,960,-1,-1,"RCS4-SA4C-60-16-水平",8,0.5,960]
[1757,2941995,960,-1,-1,"RCS4-SA4C-60-16-水平",10,0.3,960]
[1758,11767980,960,-1,-1,"RCS4-SA4C-60-16-垂直",1,1.2,960]
[1759,9806650,960,-1,-1,"RCS4-SA4C-60-16-垂直",1.5,1,960]
[1760,4903325,960,-1,-1,"RCS4-SA4C-60-16-垂直",3,0.5,960]
[1761,6864654.9999999991,180,-1,-1,"RCS4-SA6C-100-3-水平",20,0.7,180]
[1762,4903325,180,-1,-1,"RCS4-SA6C-100-3-水平",30,0.5,180]
[1763,2941995,180,-1,-1,"RCS4-SA6C-100-3-水平",45,0.3,180]
[1764,6864654.9999999991,180,-1,-1,"RCS4-SA6C-100-3-垂直",10,0.7,180]
[1765,4903325,180,-1,-1,"RCS4-SA6C-100-3-垂直",14,0.5,180]
[1766,2941995,180,-1,-1,"RCS4-SA6C-100-3-垂直",15,0.3,180]
[1767,9806650,360,-1,-1,"RCS4-SA6C-100-6-水平",20,1,360]
[1768,4903325,360,-1,-1,"RCS4-SA6C-100-6-水平",30,0.5,360]
[1769,2941995,360,-1,-1,"RCS4-SA6C-100-6-水平",45,0.3,360]
[{"$f":"A1772+1","v":1770},9806650,360,-1,-1,"RCS4-SA6C-100-6-垂直",15,1,360]
[1771,11767980,720,-1,-1,"RCS4-SA6C-100-12-水平",15,1.2,720]
[1772,6864654.9999999991,720,-1,-1,"RCS4-SA6C-100-12-水平",20,0.7,720]
[1773,4903325,720,-1,-1,"RCS4-SA6C-100-12-水平",24,0.5,720]
[1774,2941995,720,-1,-1,"RCS4-SA6C-100-12-水平",30,0.3,720]
[1775,11767980,720,-1,-1,"RCS4-SA6C-100-12-垂直",8,1.2,720]
[1776,6864654.9999999991,720,-1,-1,"RCS4-SA6C-100-12-垂直",10,0.7,720]
[1777,2941995,720,-1,-1,"RCS4-SA6C-100-12-垂直",11,0.3,720]
[1778,11767980,1200,-1,-1,"RCS4-SA6C-100-20-水平",6,1.2,1200]
[1779,9806650,1200,-1,-1,"RCS4-SA6C-100-20-水平",8,1,1200]
[1780,6864654.9999999991,1200,-1,-1,"RCS4-SA6C-100-20-水平",10,0.7,1200]
[1781,4903325,1200,-1,-1,"RCS4-SA6C-100-20-水平",15,0.5,1200]
[1782,2941995,1200,-1,-1,"RCS4-SA6C-100-20-水平",18,0.3,1200]
[1783,11767980,1200,-1,-1,"RCS4-SA6C-100-20-垂直",2,1.2,1200]
[1784,9806650,1200,-1,-1,"RCS4-SA6C-100-20-垂直",4,1,1200]
[1785,4903325,1200,-1,-1,"RCS4-SA6C-100-20-垂直",5,0.5,1200]
[1786,2941995,1200,-1,-1,"RCS4-SA6C-100-20-垂直",6,0.3,1200]
[1787,{"$f":"H1790*$A$1*1000*1000","v":11767980},{"$f":"I1790","v":1600},-1,-1,"RCS4-SA6C-100-30-水平",3,1.2,1600]
[1788,9806650,1600,-1,-1,"RCS4-SA6C-100-30-水平",4,1,1600]
[1789,6864654.9999999991,1600,-1,-1,"RCS4-SA6C-100-30-水平",6,0.7,1600]
[1790,2941995,1600,-1,-1,"RCS4-SA6C-100-30-水平",11,0.3,1600]
[1791,11767980,1600,-1,-1,"RCS4-SA6C-100-30-垂直",1.5,1.2,1600]
[1792,6864654.9999999991,1600,-1,-1,"RCS4-SA6C-100-30-垂直",2,0.7,1600]
[1793,2941995,1600,-1,-1,"RCS4-SA6C-100-30-垂直",3.5,0.3,1600]
[1794,6864654.9999999991,240,-1,-1,"RCS4-SA7C-200-4-水平",40,0.7,240]
[1795,4903325,240,-1,-1,"RCS4-SA7C-200-4-水平",50,0.5,240]
[1796,6864654.9999999991,240,-1,-1,"RCS4-SA7C-200-4-垂直",20,0.7,240]
[1797,4903325,240,-1,-1,"RCS4-SA7C-200-4-垂直",25,0.5,240]
[1798,{"$f":"H1801*$A$1*1000*1000","v":9806650},{"$f":"I1801","v":500},-1,-1,"RCS4-SA7C-200-8-水平",35,1,500]
[{"$f":"A1801+1","v":1799},{"$f":"H1802*$A$1*1000*1000","v":6864654.9999999991},{"$f":"I1802","v":500},-1,-1,"RCS4-SA7C-200-8-水平",40,0.7,500]
[{"$f":"A1802+1","v":1800},2941995,500,-1,-1,"RCS4-SA7C-200-8-水平",45,0.3,500]
[1801,9806650,500,-1,-1,"RCS4-SA7C-200-8-垂直",18,1,500]
[1802,6864654.9999999991,500,-1,-1,"RCS4-SA7C-200-8-垂直",20,0.7,500]
[1803,11767980,1000,-1,-1,"RCS4-SA7C-200-16-水平",12,1.2,1000]
[1804,9806650,1000,-1,-1,"RCS4-SA7C-200-16-水平",15,1,1000]
[1805,4903325,1000,-1,-1,"RCS4-SA7C-200-16-水平",30,0.5,1000]
[1806,2941995,1000,-1,-1,"RCS4-SA7C-200-16-水平",40,0.3,1000]
[1807,11767980,1000,-1,-1,"RCS4-SA7C-200-16-垂直",8,1.2,1000]
[1808,6864654.9999999991,1000,-1,-1,"RCS4-SA7C-200-16-垂直",10,0.7,1000]
[1809,4903325,1000,-1,-1,"RCS4-SA7C-200-16-垂直",12,0.5,1000]
[1810,11767980,1500,-1,-1,"RCS4-SA7C-200-24-水平",5,1.2,1500]
[1811,9806650,1500,-1,-1,"RCS4-SA7C-200-24-水平",6,1,1500]
[1812,6864654.9999999991,1500,-1,-1,"RCS4-SA7C-200-24-水平",10,0.7,1500]
[1813,4903325,1500,-1,-1,"RCS4-SA7C-200-24-水平",12,0.5,1500]
[1814,2941995,1500,-1,-1,"RCS4-SA7C-200-24-水平",30,0.3,1500]
[1815,11767980,1500,-1,-1,"RCS4-SA7C-200-24-垂直",4,1.2,1500]
[1816,9806650,1500,-1,-1,"RCS4-SA7C-200-24-垂直",5,1,1500]
[1817,6864654.9999999991,1500,-1,-1,"RCS4-SA7C-200-24-垂直",6,0.7,1500]
[1818,4903325,1500,-1,-1,"RCS4-SA7C-200-24-垂直",7,0.5,1500]
[1819,11767980,1800,-1,-1,"RCS4-SA7C-200-36-水平",3,1.2,1800]
[1820,9806650,1800,-1,-1,"RCS4-SA7C-200-36-水平",4,1,1800]
[1821,6864654.9999999991,1800,-1,-1,"RCS4-SA7C-200-36-水平",6,0.7,1800]
[1822,4903325,1800,-1,-1,"RCS4-SA7C-200-36-水平",7,0.5,1800]
[1823,11767980,1800,-1,-1,"RCS4-SA7C-200-36-垂直",2,1.2,1800]
[1824,6864654.9999999991,1800,-1,-1,"RCS4-SA7C-200-36-垂直",3,0.7,1800]
[1825,4903325,1800,-1,-1,"RCS4-SA7C-200-36-垂直",4,0.5,1800]
[1826,6864654.9999999991,300,-1,-1,"RCS4-SA8C-400-5-水平",70,0.7,300]
[1827,4903325,300,-1,-1,"RCS4-SA8C-400-5-水平",90,0.5,300]
[1828,6864654.9999999991,300,-1,-1,"RCS4-SA8C-400-5-垂直",35,0.7,300]
[1829,4903325,300,-1,-1,"RCS4-SA8C-400-5-垂直",45,0.5,300]
[1830,9806650,600,-1,-1,"RCS4-SA8C-400-10-水平",60,1,600]
[1831,6864654.9999999991,600,-1,-1,"RCS4-SA8C-400-10-水平",70,0.7,600]
[1832,4903325,600,-1,-1,"RCS4-SA8C-400-10-水平",80,0.5,600]
[1833,9806650,600,-1,-1,"RCS4-SA8C-400-10-垂直",30,1,600]
[1834,6864654.9999999991,600,-1,-1,"RCS4-SA8C-400-10-垂直",35,0.7,600]
[{"$f":"A1837+1","v":1835},11767980,1200,-1,-1,"RCS4-SA8C-400-20-水平",15,1.2,1200]
[1836,9806650,1200,-1,-1,"RCS4-SA8C-400-20-水平",20,1,1200]
[1837,{"$f":"H1840*$A$1*1000*1000","v":6864654.9999999991},{"$f":"I1840","v":1200},-1,-1,"RCS4-SA8C-400-20-水平",30,0.7,1200]
[1838,4903325,1200,-1,-1,"RCS4-SA8C-400-20-水平",40,0.5,1200]
[1839,2941995,1200,-1,-1,"RCS4-SA8C-400-20-水平",60,0.3,1200]
[1840,11767980,1200,-1,-1,"RCS4-SA8C-400-20-垂直",12,1.2,1200]
[1841,9806650,1200,-1,-1,"RCS4-SA8C-400-20-垂直",15,1,1200]
[1842,6864654.9999999991,1200,-1,-1,"RCS4-SA8C-400-20-垂直",18,0.7,1200]
[1843,4903325,1200,-1,-1,"RCS4-SA8C-400-20-垂直",20,0.5,1200]
[1844,11767980,1800,-1,-1,"RCS4-SA8C-400-30-水平",10,1.2,1800]
[1845,9806650,1800,-1,-1,"RCS4-SA8C-400-30-水平",15,1,1800]
[1846,6864654.9999999991,1800,-1,-1,"RCS4-SA8C-400-30-水平",20,0.7,1800]
[1847,4903325,1800,-1,-1,"RCS4-SA8C-400-30-水平",25,0.5,1800]
[1848,2941995,1800,-1,-1,"RCS4-SA8C-400-30-水平",30,0.3,1800]
[1849,11767980,1800,-1,-1,"RCS4-SA8C-400-30-垂直",6,1.2,1800]
[1850,9806650,1800,-1,-1,"RCS4-SA8C-400-30-垂直",8,1,1800]
[1851,6864654.9999999991,1800,-1,-1,"RCS4-SA8C-400-30-垂直",10,0.7,1800]
[1852,4903325,1800,-1,-1,"RCS4-SA8C-400-30-垂直",12,0.5,1800]
[1853,11767980,{"$f":"I1856","v":2200},-1,-1,"RCS4-SA8C-400-48-水平",4,1.2,2200]
[1854,9806650,2200,-1,-1,"RCS4-SA8C-400-48-水平",5,1,2200]
[1855,6864654.9999999991,2200,-1,-1,"RCS4-SA8C-400-48-水平",6,0.7,2200]
[1856,4903325,{"$f":"I1859","v":2200},-1,-1,"RCS4-SA8C-400-48-水平",8,0.5,2200]
[1857,6864654.9999999991,150,-1,-1,"RCS4-WSA10C-60-2.5-水平",18,0.7,150]
[1858,4903325,150,-1,-1,"RCS4-WSA10C-60-2.5-水平",30,0.5,150]
[1859,2941995,150,-1,-1,"RCS4-WSA10C-60-2.5-水平",40,0.3,150]
[1860,6864654.9999999991,150,-1,-1,"RCS4-WSA10C-60-2.5-垂直",6,0.7,150]
[1861,4903325,150,-1,-1,"RCS4-WSA10C-60-2.5-垂直",10,0.5,150]
[1862,9806650,300,-1,-1,"RCS4-WSA10C-60-5-水平",18,1,300]
[1863,6864654.9999999991,300,-1,-1,"RCS4-WSA10C-60-5-水平",20,0.7,300]
[1864,4903325,300,-1,-1,"RCS4-WSA10C-60-5-水平",27,0.5,300]
[1865,9806650,300,-1,-1,"RCS4-WSA10C-60-5-垂直",5,1,300]
[1866,11767980,600,-1,-1,"RCS4-WSA10C-60-10-水平",6,1.2,600]
[1867,9806650,600,-1,-1,"RCS4-WSA10C-60-10-水平",12,1,600]
[1868,4903325,600,-1,-1,"RCS4-WSA10C-60-10-水平",16,0.5,600]
[1869,11767980,600,-1,-1,"RCS4-WSA10C-60-10-垂直",2,1.2,600]
[1870,9806650,600,-1,-1,"RCS4-WSA10C-60-10-垂直",3,1,600]
[1871,11767980,960,-1,-1,"RCS4-WSA10C-60-16-水平",3,1.2,960]
[1872,{"$f":"H1875*$A$1*1000*1000","v":9806650},{"$f":"I1875","v":960},-1,-1,"RCS4-WSA10C-60-16-水平",4,1,960]
[1873,6864654.9999999991,960,-1,-1,"RCS4-WSA10C-60-16-水平",5,0.7,960]
[1874,4903325,960,-1,-1,"RCS4-WSA10C-60-16-水平",7,0.5,960]
[1875,6864654.9999999991,180,-1,-1,"RCS4-WSA12C-100-3-水平",15,0.7,180]
[1876,4903325,180,-1,-1,"RCS4-WSA12C-100-3-水平",30,0.5,180]
[1877,2941995,180,-1,-1,"RCS4-WSA12C-100-3-水平",55,0.3,180]
[1878,6864654.9999999991,180,-1,-1,"RCS4-WSA12C-100-3-垂直",6,0.7,180]
[1879,4903325,180,-1,-1,"RCS4-WSA12C-100-3-垂直",10,0.5,180]
[1880,2941995,180,-1,-1,"RCS4-WSA12C-100-3-垂直",15,0.3,180]
[1881,9806650,360,-1,-1,"RCS4-WSA12C-100-6-水平",20,1,360]
[1882,6864654.9999999991,360,-1,-1,"RCS4-WSA12C-100-6-水平",30,0.7,360]
[1883,4903325,360,-1,-1,"RCS4-WSA12C-100-6-水平",40,0.5,360]
[1884,2941995,360,-1,-1,"RCS4-WSA12C-100-6-水平",45,0.3,360]
[1885,9806650,360,-1,-1,"RCS4-WSA12C-100-6-垂直",10,1,360]
[1886,6864654.9999999991,360,-1,-1,"RCS4-WSA12C-100-6-垂直",12,0.7,360]
[1887,4903325,360,-1,-1,"RCS4-WSA12C-100-6-垂直",15,0.5,360]
[1888,11767980,720,-1,-1,"RCS4-WSA12C-100-12-水平",15,1.2,720]
[1889,6864654.9999999991,720,-1,-1,"RCS4-WSA12C-100-12-水平",20,0.7,720]
[1890,4903325,720,-1,-1,"RCS4-WSA12C-100-12-水平",25,0.5,720]
[1891,11767980,720,-1,-1,"RCS4-WSA12C-100-12-垂直",6,1.2,720]
[1892,6864654.9999999991,720,-1,-1,"RCS4-WSA12C-100-12-垂直",8,0.7,720]
[1893,11767980,1200,-1,-1,"RCS4-WSA12C-100-20-水平",4,1.2,1200]
[1894,9806650,1200,-1,-1,"RCS4-WSA12C-100-20-水平",6,1,1200]
[1895,6864654.9999999991,1200,-1,-1,"RCS4-WSA12C-100-20-水平",8,0.7,1200]
[1896,4903325,1200,-1,-1,"RCS4-WSA12C-100-20-水平",10,0.5,1200]
[1897,2941995,1200,-1,-1,"RCS4-WSA12C-100-20-水平",15,0.3,1200]
[1898,11767980,1200,-1,-1,"RCS4-WSA12C-100-20-垂直",2,1.2,1200]
[{"$f":"A1901+1","v":1899},4903325,1200,-1,-1,"RCS4-WSA12C-100-20-垂直",3,0.5,1200]
[1900,11767980,1600,-1,-1,"RCS4-WSA12C-100-30-水平",3,1.2,1600]
[1901,9806650,1600,-1,-1,"RCS4-WSA12C-100-30-水平",4,1,1600]
[1902,{"$f":"H1905*$A$1*1000*1000","v":6864654.9999999991},{"$f":"I1905","v":1600},-1,-1,"RCS4-WSA12C-100-30-水平",5,0.7,1600]
[1903,6864654.9999999991,240,-1,-1,"RCS4-WSA14C-200-4-水平",30,0.7,240]
[1904,4903325,240,-1,-1,"RCS4-WSA14C-200-4-水平",60,0.5,240]
[1905,2941995,240,-1,-1,"RCS4-WSA14C-200-4-水平",80,0.3,240]
[1906,6864654.9999999991,240,-1,-1,"RCS4-WSA14C-200-4-垂直",12,0.7,240]
[1907,4903325,240,-1,-1,"RCS4-WSA14C-200-4-垂直",20,0.5,240]
[1908,2941995,240,-1,-1,"RCS4-WSA14C-200-4-垂直",25,0.3,240]
[1909,9806650,480,-1,-1,"RCS4-WSA14C-200-8-水平",40,1,480]
[1910,4903325,480,-1,-1,"RCS4-WSA14C-200-8-水平",50,0.5,480]
[1911,2941995,480,-1,-1,"RCS4-WSA14C-200-8-水平",65,0.3,480]
[1912,9806650,480,-1,-1,"RCS4-WSA14C-200-8-垂直",10,1,480]
[1913,11767980,960,-1,-1,"RCS4-WSA14C-200-16-水平",18,1.2,960]
[1914,9806650,960,-1,-1,"RCS4-WSA14C-200-16-水平",20,1,960]
[1915,4903325,960,-1,-1,"RCS4-WSA14C-200-16-水平",30,0.5,960]
[1916,2941995,960,-1,-1,"RCS4-WSA14C-200-16-水平",45,0.3,960]
[1917,11767980,960,-1,-1,"RCS4-WSA14C-200-16-垂直",8,1.2,960]
[1918,11767980,1440,-1,-1,"RCS4-WSA14C-200-24-水平",5,1.2,1440]
[1919,9806650,1440,-1,-1,"RCS4-WSA14C-200-24-水平",10,1,1440]
[1920,6864654.9999999991,1440,-1,-1,"RCS4-WSA14C-200-24-水平",15,0.7,1440]
[1921,2941995,1440,-1,-1,"RCS4-WSA14C-200-24-水平",20,0.3,1440]
[1922,11767980,1440,-1,-1,"RCS4-WSA14C-200-24-垂直",2.5,1.2,1440]
[1923,11767980,1800,-1,-1,"RCS4-WSA14C-200-36-水平",3,1.2,1800]
[1924,9806650,1800,-1,-1,"RCS4-WSA14C-200-36-水平",4,1,1800]
[1925,6864654.9999999991,1800,-1,-1,"RCS4-WSA14C-200-36-水平",6,0.7,1800]
[1926,2941995,1800,-1,-1,"RCS4-WSA14C-200-36-水平",7,0.3,1800]
[1927,6864654.9999999991,300,-1,-1,"RCS4-WSA16C-400-5-水平",80,0.7,300]
[1928,4903325,300,-1,-1,"RCS4-WSA16C-400-5-水平",100,0.5,300]
[1929,6864654.9999999991,300,-1,-1,"RCS4-WSA16C-400-5-垂直",30,0.7,300]
[1930,4903325,300,-1,-1,"RCS4-WSA16C-400-5-垂直",45,0.5,300]
[1931,2941995,300,-1,-1,"RCS4-WSA16C-400-5-垂直",50,0.3,300]
[1932,9806650,600,-1,-1,"RCS4-WSA16C-400-10-水平",60,1,600]
[1933,6864654.9999999991,600,-1,-1,"RCS4-WSA16C-400-10-水平",70,0.7,600]
[1934,4903325,600,-1,-1,"RCS4-WSA16C-400-10-水平",80,0.5,600]
[1935,9806650,600,-1,-1,"RCS4-WSA16C-400-10-垂直",30,1,600]
[1936,6864654.9999999991,600,-1,-1,"RCS4-WSA16C-400-10-垂直",35,0.7,600]
[1937,11767980,1200,-1,-1,"RCS4-WSA16C-400-20-水平",20,1.2,1200]
[1938,9806650,1200,-1,-1,"RCS4-WSA16C-400-20-水平",22,1,1200]
[1939,6864654.9999999991,1200,-1,-1,"RCS4-WSA16C-400-20-水平",25,0.7,1200]
[1940,4903325,1200,-1,-1,"RCS4-WSA16C-400-20-水平",40,0.5,1200]
[1941,2941995,1200,-1,-1,"RCS4-WSA16C-400-20-水平",60,0.3,1200]
[1942,11767980,1200,-1,-1,"RCS4-WSA16C-400-20-垂直",10,1.2,1200]
[1943,9806650,1200,-1,-1,"RCS4-WSA16C-400-20-垂直",12,1,1200]
[1944,6864654.9999999991,1200,-1,-1,"RCS4-WSA16C-400-20-垂直",15,0.7,1200]
[1945,2941995,1200,-1,-1,"RCS4-WSA16C-400-20-垂直",20,0.3,1200]
[1946,11767980,1800,-1,-1,"RCS4-WSA16C-400-30-水平",8,1.2,1800]
[1947,9806650,1800,-1,-1,"RCS4-WSA16C-400-30-水平",10,1,1800]
[1948,6864654.9999999991,1800,-1,-1,"RCS4-WSA16C-400-30-水平",20,0.7,1800]
[1949,4903325,1800,-1,-1,"RCS4-WSA16C-400-30-水平",25,0.5,1800]
[1950,2941995,1800,-1,-1,"RCS4-WSA16C-400-30-水平",30,0.3,1800]
[1951,11767980,1800,-1,-1,"RCS4-WSA16C-400-30-垂直",6,1.2,1800]
[1952,9806650,1800,-1,-1,"RCS4-WSA16C-400-30-垂直",8,1,1800]
[1953,4903325,1800,-1,-1,"RCS4-WSA16C-400-30-垂直",12,0.5,1800,null,"型式-姿勢","kg","G","mm/s"]
[1954,{"$f":"H1957*$A$1*1000*1000","v":6864654.9999999991},{"$f":"I1957","v":150},-1,-1,"RCS4-TA4C(SB)-60-2.5-水平",5,0.7,150,null,"RCS4-TA4C(SB)-60-2.5-水平",5,0.7,150,null,{"$f":"IF(AND(K1957=F1957, L1957=G1957, M1957=H1957, N1957=I1957), \"○\", \"●\")","v":"○"}]
[1955,6864654.9999999991,150,-1,-1,"RCS4-TA4C(SB)-60-2.5-垂直",9,0.7,150,null,"RCS4-TA4C(SB)-60-2.5-垂直",9,0.7,150,null,{"$f":"IF(AND(K1958=F1958, L1958=G1958, M1958=H1958, N1958=I1958), \"○\", \"●\")","v":"○"}]
[1956,9806650,300,-1,-1,"RCS4-TA4C(SB)-60-5-水平",5,1,300,null,"RCS4-TA4C(SB)-60-5-水平",5,1,300,null,"○"]
[1957,9806650,300,-1,-1,"RCS4-TA4C(SB)-60-5-垂直",6,1,300,null,"RCS4-TA4C(SB)-60-5-垂直",6,1,300,null,"○"]
[1958,11767980,600,-1,-1,"RCS4-TA4C(SB)-60-10-水平",5,1.2,600,null,"RCS4-TA4C(SB)-60-10-水平",5,1.2,600,null,"○"]
[1959,11767980,600,-1,-1,"RCS4-TA4C(SB)-60-10-垂直",3,1.2,600,null,"RCS4-TA4C(SB)-60-10-垂直",3,1.2,600,null,"○"]
[1960,11767980,900,-1,-1,"RCS4-TA4C(SB)-60-16-水平",3,1.2,900,null,"RCS4-TA4C(SB)-60-16-水平",3,1.2,900,null,"○"]
[1961,9806650,900,-1,-1,"RCS4-TA4C(SB)-60-16-水平",4,1,900,null,"RCS4-TA4C(SB)-60-16-水平",4,1,900,null,"○"]
[1962,11767980,900,-1,-1,"RCS4-TA4C(SB)-60-16-垂直",1.5,1.2,900,null,"RCS4-TA4C(SB)-60-16-垂直",1.5,1.2,900,null,"○"]
[{"$f":"A1965+1","v":1963},{"$f":"H1966*$A$1*1000*1000","v":6864654.9999999991},{"$f":"I1966","v":180},-1,-1,"RCS4-TA6C(SB)-100-3-水平",10,0.7,180,null,"RCS4-TA6C(SB)-100-3-水平",10,0.7,180,null,"○"]
[1964,6864654.9999999991,180,-1,-1,"RCS4-TA6C(SB)-100-3-垂直",12,0.7,180,null,"RCS4-TA6C(SB)-100-3-垂直",12,0.7,180,null,"○"]
[1965,9806650,360,-1,-1,"RCS4-TA6C(SB)-100-6-水平",8,1,360,null,"RCS4-TA6C(SB)-100-6-水平",8,1,360,null,"○"]
[1966,9806650,360,-1,-1,"RCS4-TA6C(SB)-100-6-垂直",10,1,360,null,"RCS4-TA6C(SB)-100-6-垂直",10,1,360,null,"○"]
[1967,11767980,720,-1,-1,"RCS4-TA6C(SB)-100-12-水平",8,1.2,720,null,"RCS4-TA6C(SB)-100-12-水平",8,1.2,720,null,"○"]
[1968,11767980,720,-1,-1,"RCS4-TA6C(SB)-100-12-垂直",6,1.2,720,null,"RCS4-TA6C(SB)-100-12-垂直",6,1.2,720,null,"○"]
[1969,11767980,1100,-1,-1,"RCS4-TA6C(SB)-100-20-水平",4,1.2,1100,null,"RCS4-TA6C(SB)-100-20-水平",4,1.2,1100,null,"○"]
[1970,9806650,1100,-1,-1,"RCS4-TA6C(SB)-100-20-水平",6,1,1100,null,"RCS4-TA6C(SB)-100-20-水平",6,1,1100,null,"○"]
[1971,6864654.9999999991,1100,-1,-1,"RCS4-TA6C(SB)-100-20-水平",8,0.7,1100,null,"RCS4-TA6C(SB)-100-20-水平",8,0.7,1100,null,"○"]
[1972,11767980,1100,-1,-1,"RCS4-TA6C(SB)-100-20-垂直",2,1.2,1100,null,"RCS4-TA6C(SB)-100-20-垂直",2,1.2,1100,null,"○"]
[1973,9806650,1100,-1,-1,"RCS4-TA6C(SB)-100-20-垂直",3,1,1100,null,"RCS4-TA6C(SB)-100-20-垂直",3,1,1100,null,"○"]
[1974,4903325,1100,-1,-1,"RCS4-TA6C(SB)-100-20-垂直",4,0.5,1100,null,"RCS4-TA6C(SB)-100-20-垂直",4,0.5,1100,null,"○"]
[1975,6864654.9999999991,240,-1,-1,"RCS4-TA7C(SB)-200-4-水平",15,0.7,240,null,"RCS4-TA7C(SB)-200-4-水平",15,0.7,240,null,"○"]
[1976,6864654.9999999991,240,-1,-1,"RCS4-TA7C(SB)-200-4-垂直",20,0.7,240,null,"RCS4-TA7C(SB)-200-4-垂直",20,0.7,240,null,"○"]
[1977,9806650,480,-1,-1,"RCS4-TA7C(SB)-200-8-水平",15,1,480,null,"RCS4-TA7C(SB)-200-8-水平",15,1,480,null,"○"]
[1978,9806650,480,-1,-1,"RCS4-TA7C(SB)-200-8-垂直",18,1,480,null,"RCS4-TA7C(SB)-200-8-垂直",18,1,480,null,"○"]
[1979,11767980,960,-1,-1,"RCS4-TA7C(SB)-200-16-水平",15,1.2,960,null,"RCS4-TA7C(SB)-200-16-水平",15,1.2,960,null,"○"]
[1980,{"$f":"H1983*$A$1*1000*1000","v":11767980},{"$f":"I1983","v":960},-1,-1,"RCS4-TA7C(SB)-200-16-垂直",6,1.2,960,null,"RCS4-TA7C(SB)-200-16-垂直",6,1.2,960,null,"○"]
[1981,9806650,960,-1,-1,"RCS4-TA7C(SB)-200-16-垂直",8,1,960,null,"RCS4-TA7C(SB)-200-16-垂直",8,1,960,null,"○"]
[1982,4903325,960,-1,-1,"RCS4-TA7C(SB)-200-16-垂直",10,0.5,960,null,"RCS4-TA7C(SB)-200-16-垂直",10,0.5,960,null,"○"]
[1983,11767980,1300,-1,-1,"RCS4-TA7C(SB)-200-24-水平",8,1.2,1300,null,"RCS4-TA7C(SB)-200-24-水平",8,1.2,1300,null,"○"]
[1984,9806650,1300,-1,-1,"RCS4-TA7C(SB)-200-24-水平",10,1,1300,null,"RCS4-TA7C(SB)-200-24-水平",10,1,1300,null,"○"]
[1985,6864654.9999999991,1300,-1,-1,"RCS4-TA7C(SB)-200-24-水平",12,0.7,1300,null,"RCS4-TA7C(SB)-200-24-水平",12,0.7,1300,null,"○"]
[1986,11767980,1300,-1,-1,"RCS4-TA7C(SB)-200-24-垂直",3,1.2,1300,null,"RCS4-TA7C(SB)-200-24-垂直",3,1.2,1300,null,"○"]
[1987,9806650,1300,-1,-1,"RCS4-TA7C(SB)-200-24-垂直",4,1,1300,null,"RCS4-TA7C(SB)-200-24-垂直",4,1,1300,null,"○"]
[1988,4903325,1300,-1,-1,"RCS4-TA7C(SB)-200-24-垂直",5,0.5,1300,null,"RCS4-TA7C(SB)-200-24-垂直",5,0.5,1300,null,"○"]
[1989,6864654.9999999991,150,-1,-1,"RCS4-TA4C(DB)-60-2.5-水平",10,0.7,150,null,"RCS4-TA4C(DB)-60-2.5-水平",10,0.7,150,null,"○"]
[1990,6864654.9999999991,150,-1,-1,"RCS4-TA4C(DB)-60-2.5-垂直",9,0.7,150,null,"RCS4-TA4C(DB)-60-2.5-垂直",9,0.7,150,null,"○"]
[1991,9806650,300,-1,-1,"RCS4-TA4C(DB)-60-5-水平",8,1,300,null,"RCS4-TA4C(DB)-60-5-水平",8,1,300,null,"○"]
[1992,{"$f":"H1995*$A$1*1000*1000","v":6864654.9999999991},{"$f":"I1995","v":300},-1,-1,"RCS4-TA4C(DB)-60-5-水平",10,0.7,300,null,"RCS4-TA4C(DB)-60-5-水平",10,0.7,300,null,"○"]
[1993,9806650,300,-1,-1,"RCS4-TA4C(DB)-60-5-垂直",6,1,300,null,"RCS4-TA4C(DB)-60-5-垂直",6,1,300,null,"○"]
[1994,11767980,600,-1,-1,"RCS4-TA4C(DB)-60-10-水平",4,1.2,600,null,"RCS4-TA4C(DB)-60-10-水平",4,1.2,600,null,"○"]
[1995,9806650,600,-1,-1,"RCS4-TA4C(DB)-60-10-水平",6,1,600,null,"RCS4-TA4C(DB)-60-10-水平",6,1,600,null,"○"]
[1996,6864654.9999999991,600,-1,-1,"RCS4-TA4C(DB)-60-10-水平",8,0.7,600,null,"RCS4-TA4C(DB)-60-10-水平",8,0.7,600,null,"○"]
[1997,11767980,600,-1,-1,"RCS4-TA4C(DB)-60-10-垂直",3,1.2,600,null,"RCS4-TA4C(DB)-60-10-垂直",3,1.2,600,null,"○"]
[1998,6864654.9999999991,180,-1,-1,"RCS4-TA6C(DB)-100-3-水平",20,0.7,180,null,"RCS4-TA6C(DB)-100-3-水平",20,0.7,180,null,"○"]
[1999,6864654.9999999991,180,-1,-1,"RCS4-TA6C(DB)-100-3-垂直",12,0.7,180,null,"RCS4-TA6C(DB)-100-3-垂直",12,0.7,180,null,"○"]
[2000,9806650,360,-1,-1,"RCS4-TA6C(DB)-100-6-水平",20,1,360,null,"RCS4-TA6C(DB)-100-6-水平",20,1,360,null,"○"]
[2001,9806650,360,-1,-1,"RCS4-TA6C(DB)-100-6-垂直",10,1,360,null,"RCS4-TA6C(DB)-100-6-垂直",10,1,360,null,"○"]
[2002,11767980,720,-1,-1,"RCS4-TA6C(DB)-100-12-水平",12,1.2,720,null,"RCS4-TA6C(DB)-100-12-水平",12,1.2,720,null,"○"]
[2003,9806650,720,-1,-1,"RCS4-TA6C(DB)-100-12-水平",14,1,720,null,"RCS4-TA6C(DB)-100-12-水平",14,1,720,null,"○"]
[2004,11767980,720,-1,-1,"RCS4-TA6C(DB)-100-12-垂直",6,1.2,720,null,"RCS4-TA6C(DB)-100-12-垂直",6,1.2,720,null,"○"]
[2005,6864654.9999999991,240,-1,-1,"RCS4-TA7C(DB)-200-4-水平",30,0.7,240,null,"RCS4-TA7C(DB)-200-4-水平",30,0.7,240,null,"○"]
[2006,6864654.9999999991,240,-1,-1,"RCS4-TA7C(DB)-200-4-垂直",24,0.7,240,null,"RCS4-TA7C(DB)-200-4-垂直",24,0.7,240,null,"○"]
[2007,9806650,480,-1,-1,"RCS4-TA7C(DB)-200-8-水平",25,1,480,null,"RCS4-TA7C(DB)-200-8-水平",25,1,480,null,"○"]
[2008,4903325,480,-1,-1,"RCS4-TA7C(DB)-200-8-水平",30,0.5,480,null,"RCS4-TA7C(DB)-200-8-水平",30,0.5,480,null,"○"]
[2009,9806650,480,-1,-1,"RCS4-TA7C(DB)-200-8-垂直",18,1,480,null,"RCS4-TA7C(DB)-200-8-垂直",18,1,480,null,"○"]
[2010,11767980,960,-1,-1,"RCS4-TA7C(DB)-200-16-水平",15,1.2,960,null,"RCS4-TA7C(DB)-200-16-水平",15,1.2,960,null,"○"]
[2011,9806650,960,-1,-1,"RCS4-TA7C(DB)-200-16-水平",20,1,960,null,"RCS4-TA7C(DB)-200-16-水平",20,1,960,null,"○"]
[2012,4903325,960,-1,-1,"RCS4-TA7C(DB)-200-16-水平",25,0.5,960,null,"RCS4-TA7C(DB)-200-16-水平",25,0.5,960,null,"○"]
[2013,11767980,960,-1,-1,"RCS4-TA7C(DB)-200-16-垂直",6,1.2,960,null,"RCS4-TA7C(DB)-200-16-垂直",6,1.2,960,null,"○"]
[2014,9806650,960,-1,-1,"RCS4-TA7C(DB)-200-16-垂直",8,1,960,null,"RCS4-TA7C(DB)-200-16-垂直",8,1,960,null,"○"]
[2015,6864654.9999999991,150,-1,-1,"RCS4-RRA4C-60-2.5-水平",35,0.7,150,null,"RCS4-RRA4C-60-2.5-水平",35,0.7,150,null,"○"]
[2016,4903325,150,-1,-1,"RCS4-RRA4C-60-2.5-水平",40,0.5,150,null,"RCS4-RRA4C-60-2.5-水平",40,0.5,150,null,"○"]
[2017,6864654.9999999991,150,-1,-1,"RCS4-RRA4C-60-2.5-垂直",10,0.7,150,null,"RCS4-RRA4C-60-2.5-垂直",10,0.7,150,null,"○"]
[2018,9806650,300,-1,-1,"RCS4-RRA4C-60-5-水平",20,1,300,null,"RCS4-RRA4C-60-5-水平",20,1,300,null,"○"]
[2019,6864654.9999999991,300,-1,-1,"RCS4-RRA4C-60-5-水平",25,0.7,300,null,"RCS4-RRA4C-60-5-水平",25,0.7,300,null,{"$f":"IF(AND(K2022=F2022, L2022=G2022, M2022=H2022, N2022=I2022), \"○\", \"●\")","v":"○"}]
[2020,4903325,300,-1,-1,"RCS4-RRA4C-60-5-水平",30,0.5,300,null,"RCS4-RRA4C-60-5-水平",30,0.5,300,null,"○"]
[2021,9806650,300,-1,-1,"RCS4-RRA4C-60-5-垂直",6,1,300,null,"RCS4-RRA4C-60-5-垂直",6,1,300,null,"○"]
[2022,11767980,600,-1,-1,"RCS4-RRA4C-60-10-水平",8,1.2,600,null,"RCS4-RRA4C-60-10-水平",8,1.2,600,null,"○"]
[2023,9806650,600,-1,-1,"RCS4-RRA4C-60-10-水平",12,1,600,null,"RCS4-RRA4C-60-10-水平",12,1,600,null,"○"]
[2024,{"$f":"H2027*$A$1*1000*1000","v":4903325},{"$f":"I2027","v":600},-1,-1,"RCS4-RRA4C-60-10-水平",15,0.5,600,null,"RCS4-RRA4C-60-10-水平",15,0.5,600,null,"○"]
[2025,2941995,600,-1,-1,"RCS4-RRA4C-60-10-水平",18,0.3,600,null,"RCS4-RRA4C-60-10-水平",18,0.3,600,null,"○"]
[2026,11767980,600,-1,-1,"RCS4-RRA4C-60-10-垂直",3,1.2,600,null,"RCS4-RRA4C-60-10-垂直",3,1.2,600,null,"○"]
[{"$f":"A2029+1","v":2027},9806650,600,-1,-1,"RCS4-RRA4C-60-10-垂直",4,1,600,null,"RCS4-RRA4C-60-10-垂直",4,1,600,null,"○"]
[2028,11767980,960,-1,-1,"RCS4-RRA4C-60-16-水平",4,1.2,960,null,"RCS4-RRA4C-60-16-水平",4,1.2,960,null,"○"]
[2029,9806650,960,-1,-1,"RCS4-RRA4C-60-16-水平",5,1,960,null,"RCS4-RRA4C-60-16-水平",5,1,960,null,"○"]
[2030,6864654.9999999991,960,-1,-1,"RCS4-RRA4C-60-16-水平",6,0.7,960,null,"RCS4-RRA4C-60-16-水平",6,0.7,960,null,"○"]
[2031,4903325,960,-1,-1,"RCS4-RRA4C-60-16-水平",8,0.5,960,null,"RCS4-RRA4C-60-16-水平",8,0.5,960,null,"○"]
[2032,11767980,960,-1,-1,"RCS4-RRA4C-60-16-垂直",1,1.2,960,null,"RCS4-RRA4C-60-16-垂直",1,1.2,960,null,"○"]
[2033,9806650,960,-1,-1,"RCS4-RRA4C-60-16-垂直",2,1,960,null,"RCS4-RRA4C-60-16-垂直",2,1,960,null,"○"]
[2034,{"$f":"H2037*$A$1*1000*1000","v":6864654.9999999991},{"$f":"I2037","v":180},-1,-1,"RCS4-RRA6C-100-3-水平",40,0.7,180,null,"RCS4-RRA6C-100-3-水平",40,0.7,180,null,"○"]
[2035,4903325,180,-1,-1,"RCS4-RRA6C-100-3-水平",50,0.5,180,null,"RCS4-RRA6C-100-3-水平",50,0.5,180,null,"○"]
[2036,2941995,180,-1,-1,"RCS4-RRA6C-100-3-水平",60,0.3,180,null,"RCS4-RRA6C-100-3-水平",60,0.3,180,null,"○"]
[2037,6864654.9999999991,180,-1,-1,"RCS4-RRA6C-100-3-垂直",20,0.7,180,null,"RCS4-RRA6C-100-3-垂直",20,0.7,180,null,"○"]
[2038,9806650,360,-1,-1,"RCS4-RRA6C-100-6-水平",25,1,360,null,"RCS4-RRA6C-100-6-水平",25,1,360,null,"○"]
[2039,6864654.9999999991,360,-1,-1,"RCS4-RRA6C-100-6-水平",30,0.7,360,null,"RCS4-RRA6C-100-6-水平",30,0.7,360,null,"○"]
[2040,4903325,360,-1,-1,"RCS4-RRA6C-100-6-水平",45,0.5,360,null,"RCS4-RRA6C-100-6-水平",45,0.5,360,null,"○"]
[2041,2941995,360,-1,-1,"RCS4-RRA6C-100-6-水平",50,0.3,360,null,"RCS4-RRA6C-100-6-水平",50,0.3,360,null,"○"]
[2042,9806650,360,-1,-1,"RCS4-RRA6C-100-6-垂直",12,1,360,null,"RCS4-RRA6C-100-6-垂直",12,1,360,null,"○"]
[2043,4903325,360,-1,-1,"RCS4-RRA6C-100-6-垂直",15,0.5,360,null,"RCS4-RRA6C-100-6-垂直",15,0.5,360,null,"○"]
[2044,2941995,360,-1,-1,"RCS4-RRA6C-100-6-垂直",20,0.3,360,null,"RCS4-RRA6C-100-6-垂直",20,0.3,360,null,"○"]
[2045,11767980,720,-1,-1,"RCS4-RRA6C-100-12-水平",12,1.2,720,null,"RCS4-RRA6C-100-12-水平",12,1.2,720,null,"○"]
[2046,6864654.9999999991,720,-1,-1,"RCS4-RRA6C-100-12-水平",20,0.7,720,null,"RCS4-RRA6C-100-12-水平",20,0.7,720,null,"○"]
[2047,2941995,720,-1,-1,"RCS4-RRA6C-100-12-水平",25,0.3,720,null,"RCS4-RRA6C-100-12-水平",25,0.3,720,null,"○"]
[2048,11767980,720,-1,-1,"RCS4-RRA6C-100-12-垂直",6,1.2,720,null,"RCS4-RRA6C-100-12-垂直",6,1.2,720,null,"○"]
[2049,6864654.9999999991,720,-1,-1,"RCS4-RRA6C-100-12-垂直",8,0.7,720,null,"RCS4-RRA6C-100-12-垂直",8,0.7,720,null,"○"]
[2050,2941995,720,-1,-1,"RCS4-RRA6C-100-12-垂直",10,0.3,720,null,"RCS4-RRA6C-100-12-垂直",10,0.3,720,null,"○"]
[2051,11767980,1200,-1,-1,"RCS4-RRA6C-100-20-水平",4,1.2,1200,null,"RCS4-RRA6C-100-20-水平",4,1.2,1200,null,"○"]
[2052,9806650,1200,-1,-1,"RCS4-RRA6C-100-20-水平",6,1,1200,null,"RCS4-RRA6C-100-20-水平",6,1,1200,null,"○"]
[2053,6864654.9999999991,1200,-1,-1,"RCS4-RRA6C-100-20-水平",8,0.7,1200,null,"RCS4-RRA6C-100-20-水平",8,0.7,1200,null,"○"]
[2054,4903325,1200,-1,-1,"RCS4-RRA6C-100-20-水平",10,0.5,1200,null,"RCS4-RRA6C-100-20-水平",10,0.5,1200,null,"○"]
[2055,2941995,1200,-1,-1,"RCS4-RRA6C-100-20-水平",15,0.3,1200,null,"RCS4-RRA6C-100-20-水平",15,0.3,1200,null,"○"]
[2056,11767980,1200,-1,-1,"RCS4-RRA6C-100-20-垂直",2,1.2,1200,null,"RCS4-RRA6C-100-20-垂直",2,1.2,1200,null,"○"]
[2057,9806650,1200,-1,-1,"RCS4-RRA6C-100-20-垂直",3,1,1200,null,"RCS4-RRA6C-100-20-垂直",3,1,1200,null,"○"]
[2058,4903325,1200,-1,-1,"RCS4-RRA6C-100-20-垂直",4,0.5,1200,null,"RCS4-RRA6C-100-20-垂直",4,0.5,1200,null,"○"]
[2059,6864654.9999999991,240,-1,-1,"RCS4-RRA7C-200-4-水平",60,0.7,240,null,"RCS4-RRA7C-200-4-水平",60,0.7,240,null,"○"]
[2060,4903325,240,-1,-1,"RCS4-RRA7C-200-4-水平",70,0.5,240,null,"RCS4-RRA7C-200-4-水平",70,0.5,240,null,"○"]
[2061,2941995,240,-1,-1,"RCS4-RRA7C-200-4-水平",80,0.3,240,null,"RCS4-RRA7C-200-4-水平",80,0.3,240,null,"○"]
[2062,6864654.9999999991,240,-1,-1,"RCS4-RRA7C-200-4-垂直",30,0.7,240,null,"RCS4-RRA7C-200-4-垂直",30,0.7,240,null,"○"]
[2063,4903325,240,-1,-1,"RCS4-RRA7C-200-4-垂直",35,0.5,240,null,"RCS4-RRA7C-200-4-垂直",35,0.5,240,null,"○"]
[2064,9806650,480,-1,-1,"RCS4-RRA7C-200-8-水平",40,1,480,null,"RCS4-RRA7C-200-8-水平",40,1,480,null,"○"]
[2065,4903325,480,-1,-1,"RCS4-RRA7C-200-8-水平",50,0.5,480,null,"RCS4-RRA7C-200-8-水平",50,0.5,480,null,"○"]
[2066,2941995,480,-1,-1,"RCS4-RRA7C-200-8-水平",60,0.3,480,null,"RCS4-RRA7C-200-8-水平",60,0.3,480,null,"○"]
[2067,9806650,480,-1,-1,"RCS4-RRA7C-200-8-垂直",20,1,480,null,"RCS4-RRA7C-200-8-垂直",20,1,480,null,"○"]
[2068,4903325,480,-1,-1,"RCS4-RRA7C-200-8-垂直",25,0.5,480,null,"RCS4-RRA7C-200-8-垂直",25,0.5,480,null,"○"]
[2069,11767980,960,-1,-1,"RCS4-RRA7C-200-16-水平",15,1.2,960,null,"RCS4-RRA7C-200-16-水平",15,1.2,960,null,"○"]
[2070,9806650,960,-1,-1,"RCS4-RRA7C-200-16-水平",20,1,960,null,"RCS4-RRA7C-200-16-水平",20,1,960,null,"○"]
[2071,6864654.9999999991,960,-1,-1,"RCS4-RRA7C-200-16-水平",25,0.7,960,null,"RCS4-RRA7C-200-16-水平",25,0.7,960,null,"○"]
[2072,4903325,960,-1,-1,"RCS4-RRA7C-200-16-水平",30,0.5,960,null,"RCS4-RRA7C-200-16-水平",30,0.5,960,null,"○"]
[2073,2941995,960,-1,-1,"RCS4-RRA7C-200-16-水平",45,0.3,960,null,"RCS4-RRA7C-200-16-水平",45,0.3,960,null,"○"]
[2074,11767980,960,-1,-1,"RCS4-RRA7C-200-16-垂直",8,1.2,960,null,"RCS4-RRA7C-200-16-垂直",8,1.2,960,null,"○"]
[2075,6864654.9999999991,960,-1,-1,"RCS4-RRA7C-200-16-垂直",10,0.7,960,null,"RCS4-RRA7C-200-16-垂直",10,0.7,960,null,"○"]
[2076,4903325,960,-1,-1,"RCS4-RRA7C-200-16-垂直",12,0.5,960,null,"RCS4-RRA7C-200-16-垂直",12,0.5,960,null,"○"]
[2077,11767980,1440,-1,-1,"RCS4-RRA7C-200-24-水平",8,1.2,1440,null,"RCS4-RRA7C-200-24-水平",8,1.2,1440,null,"○"]
[2078,9806650,1440,-1,-1,"RCS4-RRA7C-200-24-水平",10,1,1440,null,"RCS4-RRA7C-200-24-水平",10,1,1440,null,"○"]
[2079,4903325,1440,-1,-1,"RCS4-RRA7C-200-24-水平",15,0.5,1440,null,"RCS4-RRA7C-200-24-水平",15,0.5,1440,null,"○"]
[2080,2941995,1440,-1,-1,"RCS4-RRA7C-200-24-水平",20,0.3,1440,null,"RCS4-RRA7C-200-24-水平",20,0.3,1440,null,"○"]
[2081,11767980,1440,-1,-1,"RCS4-RRA7C-200-24-垂直",4,1.2,1440,null,"RCS4-RRA7C-200-24-垂直",4,1.2,1440,null,"○"]
[2082,6864654.9999999991,1440,-1,-1,"RCS4-RRA7C-200-24-垂直",6,0.7,1440,null,"RCS4-RRA7C-200-24-垂直",6,0.7,1440,null,"○"]
[2083,6864654.9999999991,275,-1,-1,"RCS4-RRA8C-400-5-水平",60,0.7,275,null,"RCS4-RRA8C-400-5-水平",60,0.7,275,null,{"$f":"IF(AND(K2086=F2086, L2086=G2086, M2086=H2086, N2086=I2086), \"○\", \"●\")","v":"○"}]
[2084,4903325,275,-1,-1,"RCS4-RRA8C-400-5-水平",80,0.5,275,null,"RCS4-RRA8C-400-5-水平",80,0.5,275,null,"○"]
[2085,2941995,275,-1,-1,"RCS4-RRA8C-400-5-水平",100,0.3,275,null,"RCS4-RRA8C-400-5-水平",100,0.3,275,null,"○"]
[2086,6864654.9999999991,275,-1,-1,"RCS4-RRA8C-400-5-垂直",25,0.7,275,null,"RCS4-RRA8C-400-5-垂直",25,0.7,275,null,"○"]
[2087,4903325,275,-1,-1,"RCS4-RRA8C-400-5-垂直",40,0.5,275,null,"RCS4-RRA8C-400-5-垂直",40,0.5,275,null,"○"]
[2088,2941995,275,-1,-1,"RCS4-RRA8C-400-5-垂直",50,0.3,275,null,"RCS4-RRA8C-400-5-垂直",50,0.3,275,null,"○"]
[2089,1961330,275,-1,-1,"RCS4-RRA8C-400-5-垂直",72,0.2,275,null,"RCS4-RRA8C-400-5-垂直",72,0.2,275,null,"○"]
[2090,9806650,550,-1,-1,"RCS4-RRA8C-400-10-水平",60,1,550,null,"RCS4-RRA8C-400-10-水平",60,1,550,null,"○"]
[{"$f":"A2093+1","v":2091},6864654.9999999991,550,-1,-1,"RCS4-RRA8C-400-10-水平",70,0.7,550,null,"RCS4-RRA8C-400-10-水平",70,0.7,550,null,"○"]
[2092,4903325,550,-1,-1,"RCS4-RRA8C-400-10-水平",80,0.5,550,null,"RCS4-RRA8C-400-10-水平",80,0.5,550,null,"○"]
[2093,9806650,550,-1,-1,"RCS4-RRA8C-400-10-垂直",20,1,550,null,"RCS4-RRA8C-400-10-垂直",20,1,550,null,"○"]
[2094,6864654.9999999991,550,-1,-1,"RCS4-RRA8C-400-10-垂直",30,0.7,550,null,"RCS4-RRA8C-400-10-垂直",30,0.7,550,null,"○"]
[2095,2941995,550,-1,-1,"RCS4-RRA8C-400-10-垂直",40,0.3,550,null,"RCS4-RRA8C-400-10-垂直",40,0.3,550,null,"○"]
[2096,11767980,1100,-1,-1,"RCS4-RRA8C-400-20-水平",15,1.2,1100,null,"RCS4-RRA8C-400-20-水平",15,1.2,1100,null,"○"]
[2097,9806650,1100,-1,-1,"RCS4-RRA8C-400-20-水平",20,1,1100,null,"RCS4-RRA8C-400-20-水平",20,1,1100,null,"○"]
[2098,{"$f":"H2101*$A$1*1000*1000","v":6864654.9999999991},{"$f":"I2101","v":1100},-1,-1,"RCS4-RRA8C-400-20-水平",25,0.7,1100,null,"RCS4-RRA8C-400-20-水平",25,0.7,1100,null,"○"]
[2099,4903325,1100,-1,-1,"RCS4-RRA8C-400-20-水平",40,0.5,1100,null,"RCS4-RRA8C-400-20-水平",40,0.5,1100,null,"○"]
[2100,2941995,1100,-1,-1,"RCS4-RRA8C-400-20-水平",60,0.3,1100,null,"RCS4-RRA8C-400-20-水平",60,0.3,1100,null,"○"]
[2101,11767980,1100,-1,-1,"RCS4-RRA8C-400-20-垂直",12,1.2,1100,null,"RCS4-RRA8C-400-20-垂直",12,1.2,1100,null,"○"]
[2102,6864654.9999999991,1100,-1,-1,"RCS4-RRA8C-400-20-垂直",15,0.7,1100,null,"RCS4-RRA8C-400-20-垂直",15,0.7,1100,null,"○"]
[2103,4903325,1100,-1,-1,"RCS4-RRA8C-400-20-垂直",20,0.5,1100,null,"RCS4-RRA8C-400-20-垂直",20,0.5,1100,null,"○"]
[2104,11767980,1500,-1,-1,"RCS4-RRA8C-400-30-水平",8,1.2,1500,null,"RCS4-RRA8C-400-30-水平",8,1.2,1500,null,"○"]
[2105,9806650,1500,-1,-1,"RCS4-RRA8C-400-30-水平",10,1,1500,null,"RCS4-RRA8C-400-30-水平",10,1,1500,null,"○"]
[2106,6864654.9999999991,1500,-1,-1,"RCS4-RRA8C-400-30-水平",15,0.7,1500,null,"RCS4-RRA8C-400-30-水平",15,0.7,1500,null,"○"]
[2107,4903325,1500,-1,-1,"RCS4-RRA8C-400-30-水平",20,0.5,1500,null,"RCS4-RRA8C-400-30-水平",20,0.5,1500,null,"○"]
[2108,2941995,1500,-1,-1,"RCS4-RRA8C-400-30-水平",30,0.3,1500,null,"RCS4-RRA8C-400-30-水平",30,0.3,1500,null,"○"]
[2109,11767980,1500,-1,-1,"RCS4-RRA8C-400-30-垂直",6,1.2,1500,null,"RCS4-RRA8C-400-30-垂直",6,1.2,1500,null,"○"]
[2110,6864654.9999999991,1500,-1,-1,"RCS4-RRA8C-400-30-垂直",8,0.7,1500,null,"RCS4-RRA8C-400-30-垂直",8,0.7,1500,null,"○"]
[2111,6864654.9999999991,150,-1,-1,"RCS4-WRA10C-60-2.5-水平",25,0.7,150,null,"RCS4-WRA10C-60-2.5-水平",25,0.7,150,null,"○"]
[2112,4903325,150,-1,-1,"RCS4-WRA10C-60-2.5-水平",35,0.5,150,null,"RCS4-WRA10C-60-2.5-水平",35,0.5,150,null,"○"]
[2113,{"$f":"H2116*$A$1*1000*1000","v":2941995},{"$f":"I2116","v":150},-1,-1,"RCS4-WRA10C-60-2.5-水平",40,0.3,150,null,"RCS4-WRA10C-60-2.5-水平",40,0.3,150,null,"○"]
[2114,6864654.9999999991,150,-1,-1,"RCS4-WRA10C-60-2.5-垂直",8,0.7,150,null,"RCS4-WRA10C-60-2.5-垂直",8,0.7,150,null,"○"]
[2115,2941995,150,-1,-1,"RCS4-WRA10C-60-2.5-垂直",10,0.3,150,null,"RCS4-WRA10C-60-2.5-垂直",10,0.3,150,null,"○"]
[2116,9806650,300,-1,-1,"RCS4-WRA10C-60-5-水平",10,1,300,null,"RCS4-WRA10C-60-5-水平",10,1,300,null,"○"]
[2117,6864654.9999999991,300,-1,-1,"RCS4-WRA10C-60-5-水平",15,0.7,300,null,"RCS4-WRA10C-60-5-水平",15,0.7,300,null,"○"]
[2118,4903325,300,-1,-1,"RCS4-WRA10C-60-5-水平",20,0.5,300,null,"RCS4-WRA10C-60-5-水平",20,0.5,300,null,"○"]
[2119,2941995,300,-1,-1,"RCS4-WRA10C-60-5-水平",25,0.3,300,null,"RCS4-WRA10C-60-5-水平",25,0.3,300,null,"○"]
[2120,9806650,300,-1,-1,"RCS4-WRA10C-60-5-垂直",5,1,300,null,"RCS4-WRA10C-60-5-垂直",5,1,300,null,"○"]
[2121,11767980,600,-1,-1,"RCS4-WRA10C-60-10-水平",8,1.2,600,null,"RCS4-WRA10C-60-10-水平",8,1.2,600,null,"○"]
[2122,9806650,600,-1,-1,"RCS4-WRA10C-60-10-水平",10,1,600,null,"RCS4-WRA10C-60-10-水平",10,1,600,null,"○"]
[2123,6864654.9999999991,600,-1,-1,"RCS4-WRA10C-60-10-水平",12,0.7,600,null,"RCS4-WRA10C-60-10-水平",12,0.7,600,null,"○"]
[2124,4903325,600,-1,-1,"RCS4-WRA10C-60-10-水平",16,0.5,600,null,"RCS4-WRA10C-60-10-水平",16,0.5,600,null,"○"]
[2125,11767980,600,-1,-1,"RCS4-WRA10C-60-10-垂直",1,1.2,600,null,"RCS4-WRA10C-60-10-垂直",1,1.2,600,null,"○"]
[2126,9806650,600,-1,-1,"RCS4-WRA10C-60-10-垂直",2,1,600,null,"RCS4-WRA10C-60-10-垂直",2,1,600,null,"○"]
[2127,4903325,600,-1,-1,"RCS4-WRA10C-60-10-垂直",3,0.5,600,null,"RCS4-WRA10C-60-10-垂直",3,0.5,600,null,"○"]
[2128,11767980,800,-1,-1,"RCS4-WRA10C-60-16-水平",2,1.2,800,null,"RCS4-WRA10C-60-16-水平",2,1.2,800,null,"○"]
[2129,9806650,800,-1,-1,"RCS4-WRA10C-60-16-水平",3,1,800,null,"RCS4-WRA10C-60-16-水平",3,1,800,null,"○"]
[2130,6864654.9999999991,800,-1,-1,"RCS4-WRA10C-60-16-水平",4,0.7,800,null,"RCS4-WRA10C-60-16-水平",4,0.7,800,null,"○"]
[2131,{"$f":"H2134*$A$1*1000*1000","v":4903325},800,-1,-1,"RCS4-WRA10C-60-16-水平",5,0.5,800,null,"RCS4-WRA10C-60-16-水平",5,0.5,800,null,"○"]
[2132,{"$f":"H2135*$A$1*1000*1000","v":6864654.9999999991},{"$f":"I2135","v":180},-1,-1,"RCS4-WRA12C-100-3-水平",40,0.7,180,null,"RCS4-WRA12C-100-3-水平",40,0.7,180,null,"○"]
[2133,{"$f":"H2136*$A$1*1000*1000","v":4903325},{"$f":"I2136","v":180},-1,-1,"RCS4-WRA12C-100-3-水平",50,0.5,180,null,"RCS4-WRA12C-100-3-水平",50,0.5,180,null,"○"]
[2134,{"$f":"H2137*$A$1*1000*1000","v":2941995},{"$f":"I2137","v":180},-1,-1,"RCS4-WRA12C-100-3-水平",60,0.3,180,null,"RCS4-WRA12C-100-3-水平",60,0.3,180,null,"○"]
[2135,{"$f":"H2138*$A$1*1000*1000","v":6864654.9999999991},{"$f":"I2138","v":180},-1,-1,"RCS4-WRA12C-100-3-垂直",20,0.7,180,null,"RCS4-WRA12C-100-3-垂直",20,0.7,180,null,"○"]
[2136,9806650,360,-1,-1,"RCS4-WRA12C-100-6-水平",25,1,360,null,"RCS4-WRA12C-100-6-水平",25,1,360,null,"○"]
[2137,6864654.9999999991,360,-1,-1,"RCS4-WRA12C-100-6-水平",30,0.7,360,null,"RCS4-WRA12C-100-6-水平",30,0.7,360,null,"○"]
[2138,4903325,360,-1,-1,"RCS4-WRA12C-100-6-水平",40,0.5,360,null,"RCS4-WRA12C-100-6-水平",40,0.5,360,null,"○"]
[2139,9806650,360,-1,-1,"RCS4-WRA12C-100-6-垂直",12,1,360,null,"RCS4-WRA12C-100-6-垂直",12,1,360,null,"○"]
[2140,4903325,360,-1,-1,"RCS4-WRA12C-100-6-垂直",15,0.5,360,null,"RCS4-WRA12C-100-6-垂直",15,0.5,360,null,"○"]
[2141,11767980,720,-1,-1,"RCS4-WRA12C-100-12-水平",15,1.2,720,null,"RCS4-WRA12C-100-12-水平",15,1.2,720,null,"○"]
[2142,6864654.9999999991,720,-1,-1,"RCS4-WRA12C-100-12-水平",20,0.7,720,null,"RCS4-WRA12C-100-12-水平",20,0.7,720,null,"○"]
[2143,4903325,720,-1,-1,"RCS4-WRA12C-100-12-水平",25,0.5,720,null,"RCS4-WRA12C-100-12-水平",25,0.5,720,null,"○"]
[2144,11767980,720,-1,-1,"RCS4-WRA12C-100-12-垂直",5,1.2,720,null,"RCS4-WRA12C-100-12-垂直",5,1.2,720,null,"○"]
[2145,6864654.9999999991,720,-1,-1,"RCS4-WRA12C-100-12-垂直",6,0.7,720,null,"RCS4-WRA12C-100-12-垂直",6,0.7,720,null,"○"]
[2146,11767980,1000,-1,-1,"RCS4-WRA12C-100-20-水平",4,1.2,1000,null,"RCS4-WRA12C-100-20-水平",4,1.2,1000,null,"○"]
[2147,9806650,1000,-1,-1,"RCS4-WRA12C-100-20-水平",6,1,1000,null,"RCS4-WRA12C-100-20-水平",6,1,1000,null,{"$f":"IF(AND(K2150=F2150, L2150=G2150, M2150=H2150, N2150=I2150), \"○\", \"●\")","v":"○"}]
[2148,6864654.9999999991,1000,-1,-1,"RCS4-WRA12C-100-20-水平",8,0.7,1000,null,"RCS4-WRA12C-100-20-水平",8,0.7,1000,null,"○"]
[2149,4903325,1000,-1,-1,"RCS4-WRA12C-100-20-水平",10,0.5,1000,null,"RCS4-WRA12C-100-20-水平",10,0.5,1000,null,"○"]
[2150,2941995,1000,-1,-1,"RCS4-WRA12C-100-20-水平",12,0.3,1000,null,"RCS4-WRA12C-100-20-水平",12,0.3,1000,null,"○"]
[2151,11767980,1000,-1,-1,"RCS4-WRA12C-100-20-垂直",1,1.2,1000,null,"RCS4-WRA12C-100-20-垂直",1,1.2,1000,null,"○"]
[2152,9806650,1000,-1,-1,"RCS4-WRA12C-100-20-垂直",1.5,1,1000,null,"RCS4-WRA12C-100-20-垂直",1.5,1,1000,null,"○"]
[2153,4903325,1000,-1,-1,"RCS4-WRA12C-100-20-垂直",2,0.5,1000,null,"RCS4-WRA12C-100-20-垂直",2,0.5,1000,null,"○"]
[2154,6864654.9999999991,240,-1,-1,"RCS4-WRA14C-200-4-水平",60,0.7,240,null,"RCS4-WRA14C-200-4-水平",60,0.7,240,null,"○"]
[{"$f":"A2157+1","v":2155},4903325,240,-1,-1,"RCS4-WRA14C-200-4-水平",70,0.5,240,null,"RCS4-WRA14C-200-4-水平",70,0.5,240,null,"○"]
[2156,2941995,240,-1,-1,"RCS4-WRA14C-200-4-水平",85,0.3,240,null,"RCS4-WRA14C-200-4-水平",85,0.3,240,null,"○"]
[2157,6864654.9999999991,240,-1,-1,"RCS4-WRA14C-200-4-垂直",30,0.7,240,null,"RCS4-WRA14C-200-4-垂直",30,0.7,240,null,"○"]
[2158,9806650,480,-1,-1,"RCS4-WRA14C-200-8-水平",40,1,480,null,"RCS4-WRA14C-200-8-水平",40,1,480,null,"○"]
[2159,4903325,480,-1,-1,"RCS4-WRA14C-200-8-水平",50,0.5,480,null,"RCS4-WRA14C-200-8-水平",50,0.5,480,null,"○"]
[2160,2941995,480,-1,-1,"RCS4-WRA14C-200-8-水平",65,0.3,480,null,"RCS4-WRA14C-200-8-水平",65,0.3,480,null,"○"]
[2161,9806650,480,-1,-1,"RCS4-WRA14C-200-8-垂直",20,1,480,null,"RCS4-WRA14C-200-8-垂直",20,1,480,null,"○"]
[2162,11767980,800,-1,-1,"RCS4-WRA14C-200-16-水平",15,1.2,800,null,"RCS4-WRA14C-200-16-水平",15,1.2,800,null,"○"]
[2163,9806650,800,-1,-1,"RCS4-WRA14C-200-16-水平",20,1,800,null,"RCS4-WRA14C-200-16-水平",20,1,800,null,"○"]
[2164,6864654.9999999991,800,-1,-1,"RCS4-WRA14C-200-16-水平",25,0.7,800,null,"RCS4-WRA14C-200-16-水平",25,0.7,800,null,"○"]
[2165,4903325,800,-1,-1,"RCS4-WRA14C-200-16-水平",30,0.5,800,null,"RCS4-WRA14C-200-16-水平",30,0.5,800,null,"○"]
[2166,2941995,800,-1,-1,"RCS4-WRA14C-200-16-水平",50,0.3,800,null,"RCS4-WRA14C-200-16-水平",50,0.3,800,null,"○"]
[2167,11767980,800,-1,-1,"RCS4-WRA14C-200-16-垂直",5,1.2,800,null,"RCS4-WRA14C-200-16-垂直",5,1.2,800,null,"○"]
[2168,9806650,800,-1,-1,"RCS4-WRA14C-200-16-垂直",6,1,800,null,"RCS4-WRA14C-200-16-垂直",6,1,800,null,"○"]
[2169,2941995,800,-1,-1,"RCS4-WRA14C-200-16-垂直",8,0.3,800,null,"RCS4-WRA14C-200-16-垂直",8,0.3,800,null,"○"]
[2170,11767980,1200,-1,-1,"RCS4-WRA14C-200-24-水平",4,1.2,1200,null,"RCS4-WRA14C-200-24-水平",4,1.2,1200,null,"○"]
[2171,9806650,1200,-1,-1,"RCS4-WRA14C-200-24-水平",6,1,1200,null,"RCS4-WRA14C-200-24-水平",6,1,1200,null,"○"]
[2172,6864654.9999999991,1200,-1,-1,"RCS4-WRA14C-200-24-水平",10,0.7,1200,null,"RCS4-WRA14C-200-24-水平",10,0.7,1200,null,"○"]
[2173,4903325,1200,-1,-1,"RCS4-WRA14C-200-24-水平",15,0.5,1200,null,"RCS4-WRA14C-200-24-水平",15,0.5,1200,null,"○"]
[2174,2941995,1200,-1,-1,"RCS4-WRA14C-200-24-水平",25,0.3,1200,null,"RCS4-WRA14C-200-24-水平",25,0.3,1200,null,"○"]
[2175,11767980,1200,-1,-1,"RCS4-WRA14C-200-24-垂直",2,1.2,1200,null,"RCS4-WRA14C-200-24-垂直",2,1.2,1200,null,"○"]
[2176,{"$f":"H2179*$A$1*1000*1000","v":4903325},{"$f":"I2179","v":1200},-1,-1,"RCS4-WRA14C-200-24-垂直",3,0.5,1200,null,"RCS4-WRA14C-200-24-垂直",3,0.5,1200,null,"○"]
[2177,6864654.9999999991,250,-1,-1,"RCS4-WRA16C-400-5-水平",60,0.7,250,null,"RCS4-WRA16C-400-5-水平",60,0.7,250,null,"○"]
[2178,4903325,250,-1,-1,"RCS4-WRA16C-400-5-水平",80,0.5,250,null,"RCS4-WRA16C-400-5-水平",80,0.5,250,null,"○"]
[2179,2941995,250,-1,-1,"RCS4-WRA16C-400-5-水平",100,0.3,250,null,"RCS4-WRA16C-400-5-水平",100,0.3,250,null,"○"]
[2180,6864654.9999999991,250,-1,-1,"RCS4-WRA16C-400-5-垂直",25,0.7,250,null,"RCS4-WRA16C-400-5-垂直",25,0.7,250,null,"○"]
[2181,4903325,250,-1,-1,"RCS4-WRA16C-400-5-垂直",30,0.5,250,null,"RCS4-WRA16C-400-5-垂直",30,0.5,250,null,"○"]
[2182,2941995,250,-1,-1,"RCS4-WRA16C-400-5-垂直",50,0.3,250,null,"RCS4-WRA16C-400-5-垂直",50,0.3,250,null,"○"]
[2183,9806650,500,-1,-1,"RCS4-WRA16C-400-10-水平",60,1,500,null,"RCS4-WRA16C-400-10-水平",60,1,500,null,"○"]
[2184,6864654.9999999991,500,-1,-1,"RCS4-WRA16C-400-10-水平",70,0.7,500,null,"RCS4-WRA16C-400-10-水平",70,0.7,500,null,"○"]
[2185,4903325,500,-1,-1,"RCS4-WRA16C-400-10-水平",80,0.5,500,null,"RCS4-WRA16C-400-10-水平",80,0.5,500,null,"○"]
[2186,9806650,500,-1,-1,"RCS4-WRA16C-400-10-垂直",20,1,500,null,"RCS4-WRA16C-400-10-垂直",20,1,500,null,"○"]
[2187,6864654.9999999991,500,-1,-1,"RCS4-WRA16C-400-10-垂直",35,0.7,500,null,"RCS4-WRA16C-400-10-垂直",35,0.7,500,null,"○"]
[2188,11767980,1000,-1,-1,"RCS4-WRA16C-400-20-水平",15,1.2,1000,null,"RCS4-WRA16C-400-20-水平",15,1.2,1000,null,"○"]
[2189,9806650,1000,-1,-1,"RCS4-WRA16C-400-20-水平",20,1,1000,null,"RCS4-WRA16C-400-20-水平",20,1,1000,null,"○"]
[2190,6864654.9999999991,1000,-1,-1,"RCS4-WRA16C-400-20-水平",25,0.7,1000,null,"RCS4-WRA16C-400-20-水平",25,0.7,1000,null,"○"]
[2191,4903325,1000,-1,-1,"RCS4-WRA16C-400-20-水平",40,0.5,1000,null,"RCS4-WRA16C-400-20-水平",40,0.5,1000,null,"○"]
[2192,2941995,1000,-1,-1,"RCS4-WRA16C-400-20-水平",60,0.3,1000,null,"RCS4-WRA16C-400-20-水平",60,0.3,1000,null,"○"]
[2193,11767980,1000,-1,-1,"RCS4-WRA16C-400-20-垂直",8,1.2,1000,null,"RCS4-WRA16C-400-20-垂直",8,1.2,1000,null,"○"]
[2194,9806650,1000,-1,-1,"RCS4-WRA16C-400-20-垂直",10,1,1000,null,"RCS4-WRA16C-400-20-垂直",10,1,1000,null,"○"]
[2195,4903325,1000,-1,-1,"RCS4-WRA16C-400-20-垂直",12,0.5,1000,null,"RCS4-WRA16C-400-20-垂直",12,0.5,1000,null,"○"]
[2196,11767980,1300,-1,-1,"RCS4-WRA16C-400-30-水平",6,1.2,1300,null,"RCS4-WRA16C-400-30-水平",6,1.2,1300,null,"○"]
[2197,9806650,1300,-1,-1,"RCS4-WRA16C-400-30-水平",8,1,1300,null,"RCS4-WRA16C-400-30-水平",8,1,1300,null,"○"]
[2198,6864654.9999999991,1300,-1,-1,"RCS4-WRA16C-400-30-水平",15,0.7,1300,null,"RCS4-WRA16C-400-30-水平",15,0.7,1300,null,"○"]
[2199,4903325,1300,-1,-1,"RCS4-WRA16C-400-30-水平",20,0.5,1300,null,"RCS4-WRA16C-400-30-水平",20,0.5,1300,null,"○"]
[2200,2941995,1300,-1,-1,"RCS4-WRA16C-400-30-水平",30,0.3,1300,null,"RCS4-WRA16C-400-30-水平",30,0.3,1300,null,"○"]
[2201,11767980,1300,-1,-1,"RCS4-WRA16C-400-30-垂直",1.5,1.2,1300,null,"RCS4-WRA16C-400-30-垂直",1.5,1.2,1300,null,"○"]
[2202,9806650,1300,-1,-1,"RCS4-WRA16C-400-30-垂直",3,1,1300,null,"RCS4-WRA16C-400-30-垂直",3,1,1300,null,"○"]
[2203,6864654.9999999991,1300,-1,-1,"RCS4-WRA16C-400-30-垂直",4,0.7,1300,null,"RCS4-WRA16C-400-30-垂直",4,0.7,1300,null,"○"]
[2204,4903325,1300,-1,-1,"RCS4-WRA16C-400-30-垂直",5,0.5,1300,null,"RCS4-WRA16C-400-30-垂直",5,0.5,1300,null,"○"]
[2205,2941995,1300,-1,-1,"RCS4-WRA16C-400-30-垂直",6,0.3,1300,"*","RCS4-WRA16C-400-30-垂直",6,0.3,1300,"*","○","*","*","*"]
[2206,{"$f":"H2209*$A$1*1000*1000","v":6864654.9999999991},{"$f":"I2209","v":125},-1,-1,"RCS4-RA4R-60-2.5-水平",35,0.7,125]
[2207,4903325,125,-1,-1,"RCS4-RA4R-60-2.5-水平",40,0.5,125]
[2208,6864654.9999999991,125,-1,-1,"RCS4-RA4R-60-2.5-垂直",10,0.7,125]
[2209,9806650,250,-1,-1,"RCS4-RA4R-60-5-水平",20,1,250]
[2210,6864654.9999999991,250,-1,-1,"RCS4-RA4R-60-5-水平",25,0.7,250]
[2211,4903325,250,-1,-1,"RCS4-RA4R-60-5-水平",30,0.5,250]
[2212,9806650,250,-1,-1,"RCS4-RA4R-60-5-垂直",6,1,250]
[2213,9806650,500,-1,-1,"RCS4-RA4R-60-10-水平",12,1,500]
[2214,4903325,500,-1,-1,"RCS4-RA4R-60-10-水平",15,0.5,500]
[2215,2941995,500,-1,-1,"RCS4-RA4R-60-10-水平",18,0.3,500]
[2216,9806650,500,-1,-1,"RCS4-RA4R-60-10-垂直",4,1,500]
[2217,9806650,800,-1,-1,"RCS4-RA4R-60-16-水平",5,1,800]
[2218,6864654.9999999991,800,-1,-1,"RCS4-RA4R-60-16-水平",6,0.7,800]
[{"$f":"A2221+1","v":2219},4903325,800,-1,-1,"RCS4-RA4R-60-16-水平",8,0.5,800]
[2220,9806650,800,-1,-1,"RCS4-RA4R-60-16-垂直",2,1,800]
[2221,6864654.9999999991,150,-1,-1,"RCS4-RA6R-100-3-水平",40,0.7,150]
[2222,4903325,150,-1,-1,"RCS4-RA6R-100-3-水平",50,0.5,150]
[2223,2941995,150,-1,-1,"RCS4-RA6R-100-3-水平",60,0.3,150]
[2224,6864654.9999999991,150,-1,-1,"RCS4-RA6R-100-3-垂直",20,0.7,150]
[2225,9806650,300,-1,-1,"RCS4-RA6R-100-6-水平",25,1,300]
[2226,6864654.9999999991,300,-1,-1,"RCS4-RA6R-100-6-水平",30,0.7,300]
[2227,4903325,300,-1,-1,"RCS4-RA6R-100-6-水平",45,0.5,300]
[2228,2941995,300,-1,-1,"RCS4-RA6R-100-6-水平",50,0.3,300]
[2229,9806650,300,-1,-1,"RCS4-RA6R-100-6-垂直",12,1,300]
[2230,4903325,300,-1,-1,"RCS4-RA6R-100-6-垂直",15,0.5,300]
[2231,2941995,300,-1,-1,"RCS4-RA6R-100-6-垂直",19,0.3,300]
[2232,9806650,600,-1,-1,"RCS4-RA6R-100-12-水平",12,1,600]
[2233,6864654.9999999991,600,-1,-1,"RCS4-RA6R-100-12-水平",20,0.7,600]
[2234,2941995,600,-1,-1,"RCS4-RA6R-100-12-水平",25,0.3,600]
[2235,9806650,600,-1,-1,"RCS4-RA6R-100-12-垂直",6,1,600]
[2236,6864654.9999999991,600,-1,-1,"RCS4-RA6R-100-12-垂直",8,0.7,600]
[2237,2941995,600,-1,-1,"RCS4-RA6R-100-12-垂直",9,0.3,600]
[2238,9806650,1000,-1,-1,"RCS4-RA6R-100-20-水平",6,1,1000]
[2239,6864654.9999999991,1000,-1,-1,"RCS4-RA6R-100-20-水平",8,0.7,1000]
[2240,4903325,1000,-1,-1,"RCS4-RA6R-100-20-水平",10,0.5,1000]
[2241,2941995,1000,-1,-1,"RCS4-RA6R-100-20-水平",15,0.3,1000]
[2242,9806650,1000,-1,-1,"RCS4-RA6R-100-20-垂直",3,1,1000]
[2243,4903325,1000,-1,-1,"RCS4-RA6R-100-20-垂直",4,0.5,1000]
[2244,6864654.9999999991,200,-1,-1,"RCS4-RA7R-200-4-水平",60,0.7,200]
[2245,4903325,200,-1,-1,"RCS4-RA7R-200-4-水平",70,0.5,200]
[2246,2941995,200,-1,-1,"RCS4-RA7R-200-4-水平",80,0.3,200]
[2247,6864654.9999999991,200,-1,-1,"RCS4-RA7R-200-4-垂直",30,0.7,200]
[2248,4903325,200,-1,-1,"RCS4-RA7R-200-4-垂直",35,0.5,200]
[2249,9806650,400,-1,-1,"RCS4-RA7R-200-8-水平",40,1,400]
[2250,4903325,400,-1,-1,"RCS4-RA7R-200-8-水平",50,0.5,400]
[2251,2941995,400,-1,-1,"RCS4-RA7R-200-8-水平",60,0.3,400]
[2252,9806650,400,-1,-1,"RCS4-RA7R-200-8-垂直",20,1,400]
[2253,4903325,400,-1,-1,"RCS4-RA7R-200-8-垂直",25,0.5,400]
[2254,9806650,800,-1,-1,"RCS4-RA7R-200-16-水平",20,1,800]
[2255,6864654.9999999991,800,-1,-1,"RCS4-RA7R-200-16-水平",25,0.7,800]
[2256,4903325,800,-1,-1,"RCS4-RA7R-200-16-水平",30,0.5,800]
[2257,2941995,800,-1,-1,"RCS4-RA7R-200-16-水平",45,0.3,800]
[2258,9806650,800,-1,-1,"RCS4-RA7R-200-16-垂直",8,1,800]
[2259,6864654.9999999991,800,-1,-1,"RCS4-RA7R-200-16-垂直",10,0.7,800]
[2260,4903325,800,-1,-1,"RCS4-RA7R-200-16-垂直",12,0.5,800]
[2261,9806650,1200,-1,-1,"RCS4-RA7R-200-24-水平",10,1,1200]
[2262,4903325,1200,-1,-1,"RCS4-RA7R-200-24-水平",15,0.5,1200]
[2263,2941995,1200,-1,-1,"RCS4-RA7R-200-24-水平",20,0.3,1200]
[2264,9806650,1200,-1,-1,"RCS4-RA7R-200-24-垂直",4,1,1200]
[2265,6864654.9999999991,1200,-1,-1,"RCS4-RA7R-200-24-垂直",6,0.7,1200]
[2266,6864654.9999999991,250,-1,-1,"RCS4-RA8R-400-5-水平",60,0.7,250]
[2267,4903325,250,-1,-1,"RCS4-RA8R-400-5-水平",80,0.5,250]
[2268,2941995,250,-1,-1,"RCS4-RA8R-400-5-水平",100,0.3,250]
[2269,{"$f":"H2272*$A$1*1000*1000","v":6864654.9999999991},{"$f":"I2272","v":250},-1,-1,"RCS4-RA8R-400-5-垂直",25,0.7,250]
[2270,4903325,250,-1,-1,"RCS4-RA8R-400-5-垂直",40,0.5,250]
[2271,2941995,250,-1,-1,"RCS4-RA8R-400-5-垂直",55,0.3,250]
[2272,1961330,250,-1,-1,"RCS4-RA8R-400-5-垂直",72,0.2,250]
[2273,9806650,500,-1,-1,"RCS4-RA8R-400-10-水平",60,1,500]
[2274,6864654.9999999991,500,-1,-1,"RCS4-RA8R-400-10-水平",70,0.7,500]
[2275,4903325,500,-1,-1,"RCS4-RA8R-400-10-水平",80,0.5,500]
[2276,9806650,500,-1,-1,"RCS4-RA8R-400-10-垂直",20,1,500]
[2277,6864654.9999999991,500,-1,-1,"RCS4-RA8R-400-10-垂直",30,0.7,500]
[2278,2941995,500,-1,-1,"RCS4-RA8R-400-10-垂直",40,0.3,500]
[2279,9806650,1000,-1,-1,"RCS4-RA8R-400-20-水平",20,1,1000]
[2280,6864654.9999999991,1000,-1,-1,"RCS4-RA8R-400-20-水平",25,0.7,1000]
[2281,4903325,1000,-1,-1,"RCS4-RA8R-400-20-水平",40,0.5,1000]
[2282,2941995,1000,-1,-1,"RCS4-RA8R-400-20-水平",60,0.3,1000]
[{"$f":"A2285+1","v":2283},9806650,1000,-1,-1,"RCS4-RA8R-400-20-垂直",12,1,1000]
[2284,6864654.9999999991,1000,-1,-1,"RCS4-RA8R-400-20-垂直",15,0.7,1000]
[2285,4903325,1000,-1,-1,"RCS4-RA8R-400-20-垂直",20,0.5,1000]
[2286,6864654.9999999991,150,-1,-1,"RCS4-SA4R-60-2.5-水平",20,0.7,150]
[2287,6864654.9999999991,150,-1,-1,"RCS4-SA4R-60-2.5-垂直",10,0.7,150]
[2288,4903325,150,-1,-1,"RCS4-SA4R-60-2.5-垂直",12,0.5,150]
[2289,9806650,300,-1,-1,"RCS4-SA4R-60-5-水平",13,1,300]
[2290,6864654.9999999991,300,-1,-1,"RCS4-SA4R-60-5-水平",15,0.7,300]
[2291,4903325,300,-1,-1,"RCS4-SA4R-60-5-水平",17,0.5,300]
[2292,9806650,300,-1,-1,"RCS4-SA4R-60-5-垂直",6,1,300]
[2293,4903325,300,-1,-1,"RCS4-SA4R-60-5-垂直",8,0.5,300]
[2294,9806650,600,-1,-1,"RCS4-SA4R-60-10-水平",10,1,600]
[2295,6864654.9999999991,600,-1,-1,"RCS4-SA4R-60-10-水平",12,0.7,600]
[2296,4903325,600,-1,-1,"RCS4-SA4R-60-10-水平",14,0.5,600]
[2297,9806650,600,-1,-1,"RCS4-SA4R-60-10-垂直",3,1,600]
[2298,4903325,600,-1,-1,"RCS4-SA4R-60-10-垂直",4.5,0.5,600]
[2299,9806650,960,-1,-1,"RCS4-SA4R-60-16-水平",6,1,960]
[2300,4903325,960,-1,-1,"RCS4-SA4R-60-16-水平",8,0.5,960]
[2301,2941995,960,-1,-1,"RCS4-SA4R-60-16-水平",10,0.3,960]
[2302,9806650,960,-1,-1,"RCS4-SA4R-60-16-垂直",1.5,1,960]
[2303,4903325,960,-1,-1,"RCS4-SA4R-60-16-垂直",2.5,0.5,960]
[2304,6864654.9999999991,180,-1,-1,"RCS4-SA6R-100-3-水平",20,0.7,180]
[2305,4903325,180,-1,-1,"RCS4-SA6R-100-3-水平",30,0.5,180]
[2306,2941995,180,-1,-1,"RCS4-SA6R-100-3-水平",45,0.3,180]
[2307,6864654.9999999991,180,-1,-1,"RCS4-SA6R-100-3-垂直",10,0.7,180]
[2308,4903325,180,-1,-1,"RCS4-SA6R-100-3-垂直",14,0.5,180]
[2309,2941995,180,-1,-1,"RCS4-SA6R-100-3-垂直",15,0.3,180]
[2310,9806650,360,-1,-1,"RCS4-SA6R-100-6-水平",20,1,360]
[2311,4903325,360,-1,-1,"RCS4-SA6R-100-6-水平",30,0.5,360]
[2312,2941995,360,-1,-1,"RCS4-SA6R-100-6-水平",45,0.3,360]
[2313,9806650,360,-1,-1,"RCS4-SA6R-100-6-垂直",15,1,360]
[2314,9806650,720,-1,-1,"RCS4-SA6R-100-12-水平",15,1,720]
[2315,6864654.9999999991,720,-1,-1,"RCS4-SA6R-100-12-水平",20,0.7,720]
[2316,4903325,720,-1,-1,"RCS4-SA6R-100-12-水平",24,0.5,720]
[2317,2941995,720,-1,-1,"RCS4-SA6R-100-12-水平",30,0.3,720]
[2318,9806650,720,-1,-1,"RCS4-SA6R-100-12-垂直",8,1,720]
[2319,6864654.9999999991,720,-1,-1,"RCS4-SA6R-100-12-垂直",9,0.7,720]
[2320,9806650,1200,-1,-1,"RCS4-SA6R-100-20-水平",8,1,1200]
[2321,6864654.9999999991,1200,-1,-1,"RCS4-SA6R-100-20-水平",10,0.7,1200]
[2322,4903325,1200,-1,-1,"RCS4-SA6R-100-20-水平",15,0.5,1200]
[2323,2941995,1200,-1,-1,"RCS4-SA6R-100-20-水平",18,0.3,1200]
[2324,9806650,1200,-1,-1,"RCS4-SA6R-100-20-垂直",4,1,1200]
[2325,4903325,1200,-1,-1,"RCS4-SA6R-100-20-垂直",5,0.5,1200]
[2326,9806650,1600,-1,-1,"RCS4-SA6R-100-30-水平",4,1,1600]
[2327,6864654.9999999991,1600,-1,-1,"RCS4-SA6R-100-30-水平",6,0.7,1600]
[2328,2941995,1600,-1,-1,"RCS4-SA6R-100-30-水平",11,0.3,1600]
[2329,9806650,1600,-1,-1,"RCS4-SA6R-100-30-垂直",1.5,1,1600]
[2330,6864654.9999999991,1600,-1,-1,"RCS4-SA6R-100-30-垂直",2,0.7,1600]
[2331,2941995,1600,-1,-1,"RCS4-SA6R-100-30-垂直",3,0.3,1600]
[2332,6864654.9999999991,240,-1,-1,"RCS4-SA7R-200-4-水平",40,0.7,240]
[2333,{"$f":"H2336*$A$1*1000*1000","v":4903325},{"$f":"I2336","v":240},-1,-1,"RCS4-SA7R-200-4-水平",50,0.5,240]
[2334,6864654.9999999991,240,-1,-1,"RCS4-SA7R-200-4-垂直",20,0.7,240]
[2335,4903325,240,-1,-1,"RCS4-SA7R-200-4-垂直",25,0.5,240]
[2336,9806650,500,-1,-1,"RCS4-SA7R-200-8-水平",35,1,500]
[2337,6864654.9999999991,500,-1,-1,"RCS4-SA7R-200-8-水平",40,0.7,500]
[2338,2941995,500,-1,-1,"RCS4-SA7R-200-8-水平",45,0.3,500]
[2339,9806650,500,-1,-1,"RCS4-SA7R-200-8-垂直",16,1,500]
[2340,6864654.9999999991,500,-1,-1,"RCS4-SA7R-200-8-垂直",18,0.7,500]
[2341,9806650,1000,-1,-1,"RCS4-SA7R-200-16-水平",15,1,1000]
[2342,4903325,1000,-1,-1,"RCS4-SA7R-200-16-水平",30,0.5,1000]
[2343,2941995,1000,-1,-1,"RCS4-SA7R-200-16-水平",38,0.3,1000]
[2344,9806650,1000,-1,-1,"RCS4-SA7R-200-16-垂直",8,1,1000]
[2345,6864654.9999999991,1000,-1,-1,"RCS4-SA7R-200-16-垂直",10,0.7,1000]
[2346,4903325,1000,-1,-1,"RCS4-SA7R-200-16-垂直",12,0.5,1000]
[{"$f":"A2349+1","v":2347},9806650,1500,-1,-1,"RCS4-SA7R-200-24-水平",6,1,1500]
[2348,6864654.9999999991,1500,-1,-1,"RCS4-SA7R-200-24-水平",10,0.7,1500]
[2349,4903325,1500,-1,-1,"RCS4-SA7R-200-24-水平",12,0.5,1500]
[2350,2941995,1500,-1,-1,"RCS4-SA7R-200-24-水平",30,0.3,1500]
[2351,9806650,1500,-1,-1,"RCS4-SA7R-200-24-垂直",5,1,1500]
[2352,4903325,1500,-1,-1,"RCS4-SA7R-200-24-垂直",6,0.5,1500]
[2353,9806650,1800,-1,-1,"RCS4-SA7R-200-36-水平",4,1,1800]
[2354,6864654.9999999991,1800,-1,-1,"RCS4-SA7R-200-36-水平",6,0.7,1800]
[2355,4903325,1800,-1,-1,"RCS4-SA7R-200-36-水平",7,0.5,1800]
[2356,9806650,1800,-1,-1,"RCS4-SA7R-200-36-垂直",2,1,1800]
[2357,6864654.9999999991,1800,-1,-1,"RCS4-SA7R-200-36-垂直",3,0.7,1800]
[2358,4903325,1800,-1,-1,"RCS4-SA7R-200-36-垂直",4,0.5,1800]
[2359,6864654.9999999991,300,-1,-1,"RCS4-SA8R-400-5-水平",70,0.7,300]
[2360,4903325,300,-1,-1,"RCS4-SA8R-400-5-水平",90,0.5,300]
[2361,6864654.9999999991,300,-1,-1,"RCS4-SA8R-400-5-垂直",35,0.7,300]
[2362,4903325,300,-1,-1,"RCS4-SA8R-400-5-垂直",45,0.5,300]
[2363,9806650,600,-1,-1,"RCS4-SA8R-400-10-水平",60,1,600]
[2364,6864654.9999999991,600,-1,-1,"RCS4-SA8R-400-10-水平",70,0.7,600]
[2365,4903325,600,-1,-1,"RCS4-SA8R-400-10-水平",80,0.5,600]
[2366,9806650,600,-1,-1,"RCS4-SA8R-400-10-垂直",30,1,600]
[2367,6864654.9999999991,600,-1,-1,"RCS4-SA8R-400-10-垂直",35,0.7,600]
[2368,9806650,1200,-1,-1,"RCS4-SA8R-400-20-水平",20,1,1200]
[2369,6864654.9999999991,1200,-1,-1,"RCS4-SA8R-400-20-水平",30,0.7,1200]
[2370,4903325,1200,-1,-1,"RCS4-SA8R-400-20-水平",40,0.5,1200]
[2371,2941995,1200,-1,-1,"RCS4-SA8R-400-20-水平",60,0.3,1200]
[2372,9806650,1200,-1,-1,"RCS4-SA8R-400-20-垂直",15,1,1200]
[2373,6864654.9999999991,1200,-1,-1,"RCS4-SA8R-400-20-垂直",18,0.7,1200]
[2374,4903325,1200,-1,-1,"RCS4-SA8R-400-20-垂直",20,0.5,1200]
[2375,9806650,1800,-1,-1,"RCS4-SA8R-400-30-水平",15,1,1800]
[2376,6864654.9999999991,1800,-1,-1,"RCS4-SA8R-400-30-水平",20,0.7,1800]
[2377,4903325,1800,-1,-1,"RCS4-SA8R-400-30-水平",25,0.5,1800]
[2378,2941995,1800,-1,-1,"RCS4-SA8R-400-30-水平",30,0.3,1800]
[2379,9806650,1800,-1,-1,"RCS4-SA8R-400-30-垂直",8,1,1800]
[2380,6864654.9999999991,1800,-1,-1,"RCS4-SA8R-400-30-垂直",10,0.7,1800]
[2381,4903325,1800,-1,-1,"RCS4-SA8R-400-30-垂直",12,0.5,1800]
[2382,9806650,2100,-1,-1,"RCS4-SA8R-400-48-水平",5,1,2100]
[2383,6864654.9999999991,2100,-1,-1,"RCS4-SA8R-400-48-水平",6,0.7,2100]
[2384,4903325,2100,-1,-1,"RCS4-SA8R-400-48-水平",8,0.5,2100]
[2385,6864654.9999999991,150,-1,-1,"RCS4-WSA10R-60-2.5-水平",18,0.7,150]
[2386,4903325,150,-1,-1,"RCS4-WSA10R-60-2.5-水平",30,0.5,150]
[2387,2941995,150,-1,-1,"RCS4-WSA10R-60-2.5-水平",40,0.3,150]
[2388,6864654.9999999991,150,-1,-1,"RCS4-WSA10R-60-2.5-垂直",6,0.7,150]
[2389,4903325,150,-1,-1,"RCS4-WSA10R-60-2.5-垂直",10,0.5,150]
[2390,9806650,300,-1,-1,"RCS4-WSA10R-60-5-水平",18,1,300]
[2391,6864654.9999999991,300,-1,-1,"RCS4-WSA10R-60-5-水平",20,0.7,300]
[2392,4903325,300,-1,-1,"RCS4-WSA10R-60-5-水平",27,0.5,300]
[2393,9806650,300,-1,-1,"RCS4-WSA10R-60-5-垂直",5,1,300]
[2394,9806650,600,-1,-1,"RCS4-WSA10R-60-10-水平",12,1,600]
[2395,4903325,600,-1,-1,"RCS4-WSA10R-60-10-水平",16,0.5,600]
[2396,9806650,600,-1,-1,"RCS4-WSA10R-60-10-垂直",3,1,600]
[2397,{"$f":"H2400*$A$1*1000*1000","v":9806650},{"$f":"I2400","v":960},-1,-1,"RCS4-WSA10R-60-16-水平",4,1,960]
[2398,6864654.9999999991,960,-1,-1,"RCS4-WSA10R-60-16-水平",5,0.7,960]
[2399,4903325,960,-1,-1,"RCS4-WSA10R-60-16-水平",7,0.5,960]
[2400,6864654.9999999991,180,-1,-1,"RCS4-WSA12R-100-3-水平",15,0.7,180]
[2401,4903325,180,-1,-1,"RCS4-WSA12R-100-3-水平",30,0.5,180]
[2402,2941995,180,-1,-1,"RCS4-WSA12R-100-3-水平",55,0.3,180]
[2403,6864654.9999999991,180,-1,-1,"RCS4-WSA12R-100-3-垂直",6,0.7,180]
[2404,4903325,180,-1,-1,"RCS4-WSA12R-100-3-垂直",10,0.5,180]
[2405,2941995,180,-1,-1,"RCS4-WSA12R-100-3-垂直",15,0.3,180]
[2406,9806650,360,-1,-1,"RCS4-WSA12R-100-6-水平",20,1,360]
[2407,6864654.9999999991,360,-1,-1,"RCS4-WSA12R-100-6-水平",30,0.7,360]
[2408,4903325,360,-1,-1,"RCS4-WSA12R-100-6-水平",40,0.5,360]
[2409,2941995,360,-1,-1,"RCS4-WSA12R-100-6-水平",43,0.3,360]
[2410,9806650,360,-1,-1,"RCS4-WSA12R-100-6-垂直",10,1,360]
[{"$f":"A2413+1","v":2411},6864654.9999999991,360,-1,-1,"RCS4-WSA12R-100-6-垂直",12,0.7,360]
[2412,{"$f":"H2415*$A$1*1000*1000","v":4903325},360,-1,-1,"RCS4-WSA12R-100-6-垂直",15,0.5,360]
[2413,9806650,720,-1,-1,"RCS4-WSA12R-100-12-水平",15,1,720]
[2414,6864654.9999999991,720,-1,-1,"RCS4-WSA12R-100-12-水平",16,0.7,720]
[2415,4903325,720,-1,-1,"RCS4-WSA12R-100-12-水平",23,0.5,720]
[2416,9806650,720,-1,-1,"RCS4-WSA12R-100-12-垂直",6,1,720]
[2417,6864654.9999999991,720,-1,-1,"RCS4-WSA12R-100-12-垂直",8,0.7,720]
[2418,9806650,1200,-1,-1,"RCS4-WSA12R-100-20-水平",6,1,1200]
[2419,6864654.9999999991,1200,-1,-1,"RCS4-WSA12R-100-20-水平",8,0.7,1200]
[2420,4903325,1200,-1,-1,"RCS4-WSA12R-100-20-水平",10,0.5,1200]
[2421,2941995,1200,-1,-1,"RCS4-WSA12R-100-20-水平",13,0.3,1200]
[2422,9806650,1200,-1,-1,"RCS4-WSA12R-100-20-垂直",2,1,1200]
[2423,4903325,1200,-1,-1,"RCS4-WSA12R-100-20-垂直",3,0.5,1200]
[2424,9806650,1600,-1,-1,"RCS4-WSA12R-100-30-水平",4,1,1600]
[2425,6864654.9999999991,1600,-1,-1,"RCS4-WSA12R-100-30-水平",5,0.7,1600]
[2426,6864654.9999999991,240,-1,-1,"RCS4-WSA14R-200-4-水平",30,0.7,240]
[2427,4903325,240,-1,-1,"RCS4-WSA14R-200-4-水平",60,0.5,240]
[2428,2941995,240,-1,-1,"RCS4-WSA14R-200-4-水平",75,0.3,240]
[2429,6864654.9999999991,240,-1,-1,"RCS4-WSA14R-200-4-垂直",12,0.7,240]
[2430,4903325,240,-1,-1,"RCS4-WSA14R-200-4-垂直",20,0.5,240]
[2431,2941995,240,-1,-1,"RCS4-WSA14R-200-4-垂直",25,0.3,240]
[2432,9806650,480,-1,-1,"RCS4-WSA14R-200-8-水平",40,1,480]
[2433,4903325,480,-1,-1,"RCS4-WSA14R-200-8-水平",50,0.5,480]
[2434,2941995,480,-1,-1,"RCS4-WSA14R-200-8-水平",65,0.3,480]
[2435,9806650,480,-1,-1,"RCS4-WSA14R-200-8-垂直",10,1,480]
[2436,9806650,960,-1,-1,"RCS4-WSA14R-200-16-水平",20,1,960]
[2437,4903325,960,-1,-1,"RCS4-WSA14R-200-16-水平",30,0.5,960]
[2438,2941995,960,-1,-1,"RCS4-WSA14R-200-16-水平",45,0.3,960]
[2439,9806650,960,-1,-1,"RCS4-WSA14R-200-16-垂直",8,1,960]
[2440,9806650,1440,-1,-1,"RCS4-WSA14R-200-24-水平",10,1,1440]
[2441,6864654.9999999991,1440,-1,-1,"RCS4-WSA14R-200-24-水平",15,0.7,1440]
[2442,2941995,1440,-1,-1,"RCS4-WSA14R-200-24-水平",20,0.3,1440]
[2443,9806650,1440,-1,-1,"RCS4-WSA14R-200-24-垂直",2.5,1,1440]
[2444,9806650,1710,-1,-1,"RCS4-WSA14R-200-36-水平",4,1,1710]
[2445,6864654.9999999991,1710,-1,-1,"RCS4-WSA14R-200-36-水平",6,0.7,1710]
[2446,2941995,1710,-1,-1,"RCS4-WSA14R-200-36-水平",7,0.3,1710]
[2447,6864654.9999999991,300,-1,-1,"RCS4-WSA16R-400-5-水平",80,0.7,300]
[2448,4903325,300,-1,-1,"RCS4-WSA16R-400-5-水平",100,0.5,300]
[2449,6864654.9999999991,300,-1,-1,"RCS4-WSA16R-400-5-垂直",30,0.7,300]
[2450,4903325,300,-1,-1,"RCS4-WSA16R-400-5-垂直",45,0.5,300]
[2451,2941995,300,-1,-1,"RCS4-WSA16R-400-5-垂直",50,0.3,300]
[2452,9806650,600,-1,-1,"RCS4-WSA16R-400-10-水平",60,1,600]
[2453,6864654.9999999991,600,-1,-1,"RCS4-WSA16R-400-10-水平",70,0.7,600]
[2454,4903325,600,-1,-1,"RCS4-WSA16R-400-10-水平",80,0.5,600]
[2455,9806650,600,-1,-1,"RCS4-WSA16R-400-10-垂直",30,1,600]
[2456,6864654.9999999991,600,-1,-1,"RCS4-WSA16R-400-10-垂直",35,0.7,600]
[2457,9806650,1200,-1,-1,"RCS4-WSA16R-400-20-水平",22,1,1200]
[2458,6864654.9999999991,1200,-1,-1,"RCS4-WSA16R-400-20-水平",25,0.7,1200]
[2459,4903325,1200,-1,-1,"RCS4-WSA16R-400-20-水平",40,0.5,1200]
[2460,2941995,1200,-1,-1,"RCS4-WSA16R-400-20-水平",60,0.3,1200]
[2461,{"$f":"H2464*$A$1*1000*1000","v":9806650},{"$f":"I2464","v":1200},-1,-1,"RCS4-WSA16R-400-20-垂直",12,1,1200]
[2462,6864654.9999999991,1200,-1,-1,"RCS4-WSA16R-400-20-垂直",15,0.7,1200]
[2463,2941995,1200,-1,-1,"RCS4-WSA16R-400-20-垂直",18,0.3,1200]
[2464,9806650,1800,-1,-1,"RCS4-WSA16R-400-30-水平",10,1,1800]
[2465,6864654.9999999991,1800,-1,-1,"RCS4-WSA16R-400-30-水平",20,0.7,1800]
[2466,4903325,1800,-1,-1,"RCS4-WSA16R-400-30-水平",25,0.5,1800]
[2467,2941995,1800,-1,-1,"RCS4-WSA16R-400-30-水平",30,0.3,1800]
[2468,9806650,1800,-1,-1,"RCS4-WSA16R-400-30-垂直",8,1,1800]
[2469,4903325,1800,-1,-1,"RCS4-WSA16R-400-30-垂直",12,0.5,1800]
[2470,6864654.9999999991,150,-1,-1,"RCS4-TA4R(SB)-60-2.5-水平",5,0.7,150]
[2471,6864654.9999999991,150,-1,-1,"RCS4-TA4R(SB)-60-2.5-垂直",9,0.7,150]
[2472,9806650,300,-1,-1,"RCS4-TA4R(SB)-60-5-水平",5,1,300]
[2473,9806650,300,-1,-1,"RCS4-TA4R(SB)-60-5-垂直",6,1,300]
[2474,9806650,600,-1,-1,"RCS4-TA4R(SB)-60-10-水平",5,1,600]
[{"$f":"A2477+1","v":2475},9806650,600,-1,-1,"RCS4-TA4R(SB)-60-10-垂直",3,1,600]
[2476,9806650,800,-1,-1,"RCS4-TA4R(SB)-60-16-水平",4,1,800]
[2477,9806650,800,-1,-1,"RCS4-TA4R(SB)-60-16-垂直",1.5,1,800]
[2478,6864654.9999999991,180,-1,-1,"RCS4-TA6R(SB)-100-3-水平",8,0.7,180]
[2479,4903325,180,-1,-1,"RCS4-TA6R(SB)-100-3-水平",10,0.5,180]
[2480,6864654.9999999991,180,-1,-1,"RCS4-TA6R(SB)-100-3-垂直",8,0.7,180]
[2481,4903325,180,-1,-1,"RCS4-TA6R(SB)-100-3-垂直",10,0.5,180]
[2482,9806650,360,-1,-1,"RCS4-TA6R(SB)-100-6-水平",8,1,360]
[2483,9806650,360,-1,-1,"RCS4-TA6R(SB)-100-6-垂直",8,1,360]
[2484,4903325,360,-1,-1,"RCS4-TA6R(SB)-100-6-垂直",10,0.5,360]
[2485,9806650,720,-1,-1,"RCS4-TA6R(SB)-100-12-水平",8,1,720]
[2486,9806650,720,-1,-1,"RCS4-TA6R(SB)-100-12-垂直",6,1,720]
[2487,9806650,1000,-1,-1,"RCS4-TA6R(SB)-100-20-水平",6,1,1000]
[2488,6864654.9999999991,1000,-1,-1,"RCS4-TA6R(SB)-100-20-水平",8,0.7,1000]
[2489,9806650,1000,-1,-1,"RCS4-TA6R(SB)-100-20-垂直",3,1,1000]
[2490,4903325,1000,-1,-1,"RCS4-TA6R(SB)-100-20-垂直",4,0.5,1000]
[2491,6864654.9999999991,240,-1,-1,"RCS4-TA7R(SB)-200-4-水平",15,0.7,240]
[2492,6864654.9999999991,240,-1,-1,"RCS4-TA7R(SB)-200-4-垂直",20,0.7,240]
[2493,9806650,480,-1,-1,"RCS4-TA7R(SB)-200-8-水平",15,1,480]
[2494,9806650,480,-1,-1,"RCS4-TA7R(SB)-200-8-垂直",18,1,480]
[2495,9806650,960,-1,-1,"RCS4-TA7R(SB)-200-16-水平",15,1,960]
[2496,9806650,960,-1,-1,"RCS4-TA7R(SB)-200-16-垂直",8,1,960]
[2497,4903325,960,-1,-1,"RCS4-TA7R(SB)-200-16-垂直",10,0.5,960]
[2498,9806650,1200,-1,-1,"RCS4-TA7R(SB)-200-24-水平",10,1,1200]
[2499,6864654.9999999991,1200,-1,-1,"RCS4-TA7R(SB)-200-24-水平",12,0.7,1200]
[2500,9806650,1200,-1,-1,"RCS4-TA7R(SB)-200-24-垂直",4,1,1200]
[2501,4903325,1200,-1,-1,"RCS4-TA7R(SB)-200-24-垂直",5,0.5,1200]
[2502,6864654.9999999991,150,-1,-1,"RCS4-TA4R(DB)-60-2.5-水平",10,0.7,150]
[2503,6864654.9999999991,150,-1,-1,"RCS4-TA4R(DB)-60-2.5-垂直",9,0.7,150]
[2504,9806650,300,-1,-1,"RCS4-TA4R(DB)-60-5-水平",8,1,300]
[2505,6864654.9999999991,300,-1,-1,"RCS4-TA4R(DB)-60-5-水平",10,0.7,300]
[2506,9806650,300,-1,-1,"RCS4-TA4R(DB)-60-5-垂直",6,1,300]
[2507,9806650,600,-1,-1,"RCS4-TA4R(DB)-60-10-水平",6,1,600]
[2508,6864654.9999999991,600,-1,-1,"RCS4-TA4R(DB)-60-10-水平",8,0.7,600]
[2509,9806650,600,-1,-1,"RCS4-TA4R(DB)-60-10-垂直",3,1,600]
[2510,6864654.9999999991,180,-1,-1,"RCS4-TA6R(DB)-100-3-水平",20,0.7,180]
[2511,6864654.9999999991,180,-1,-1,"RCS4-TA6R(DB)-100-3-垂直",12,0.7,180]
[2512,9806650,360,-1,-1,"RCS4-TA6R(DB)-100-6-水平",20,1,360]
[2513,9806650,360,-1,-1,"RCS4-TA6R(DB)-100-6-垂直",10,1,360]
[2514,9806650,720,-1,-1,"RCS4-TA6R(DB)-100-12-水平",14,1,720]
[2515,9806650,720,-1,-1,"RCS4-TA6R(DB)-100-12-垂直",6,1,720]
[2516,6864654.9999999991,240,-1,-1,"RCS4-TA7R(DB)-200-4-水平",30,0.7,240]
[2517,6864654.9999999991,240,-1,-1,"RCS4-TA7R(DB)-200-4-垂直",24,0.7,240]
[2518,9806650,480,-1,-1,"RCS4-TA7R(DB)-200-8-水平",25,1,480]
[2519,4903325,480,-1,-1,"RCS4-TA7R(DB)-200-8-水平",30,0.5,480]
[2520,9806650,480,-1,-1,"RCS4-TA7R(DB)-200-8-垂直",18,1,480]
[2521,9806650,960,-1,-1,"RCS4-TA7R(DB)-200-16-水平",20,1,960]
[2522,4903325,960,-1,-1,"RCS4-TA7R(DB)-200-16-水平",25,0.5,960]
[2523,9806650,960,-1,-1,"RCS4-TA7R(DB)-200-16-垂直",8,1,960]
[2524,6864654.9999999991,150,-1,-1,"RCS4-RRA4R-60-2.5-水平",35,0.7,150]
[2525,{"$f":"H2528*$A$1*1000*1000","v":4903325},{"$f":"I2528","v":150},-1,-1,"RCS4-RRA4R-60-2.5-水平",40,0.5,150]
[2526,6864654.9999999991,150,-1,-1,"RCS4-RRA4R-60-2.5-垂直",10,0.7,150]
[2527,9806650,300,-1,-1,"RCS4-RRA4R-60-5-水平",20,1,300]
[2528,6864654.9999999991,300,-1,-1,"RCS4-RRA4R-60-5-水平",25,0.7,300]
[2529,4903325,300,-1,-1,"RCS4-RRA4R-60-5-水平",30,0.5,300]
[2530,9806650,300,-1,-1,"RCS4-RRA4R-60-5-垂直",6,1,300]
[2531,9806650,600,-1,-1,"RCS4-RRA4R-60-10-水平",12,1,600]
[2532,4903325,600,-1,-1,"RCS4-RRA4R-60-10-水平",15,0.5,600]
[2533,2941995,600,-1,-1,"RCS4-RRA4R-60-10-水平",18,0.3,600]
[2534,9806650,600,-1,-1,"RCS4-RRA4R-60-10-垂直",4,1,600]
[2535,9806650,960,-1,-1,"RCS4-RRA4R-60-16-水平",5,1,960]
[2536,6864654.9999999991,960,-1,-1,"RCS4-RRA4R-60-16-水平",6,0.7,960]
[2537,4903325,960,-1,-1,"RCS4-RRA4R-60-16-水平",8,0.5,960]
[2538,9806650,960,-1,-1,"RCS4-RRA4R-60-16-垂直",2,1,960]
[{"$f":"A2541+1","v":2539},6864654.9999999991,180,-1,-1,"RCS4-RRA6R-100-3-水平",40,0.7,180]
[2540,4903325,180,-1,-1,"RCS4-RRA6R-100-3-水平",50,0.5,180]
[2541,2941995,180,-1,-1,"RCS4-RRA6R-100-3-水平",60,0.3,180]
[2542,6864654.9999999991,180,-1,-1,"RCS4-RRA6R-100-3-垂直",20,0.7,180]
[2543,9806650,360,-1,-1,"RCS4-RRA6R-100-6-水平",25,1,360]
[2544,6864654.9999999991,360,-1,-1,"RCS4-RRA6R-100-6-水平",30,0.7,360]
[2545,4903325,360,-1,-1,"RCS4-RRA6R-100-6-水平",45,0.5,360]
[2546,2941995,360,-1,-1,"RCS4-RRA6R-100-6-水平",50,0.3,360]
[2547,9806650,360,-1,-1,"RCS4-RRA6R-100-6-垂直",12,1,360]
[2548,4903325,360,-1,-1,"RCS4-RRA6R-100-6-垂直",15,0.5,360]
[2549,2941995,360,-1,-1,"RCS4-RRA6R-100-6-垂直",19,0.3,360]
[2550,9806650,720,-1,-1,"RCS4-RRA6R-100-12-水平",12,1,720]
[2551,6864654.9999999991,720,-1,-1,"RCS4-RRA6R-100-12-水平",20,0.7,720]
[2552,2941995,720,-1,-1,"RCS4-RRA6R-100-12-水平",25,0.3,720]
[2553,9806650,720,-1,-1,"RCS4-RRA6R-100-12-垂直",6,1,720]
[2554,6864654.9999999991,720,-1,-1,"RCS4-RRA6R-100-12-垂直",8,0.7,720]
[2555,2941995,720,-1,-1,"RCS4-RRA6R-100-12-垂直",9,0.3,720]
[2556,9806650,1200,-1,-1,"RCS4-RRA6R-100-20-水平",6,1,1200]
[2557,6864654.9999999991,1200,-1,-1,"RCS4-RRA6R-100-20-水平",8,0.7,1200]
[2558,4903325,1200,-1,-1,"RCS4-RRA6R-100-20-水平",10,0.5,1200]
[2559,2941995,1200,-1,-1,"RCS4-RRA6R-100-20-水平",15,0.3,1200]
[2560,9806650,1200,-1,-1,"RCS4-RRA6R-100-20-垂直",3,1,1200]
[2561,4903325,1200,-1,-1,"RCS4-RRA6R-100-20-垂直",4,0.5,1200]
[2562,6864654.9999999991,240,-1,-1,"RCS4-RRA7R-200-4-水平",60,0.7,240]
[2563,4903325,240,-1,-1,"RCS4-RRA7R-200-4-水平",70,0.5,240]
[2564,2941995,240,-1,-1,"RCS4-RRA7R-200-4-水平",80,0.3,240]
[2565,6864654.9999999991,240,-1,-1,"RCS4-RRA7R-200-4-垂直",30,0.7,240]
[2566,4903325,240,-1,-1,"RCS4-RRA7R-200-4-垂直",35,0.5,240]
[2567,9806650,480,-1,-1,"RCS4-RRA7R-200-8-水平",40,1,480]
[2568,4903325,480,-1,-1,"RCS4-RRA7R-200-8-水平",50,0.5,480]
[2569,2941995,480,-1,-1,"RCS4-RRA7R-200-8-水平",60,0.3,480]
[2570,9806650,480,-1,-1,"RCS4-RRA7R-200-8-垂直",20,1,480]
[2571,4903325,480,-1,-1,"RCS4-RRA7R-200-8-垂直",25,0.5,480]
[2572,9806650,960,-1,-1,"RCS4-RRA7R-200-16-水平",20,1,960]
[2573,6864654.9999999991,960,-1,-1,"RCS4-RRA7R-200-16-水平",25,0.7,960]
[2574,4903325,960,-1,-1,"RCS4-RRA7R-200-16-水平",30,0.5,960]
[2575,2941995,960,-1,-1,"RCS4-RRA7R-200-16-水平",45,0.3,960]
[2576,9806650,960,-1,-1,"RCS4-RRA7R-200-16-垂直",8,1,960]
[2577,6864654.9999999991,960,-1,-1,"RCS4-RRA7R-200-16-垂直",10,0.7,960]
[2578,4903325,960,-1,-1,"RCS4-RRA7R-200-16-垂直",12,0.5,960]
[2579,9806650,1440,-1,-1,"RCS4-RRA7R-200-24-水平",10,1,1440]
[2580,4903325,1440,-1,-1,"RCS4-RRA7R-200-24-水平",15,0.5,1440]
[2581,2941995,1440,-1,-1,"RCS4-RRA7R-200-24-水平",20,0.3,1440]
[2582,9806650,1440,-1,-1,"RCS4-RRA7R-200-24-垂直",4,1,1440]
[2583,6864654.9999999991,1440,-1,-1,"RCS4-RRA7R-200-24-垂直",6,0.7,1440]
[2584,6864654.9999999991,275,-1,-1,"RCS4-RRA8R-400-5-水平",60,0.7,275]
[2585,4903325,275,-1,-1,"RCS4-RRA8R-400-5-水平",80,0.5,275]
[2586,2941995,275,-1,-1,"RCS4-RRA8R-400-5-水平",100,0.3,275]
[2587,6864654.9999999991,275,-1,-1,"RCS4-RRA8R-400-5-垂直",25,0.7,275]
[2588,4903325,275,-1,-1,"RCS4-RRA8R-400-5-垂直",40,0.5,275]
[2589,{"$f":"H2592*$A$1*1000*1000","v":2941995},{"$f":"I2592","v":275},-1,-1,"RCS4-RRA8R-400-5-垂直",50,0.3,275]
[2590,1961330,275,-1,-1,"RCS4-RRA8R-400-5-垂直",72,0.2,275]
[2591,9806650,550,-1,-1,"RCS4-RRA8R-400-10-水平",60,1,550]
[2592,6864654.9999999991,550,-1,-1,"RCS4-RRA8R-400-10-水平",70,0.7,550]
[2593,4903325,550,-1,-1,"RCS4-RRA8R-400-10-水平",80,0.5,550]
[2594,9806650,550,-1,-1,"RCS4-RRA8R-400-10-垂直",20,1,550]
[2595,6864654.9999999991,550,-1,-1,"RCS4-RRA8R-400-10-垂直",30,0.7,550]
[2596,2941995,550,-1,-1,"RCS4-RRA8R-400-10-垂直",34,0.3,550]
[2597,9806650,1000,-1,-1,"RCS4-RRA8R-400-20-水平",20,1,1000]
[2598,6864654.9999999991,1000,-1,-1,"RCS4-RRA8R-400-20-水平",25,0.7,1000]
[2599,4903325,1000,-1,-1,"RCS4-RRA8R-400-20-水平",40,0.5,1000]
[2600,2941995,1000,-1,-1,"RCS4-RRA8R-400-20-水平",60,0.3,1000]
[2601,9806650,1000,-1,-1,"RCS4-RRA8R-400-20-垂直",12,1,1000]
[2602,6864654.9999999991,1000,-1,-1,"RCS4-RRA8R-400-20-垂直",15,0.7,1000]
[{"$f":"A2605+1","v":2603},4903325,1000,-1,-1,"RCS4-RRA8R-400-20-垂直",17,0.5,1000]
[2604,9806650,1300,-1,-1,"RCS4-RRA8R-400-30-水平",10,1,1300]
[2605,6864654.9999999991,1300,-1,-1,"RCS4-RRA8R-400-30-水平",15,0.7,1300]
[2606,4903325,1300,-1,-1,"RCS4-RRA8R-400-30-水平",20,0.5,1300]
[2607,2941995,1300,-1,-1,"RCS4-RRA8R-400-30-水平",30,0.3,1300]
[2608,9806650,1300,-1,-1,"RCS4-RRA8R-400-30-垂直",6,1,1300]
[2609,6864654.9999999991,1300,-1,-1,"RCS4-RRA8R-400-30-垂直",8,0.7,1300]
[2610,6864654.9999999991,150,-1,-1,"RCS4-WRA10R-60-2.5-水平",25,0.7,150]
[2611,4903325,150,-1,-1,"RCS4-WRA10R-60-2.5-水平",35,0.5,150]
[2612,2941995,150,-1,-1,"RCS4-WRA10R-60-2.5-水平",40,0.3,150]
[2613,6864654.9999999991,150,-1,-1,"RCS4-WRA10R-60-2.5-垂直",8,0.7,150]
[2614,2941995,150,-1,-1,"RCS4-WRA10R-60-2.5-垂直",10,0.3,150]
[2615,9806650,300,-1,-1,"RCS4-WRA10R-60-5-水平",10,1,300]
[2616,6864654.9999999991,300,-1,-1,"RCS4-WRA10R-60-5-水平",15,0.7,300]
[2617,4903325,300,-1,-1,"RCS4-WRA10R-60-5-水平",20,0.5,300]
[2618,2941995,300,-1,-1,"RCS4-WRA10R-60-5-水平",25,0.3,300]
[2619,9806650,300,-1,-1,"RCS4-WRA10R-60-5-垂直",5,1,300]
[2620,9806650,600,-1,-1,"RCS4-WRA10R-60-10-水平",6,1,600]
[2621,6864654.9999999991,600,-1,-1,"RCS4-WRA10R-60-10-水平",9,0.7,600]
[2622,4903325,600,-1,-1,"RCS4-WRA10R-60-10-水平",13,0.5,600]
[2623,9806650,600,-1,-1,"RCS4-WRA10R-60-10-垂直",2,1,600]
[2624,4903325,600,-1,-1,"RCS4-WRA10R-60-10-垂直",2.5,0.5,600]
[2625,9806650,800,-1,-1,"RCS4-WRA10R-60-16-水平",3,1,800]
[2626,6864654.9999999991,800,-1,-1,"RCS4-WRA10R-60-16-水平",4,0.7,800]
[2627,4903325,800,-1,-1,"RCS4-WRA10R-60-16-水平",5,0.5,800]
[2628,6864654.9999999991,180,-1,-1,"RCS4-WRA12R-100-3-水平",40,0.7,180]
[2629,4903325,180,-1,-1,"RCS4-WRA12R-100-3-水平",50,0.5,180]
[2630,2941995,180,-1,-1,"RCS4-WRA12R-100-3-水平",60,0.3,180]
[2631,6864654.9999999991,180,-1,-1,"RCS4-WRA12R-100-3-垂直",20,0.7,180]
[2632,9806650,360,-1,-1,"RCS4-WRA12R-100-6-水平",25,1,360]
[2633,6864654.9999999991,360,-1,-1,"RCS4-WRA12R-100-6-水平",30,0.7,360]
[2634,4903325,360,-1,-1,"RCS4-WRA12R-100-6-水平",40,0.5,360]
[2635,9806650,360,-1,-1,"RCS4-WRA12R-100-6-垂直",12,1,360]
[2636,4903325,360,-1,-1,"RCS4-WRA12R-100-6-垂直",15,0.5,360]
[2637,9806650,720,-1,-1,"RCS4-WRA12R-100-12-水平",15,1,720]
[2638,6864654.9999999991,720,-1,-1,"RCS4-WRA12R-100-12-水平",20,0.7,720]
[2639,4903325,720,-1,-1,"RCS4-WRA12R-100-12-水平",25,0.5,720]
[2640,9806650,720,-1,-1,"RCS4-WRA12R-100-12-垂直",5,1,720]
[2641,6864654.9999999991,720,-1,-1,"RCS4-WRA12R-100-12-垂直",6,0.7,720]
[2642,9806650,1000,-1,-1,"RCS4-WRA12R-100-20-水平",6,1,1000]
[2643,6864654.9999999991,1000,-1,-1,"RCS4-WRA12R-100-20-水平",8,0.7,1000]
[2644,4903325,1000,-1,-1,"RCS4-WRA12R-100-20-水平",10,0.5,1000]
[2645,2941995,1000,-1,-1,"RCS4-WRA12R-100-20-水平",12,0.3,1000]
[2646,9806650,1000,-1,-1,"RCS4-WRA12R-100-20-垂直",1.5,1,1000]
[2647,4903325,1000,-1,-1,"RCS4-WRA12R-100-20-垂直",2,0.5,1000]
[2648,6864654.9999999991,240,-1,-1,"RCS4-WRA14R-200-4-水平",60,0.7,240]
[2649,4903325,240,-1,-1,"RCS4-WRA14R-200-4-水平",70,0.5,240]
[2650,2941995,240,-1,-1,"RCS4-WRA14R-200-4-水平",85,0.3,240]
[2651,6864654.9999999991,240,-1,-1,"RCS4-WRA14R-200-4-垂直",30,0.7,240]
[2652,9806650,480,-1,-1,"RCS4-WRA14R-200-8-水平",40,1,480]
[2653,{"$f":"H2656*$A$1*1000*1000","v":4903325},{"$f":"I2656","v":480},-1,-1,"RCS4-WRA14R-200-8-水平",50,0.5,480]
[2654,2941995,480,-1,-1,"RCS4-WRA14R-200-8-水平",65,0.3,480]
[2655,9806650,480,-1,-1,"RCS4-WRA14R-200-8-垂直",20,1,480]
[2656,9806650,800,-1,-1,"RCS4-WRA14R-200-16-水平",20,1,800]
[2657,6864654.9999999991,800,-1,-1,"RCS4-WRA14R-200-16-水平",25,0.7,800]
[2658,4903325,800,-1,-1,"RCS4-WRA14R-200-16-水平",30,0.5,800]
[2659,2941995,800,-1,-1,"RCS4-WRA14R-200-16-水平",50,0.3,800]
[2660,9806650,800,-1,-1,"RCS4-WRA14R-200-16-垂直",6,1,800]
[2661,2941995,800,-1,-1,"RCS4-WRA14R-200-16-垂直",8,0.3,800]
[2662,9806650,1200,-1,-1,"RCS4-WRA14R-200-24-水平",6,1,1200]
[2663,6864654.9999999991,1200,-1,-1,"RCS4-WRA14R-200-24-水平",10,0.7,1200]
[2664,4903325,1200,-1,-1,"RCS4-WRA14R-200-24-水平",15,0.5,1200]
[2665,2941995,1200,-1,-1,"RCS4-WRA14R-200-24-水平",25,0.3,1200]
[2666,9806650,1200,-1,-1,"RCS4-WRA14R-200-24-垂直",2,1,1200]
[{"$f":"A2669+1","v":2667},4903325,1200,-1,-1,"RCS4-WRA14R-200-24-垂直",3,0.5,1200]
[2668,6864654.9999999991,250,-1,-1,"RCS4-WRA16R-400-5-水平",60,0.7,250]
[2669,4903325,250,-1,-1,"RCS4-WRA16R-400-5-水平",80,0.5,250]
[2670,2941995,250,-1,-1,"RCS4-WRA16R-400-5-水平",100,0.3,250]
[2671,6864654.9999999991,250,-1,-1,"RCS4-WRA16R-400-5-垂直",25,0.7,250]
[2672,4903325,250,-1,-1,"RCS4-WRA16R-400-5-垂直",30,0.5,250]
[2673,2941995,250,-1,-1,"RCS4-WRA16R-400-5-垂直",50,0.3,250]
[2674,9806650,500,-1,-1,"RCS4-WRA16R-400-10-水平",60,1,500]
[2675,6864654.9999999991,500,-1,-1,"RCS4-WRA16R-400-10-水平",70,0.7,500]
[2676,4903325,500,-1,-1,"RCS4-WRA16R-400-10-水平",80,0.5,500]
[2677,9806650,500,-1,-1,"RCS4-WRA16R-400-10-垂直",20,1,500]
[2678,6864654.9999999991,500,-1,-1,"RCS4-WRA16R-400-10-垂直",35,0.7,500]
[2679,{"$f":"H2682*$A$1*1000*1000","v":9806650},{"$f":"I2682","v":1000},-1,-1,"RCS4-WRA16R-400-20-水平",20,1,1000]
[2680,6864654.9999999991,1000,-1,-1,"RCS4-WRA16R-400-20-水平",25,0.7,1000]
[2681,4903325,1000,-1,-1,"RCS4-WRA16R-400-20-水平",40,0.5,1000]
[2682,2941995,1000,-1,-1,"RCS4-WRA16R-400-20-水平",60,0.3,1000]
[2683,9806650,1000,-1,-1,"RCS4-WRA16R-400-20-垂直",10,1,1000]
[2684,4903325,1000,-1,-1,"RCS4-WRA16R-400-20-垂直",12,0.5,1000]
[2685,9806650,1300,-1,-1,"RCS4-WRA16R-400-30-水平",8,1,1300]
[2686,6864654.9999999991,1300,-1,-1,"RCS4-WRA16R-400-30-水平",15,0.7,1300]
[2687,4903325,1300,-1,-1,"RCS4-WRA16R-400-30-水平",20,0.5,1300]
[2688,2941995,1300,-1,-1,"RCS4-WRA16R-400-30-水平",30,0.3,1300]
[2689,9806650,1300,-1,-1,"RCS4-WRA16R-400-30-垂直",3,1,1300]
[2690,6864654.9999999991,1300,-1,-1,"RCS4-WRA16R-400-30-垂直",4,0.7,1300]
[2691,4903325,1300,-1,-1,"RCS4-WRA16R-400-30-垂直",5,0.5,1300]
[2692,2941995,1300,-1,-1,"RCS4-WRA16R-400-30-垂直",6,0.3,1300]
[2693,5883990,600,-1,-1,"ISB-WXM-750-10-水平",100,0.6,600,"↓ Ver3.12 ISB-WXM/WXMXは垂直搬送重量変更の為上書き"]
[2694,4903325,600,-1,-1,"ISB-WXM-750-10-水平",120,0.5,600]
[2695,3922660,600,-1,-1,"ISB-WXM-750-10-水平",150,0.4,600]
[2696,1961330,600,-1,2697,"ISB-WXM-750-10-水平",200,0.2,600]
[2697,2941995,600,2696,-1,"ISB-WXM-750-10-水平",200,0.3,600]
[2698,4903325,600,-1,-1,"ISB-WXM-750-10-垂直",50,0.5,600]
[2699,3922660,600,-1,-1,"ISB-WXM-750-10-垂直",60,0.4,600]
[2700,1961330,600,-1,2701,"ISB-WXM-750-10-垂直",65,0.2,600]
[2701,2941995,600,2700,-1,"ISB-WXM-750-10-垂直",65,0.3,600]
[2702,11767980,1250,-1,-1,"ISB-WXM-750-25-水平",30,1.2,1250]
[2703,10787315,1250,-1,-1,"ISB-WXM-750-25-水平",36,1.1000000000000001,1250]
[2704,9806650,1250,-1,-1,"ISB-WXM-750-25-水平",46,1,1250]
[2705,8825985,1250,-1,-1,"ISB-WXM-750-25-水平",54,0.9,1250]
[2706,7845320,1250,-1,-1,"ISB-WXM-750-25-水平",60,0.8,1250]
[2707,6864655,1250,-1,-1,"ISB-WXM-750-25-水平",68,0.7,1250]
[2708,5883990,1250,-1,-1,"ISB-WXM-750-25-水平",80,0.6,1250]
[2709,4903325,1250,-1,-1,"ISB-WXM-750-25-水平",96,0.5,1250]
[2710,3922660,1250,-1,-1,"ISB-WXM-750-25-水平",120,0.4,1250]
[2711,1961330,1250,-1,2712,"ISB-WXM-750-25-水平",160,0.2,1250]
[2712,2941995,1250,2711,-1,"ISB-WXM-750-25-水平",160,0.3,1250]
[2713,9806650,1250,-1,-1,"ISB-WXM-750-25-垂直",20,1,1250]
[2714,8825985,1250,-1,-1,"ISB-WXM-750-25-垂直",22,0.9,1250]
[2715,7845320,1250,-1,-1,"ISB-WXM-750-25-垂直",24,0.8,1250]
[2716,6864655,1250,-1,-1,"ISB-WXM-750-25-垂直",26,0.7,1250]
[2717,5883990,1250,-1,-1,"ISB-WXM-750-25-垂直",29,0.6,1250]
[2718,4903325,1250,-1,-1,"ISB-WXM-750-25-垂直",31,0.5,1250]
[2719,1961330,1250,-1,2720,"ISB-WXM-750-25-垂直",32,0.2,1250]
[2720,2941995,1250,2719,2721,"ISB-WXM-750-25-垂直",32,0.3,1250]
[2721,3922660,1250,2720,-1,"ISB-WXM-750-25-垂直",32,0.4,1250]
[2722,11767980,2500,-1,-1,"ISB-WXM-750-50-水平",15,1.2,2500]
[2723,10787315,2500,-1,-1,"ISB-WXM-750-50-水平",18,1.1000000000000001,2500]
[2724,9806650,2500,-1,-1,"ISB-WXM-750-50-水平",23,1,2500]
[2725,8825985,2500,-1,-1,"ISB-WXM-750-50-水平",27,0.9,2500]
[2726,7845320,2500,-1,-1,"ISB-WXM-750-50-水平",30,0.8,2500]
[2727,6864655,2500,-1,-1,"ISB-WXM-750-50-水平",34,0.7,2500]
[2728,5883990,2500,-1,-1,"ISB-WXM-750-50-水平",40,0.6,2500]
[2729,4903325,2500,-1,-1,"ISB-WXM-750-50-水平",48,0.5,2500]
[2730,3922660,2500,-1,-1,"ISB-WXM-750-50-水平",60,0.4,2500]
[2731,1961330,2500,-1,2732,"ISB-WXM-750-50-水平",80,0.2,2500]
[2732,2941995,2500,2731,-1,"ISB-WXM-750-50-水平",80,0.3,2500]
[2733,9806650,2500,-1,-1,"ISB-WXM-750-50-垂直",10,1,2500]
[2734,8825985,2500,-1,-1,"ISB-WXM-750-50-垂直",11,0.9,2500]
[2735,7845320,2500,-1,-1,"ISB-WXM-750-50-垂直",12,0.8,2500]
[2736,6864655,2500,-1,-1,"ISB-WXM-750-50-垂直",13,0.7,2500]
[2737,1961330,2500,-1,2738,"ISB-WXM-750-50-垂直",14,0.2,2500]
[2738,2941995,2500,2737,2739,"ISB-WXM-750-50-垂直",14,0.3,2500]
[2739,3922660,2500,2738,2740,"ISB-WXM-750-50-垂直",14,0.4,2500]
[2740,4903325,2500,2739,2741,"ISB-WXM-750-50-垂直",14,0.5,2500]
[2741,5883990,2500,2740,-1,"ISB-WXM-750-50-垂直",14,0.6,2500]
[2742,5883990,600,-1,-1,"ISPB-WXM-750-HLA-10-水平",135,0.6,600]
[2743,4903325,600,-1,-1,"ISPB-WXM-750-HLA-10-水平",160,0.5,600]
[2744,3922660,600,-1,-1,"ISPB-WXM-750-HLA-10-水平",200,0.4,600]
[2745,2941995,600,-1,-1,"ISPB-WXM-750-HLA-10-水平",265,0.3,600]
[2746,1961330,600,-1,-1,"ISPB-WXM-750-HLA-10-水平",400,0.2,600]
[2747,4903325,600,-1,-1,"ISPB-WXM-750-HLA-10-垂直",64,0.5,600]
[2748,3922660,600,-1,-1,"ISPB-WXM-750-HLA-10-垂直",68,0.4,600]
[2749,1961330,600,-1,2750,"ISPB-WXM-750-HLA-10-垂直",80,0.2,600]
[2750,2941995,600,2749,-1,"ISPB-WXM-750-HLA-10-垂直",80,0.3,600]
[2751,11767980,1250,-1,-1,"ISB-WXMX-750-25-水平",30,1.2,1250]
[2752,10787315,1250,-1,-1,"ISB-WXMX-750-25-水平",36,1.1000000000000001,1250]
[2753,9806650,1250,-1,-1,"ISB-WXMX-750-25-水平",46,1,1250]
[2754,8825985,1250,-1,-1,"ISB-WXMX-750-25-水平",54,0.9,1250]
[2755,7845320,1250,-1,-1,"ISB-WXMX-750-25-水平",60,0.8,1250]
[2756,6864655,1250,-1,-1,"ISB-WXMX-750-25-水平",68,0.7,1250]
[2757,5883990,1250,-1,-1,"ISB-WXMX-750-25-水平",80,0.6,1250]
[2758,4903325,1250,-1,-1,"ISB-WXMX-750-25-水平",96,0.5,1250]
[2759,3922660,1250,-1,-1,"ISB-WXMX-750-25-水平",120,0.4,1250]
[2760,1961330,1250,-1,2761,"ISB-WXMX-750-25-水平",160,0.2,1250]
[2761,2941995,1250,2760,-1,"ISB-WXMX-750-25-水平",160,0.3,1250]
[2762,11767980,2500,-1,-1,"ISB-WXMX-750-50-水平",15,1.2,2500]
[2763,10787315,2500,-1,-1,"ISB-WXMX-750-50-水平",18,1.1000000000000001,2500]
[2764,9806650,2500,-1,-1,"ISB-WXMX-750-50-水平",23,1,2500]
[2765,8825985,2500,-1,-1,"ISB-WXMX-750-50-水平",27,0.9,2500]
[2766,7845320,2500,-1,-1,"ISB-WXMX-750-50-水平",30,0.8,2500]
[2767,6864655,2500,-1,-1,"ISB-WXMX-750-50-水平",34,0.7,2500]
[2768,5883990,2500,-1,-1,"ISB-WXMX-750-50-水平",40,0.6,2500]
[2769,4903325,2500,-1,-1,"ISB-WXMX-750-50-水平",48,0.5,2500]
[2770,3922660,2500,-1,-1,"ISB-WXMX-750-50-水平",60,0.4,2500]
[2771,1961330,2500,-1,2772,"ISB-WXMX-750-50-水平",80,0.2,2500]
[2772,2941995,2500,2771,-1,"ISB-WXMX-750-50-水平",80,0.3,2500]
[2773,5883990,600,-1,-1,"ISB-WXM-750-W-10-水平",90,0.6,600]
[2774,4903325,600,-1,-1,"ISB-WXM-750-W-10-水平",110,0.5,600]
[2775,3922660,600,-1,-1,"ISB-WXM-750-W-10-水平",140,0.4,600]
[2776,1961330,600,-1,2777,"ISB-WXM-750-W-10-水平",190,0.2,600]
[2777,2941995,600,2776,-1,"ISB-WXM-750-W-10-水平",190,0.3,600]
[2778,4903325,600,-1,-1,"ISB-WXM-750-W-10-垂直",40,0.5,600]
[2779,3922660,600,-1,-1,"ISB-WXM-750-W-10-垂直",50,0.4,600]
[2780,1961330,600,-1,2781,"ISB-WXM-750-W-10-垂直",56,0.2,600]
[2781,2941995,600,2780,-1,"ISB-WXM-750-W-10-垂直",56,0.3,600]
[2782,11767980,1250,-1,-1,"ISB-WXM-750-W-25-水平",20,1.2,1250]
[2783,10787315,1250,-1,-1,"ISB-WXM-750-W-25-水平",26,1.1000000000000001,1250]
[2784,9806650,1250,-1,-1,"ISB-WXM-750-W-25-水平",36,1,1250]
[2785,8825985,1250,-1,-1,"ISB-WXM-750-W-25-水平",44,0.9,1250]
[2786,7845320,1250,-1,-1,"ISB-WXM-750-W-25-水平",50,0.8,1250]
[2787,6864655,1250,-1,-1,"ISB-WXM-750-W-25-水平",58,0.7,1250]
[2788,5883990,1250,-1,-1,"ISB-WXM-750-W-25-水平",70,0.6,1250]
[2789,4903325,1250,-1,-1,"ISB-WXM-750-W-25-水平",86,0.5,1250]
[2790,3922660,1250,-1,-1,"ISB-WXM-750-W-25-水平",110,0.4,1250]
[2791,1961330,1250,-1,2792,"ISB-WXM-750-W-25-水平",150,0.2,1250]
[2792,2941995,1250,2791,-1,"ISB-WXM-750-W-25-水平",150,0.3,1250]
[2793,9806650,1250,-1,-1,"ISB-WXM-750-W-25-垂直",7,1,1250]
[2794,8825985,1250,-1,-1,"ISB-WXM-750-W-25-垂直",9,0.9,1250]
[2795,7845320,1250,-1,-1,"ISB-WXM-750-W-25-垂直",12,0.8,1250]
[2796,6864655,1250,-1,-1,"ISB-WXM-750-W-25-垂直",15,0.7,1250]
[2797,5883990,1250,-1,-1,"ISB-WXM-750-W-25-垂直",19,0.6,1250]
[2798,4903325,1250,-1,-1,"ISB-WXM-750-W-25-垂直",20,0.5,1250]
[2799,3922660,1250,-1,-1,"ISB-WXM-750-W-25-垂直",22,0.4,1250]
[2800,1961330,1250,-1,2801,"ISB-WXM-750-W-25-垂直",25,0.2,1250]
[2801,2941995,1250,2800,-1,"ISB-WXM-750-W-25-垂直",25,0.3,1250]
[2802,11767980,2500,-1,-1,"ISB-WXM-750-W-50-水平",5,1.2,2500]
[2803,10787315,2500,-1,-1,"ISB-WXM-750-W-50-水平",8,1.1000000000000001,2500]
[2804,9806650,2500,-1,-1,"ISB-WXM-750-W-50-水平",14,1,2500]
[2805,8825985,2500,-1,-1,"ISB-WXM-750-W-50-水平",17,0.9,2500]
[2806,7845320,2500,-1,-1,"ISB-WXM-750-W-50-水平",20,0.8,2500]
[2807,6864655,2500,-1,-1,"ISB-WXM-750-W-50-水平",24,0.7,2500]
[2808,5883990,2500,-1,-1,"ISB-WXM-750-W-50-水平",30,0.6,2500]
[2809,4903325,2500,-1,-1,"ISB-WXM-750-W-50-水平",38,0.5,2500]
[2810,3922660,2500,-1,-1,"ISB-WXM-750-W-50-水平",50,0.4,2500]
[2811,1961330,2500,-1,2812,"ISB-WXM-750-W-50-水平",70,0.2,2500]
[2812,2941995,2500,2811,-1,"ISB-WXM-750-W-50-水平",70,0.3,2500]
[2813,9806650,2500,-1,-1,"ISB-WXM-750-W-50-垂直",1,1,2500]
[2814,8825985,2500,-1,-1,"ISB-WXM-750-W-50-垂直",2,0.9,2500]
[2815,7845320,2500,-1,-1,"ISB-WXM-750-W-50-垂直",2.5,0.8,2500]
[2816,6864655,2500,-1,-1,"ISB-WXM-750-W-50-垂直",3,0.7,2500]
[2817,5883990,2500,-1,-1,"ISB-WXM-750-W-50-垂直",4,0.6,2500]
[2818,4903325,2500,-1,-1,"ISB-WXM-750-W-50-垂直",6,0.5,2500]
[2819,3922660,2500,-1,-1,"ISB-WXM-750-W-50-垂直",8,0.4,2500]
[2820,1961330,2500,-1,2821,"ISB-WXM-750-W-50-垂直",10,0.2,2500]
[2821,2941995,2500,2820,-1,"ISB-WXM-750-W-50-垂直",10,0.3,2500]
[2822,5883990,600,-1,-1,"ISPB-WXM-750-HLA-W-10-水平",125,0.6,600]
[2823,4903325,600,-1,-1,"ISPB-WXM-750-HLA-W-10-水平",150,0.5,600]
[2824,3922660,600,-1,-1,"ISPB-WXM-750-HLA-W-10-水平",190,0.4,600]
[2825,2941995,600,-1,-1,"ISPB-WXM-750-HLA-W-10-水平",255,0.3,600]
[2826,1961330,600,-1,-1,"ISPB-WXM-750-HLA-W-10-水平",390,0.2,600]
[2827,4903325,600,-1,-1,"ISPB-WXM-750-HLA-W-10-垂直",54,0.5,600]
[2828,3922660,600,-1,-1,"ISPB-WXM-750-HLA-W-10-垂直",58,0.4,600]
[2829,1961330,600,-1,2830,"ISPB-WXM-750-HLA-W-10-垂直",70,0.2,600]
[2830,2941995,600,2829,-1,"ISPB-WXM-750-HLA-W-10-垂直",70,0.3,600]
[2831,11767980,1250,-1,-1,"ISB-WXMX-750-W-25-水平",20,1.2,1250]
[2832,10787315,1250,-1,-1,"ISB-WXMX-750-W-25-水平",26,1.1000000000000001,1250]
[2833,9806650,1250,-1,-1,"ISB-WXMX-750-W-25-水平",36,1,1250]
[2834,8825985,1250,-1,-1,"ISB-WXMX-750-W-25-水平",44,0.9,1250]
[2835,7845320,1250,-1,-1,"ISB-WXMX-750-W-25-水平",50,0.8,1250]
[2836,6864655,1250,-1,-1,"ISB-WXMX-750-W-25-水平",58,0.7,1250]
[2837,5883990,1250,-1,-1,"ISB-WXMX-750-W-25-水平",70,0.6,1250]
[2838,4903325,1250,-1,-1,"ISB-WXMX-750-W-25-水平",86,0.5,1250]
[2839,3922660,1250,-1,-1,"ISB-WXMX-750-W-25-水平",110,0.4,1250]
[2840,1961330,1250,-1,2841,"ISB-WXMX-750-W-25-水平",150,0.2,1250]
[2841,2941995,1250,2840,-1,"ISB-WXMX-750-W-25-水平",150,0.3,1250]
[2842,11767980,2500,-1,-1,"ISB-WXMX-750-W-50-水平",5,1.2,2500]
[2843,10787315,2500,-1,-1,"ISB-WXMX-750-W-50-水平",8,1.1000000000000001,2500]
[2844,9806650,2500,-1,-1,"ISB-WXMX-750-W-50-水平",14,1,2500]
[2845,8825985,2500,-1,-1,"ISB-WXMX-750-W-50-水平",17,0.9,2500]
[2846,7845320,2500,-1,-1,"ISB-WXMX-750-W-50-水平",20,0.8,2500]
[2847,6864655,2500,-1,-1,"ISB-WXMX-750-W-50-水平",24,0.7,2500]
[2848,5883990,2500,-1,-1,"ISB-WXMX-750-W-50-水平",30,0.6,2500]
[2849,4903325,2500,-1,-1,"ISB-WXMX-750-W-50-水平",38,0.5,2500]
[2850,3922660,2500,-1,-1,"ISB-WXMX-750-W-50-水平",50,0.4,2500]
[2851,1961330,2500,-1,2852,"ISB-WXMX-750-W-50-水平",70,0.2,2500]
[2852,2941995,2500,2851,-1,"ISB-WXMX-750-W-50-水平",70,0.3,2500]
[2853,2941995,250,-1,-1,"EC-S10L-5-水平",85,0.3,250]
[2854,2941995,250,-1,-1,"EC-S10L-5-垂直",21,0.3,250]
[2855,6864655,500,-1,-1,"EC-S10M-10-水平",19,0.7,500]
[2856,4903325,500,-1,-1,"EC-S10M-10-水平",33,0.5,500]
[2857,2941995,500,-1,-1,"EC-S10M-10-水平",65,0.3,500]
[2858,4903325,500,-1,-1,"EC-S10M-10-垂直",9,0.5,500]
[2859,2941995,500,-1,-1,"EC-S10M-10-垂直",11,0.3,500]
[2860,9806650,1000,-1,-1,"EC-S10H-20-水平",7.5,1,1000]
[2861,6864655,1000,-1,-1,"EC-S10H-20-水平",12.5,0.7,1000]
[2862,4903325,1000,-1,-1,"EC-S10H-20-水平",19.5,0.5,1000]
[2863,2941995,1000,-1,-1,"EC-S10H-20-水平",30,0.3,1000]
[2864,6864655,1000,-1,-1,"EC-S10H-20-垂直",3.5,0.7,1000]
[2865,4903325,1000,-1,-1,"EC-S10H-20-垂直",4.5,0.5,1000]
[2866,2941995,1000,-1,-1,"EC-S10H-20-垂直",5,0.3,1000]
[2867,9806650,1500,-1,-1,"EC-S10S-30-水平",4.5,1,1500]
[2868,6864655,1500,-1,-1,"EC-S10S-30-水平",7.5,0.7,1500]
[2869,4903325,1500,-1,-1,"EC-S10S-30-水平",11,0.5,1500]
[2870,2941995,1500,-1,-1,"EC-S10S-30-水平",17,0.3,1500]
[2871,2941995,1500,-1,2872,"EC-S10S-30-垂直",2,0.3,1500]
[2872,4903325,1500,2871,2873,"EC-S10S-30-垂直",2,0.5,1500]
[2873,6864655,1500,2872,-1,"EC-S10S-30-垂直",2,0.7,1500]
[2874,2941995,250,-1,-1,"EC-S10XL-5-水平",85,0.3,250]
[2875,2941995,250,-1,-1,"EC-S10XL-5-垂直",21,0.3,250]
[2876,6864655,500,-1,-1,"EC-S10XM-10-水平",19,0.7,500]
[2877,4903325,500,-1,-1,"EC-S10XM-10-水平",33,0.5,500]
[2878,2941995,500,-1,-1,"EC-S10XM-10-水平",65,0.3,500]
[2879,4903325,500,-1,-1,"EC-S10XM-10-垂直",9,0.5,500]
[2880,2941995,500,-1,-1,"EC-S10XM-10-垂直",11,0.3,500]
[2881,9806650,1000,-1,-1,"EC-S10XH-20-水平",7.5,1,1000]
[2882,6864655,1000,-1,-1,"EC-S10XH-20-水平",12.5,0.7,1000]
[2883,4903325,1000,-1,-1,"EC-S10XH-20-水平",19.5,0.5,1000]
[2884,2941995,1000,-1,-1,"EC-S10XH-20-水平",30,0.3,1000]
[2885,6864655,1000,-1,-1,"EC-S10XH-20-垂直",3.5,0.7,1000]
[2886,4903325,1000,-1,-1,"EC-S10XH-20-垂直",4.5,0.5,1000]
[2887,2941995,1000,-1,-1,"EC-S10XH-20-垂直",5,0.3,1000]
[2888,9806650,1500,-1,-1,"EC-S10XS-30-水平",4.5,1,1500]
[2889,6864655,1500,-1,-1,"EC-S10XS-30-水平",7.5,0.7,1500]
[2890,4903325,1500,-1,-1,"EC-S10XS-30-水平",11,0.5,1500]
[2891,2941995,1500,-1,-1,"EC-S10XS-30-水平",17,0.3,1500]
[2892,2941995,1500,-1,2893,"EC-S10XS-30-垂直",2,0.3,1500]
[2893,4903325,1500,2892,2894,"EC-S10XS-30-垂直",2,0.5,1500]
[2894,6864655,1500,2893,-1,"EC-S10XS-30-垂直",2,0.7,1500]
[2895,4903325,250,-1,-1,"EC-S13L-5-水平",72,0.5,250]
[2896,2941995,250,-1,-1,"EC-S13L-5-水平",90,0.3,250]
[2897,2941995,250,-1,-1,"EC-S13L-5-垂直",30.6,0.3,250]
[2898,6864655,500,-1,-1,"EC-S13M-10-水平",36,0.7,500]
[2899,4903325,500,-1,-1,"EC-S13M-10-水平",59.4,0.5,500]
[2900,2941995,500,-1,-1,"EC-S13M-10-水平",81,0.3,500]
[2901,4903325,500,-1,-1,"EC-S13M-10-垂直",15.3,0.5,500]
[2902,2941995,500,-1,-1,"EC-S13M-10-垂直",18,0.3,500]
[2903,9806650,1000,-1,-1,"EC-S13H-20-水平",13.5,1,1000]
[2904,6864655,1000,-1,-1,"EC-S13H-20-水平",20.7,0.7,1000]
[2905,4903325,1000,-1,-1,"EC-S13H-20-水平",31.5,0.5,1000]
[2906,2941995,1000,-1,-1,"EC-S13H-20-水平",40.5,0.3,1000]
[2907,6864655,1000,-1,-1,"EC-S13H-20-垂直",6.3,0.7,1000]
[2908,4903325,1000,-1,-1,"EC-S13H-20-垂直",7.65,0.5,1000]
[2909,2941995,1000,-1,-1,"EC-S13H-20-垂直",9,0.3,1000]
[2910,9806650,1500,-1,-1,"EC-S13S-30-水平",10.8,1,1500]
[2911,6864655,1500,-1,-1,"EC-S13S-30-水平",15.3,0.7,1500]
[2912,4903325,1500,-1,-1,"EC-S13S-30-水平",21.6,0.5,1500]
[2913,2941995,1500,-1,-1,"EC-S13S-30-水平",27,0.3,1500]
[2914,6864655,1500,-1,-1,"EC-S13S-30-垂直",4.05,0.7,1500]
[2915,4903325,1500,-1,-1,"EC-S13S-30-垂直",4.95,0.5,1500]
[2916,2941995,1500,-1,-1,"EC-S13S-30-垂直",5.4,0.3,1500]
[2917,4903325,250,-1,-1,"EC-S13XL-5-水平",72,0.5,250]
[2918,2941995,250,-1,-1,"EC-S13XL-5-水平",90,0.3,250]
[2919,2941995,250,-1,-1,"EC-S13XL-5-垂直",30.6,0.3,250]
[2920,6864655,500,-1,-1,"EC-S13XM-10-水平",36,0.7,500]
[2921,4903325,500,-1,-1,"EC-S13XM-10-水平",59.4,0.5,500]
[2922,2941995,500,-1,-1,"EC-S13XM-10-水平",81,0.3,500]
[2923,4903325,500,-1,-1,"EC-S13XM-10-垂直",15.3,0.5,500]
[2924,2941995,500,-1,-1,"EC-S13XM-10-垂直",18,0.3,500]
[2925,9806650,1000,-1,-1,"EC-S13XH-20-水平",13.5,1,1000]
[2926,6864655,1000,-1,-1,"EC-S13XH-20-水平",20.7,0.7,1000]
[2927,4903325,1000,-1,-1,"EC-S13XH-20-水平",31.5,0.5,1000]
[2928,2941995,1000,-1,-1,"EC-S13XH-20-水平",40.5,0.3,1000]
[2929,6864655,1000,-1,-1,"EC-S13XH-20-垂直",6.3,0.7,1000]
[2930,4903325,1000,-1,-1,"EC-S13XH-20-垂直",7.65,0.5,1000]
[2931,2941995,1000,-1,-1,"EC-S13XH-20-垂直",9,0.3,1000]
[2932,9806650,1500,-1,-1,"EC-S13XS-30-水平",10.8,1,1500]
[2933,6864655,1500,-1,-1,"EC-S13XS-30-水平",15.3,0.7,1500]
[2934,4903325,1500,-1,-1,"EC-S13XS-30-水平",21.6,0.5,1500]
[2935,2941995,1500,-1,-1,"EC-S13XS-30-水平",27,0.3,1500]
[2936,6864655,1500,-1,-1,"EC-S13XS-30-垂直",4.05,0.7,1500]
[2937,4903325,1500,-1,-1,"EC-S13XS-30-垂直",4.95,0.5,1500]
[2938,2941995,1500,-1,-1,"EC-S13XS-30-垂直",5.4,0.3,1500]
[2939,6864655,500,-1,-1,"EC-S15L-10-水平",54,0.7,500]
[2940,4903325,500,-1,-1,"EC-S15L-10-水平",82.8,0.5,500]
[2941,2941995,500,-1,-1,"EC-S15L-10-水平",108,0.3,500]
[2942,4903325,500,-1,-1,"EC-S15L-10-垂直",30.6,0.5,500]
[2943,2941995,500,-1,-1,"EC-S15L-10-垂直",36,0.3,500]
[2944,9806650,1000,-1,-1,"EC-S15M-20-水平",27,1,1000]
[2945,6864655,1000,-1,-1,"EC-S15M-20-水平",42.3,0.7,1000]
[2946,4903325,1000,-1,-1,"EC-S15M-20-水平",63,0.5,1000]
[2947,2941995,1000,-1,-1,"EC-S15M-20-水平",81,0.3,1000]
[2948,6864655,1000,-1,-1,"EC-S15M-20-垂直",12.6,0.7,1000]
[2949,4903325,1000,-1,-1,"EC-S15M-20-垂直",15.3,0.5,1000]
[2950,2941995,1000,-1,-1,"EC-S15M-20-垂直",18,0.3,1000]
[2951,9806650,2000,-1,-1,"EC-S15H-40-水平",15.3,1,2000]
[2952,6864655,2000,-1,-1,"EC-S15H-40-水平",20.7,0.7,2000]
[2953,4903325,2000,-1,-1,"EC-S15H-40-水平",28.8,0.5,2000]
[2954,2941995,2000,-1,-1,"EC-S15H-40-水平",36,0.3,2000]
[2955,6864655,2000,-1,-1,"EC-S15H-40-垂直",6.3,0.7,2000]
[2956,4903325,2000,-1,-1,"EC-S15H-40-垂直",7.65,0.5,2000]
[2957,2941995,2000,-1,-1,"EC-S15H-40-垂直",9,0.3,2000]
[2958,6864655,500,-1,-1,"EC-S15XL-10-水平",54,0.7,500]
[2959,4903325,500,-1,-1,"EC-S15XL-10-水平",82.8,0.5,500]
[2960,2941995,500,-1,-1,"EC-S15XL-10-水平",108,0.3,500]
[2961,4903325,500,-1,-1,"EC-S15XL-10-垂直",30.6,0.5,500]
[2962,2941995,500,-1,-1,"EC-S15XL-10-垂直",36,0.3,500]
[2963,9806650,1000,-1,-1,"EC-S15XM-20-水平",27,1,1000]
[2964,6864655,1000,-1,-1,"EC-S15XM-20-水平",42.3,0.7,1000]
[2965,4903325,1000,-1,-1,"EC-S15XM-20-水平",63,0.5,1000]
[2966,2941995,1000,-1,-1,"EC-S15XM-20-水平",81,0.3,1000]
[2967,6864655,1000,-1,-1,"EC-S15XM-20-垂直",12.6,0.7,1000]
[2968,4903325,1000,-1,-1,"EC-S15XM-20-垂直",15.3,0.5,1000]
[2969,2941995,1000,-1,-1,"EC-S15XM-20-垂直",18,0.3,1000]
[2970,9806650,1500,-1,-1,"EC-S15XH-40-水平",15.3,1,1500]
[2971,6864655,1500,-1,-1,"EC-S15XH-40-水平",20.7,0.7,1500]
[2972,4903325,1500,-1,-1,"EC-S15XH-40-水平",28.8,0.5,1500]
[2973,2941995,1500,-1,-1,"EC-S15XH-40-水平",36,0.3,1500]
[2974,6864655,1500,-1,-1,"EC-S15XH-40-垂直",6.3,0.7,1500]
[2975,4903325,1500,-1,-1,"EC-S15XH-40-垂直",7.65,0.5,1500]
[2976,2941995,1500,-1,-1,"EC-S15XH-40-垂直",9,0.3,1500]
[2977,2941995,250,-1,-1,"EC-S10L-W-5-水平",80,0.3,250]
[2978,2941995,250,-1,-1,"EC-S10L-W-5-垂直",16,0.3,250]
[2979,6864655,500,-1,-1,"EC-S10M-W-10-水平",14,0.7,500]
[2980,4903325,500,-1,-1,"EC-S10M-W-10-水平",28,0.5,500]
[2981,2941995,500,-1,-1,"EC-S10M-W-10-水平",60,0.3,500]
[2982,4903325,500,-1,-1,"EC-S10M-W-10-垂直",4,0.5,500]
[2983,2941995,500,-1,-1,"EC-S10M-W-10-垂直",6,0.3,500]
[2984,9806650,1000,-1,-1,"EC-S10H-W-20-水平",2.5,1,1000]
[2985,6864655,1000,-1,-1,"EC-S10H-W-20-水平",7.5,0.7,1000]
[2986,4903325,1000,-1,-1,"EC-S10H-W-20-水平",14.5,0.5,1000]
[2987,2941995,1000,-1,-1,"EC-S10H-W-20-水平",25,0.3,1000]
[2988,6864655,1500,-1,-1,"EC-S10S-W-30-水平",2.5,0.7,1500]
[2989,4903325,1500,-1,-1,"EC-S10S-W-30-水平",6,0.5,1500]
[2990,2941995,1500,-1,-1,"EC-S10S-W-30-水平",12,0.3,1500]
[2991,2941995,250,-1,-1,"EC-S10XL-W-5-水平",80,0.3,250]
[2992,2941995,250,-1,-1,"EC-S10XL-W-5-垂直",16,0.3,250]
[2993,6864655,500,-1,-1,"EC-S10XM-W-10-水平",14,0.7,500]
[2994,4903325,500,-1,-1,"EC-S10XM-W-10-水平",28,0.5,500]
[2995,2941995,500,-1,-1,"EC-S10XM-W-10-水平",60,0.3,500]
[2996,4903325,500,-1,-1,"EC-S10XM-W-10-垂直",4,0.5,500]
[2997,2941995,500,-1,-1,"EC-S10XM-W-10-垂直",6,0.3,500]
[2998,9806650,1000,-1,-1,"EC-S10XH-W-20-水平",2.5,1,1000]
[2999,6864655,1000,-1,-1,"EC-S10XH-W-20-水平",7.5,0.7,1000]
[3000,4903325,1000,-1,-1,"EC-S10XH-W-20-水平",14.5,0.5,1000]
[3001,2941995,1000,-1,-1,"EC-S10XH-W-20-水平",25,0.3,1000]
[3002,6864655,1500,-1,-1,"EC-S10XS-W-30-水平",2.5,0.7,1500]
[3003,4903325,1500,-1,-1,"EC-S10XS-W-30-水平",6,0.5,1500]
[3004,2941995,1500,-1,-1,"EC-S10XS-W-30-水平",12,0.3,1500]
[3005,4903325,250,-1,-1,"EC-S13L-W-5-水平",67,0.5,250]
[3006,2941995,250,-1,-1,"EC-S13L-W-5-水平",85,0.3,250]
[3007,2941995,250,-1,-1,"EC-S13L-W-5-垂直",25.6,0.3,250]
[3008,6864655,500,-1,-1,"EC-S13M-W-10-水平",31,0.7,500]
[3009,4903325,500,-1,-1,"EC-S13M-W-10-水平",54.4,0.5,500]
[3010,2941995,500,-1,-1,"EC-S13M-W-10-水平",76,0.3,500]
[3011,4903325,500,-1,-1,"EC-S13M-W-10-垂直",10.3,0.5,500]
[3012,2941995,500,-1,-1,"EC-S13M-W-10-垂直",13,0.3,500]
[3013,9806650,1000,-1,-1,"EC-S13H-W-20-水平",8.5,1,1000]
[3014,6864655,1000,-1,-1,"EC-S13H-W-20-水平",15.7,0.7,1000]
[3015,4903325,1000,-1,-1,"EC-S13H-W-20-水平",26.5,0.5,1000]
[3016,2941995,1000,-1,-1,"EC-S13H-W-20-水平",35.5,0.3,1000]
[3017,4903325,1000,-1,-1,"EC-S13H-W-20-垂直",2.7,0.5,1000]
[3018,2941995,1000,-1,-1,"EC-S13H-W-20-垂直",4,0.3,1000]
[3019,9806650,1500,-1,-1,"EC-S13S-W-30-水平",5.8,1,1500]
[3020,6864655,1500,-1,-1,"EC-S13S-W-30-水平",10.3,0.7,1500]
[3021,4903325,1500,-1,-1,"EC-S13S-W-30-水平",16.600000000000001,0.5,1500]
[3022,2941995,1500,-1,-1,"EC-S13S-W-30-水平",22,0.3,1500]
[3023,4903325,250,-1,-1,"EC-S13XL-W-5-水平",67,0.5,250]
[3024,2941995,250,-1,-1,"EC-S13XL-W-5-水平",85,0.3,250]
[3025,2941995,250,-1,-1,"EC-S13XL-W-5-垂直",25.6,0.3,250]
[3026,6864655,500,-1,-1,"EC-S13XM-W-10-水平",31,0.7,500]
[3027,4903325,500,-1,-1,"EC-S13XM-W-10-水平",54.4,0.5,500]
[3028,2941995,500,-1,-1,"EC-S13XM-W-10-水平",76,0.3,500]
[3029,4903325,500,-1,-1,"EC-S13XM-W-10-垂直",10.3,0.5,500]
[3030,2941995,500,-1,-1,"EC-S13XM-W-10-垂直",13,0.3,500]
[3031,9806650,1000,-1,-1,"EC-S13XH-W-20-水平",8.5,1,1000]
[3032,6864655,1000,-1,-1,"EC-S13XH-W-20-水平",15.7,0.7,1000]
[3033,4903325,1000,-1,-1,"EC-S13XH-W-20-水平",26.5,0.5,1000]
[3034,2941995,1000,-1,-1,"EC-S13XH-W-20-水平",35.5,0.3,1000]
[3035,4903325,1000,-1,-1,"EC-S13XH-W-20-垂直",2.7,0.5,1000]
[3036,2941995,1000,-1,-1,"EC-S13XH-W-20-垂直",4,0.3,1000]
[3037,9806650,1500,-1,-1,"EC-S13XS-W-30-水平",5.8,1,1500]
[3038,6864655,1500,-1,-1,"EC-S13XS-W-30-水平",10.3,0.7,1500]
[3039,4903325,1500,-1,-1,"EC-S13XS-W-30-水平",16.600000000000001,0.5,1500]
[3040,2941995,1500,-1,-1,"EC-S13XS-W-30-水平",22,0.3,1500]
[3041,6864655,500,-1,-1,"EC-S15L-W-10-水平",49,0.7,500]
[3042,4903325,500,-1,-1,"EC-S15L-W-10-水平",77.8,0.5,500]
[3043,2941995,500,-1,-1,"EC-S15L-W-10-水平",103,0.3,500]
[3044,4903325,500,-1,-1,"EC-S15L-W-10-垂直",25.6,0.5,500]
[3045,2941995,500,-1,-1,"EC-S15L-W-10-垂直",31,0.3,500]
[3046,9806650,1000,-1,-1,"EC-S15M-W-20-水平",22,1,1000]
[3047,6864655,1000,-1,-1,"EC-S15M-W-20-水平",37.299999999999997,0.7,1000]
[3048,4903325,1000,-1,-1,"EC-S15M-W-20-水平",58,0.5,1000]
[3049,2941995,1000,-1,-1,"EC-S15M-W-20-水平",76,0.3,1000]
[3050,6864655,1000,-1,-1,"EC-S15M-W-20-垂直",7.6,0.7,1000]
[3051,4903325,1000,-1,-1,"EC-S15M-W-20-垂直",10.3,0.5,1000]
[3052,2941995,1000,-1,-1,"EC-S15M-W-20-垂直",13,0.3,1000]
[3053,9806650,2000,-1,-1,"EC-S15H-W-40-水平",10.3,1,2000]
[3054,6864655,2000,-1,-1,"EC-S15H-W-40-水平",15.7,0.7,2000]
[3055,4903325,2000,-1,-1,"EC-S15H-W-40-水平",23.8,0.5,2000]
[3056,2941995,2000,-1,-1,"EC-S15H-W-40-水平",31,0.3,2000]
[3057,4903325,2000,-1,-1,"EC-S15H-W-40-垂直",2.7,0.5,2000]
[3058,2941995,2000,-1,-1,"EC-S15H-W-40-垂直",4,0.3,2000]
[3059,6864655,500,-1,-1,"EC-S15XL-W-10-水平",49,0.7,500]
[3060,4903325,500,-1,-1,"EC-S15XL-W-10-水平",77.8,0.5,500]
[3061,2941995,500,-1,-1,"EC-S15XL-W-10-水平",103,0.3,500]
[3062,4903325,500,-1,-1,"EC-S15XL-W-10-垂直",25.6,0.5,500]
[3063,2941995,500,-1,-1,"EC-S15XL-W-10-垂直",31,0.3,500]
[3064,9806650,1000,-1,-1,"EC-S15XM-W-20-水平",22,1,1000]
[3065,6864655,1000,-1,-1,"EC-S15XM-W-20-水平",37.299999999999997,0.7,1000]
[3066,4903325,1000,-1,-1,"EC-S15XM-W-20-水平",58,0.5,1000]
[3067,2941995,1000,-1,-1,"EC-S15XM-W-20-水平",76,0.3,1000]
[3068,6864655,1000,-1,-1,"EC-S15XM-W-20-垂直",7.6,0.7,1000]
[3069,4903325,1000,-1,-1,"EC-S15XM-W-20-垂直",10.3,0.5,1000]
[3070,2941995,1000,-1,-1,"EC-S15XM-W-20-垂直",13,0.3,1000]
[3071,9806650,1500,-1,-1,"EC-S15XH-W-40-水平",10.3,1,1500]
[3072,6864655,1500,-1,-1,"EC-S15XH-W-40-水平",15.7,0.7,1500]
[3073,4903325,1500,-1,-1,"EC-S15XH-W-40-水平",23.8,0.5,1500]
[3074,2941995,1500,-1,-1,"EC-S15XH-W-40-水平",31,0.3,1500]
[3075,4903325,1500,-1,-1,"EC-S15XH-W-40-垂直",2.7,0.5,1500]
[3076,2941995,1500,-1,-1,"EC-S15XH-W-40-垂直",4,0.3,1500,"↑ Ver3.12"]
[3077,19613300,2000,-1,-1,"IFA-SA-100(-1450st)-28-水平",2,2,2000,"↓ Ver3.13"]
[3078,18632635,2000,-1,-1,"IFA-SA-100(-1450st)-28-水平",2.2000000000000002,1.9,2000]
[3079,17651970,2000,-1,-1,"IFA-SA-100(-1450st)-28-水平",2.4,1.8,2000]
[3080,16671305,2000,-1,-1,"IFA-SA-100(-1450st)-28-水平",2.7,1.7,2000]
[3081,15690640,2000,-1,-1,"IFA-SA-100(-1450st)-28-水平",3,1.6,2000]
[3082,14709975,2000,-1,-1,"IFA-SA-100(-1450st)-28-水平",3.2,1.5,2000]
[3083,13729310,2000,-1,-1,"IFA-SA-100(-1450st)-28-水平",3.5,1.4,2000]
[3084,12748645,2000,-1,-1,"IFA-SA-100(-1450st)-28-水平",3.9,1.3,2000]
[3085,11767980,2000,-1,-1,"IFA-SA-100(-1450st)-28-水平",4.3,1.2,2000]
[3086,10787315,2000,-1,-1,"IFA-SA-100(-1450st)-28-水平",4.7,1.1000000000000001,2000]
[3087,9806650,2000,-1,-1,"IFA-SA-100(-1450st)-28-水平",5.5,1,2000]
[3088,8825985,2000,-1,-1,"IFA-SA-100(-1450st)-28-水平",6.5,0.9,2000]
[3089,7845320,2000,-1,-1,"IFA-SA-100(-1450st)-28-水平",7.5,0.8,2000]
[3090,6864655,2000,-1,-1,"IFA-SA-100(-1450st)-28-水平",8.5,0.7,2000]
[3091,5883990,2000,-1,-1,"IFA-SA-100(-1450st)-28-水平",10,0.6,2000]
[3092,4903325,2000,-1,-1,"IFA-SA-100(-1450st)-28-水平",12.5,0.5,2000]
[3093,3922660,2000,-1,-1,"IFA-SA-100(-1450st)-28-水平",15.5,0.4,2000]
[3094,2941995,2000,-1,-1,"IFA-SA-100(-1450st)-28-水平",20,0.3,2000]
[3095,19613300,2000,-1,-1,"IFA-SA-100(1500st-)-28-水平",2,2,2000]
[3096,18632635,2000,-1,-1,"IFA-SA-100(1500st-)-28-水平",2.2000000000000002,1.9,2000]
[3097,17651970,2000,-1,-1,"IFA-SA-100(1500st-)-28-水平",2.4,1.8,2000]
[3098,16671305,2000,-1,-1,"IFA-SA-100(1500st-)-28-水平",2.7,1.7,2000]
[3099,15690640,2000,-1,-1,"IFA-SA-100(1500st-)-28-水平",3,1.6,2000]
[3100,14709975,2000,-1,-1,"IFA-SA-100(1500st-)-28-水平",3.2,1.5,2000]
[3101,13729310,2000,-1,-1,"IFA-SA-100(1500st-)-28-水平",3.5,1.4,2000]
[3102,12748645,2000,-1,-1,"IFA-SA-100(1500st-)-28-水平",3.9,1.3,2000]
[3103,11767980,2000,-1,-1,"IFA-SA-100(1500st-)-28-水平",4.3,1.2,2000]
[3104,10787315,2000,-1,-1,"IFA-SA-100(1500st-)-28-水平",4.7,1.1000000000000001,2000]
[3105,9806650,2000,-1,-1,"IFA-SA-100(1500st-)-28-水平",5.5,1,2000]
[3106,8825985,2000,-1,-1,"IFA-SA-100(1500st-)-28-水平",6.5,0.9,2000]
[3107,7845320,2000,-1,-1,"IFA-SA-100(1500st-)-28-水平",7.5,0.8,2000]
[3108,6864655,2000,-1,-1,"IFA-SA-100(1500st-)-28-水平",8.5,0.7,2000]
[3109,5883990,2000,-1,-1,"IFA-SA-100(1500st-)-28-水平",10,0.6,2000]
[3110,4903325,2000,-1,-1,"IFA-SA-100(1500st-)-28-水平",12.5,0.5,2000]
[3111,2941995,2000,-1,3112,"IFA-SA-100(1500st-)-28-水平",15,0.3,2000]
[3112,3922660,2000,3111,-1,"IFA-SA-100(1500st-)-28-水平",15,0.4,2000]
[3113,19613300,3000,-1,-1,"IFA-MA-200-42-水平",1,2,3000]
[3114,18632635,3000,-1,-1,"IFA-MA-200-42-水平",1.2,1.9,3000]
[3115,17651970,3000,-1,-1,"IFA-MA-200-42-水平",1.4,1.8,3000]
[3116,16671305,3000,-1,-1,"IFA-MA-200-42-水平",1.7,1.7,3000]
[3117,15690640,3000,-1,-1,"IFA-MA-200-42-水平",2,1.6,3000]
[3118,14709975,3000,-1,-1,"IFA-MA-200-42-水平",2.2999999999999998,1.5,3000]
[3119,13729310,3000,-1,-1,"IFA-MA-200-42-水平",2.6,1.4,3000]
[3120,12748645,3000,-1,-1,"IFA-MA-200-42-水平",3.2,1.3,3000]
[3121,11767980,3000,-1,-1,"IFA-MA-200-42-水平",3.8,1.2,3000]
[3122,10787315,3000,-1,-1,"IFA-MA-200-42-水平",4.5999999999999996,1.1000000000000001,3000]
[3123,9806650,3000,-1,-1,"IFA-MA-200-42-水平",5.5,1,3000]
[3124,8825985,3000,-1,-1,"IFA-MA-200-42-水平",6.5,0.9,3000]
[3125,7845320,3000,-1,-1,"IFA-MA-200-42-水平",7.5,0.8,3000]
[3126,6864655,3000,-1,-1,"IFA-MA-200-42-水平",9,0.7,3000]
[3127,5883990,3000,-1,-1,"IFA-MA-200-42-水平",11,0.6,3000]
[3128,4903325,3000,-1,-1,"IFA-MA-200-42-水平",14,0.5,3000]
[3129,3922660,3000,-1,-1,"IFA-MA-200-42-水平",18,0.4,3000]
[3130,2941995,3000,-1,-1,"IFA-MA-200-42-水平",25,0.3,3000]
[3131,19613300,3000,-1,-1,"IFA-MA-400-42-水平",3.5,2,3000]
[3132,18632635,3000,-1,-1,"IFA-MA-400-42-水平",3.8,1.9,3000]
[3133,17651970,3000,-1,-1,"IFA-MA-400-42-水平",4.2,1.8,3000]
[3134,16671305,3000,-1,-1,"IFA-MA-400-42-水平",4.5999999999999996,1.7,3000]
[3135,15690640,3000,-1,-1,"IFA-MA-400-42-水平",5,1.6,3000]
[3136,14709975,3000,-1,-1,"IFA-MA-400-42-水平",5.6,1.5,3000]
[3137,13729310,3000,-1,-1,"IFA-MA-400-42-水平",6.3,1.4,3000]
[3138,12748645,3000,-1,-1,"IFA-MA-400-42-水平",7,1.3,3000]
[3139,11767980,3000,-1,-1,"IFA-MA-400-42-水平",8,1.2,3000]
[3140,10787315,3000,-1,-1,"IFA-MA-400-42-水平",9,1.1000000000000001,3000]
[3141,9806650,3000,-1,-1,"IFA-MA-400-42-水平",10,1,3000]
[3142,8825985,3000,-1,-1,"IFA-MA-400-42-水平",12,0.9,3000]
[3143,7845320,3000,-1,-1,"IFA-MA-400-42-水平",13,0.8,3000]
[3144,6864655,3000,-1,-1,"IFA-MA-400-42-水平",16,0.7,3000]
[3145,5883990,3000,-1,-1,"IFA-MA-400-42-水平",19,0.6,3000]
[3146,4903325,3000,-1,-1,"IFA-MA-400-42-水平",23,0.5,3000]
[3147,3922660,3000,-1,-1,"IFA-MA-400-42-水平",30,0.4,3000]
[3148,2941995,3000,-1,-1,"IFA-MA-400-42-水平",40,0.3,3000]
[3149,19613300,3000,-1,-1,"IFA-MA-200-AC100V-42-水平",1,2,3000]
[3150,18632635,3000,-1,-1,"IFA-MA-200-AC100V-42-水平",1.2,1.9,3000]
[3151,17651970,3000,-1,-1,"IFA-MA-200-AC100V-42-水平",1.4,1.8,3000]
[3152,16671305,3000,-1,-1,"IFA-MA-200-AC100V-42-水平",1.7,1.7,3000]
[3153,15690640,3000,-1,-1,"IFA-MA-200-AC100V-42-水平",2,1.6,3000]
[3154,14709975,3000,-1,-1,"IFA-MA-200-AC100V-42-水平",2.2999999999999998,1.5,3000]
[3155,13729310,3000,-1,-1,"IFA-MA-200-AC100V-42-水平",2.6,1.4,3000]
[3156,12748645,3000,-1,-1,"IFA-MA-200-AC100V-42-水平",2.7,1.3,3000]
[3157,11767980,3000,-1,-1,"IFA-MA-200-AC100V-42-水平",2.9,1.2,3000]
[3158,10787315,3000,-1,-1,"IFA-MA-200-AC100V-42-水平",3.2,1.1000000000000001,3000]
[3159,9806650,3000,-1,-1,"IFA-MA-200-AC100V-42-水平",3.5,1,3000]
[3160,8825985,3000,-1,-1,"IFA-MA-200-AC100V-42-水平",4,0.9,3000]
[3161,7845320,3000,-1,-1,"IFA-MA-200-AC100V-42-水平",4.5,0.8,3000]
[3162,6864655,3000,-1,-1,"IFA-MA-200-AC100V-42-水平",5.5,0.7,3000]
[3163,5883990,3000,-1,-1,"IFA-MA-200-AC100V-42-水平",6.5,0.6,3000]
[3164,4903325,3000,-1,-1,"IFA-MA-200-AC100V-42-水平",8,0.5,3000]
[3165,3922660,3000,-1,-1,"IFA-MA-200-AC100V-42-水平",11,0.4,3000]
[3166,2941995,3000,-1,-1,"IFA-MA-200-AC100V-42-水平",17,0.3,3000]
[3167,19613300,2000,-1,-1,"IFA-SA-100-W(-1450st)-28-水平",0,2,2000]
[3168,18632635,2000,-1,-1,"IFA-SA-100-W(-1450st)-28-水平",0.2,1.9,2000]
[3169,17651970,2000,-1,-1,"IFA-SA-100-W(-1450st)-28-水平",0.4,1.8,2000]
[3170,16671305,2000,-1,-1,"IFA-SA-100-W(-1450st)-28-水平",0.7,1.7,2000]
[3171,15690640,2000,-1,-1,"IFA-SA-100-W(-1450st)-28-水平",1,1.6,2000]
[3172,14709975,2000,-1,-1,"IFA-SA-100-W(-1450st)-28-水平",1.2,1.5,2000]
[3173,13729310,2000,-1,-1,"IFA-SA-100-W(-1450st)-28-水平",1.5,1.4,2000]
[3174,12748645,2000,-1,-1,"IFA-SA-100-W(-1450st)-28-水平",1.9,1.3,2000]
[3175,11767980,2000,-1,-1,"IFA-SA-100-W(-1450st)-28-水平",2.2999999999999998,1.2,2000]
[3176,10787315,2000,-1,-1,"IFA-SA-100-W(-1450st)-28-水平",2.7,1.1000000000000001,2000]
[3177,9806650,2000,-1,-1,"IFA-SA-100-W(-1450st)-28-水平",3.5,1,2000]
[3178,8825985,2000,-1,-1,"IFA-SA-100-W(-1450st)-28-水平",4.5,0.9,2000]
[3179,7845320,2000,-1,-1,"IFA-SA-100-W(-1450st)-28-水平",5.5,0.8,2000]
[3180,6864655,2000,-1,-1,"IFA-SA-100-W(-1450st)-28-水平",6.5,0.7,2000]
[3181,5883990,2000,-1,-1,"IFA-SA-100-W(-1450st)-28-水平",8,0.6,2000]
[3182,4903325,2000,-1,-1,"IFA-SA-100-W(-1450st)-28-水平",10.5,0.5,2000]
[3183,3922660,2000,-1,-1,"IFA-SA-100-W(-1450st)-28-水平",13.5,0.4,2000]
[3184,2941995,2000,-1,-1,"IFA-SA-100-W(-1450st)-28-水平",18,0.3,2000]
[3185,19613300,2000,-1,-1,"IFA-SA-100-W(1500st-)-28-水平",0,2,2000]
[3186,18632635,2000,-1,-1,"IFA-SA-100-W(1500st-)-28-水平",0.2,1.9,2000]
[3187,17651970,2000,-1,-1,"IFA-SA-100-W(1500st-)-28-水平",0.4,1.8,2000]
[3188,16671305,2000,-1,-1,"IFA-SA-100-W(1500st-)-28-水平",0.7,1.7,2000]
[3189,15690640,2000,-1,-1,"IFA-SA-100-W(1500st-)-28-水平",1,1.6,2000]
[3190,14709975,2000,-1,-1,"IFA-SA-100-W(1500st-)-28-水平",1.2,1.5,2000]
[3191,13729310,2000,-1,-1,"IFA-SA-100-W(1500st-)-28-水平",1.5,1.4,2000]
[3192,12748645,2000,-1,-1,"IFA-SA-100-W(1500st-)-28-水平",1.9,1.3,2000]
[3193,11767980,2000,-1,-1,"IFA-SA-100-W(1500st-)-28-水平",2.2999999999999998,1.2,2000]
[3194,10787315,2000,-1,-1,"IFA-SA-100-W(1500st-)-28-水平",2.7,1.1000000000000001,2000]
[3195,9806650,2000,-1,-1,"IFA-SA-100-W(1500st-)-28-水平",3.5,1,2000]
[3196,8825985,2000,-1,-1,"IFA-SA-100-W(1500st-)-28-水平",4.5,0.9,2000]
[3197,7845320,2000,-1,-1,"IFA-SA-100-W(1500st-)-28-水平",5.5,0.8,2000]
[3198,6864655,2000,-1,-1,"IFA-SA-100-W(1500st-)-28-水平",6.5,0.7,2000]
[3199,5883990,2000,-1,-1,"IFA-SA-100-W(1500st-)-28-水平",8,0.6,2000]
[3200,4903325,2000,-1,-1,"IFA-SA-100-W(1500st-)-28-水平",10.5,0.5,2000]
[3201,2941995,2000,-1,3202,"IFA-SA-100-W(1500st-)-28-水平",13,0.3,2000]
[3202,3922660,2000,3201,-1,"IFA-SA-100-W(1500st-)-28-水平",13,0.4,2000]
[3203,11767980,3000,-1,3204,"IFA-MA-200-W-42-水平",0,1.2,3000]
[3204,12748645,3000,3203,3205,"IFA-MA-200-W-42-水平",0,1.3,3000]
[3205,13729310,3000,3204,3206,"IFA-MA-200-W-42-水平",0,1.4,3000]
[3206,14709975,3000,3205,3207,"IFA-MA-200-W-42-水平",0,1.5,3000]
[3207,15690640,3000,3206,3208,"IFA-MA-200-W-42-水平",0,1.6,3000]
[3208,16671305,3000,3207,3209,"IFA-MA-200-W-42-水平",0,1.7,3000]
[3209,17651970,3000,3208,3210,"IFA-MA-200-W-42-水平",0,1.8,3000]
[3210,18632635,3000,3209,3211,"IFA-MA-200-W-42-水平",0,1.9,3000]
[3211,19613300,3000,3210,-1,"IFA-MA-200-W-42-水平",0,2,3000]
[3212,10787315,3000,-1,-1,"IFA-MA-200-W-42-水平",0.6,1.1000000000000001,3000]
[3213,9806650,3000,-1,-1,"IFA-MA-200-W-42-水平",1.5,1,3000]
[3214,8825985,3000,-1,-1,"IFA-MA-200-W-42-水平",2.5,0.9,3000]
[3215,7845320,3000,-1,-1,"IFA-MA-200-W-42-水平",3.5,0.8,3000]
[3216,6864655,3000,-1,-1,"IFA-MA-200-W-42-水平",5,0.7,3000]
[3217,5883990,3000,-1,-1,"IFA-MA-200-W-42-水平",7,0.6,3000]
[3218,4903325,3000,-1,-1,"IFA-MA-200-W-42-水平",10,0.5,3000]
[3219,3922660,3000,-1,-1,"IFA-MA-200-W-42-水平",14,0.4,3000]
[3220,2941995,3000,-1,-1,"IFA-MA-200-W-42-水平",21,0.3,3000]
[3221,19613300,3000,-1,-1,"IFA-MA-400-W-42-水平",0,2,3000]
[3222,18632635,3000,-1,-1,"IFA-MA-400-W-42-水平",0.3,1.9,3000]
[3223,17651970,3000,-1,-1,"IFA-MA-400-W-42-水平",0.7,1.8,3000]
[3224,16671305,3000,-1,-1,"IFA-MA-400-W-42-水平",1.1000000000000001,1.7,3000]
[3225,15690640,3000,-1,-1,"IFA-MA-400-W-42-水平",1.5,1.6,3000]
[3226,14709975,3000,-1,-1,"IFA-MA-400-W-42-水平",2.1,1.5,3000]
[3227,13729310,3000,-1,-1,"IFA-MA-400-W-42-水平",2.8,1.4,3000]
[3228,12748645,3000,-1,-1,"IFA-MA-400-W-42-水平",3.5,1.3,3000]
[3229,11767980,3000,-1,-1,"IFA-MA-400-W-42-水平",4.5,1.2,3000]
[3230,10787315,3000,-1,-1,"IFA-MA-400-W-42-水平",5.5,1.1000000000000001,3000]
[3231,9806650,3000,-1,-1,"IFA-MA-400-W-42-水平",6.5,1,3000]
[3232,8825985,3000,-1,-1,"IFA-MA-400-W-42-水平",8.5,0.9,3000]
[3233,7845320,3000,-1,-1,"IFA-MA-400-W-42-水平",9.5,0.8,3000]
[3234,6864655,3000,-1,-1,"IFA-MA-400-W-42-水平",12.5,0.7,3000]
[3235,5883990,3000,-1,-1,"IFA-MA-400-W-42-水平",15.5,0.6,3000]
[3236,4903325,3000,-1,-1,"IFA-MA-400-W-42-水平",19.5,0.5,3000]
[3237,3922660,3000,-1,-1,"IFA-MA-400-W-42-水平",26.5,0.4,3000]
[3238,2941995,3000,-1,-1,"IFA-MA-400-W-42-水平",36.5,0.3,3000]
[3239,8825985,3000,-1,3240,"IFA-MA-200-W-AC100V-42-水平",0,0.9,3000]
[3240,9806650,3000,3239,3241,"IFA-MA-200-W-AC100V-42-水平",0,1,3000]
[3241,10787315,3000,3240,3242,"IFA-MA-200-W-AC100V-42-水平",0,1.1000000000000001,3000]
[3242,11767980,3000,3241,3243,"IFA-MA-200-W-AC100V-42-水平",0,1.2,3000]
[3243,12748645,3000,3242,3244,"IFA-MA-200-W-AC100V-42-水平",0,1.3,3000]
[3244,13729310,3000,3243,3245,"IFA-MA-200-W-AC100V-42-水平",0,1.4,3000]
[3245,14709975,3000,3244,3246,"IFA-MA-200-W-AC100V-42-水平",0,1.5,3000]
[3246,15690640,3000,3245,3247,"IFA-MA-200-W-AC100V-42-水平",0,1.6,3000]
[3247,16671305,3000,3246,3248,"IFA-MA-200-W-AC100V-42-水平",0,1.7,3000]
[3248,17651970,3000,3247,3249,"IFA-MA-200-W-AC100V-42-水平",0,1.8,3000]
[3249,18632635,3000,3248,3250,"IFA-MA-200-W-AC100V-42-水平",0,1.9,3000]
[3250,19613300,3000,3249,-1,"IFA-MA-200-W-AC100V-42-水平",0,2,3000]
[3251,7845320,3000,-1,-1,"IFA-MA-200-W-AC100V-42-水平",0.5,0.8,3000]
[3252,6864655,3000,-1,-1,"IFA-MA-200-W-AC100V-42-水平",1.5,0.7,3000]
[3253,5883990,3000,-1,-1,"IFA-MA-200-W-AC100V-42-水平",2.5,0.6,3000]
[3254,4903325,3000,-1,-1,"IFA-MA-200-W-AC100V-42-水平",4,0.5,3000]
[3255,3922660,3000,-1,-1,"IFA-MA-200-W-AC100V-42-水平",7,0.4,3000]
[3256,2941995,3000,-1,-1,"IFA-MA-200-W-AC100V-42-水平",13,0.3,3000,"↑ Ver3.13"]
[3257,5883990,600,-1,-1,"ISB-WXM-750-10-水平",100,0.6,600,"↓ Ver3.14"]
[3258,4903325,600,-1,-1,"ISB-WXM-750-10-水平",120,0.5,600]
[3259,3922660,600,-1,-1,"ISB-WXM-750-10-水平",150,0.4,600]
[3260,1961330,600,-1,3261,"ISB-WXM-750-10-水平",200,0.2,600]
[3261,2941995,600,3260,-1,"ISB-WXM-750-10-水平",200,0.3,600]
[3262,4903325,600,-1,-1,"ISB-WXM-750-10-垂直",50,0.5,600]
[3263,3922660,600,-1,-1,"ISB-WXM-750-10-垂直",60,0.4,600]
[3264,1961330,600,-1,3265,"ISB-WXM-750-10-垂直",65,0.2,600]
[3265,2941995,600,3264,-1,"ISB-WXM-750-10-垂直",65,0.3,600]
[3266,11767980,1250,-1,-1,"ISB-WXM-750-25-水平",30,1.2,1250]
[3267,10787315,1250,-1,-1,"ISB-WXM-750-25-水平",36,1.1000000000000001,1250]
[3268,9806650,1250,-1,-1,"ISB-WXM-750-25-水平",46,1,1250]
[3269,8825985,1250,-1,-1,"ISB-WXM-750-25-水平",54,0.9,1250]
[3270,7845320,1250,-1,-1,"ISB-WXM-750-25-水平",60,0.8,1250]
[3271,6864655,1250,-1,-1,"ISB-WXM-750-25-水平",68,0.7,1250]
[3272,5883990,1250,-1,-1,"ISB-WXM-750-25-水平",80,0.6,1250]
[3273,4903325,1250,-1,-1,"ISB-WXM-750-25-水平",96,0.5,1250]
[3274,3922660,1250,-1,-1,"ISB-WXM-750-25-水平",120,0.4,1250]
[3275,1961330,1250,-1,3276,"ISB-WXM-750-25-水平",160,0.2,1250]
[3276,2941995,1250,3275,-1,"ISB-WXM-750-25-水平",160,0.3,1250]
[3277,9806650,1250,-1,-1,"ISB-WXM-750-25-垂直",20,1,1250]
[3278,8825985,1250,-1,-1,"ISB-WXM-750-25-垂直",22,0.9,1250]
[3279,7845320,1250,-1,-1,"ISB-WXM-750-25-垂直",24,0.8,1250]
[3280,6864655,1250,-1,-1,"ISB-WXM-750-25-垂直",26,0.7,1250]
[3281,5883990,1250,-1,-1,"ISB-WXM-750-25-垂直",29,0.6,1250]
[3282,4903325,1250,-1,-1,"ISB-WXM-750-25-垂直",31,0.5,1250]
[3283,1961330,1250,-1,3284,"ISB-WXM-750-25-垂直",32,0.2,1250]
[3284,2941995,1250,3283,3285,"ISB-WXM-750-25-垂直",32,0.3,1250]
[3285,3922660,1250,3284,-1,"ISB-WXM-750-25-垂直",32,0.4,1250]
[3286,11767980,2500,-1,-1,"ISB-WXM-750-50-水平",15,1.2,2500]
[3287,10787315,2500,-1,-1,"ISB-WXM-750-50-水平",18,1.1000000000000001,2500]
[3288,9806650,2500,-1,-1,"ISB-WXM-750-50-水平",23,1,2500]
[3289,8825985,2500,-1,-1,"ISB-WXM-750-50-水平",27,0.9,2500]
[3290,7845320,2500,-1,-1,"ISB-WXM-750-50-水平",30,0.8,2500]
[3291,6864655,2500,-1,-1,"ISB-WXM-750-50-水平",34,0.7,2500]
[3292,5883990,2500,-1,-1,"ISB-WXM-750-50-水平",40,0.6,2500]
[3293,4903325,2500,-1,-1,"ISB-WXM-750-50-水平",48,0.5,2500]
[3294,3922660,2500,-1,-1,"ISB-WXM-750-50-水平",60,0.4,2500]
[3295,1961330,2500,-1,3296,"ISB-WXM-750-50-水平",80,0.2,2500]
[3296,2941995,2500,3295,-1,"ISB-WXM-750-50-水平",80,0.3,2500]
[3297,9806650,2500,-1,-1,"ISB-WXM-750-50-垂直",10,1,2500]
[3298,8825985,2500,-1,-1,"ISB-WXM-750-50-垂直",11,0.9,2500]
[3299,7845320,2500,-1,-1,"ISB-WXM-750-50-垂直",12,0.8,2500]
[3300,6864655,2500,-1,-1,"ISB-WXM-750-50-垂直",13,0.7,2500]
[3301,1961330,2500,-1,3302,"ISB-WXM-750-50-垂直",14,0.2,2500]
[3302,2941995,2500,3301,3303,"ISB-WXM-750-50-垂直",14,0.3,2500]
[3303,3922660,2500,3302,3304,"ISB-WXM-750-50-垂直",14,0.4,2500]
[3304,4903325,2500,3303,3305,"ISB-WXM-750-50-垂直",14,0.5,2500]
[3305,5883990,2500,3304,-1,"ISB-WXM-750-50-垂直",14,0.6,2500]
[3306,5883990,600,-1,-1,"ISPB-WXM-750-HLA-10-水平",135,0.6,600]
[3307,4903325,600,-1,-1,"ISPB-WXM-750-HLA-10-水平",160,0.5,600]
[3308,3922660,600,-1,-1,"ISPB-WXM-750-HLA-10-水平",200,0.4,600]
[3309,2941995,600,-1,-1,"ISPB-WXM-750-HLA-10-水平",265,0.3,600]
[3310,1961330,600,-1,-1,"ISPB-WXM-750-HLA-10-水平",400,0.2,600]
[3311,4903325,600,-1,-1,"ISPB-WXM-750-HLA-10-垂直",64,0.5,600]
[3312,3922660,600,-1,-1,"ISPB-WXM-750-HLA-10-垂直",68,0.4,600]
[3313,1961330,600,-1,3314,"ISPB-WXM-750-HLA-10-垂直",80,0.2,600]
[3314,2941995,600,3313,-1,"ISPB-WXM-750-HLA-10-垂直",80,0.3,600]
[3315,11767980,1250,-1,-1,"ISB-WXMX-750-25-水平",30,1.2,1250]
[3316,10787315,1250,-1,-1,"ISB-WXMX-750-25-水平",36,1.1000000000000001,1250]
[3317,9806650,1250,-1,-1,"ISB-WXMX-750-25-水平",46,1,1250]
[3318,8825985,1250,-1,-1,"ISB-WXMX-750-25-水平",54,0.9,1250]
[3319,7845320,1250,-1,-1,"ISB-WXMX-750-25-水平",60,0.8,1250]
[3320,6864655,1250,-1,-1,"ISB-WXMX-750-25-水平",68,0.7,1250]
[3321,5883990,1250,-1,-1,"ISB-WXMX-750-25-水平",80,0.6,1250]
[3322,4903325,1250,-1,-1,"ISB-WXMX-750-25-水平",96,0.5,1250]
[3323,3922660,1250,-1,-1,"ISB-WXMX-750-25-水平",120,0.4,1250]
[3324,1961330,1250,-1,3325,"ISB-WXMX-750-25-水平",160,0.2,1250]
[3325,2941995,1250,3324,-1,"ISB-WXMX-750-25-水平",160,0.3,1250]
[3326,5883990,1250,-1,-1,"ISB-WXMX-750-25-垂直",21,0.6,1250]
[3327,4903325,1250,-1,-1,"ISB-WXMX-750-25-垂直",26,0.5,1250]
[3328,1961330,1250,-1,3329,"ISB-WXMX-750-25-垂直",32,0.2,1250]
[3329,2941995,1250,3328,3330,"ISB-WXMX-750-25-垂直",32,0.3,1250]
[3330,3922660,1250,3329,-1,"ISB-WXMX-750-25-垂直",32,0.4,1250]
[3331,11767980,2500,-1,-1,"ISB-WXMX-750-50-水平",15,1.2,2500]
[3332,10787315,2500,-1,-1,"ISB-WXMX-750-50-水平",18,1.1000000000000001,2500]
[3333,9806650,2500,-1,-1,"ISB-WXMX-750-50-水平",23,1,2500]
[3334,8825985,2500,-1,-1,"ISB-WXMX-750-50-水平",27,0.9,2500]
[3335,7845320,2500,-1,-1,"ISB-WXMX-750-50-水平",30,0.8,2500]
[3336,6864655,2500,-1,-1,"ISB-WXMX-750-50-水平",34,0.7,2500]
[3337,5883990,2500,-1,-1,"ISB-WXMX-750-50-水平",40,0.6,2500]
[3338,4903325,2500,-1,-1,"ISB-WXMX-750-50-水平",48,0.5,2500]
[3339,3922660,2500,-1,-1,"ISB-WXMX-750-50-水平",60,0.4,2500]
[3340,1961330,2500,-1,3341,"ISB-WXMX-750-50-水平",80,0.2,2500]
[3341,2941995,2500,3340,-1,"ISB-WXMX-750-50-水平",80,0.3,2500]
[3342,9806650,2500,-1,-1,"ISB-WXMX-750-50-垂直",7,1,2500]
[3343,8825985,2500,-1,-1,"ISB-WXMX-750-50-垂直",8,0.9,2500]
[3344,7845320,2500,-1,-1,"ISB-WXMX-750-50-垂直",9,0.8,2500]
[3345,6864655,2500,-1,-1,"ISB-WXMX-750-50-垂直",10,0.7,2500]
[3346,5883990,2500,-1,-1,"ISB-WXMX-750-50-垂直",12,0.6,2500]
[3347,1961330,2500,-1,3348,"ISB-WXMX-750-50-垂直",14,0.2,2500]
[3348,2941995,2500,3347,3349,"ISB-WXMX-750-50-垂直",14,0.3,2500]
[3349,3922660,2500,3348,3350,"ISB-WXMX-750-50-垂直",14,0.4,2500]
[3350,4903325,2500,3349,-1,"ISB-WXMX-750-50-垂直",14,0.5,2500]
[3351,5883990,600,-1,-1,"ISB-WXM-750-W-10-水平",90,0.6,600]
[3352,4903325,600,-1,-1,"ISB-WXM-750-W-10-水平",110,0.5,600]
[3353,3922660,600,-1,-1,"ISB-WXM-750-W-10-水平",140,0.4,600]
[3354,1961330,600,-1,3355,"ISB-WXM-750-W-10-水平",190,0.2,600]
[3355,2941995,600,3354,-1,"ISB-WXM-750-W-10-水平",190,0.3,600]
[3356,4903325,600,-1,-1,"ISB-WXM-750-W-10-垂直",40,0.5,600]
[3357,3922660,600,-1,-1,"ISB-WXM-750-W-10-垂直",50,0.4,600]
[3358,1961330,600,-1,3359,"ISB-WXM-750-W-10-垂直",56,0.2,600]
[3359,2941995,600,3358,-1,"ISB-WXM-750-W-10-垂直",56,0.3,600]
[3360,11767980,1250,-1,-1,"ISB-WXM-750-W-25-水平",20,1.2,1250]
[3361,10787315,1250,-1,-1,"ISB-WXM-750-W-25-水平",26,1.1000000000000001,1250]
[3362,9806650,1250,-1,-1,"ISB-WXM-750-W-25-水平",36,1,1250]
[3363,8825985,1250,-1,-1,"ISB-WXM-750-W-25-水平",44,0.9,1250]
[3364,7845320,1250,-1,-1,"ISB-WXM-750-W-25-水平",50,0.8,1250]
[3365,6864655,1250,-1,-1,"ISB-WXM-750-W-25-水平",58,0.7,1250]
[3366,5883990,1250,-1,-1,"ISB-WXM-750-W-25-水平",70,0.6,1250]
[3367,4903325,1250,-1,-1,"ISB-WXM-750-W-25-水平",86,0.5,1250]
[3368,3922660,1250,-1,-1,"ISB-WXM-750-W-25-水平",110,0.4,1250]
[3369,1961330,1250,-1,3370,"ISB-WXM-750-W-25-水平",150,0.2,1250]
[3370,2941995,1250,3369,-1,"ISB-WXM-750-W-25-水平",150,0.3,1250]
[3371,9806650,1250,-1,-1,"ISB-WXM-750-W-25-垂直",7,1,1250]
[3372,8825985,1250,-1,-1,"ISB-WXM-750-W-25-垂直",9,0.9,1250]
[3373,7845320,1250,-1,-1,"ISB-WXM-750-W-25-垂直",12,0.8,1250]
[3374,6864655,1250,-1,-1,"ISB-WXM-750-W-25-垂直",15,0.7,1250]
[3375,5883990,1250,-1,-1,"ISB-WXM-750-W-25-垂直",19,0.6,1250]
[3376,4903325,1250,-1,-1,"ISB-WXM-750-W-25-垂直",20,0.5,1250]
[3377,3922660,1250,-1,-1,"ISB-WXM-750-W-25-垂直",22,0.4,1250]
[3378,1961330,1250,-1,3379,"ISB-WXM-750-W-25-垂直",25,0.2,1250]
[3379,2941995,1250,3378,-1,"ISB-WXM-750-W-25-垂直",25,0.3,1250]
[3380,11767980,2500,-1,-1,"ISB-WXM-750-W-50-水平",5,1.2,2500]
[3381,10787315,2500,-1,-1,"ISB-WXM-750-W-50-水平",8,1.1000000000000001,2500]
[3382,9806650,2500,-1,-1,"ISB-WXM-750-W-50-水平",14,1,2500]
[3383,8825985,2500,-1,-1,"ISB-WXM-750-W-50-水平",17,0.9,2500]
[3384,7845320,2500,-1,-1,"ISB-WXM-750-W-50-水平",20,0.8,2500]
[3385,6864655,2500,-1,-1,"ISB-WXM-750-W-50-水平",24,0.7,2500]
[3386,5883990,2500,-1,-1,"ISB-WXM-750-W-50-水平",30,0.6,2500]
[3387,4903325,2500,-1,-1,"ISB-WXM-750-W-50-水平",38,0.5,2500]
[3388,3922660,2500,-1,-1,"ISB-WXM-750-W-50-水平",50,0.4,2500]
[3389,1961330,2500,-1,3390,"ISB-WXM-750-W-50-水平",70,0.2,2500]
[3390,2941995,2500,3389,-1,"ISB-WXM-750-W-50-水平",70,0.3,2500]
[3391,9806650,2500,-1,-1,"ISB-WXM-750-W-50-垂直",1,1,2500]
[3392,8825985,2500,-1,-1,"ISB-WXM-750-W-50-垂直",2,0.9,2500]
[3393,7845320,2500,-1,-1,"ISB-WXM-750-W-50-垂直",2.5,0.8,2500]
[3394,6864655,2500,-1,-1,"ISB-WXM-750-W-50-垂直",3,0.7,2500]
[3395,5883990,2500,-1,-1,"ISB-WXM-750-W-50-垂直",4,0.6,2500]
[3396,4903325,2500,-1,-1,"ISB-WXM-750-W-50-垂直",6,0.5,2500]
[3397,3922660,2500,-1,-1,"ISB-WXM-750-W-50-垂直",8,0.4,2500]
[3398,1961330,2500,-1,3399,"ISB-WXM-750-W-50-垂直",10,0.2,2500]
[3399,2941995,2500,3398,-1,"ISB-WXM-750-W-50-垂直",10,0.3,2500]
[3400,5883990,600,-1,-1,"ISPB-WXM-750-HLA-W-10-水平",125,0.6,600]
[3401,4903325,600,-1,-1,"ISPB-WXM-750-HLA-W-10-水平",150,0.5,600]
[3402,3922660,600,-1,-1,"ISPB-WXM-750-HLA-W-10-水平",190,0.4,600]
[3403,2941995,600,-1,-1,"ISPB-WXM-750-HLA-W-10-水平",255,0.3,600]
[3404,1961330,600,-1,-1,"ISPB-WXM-750-HLA-W-10-水平",390,0.2,600]
[3405,4903325,600,-1,-1,"ISPB-WXM-750-HLA-W-10-垂直",54,0.5,600]
[3406,3922660,600,-1,-1,"ISPB-WXM-750-HLA-W-10-垂直",58,0.4,600]
[3407,1961330,600,-1,3408,"ISPB-WXM-750-HLA-W-10-垂直",70,0.2,600]
[3408,2941995,600,3407,-1,"ISPB-WXM-750-HLA-W-10-垂直",70,0.3,600]
[3409,11767980,1250,-1,-1,"ISB-WXMX-750-W-25-水平",20,1.2,1250]
[3410,10787315,1250,-1,-1,"ISB-WXMX-750-W-25-水平",26,1.1000000000000001,1250]
[3411,9806650,1250,-1,-1,"ISB-WXMX-750-W-25-水平",36,1,1250]
[3412,8825985,1250,-1,-1,"ISB-WXMX-750-W-25-水平",44,0.9,1250]
[3413,7845320,1250,-1,-1,"ISB-WXMX-750-W-25-水平",50,0.8,1250]
[3414,6864655,1250,-1,-1,"ISB-WXMX-750-W-25-水平",58,0.7,1250]
[3415,5883990,1250,-1,-1,"ISB-WXMX-750-W-25-水平",70,0.6,1250]
[3416,4903325,1250,-1,-1,"ISB-WXMX-750-W-25-水平",86,0.5,1250]
[3417,3922660,1250,-1,-1,"ISB-WXMX-750-W-25-水平",110,0.4,1250]
[3418,1961330,1250,-1,3419,"ISB-WXMX-750-W-25-水平",150,0.2,1250]
[3419,2941995,1250,3418,-1,"ISB-WXMX-750-W-25-水平",150,0.3,1250]
[3420,5883990,1250,-1,-1,"ISB-WXMX-750-W-25-垂直",19,0.6,1250]
[3421,4903325,1250,-1,-1,"ISB-WXMX-750-W-25-垂直",20,0.5,1250]
[3422,3922660,1250,-1,-1,"ISB-WXMX-750-W-25-垂直",22,0.4,1250]
[3423,1961330,1250,-1,3424,"ISB-WXMX-750-W-25-垂直",25,0.2,1250]
[3424,2941995,1250,3423,-1,"ISB-WXMX-750-W-25-垂直",25,0.3,1250]
[3425,11767980,2500,-1,-1,"ISB-WXMX-750-W-50-水平",5,1.2,2500]
[3426,10787315,2500,-1,-1,"ISB-WXMX-750-W-50-水平",8,1.1000000000000001,2500]
[3427,9806650,2500,-1,-1,"ISB-WXMX-750-W-50-水平",14,1,2500]
[3428,8825985,2500,-1,-1,"ISB-WXMX-750-W-50-水平",17,0.9,2500]
[3429,7845320,2500,-1,-1,"ISB-WXMX-750-W-50-水平",20,0.8,2500]
[3430,6864655,2500,-1,-1,"ISB-WXMX-750-W-50-水平",24,0.7,2500]
[3431,5883990,2500,-1,-1,"ISB-WXMX-750-W-50-水平",30,0.6,2500]
[3432,4903325,2500,-1,-1,"ISB-WXMX-750-W-50-水平",38,0.5,2500]
[3433,3922660,2500,-1,-1,"ISB-WXMX-750-W-50-水平",50,0.4,2500]
[3434,1961330,2500,-1,3435,"ISB-WXMX-750-W-50-水平",70,0.2,2500]
[3435,2941995,2500,3434,-1,"ISB-WXMX-750-W-50-水平",70,0.3,2500]
[3436,5883990,2500,-1,-1,"ISB-WXMX-750-W-50-垂直",4,0.6,2500]
[3437,4903325,2500,-1,-1,"ISB-WXMX-750-W-50-垂直",6,0.5,2500]
[3438,3922660,2500,-1,-1,"ISB-WXMX-750-W-50-垂直",8,0.4,2500]
[3439,1961330,2500,-1,3440,"ISB-WXMX-750-W-50-垂直",10,0.2,2500]
[3440,2941995,2500,3439,-1,"ISB-WXMX-750-W-50-垂直",10,0.3,2500,"↑ Ver3.14"]
[3441,6864655,500,-1,-1,"EC-S18L (～1350st)-10-水平",45,0.7,500,"↓ Ver.3.15"]
[3442,4903325,500,-1,-1,"EC-S18L (～1350st)-10-水平",90,0.5,500]
[3443,2941995,500,-1,-1,"EC-S18L (～1350st)-10-水平",150,0.3,500]
[3444,4903325,500,-1,-1,"EC-S18L (～1350st)-10-垂直",40,0.5,500]
[3445,2941995,500,-1,-1,"EC-S18L (～1350st)-10-垂直",60,0.3,500]
[3446,6864655,500,-1,-1,"EC-S18L (1400st～)-10-水平",45,0.7,500]
[3447,4903325,500,-1,-1,"EC-S18L (1400st～)-10-水平",90,0.5,500]
[3448,2941995,500,-1,-1,"EC-S18L (1400st～)-10-水平",150,0.3,500]
[3449,4903325,500,-1,-1,"EC-S18L (1400st～)-10-垂直",40,0.5,500]
[3450,2941995,500,-1,-1,"EC-S18L (1400st～)-10-垂直",60,0.3,500]
[3451,9806650,1000,-1,-1,"EC-S18M (～1350st)-20-水平",31,1,1000]
[3452,6864655,1000,-1,-1,"EC-S18M (～1350st)-20-水平",52,0.7,1000]
[3453,4903325,1000,-1,-1,"EC-S18M (～1350st)-20-水平",72,0.5,1000]
[3454,2941995,1000,-1,-1,"EC-S18M (～1350st)-20-水平",120,0.3,1000]
[3455,6864655,1000,-1,-1,"EC-S18M (～1350st)-20-垂直",17.5,0.7,1000]
[3456,4903325,1000,-1,-1,"EC-S18M (～1350st)-20-垂直",23,0.5,1000]
[3457,2941995,1000,-1,-1,"EC-S18M (～1350st)-20-垂直",29,0.3,1000]
[3458,9806650,1000,-1,-1,"EC-S18M (1400st～)-20-水平",31,1,1000]
[3459,6864655,1000,-1,-1,"EC-S18M (1400st～)-20-水平",52,0.7,1000]
[3460,4903325,1000,-1,-1,"EC-S18M (1400st～)-20-水平",72,0.5,1000]
[3461,2941995,1000,-1,-1,"EC-S18M (1400st～)-20-水平",120,0.3,1000]
[3462,6864655,1000,-1,-1,"EC-S18M (1400st～)-20-垂直",17.5,0.7,1000]
[3463,4903325,1000,-1,-1,"EC-S18M (1400st～)-20-垂直",23,0.5,1000]
[3464,2941995,1000,-1,-1,"EC-S18M (1400st～)-20-垂直",29,0.3,1000]
[3465,9806650,2000,-1,-1,"EC-S18H (～1350st)-40-水平",18,1,2000]
[3466,6864655,2000,-1,-1,"EC-S18H (～1350st)-40-水平",26,0.7,2000]
[3467,4903325,2000,-1,-1,"EC-S18H (～1350st)-40-水平",36,0.5,2000]
[3468,2941995,2000,-1,-1,"EC-S18H (～1350st)-40-水平",60,0.3,2000]
[3469,6864655,2000,-1,-1,"EC-S18H (～1350st)-40-垂直",6.7,0.7,2000]
[3470,4903325,2000,-1,-1,"EC-S18H (～1350st)-40-垂直",10,0.5,2000]
[3471,2941995,2000,-1,-1,"EC-S18H (～1350st)-40-垂直",14,0.3,2000]
[3472,9806650,2000,-1,-1,"EC-S18H (1400st～)-40-水平",18,1,2000]
[3473,6864655,2000,-1,-1,"EC-S18H (1400st～)-40-水平",26,0.7,2000]
[3474,4903325,2000,-1,-1,"EC-S18H (1400st～)-40-水平",36,0.5,2000]
[3475,2941995,2000,-1,-1,"EC-S18H (1400st～)-40-水平",60,0.3,2000]
[3476,6864655,2000,-1,-1,"EC-S18H (1400st～)-40-垂直",6.7,0.7,2000]
[3477,4903325,2000,-1,-1,"EC-S18H (1400st～)-40-垂直",10,0.5,2000]
[3478,2941995,2000,-1,-1,"EC-S18H (1400st～)-40-垂直",14,0.3,2000]
[3479,6864655,500,-1,-1,"EC-S18LP (～1350st)-10-水平",95,0.7,500]
[3480,4903325,500,-1,-1,"EC-S18LP (～1350st)-10-水平",160,0.5,500]
[3481,2941995,500,-1,-1,"EC-S18LP (～1350st)-10-水平",265,0.3,500]
[3482,1961330,500,-1,-1,"EC-S18LP (～1350st)-10-水平",400,0.2,500]
[3483,4903325,500,-1,-1,"EC-S18LP (～1350st)-10-垂直",64,0.5,500]
[3484,1961330,500,-1,3485,"EC-S18LP (～1350st)-10-垂直",80,0.2,500]
[3485,2941995,500,3484,-1,"EC-S18LP (～1350st)-10-垂直",80,0.3,500]
[3486,6864655,500,-1,-1,"EC-S18LP (1400st～)-10-水平",95,0.7,500]
[3487,4903325,500,-1,-1,"EC-S18LP (1400st～)-10-水平",160,0.5,500]
[3488,2941995,500,-1,-1,"EC-S18LP (1400st～)-10-水平",265,0.3,500]
[3489,1961330,500,-1,-1,"EC-S18LP (1400st～)-10-水平",400,0.2,500]
[3490,4903325,500,-1,-1,"EC-S18LP (1400st～)-10-垂直",64,0.5,500]
[3491,1961330,500,-1,3492,"EC-S18LP (1400st～)-10-垂直",80,0.2,500]
[3492,2941995,500,3491,-1,"EC-S18LP (1400st～)-10-垂直",80,0.3,500]
[3493,6864655,500,-1,-1,"EC-S18XL (～2200st)-10-水平",45,0.7,500]
[3494,4903325,500,-1,-1,"EC-S18XL (～2200st)-10-水平",90,0.5,500]
[3495,2941995,500,-1,-1,"EC-S18XL (～2200st)-10-水平",150,0.3,500]
[3496,4903325,500,-1,-1,"EC-S18XL (～2200st)-10-垂直",40,0.5,500]
[3497,2941995,500,-1,-1,"EC-S18XL (～2200st)-10-垂直",60,0.3,500]
[3498,6864655,500,-1,-1,"EC-S18XL (2250st～)-10-水平",45,0.7,500]
[3499,4903325,500,-1,-1,"EC-S18XL (2250st～)-10-水平",90,0.5,500]
[3500,2941995,500,-1,-1,"EC-S18XL (2250st～)-10-水平",150,0.3,500]
[3501,4903325,500,-1,-1,"EC-S18XL (2250st～)-10-垂直",40,0.5,500]
[3502,2941995,500,-1,-1,"EC-S18XL (2250st～)-10-垂直",60,0.3,500]
[3503,9806650,1000,-1,-1,"EC-S18XM (～2200st)-20-水平",31,1,1000]
[3504,6864655,1000,-1,-1,"EC-S18XM (～2200st)-20-水平",52,0.7,1000]
[3505,4903325,1000,-1,-1,"EC-S18XM (～2200st)-20-水平",72,0.5,1000]
[3506,2941995,1000,-1,-1,"EC-S18XM (～2200st)-20-水平",120,0.3,1000]
[3507,6864655,1000,-1,-1,"EC-S18XM (～2200st)-20-垂直",17.5,0.7,1000]
[3508,4903325,1000,-1,-1,"EC-S18XM (～2200st)-20-垂直",23,0.5,1000]
[3509,2941995,1000,-1,-1,"EC-S18XM (～2200st)-20-垂直",29,0.3,1000]
[3510,9806650,1000,-1,-1,"EC-S18XM (2250st～)-20-水平",31,1,1000]
[3511,6864655,1000,-1,-1,"EC-S18XM (2250st～)-20-水平",52,0.7,1000]
[3512,4903325,1000,-1,-1,"EC-S18XM (2250st～)-20-水平",72,0.5,1000]
[3513,2941995,1000,-1,-1,"EC-S18XM (2250st～)-20-水平",120,0.3,1000]
[3514,6864655,1000,-1,-1,"EC-S18XM (2250st～)-20-垂直",17.5,0.7,1000]
[3515,4903325,1000,-1,-1,"EC-S18XM (2250st～)-20-垂直",23,0.5,1000]
[3516,2941995,1000,-1,-1,"EC-S18XM (2250st～)-20-垂直",29,0.3,1000]
[3517,9806650,1500,-1,-1,"EC-S18XH (～2200st)-40-水平",18,1,1500]
[3518,6864655,1500,-1,-1,"EC-S18XH (～2200st)-40-水平",26,0.7,1500]
[3519,4903325,1500,-1,-1,"EC-S18XH (～2200st)-40-水平",36,0.5,1500]
[3520,2941995,1500,-1,-1,"EC-S18XH (～2200st)-40-水平",60,0.3,1500]
[3521,6864655,1500,-1,-1,"EC-S18XH (～2200st)-40-垂直",6.7,0.7,1500]
[3522,4903325,1500,-1,-1,"EC-S18XH (～2200st)-40-垂直",10,0.5,1500]
[3523,2941995,1500,-1,-1,"EC-S18XH (～2200st)-40-垂直",14,0.3,1500]
[3524,9806650,1500,-1,-1,"EC-S18XH (2250st～)-40-水平",18,1,1500]
[3525,6864655,1500,-1,-1,"EC-S18XH (2250st～)-40-水平",26,0.7,1500]
[3526,4903325,1500,-1,-1,"EC-S18XH (2250st～)-40-水平",36,0.5,1500]
[3527,2941995,1500,-1,-1,"EC-S18XH (2250st～)-40-水平",60,0.3,1500]
[3528,6864655,1500,-1,-1,"EC-S18XH (2250st～)-40-垂直",6.7,0.7,1500]
[3529,4903325,1500,-1,-1,"EC-S18XH (2250st～)-40-垂直",10,0.5,1500]
[3530,2941995,1500,-1,-1,"EC-S18XH (2250st～)-40-垂直",14,0.3,1500]
[3531,6864655,500,-1,-1,"EC-S18XLP-10-水平",95,0.7,500]
[3532,4903325,500,-1,-1,"EC-S18XLP-10-水平",160,0.5,500]
[3533,2941995,500,-1,-1,"EC-S18XLP-10-水平",265,0.3,500]
[3534,1961330,500,-1,-1,"EC-S18XLP-10-水平",400,0.2,500]
[3535,4903325,500,-1,-1,"EC-S18XLP-10-垂直",64,0.5,500]
[3536,1961330,500,-1,3537,"EC-S18XLP-10-垂直",80,0.2,500]
[3537,2941995,500,3536,-1,"EC-S18XLP-10-垂直",80,0.3,500]
[3538,6864655,500,-1,-1,"EC-S18L-W (～1350st)-10-水平",41,0.7,500]
[3539,4903325,500,-1,-1,"EC-S18L-W (～1350st)-10-水平",86,0.5,500]
[3540,2941995,500,-1,-1,"EC-S18L-W (～1350st)-10-水平",146,0.3,500]
[3541,4903325,500,-1,-1,"EC-S18L-W (～1350st)-10-垂直",36,0.5,500]
[3542,2941995,500,-1,-1,"EC-S18L-W (～1350st)-10-垂直",56,0.3,500]
[3543,6864655,500,-1,-1,"EC-S18L-W (1400st～)-10-水平",41,0.7,500]
[3544,4903325,500,-1,-1,"EC-S18L-W (1400st～)-10-水平",86,0.5,500]
[3545,2941995,500,-1,-1,"EC-S18L-W (1400st～)-10-水平",146,0.3,500]
[3546,4903325,500,-1,-1,"EC-S18L-W (1400st～)-10-垂直",36,0.5,500]
[3547,2941995,500,-1,-1,"EC-S18L-W (1400st～)-10-垂直",56,0.3,500]
[3548,9806650,1000,-1,-1,"EC-S18M-W (～1350st)-20-水平",27,1,1000]
[3549,6864655,1000,-1,-1,"EC-S18M-W (～1350st)-20-水平",48,0.7,1000]
[3550,4903325,1000,-1,-1,"EC-S18M-W (～1350st)-20-水平",68,0.5,1000]
[3551,2941995,1000,-1,-1,"EC-S18M-W (～1350st)-20-水平",116,0.3,1000]
[3552,6864655,1000,-1,-1,"EC-S18M-W (～1350st)-20-垂直",13.5,0.7,1000]
[3553,4903325,1000,-1,-1,"EC-S18M-W (～1350st)-20-垂直",19,0.5,1000]
[3554,2941995,1000,-1,-1,"EC-S18M-W (～1350st)-20-垂直",25,0.3,1000]
[3555,9806650,1000,-1,-1,"EC-S18M-W (1400st～)-20-水平",27,1,1000]
[3556,6864655,1000,-1,-1,"EC-S18M-W (1400st～)-20-水平",48,0.7,1000]
[3557,4903325,1000,-1,-1,"EC-S18M-W (1400st～)-20-水平",68,0.5,1000]
[3558,2941995,1000,-1,-1,"EC-S18M-W (1400st～)-20-水平",116,0.3,1000]
[3559,6864655,1000,-1,-1,"EC-S18M-W (1400st～)-20-垂直",13.5,0.7,1000]
[3560,4903325,1000,-1,-1,"EC-S18M-W (1400st～)-20-垂直",19,0.5,1000]
[3561,2941995,1000,-1,-1,"EC-S18M-W (1400st～)-20-垂直",25,0.3,1000]
[3562,9806650,2000,-1,-1,"EC-S18H-W (～1350st)-40-水平",14,1,2000]
[3563,6864655,2000,-1,-1,"EC-S18H-W (～1350st)-40-水平",22,0.7,2000]
[3564,4903325,2000,-1,-1,"EC-S18H-W (～1350st)-40-水平",32,0.5,2000]
[3565,2941995,2000,-1,-1,"EC-S18H-W (～1350st)-40-水平",56,0.3,2000]
[3566,6864655,2000,-1,-1,"EC-S18H-W (～1350st)-40-垂直",2.7,0.7,2000]
[3567,4903325,2000,-1,-1,"EC-S18H-W (～1350st)-40-垂直",6,0.5,2000]
[3568,2941995,2000,-1,-1,"EC-S18H-W (～1350st)-40-垂直",10,0.3,2000]
[3569,9806650,2000,-1,-1,"EC-S18H-W (1400st～)-40-水平",14,1,2000]
[3570,6864655,2000,-1,-1,"EC-S18H-W (1400st～)-40-水平",22,0.7,2000]
[3571,4903325,2000,-1,-1,"EC-S18H-W (1400st～)-40-水平",32,0.5,2000]
[3572,2941995,2000,-1,-1,"EC-S18H-W (1400st～)-40-水平",56,0.3,2000]
[3573,6864655,2000,-1,-1,"EC-S18H-W (1400st～)-40-垂直",2.7,0.7,2000]
[3574,4903325,2000,-1,-1,"EC-S18H-W (1400st～)-40-垂直",6,0.5,2000]
[3575,2941995,2000,-1,-1,"EC-S18H-W (1400st～)-40-垂直",10,0.3,2000]
[3576,6864655,500,-1,-1,"EC-S18LP-W (～1350st)-10-水平",91,0.7,500]
[3577,4903325,500,-1,-1,"EC-S18LP-W (～1350st)-10-水平",156,0.5,500]
[3578,2941995,500,-1,-1,"EC-S18LP-W (～1350st)-10-水平",261,0.3,500]
[3579,1961330,500,-1,-1,"EC-S18LP-W (～1350st)-10-水平",396,0.2,500]
[3580,4903325,500,-1,-1,"EC-S18LP-W (～1350st)-10-垂直",60,0.5,500]
[3581,1961330,500,-1,3582,"EC-S18LP-W (～1350st)-10-垂直",76,0.2,500]
[3582,2941995,500,3581,-1,"EC-S18LP-W (～1350st)-10-垂直",76,0.3,500]
[3583,6864655,500,-1,-1,"EC-S18LP-W (1400st～)-10-水平",91,0.7,500]
[3584,4903325,500,-1,-1,"EC-S18LP-W (1400st～)-10-水平",156,0.5,500]
[3585,2941995,500,-1,-1,"EC-S18LP-W (1400st～)-10-水平",261,0.3,500]
[3586,1961330,500,-1,-1,"EC-S18LP-W (1400st～)-10-水平",396,0.2,500]
[3587,4903325,500,-1,-1,"EC-S18LP-W (1400st～)-10-垂直",60,0.5,500]
[3588,1961330,500,-1,3589,"EC-S18LP-W (1400st～)-10-垂直",76,0.2,500]
[3589,2941995,500,3588,-1,"EC-S18LP-W (1400st～)-10-垂直",76,0.3,500]
[3590,6864655,500,-1,-1,"EC-S18XL-W (～2200st)-10-水平",41,0.7,500]
[3591,4903325,500,-1,-1,"EC-S18XL-W (～2200st)-10-水平",86,0.5,500]
[3592,2941995,500,-1,-1,"EC-S18XL-W (～2200st)-10-水平",146,0.3,500]
[3593,4903325,500,-1,-1,"EC-S18XL-W (～2200st)-10-垂直",36,0.5,500]
[3594,2941995,500,-1,-1,"EC-S18XL-W (～2200st)-10-垂直",56,0.3,500]
[3595,6864655,500,-1,-1,"EC-S18XL-W (2250st～)-10-水平",41,0.7,500]
[3596,4903325,500,-1,-1,"EC-S18XL-W (2250st～)-10-水平",86,0.5,500]
[3597,2941995,500,-1,-1,"EC-S18XL-W (2250st～)-10-水平",146,0.3,500]
[3598,4903325,500,-1,-1,"EC-S18XL-W (2250st～)-10-垂直",36,0.5,500]
[3599,2941995,500,-1,-1,"EC-S18XL-W (2250st～)-10-垂直",56,0.3,500]
[3600,9806650,1000,-1,-1,"EC-S18XM-W (～2200st)-20-水平",27,1,1000]
[3601,6864655,1000,-1,-1,"EC-S18XM-W (～2200st)-20-水平",48,0.7,1000]
[3602,4903325,1000,-1,-1,"EC-S18XM-W (～2200st)-20-水平",68,0.5,1000]
[3603,2941995,1000,-1,-1,"EC-S18XM-W (～2200st)-20-水平",116,0.3,1000]
[3604,6864655,1000,-1,-1,"EC-S18XM-W (～2200st)-20-垂直",13.5,0.7,1000]
[3605,4903325,1000,-1,-1,"EC-S18XM-W (～2200st)-20-垂直",19,0.5,1000]
[3606,2941995,1000,-1,-1,"EC-S18XM-W (～2200st)-20-垂直",25,0.3,1000]
[3607,9806650,1000,-1,-1,"EC-S18XM-W (2250st～)-20-水平",27,1,1000]
[3608,6864655,1000,-1,-1,"EC-S18XM-W (2250st～)-20-水平",48,0.7,1000]
[3609,4903325,1000,-1,-1,"EC-S18XM-W (2250st～)-20-水平",68,0.5,1000]
[3610,2941995,1000,-1,-1,"EC-S18XM-W (2250st～)-20-水平",116,0.3,1000]
[3611,6864655,1000,-1,-1,"EC-S18XM-W (2250st～)-20-垂直",13.5,0.7,1000]
[3612,4903325,1000,-1,-1,"EC-S18XM-W (2250st～)-20-垂直",19,0.5,1000]
[3613,2941995,1000,-1,-1,"EC-S18XM-W (2250st～)-20-垂直",25,0.3,1000]
[3614,9806650,1500,-1,-1,"EC-S18XH-W (～2200st)-40-水平",14,1,1500]
[3615,6864655,1500,-1,-1,"EC-S18XH-W (～2200st)-40-水平",22,0.7,1500]
[3616,4903325,1500,-1,-1,"EC-S18XH-W (～2200st)-40-水平",32,0.5,1500]
[3617,2941995,1500,-1,-1,"EC-S18XH-W (～2200st)-40-水平",56,0.3,1500]
[3618,6864655,1500,-1,-1,"EC-S18XH-W (～2200st)-40-垂直",2.7,0.7,1500]
[3619,4903325,1500,-1,-1,"EC-S18XH-W (～2200st)-40-垂直",6,0.5,1500]
[3620,2941995,1500,-1,-1,"EC-S18XH-W (～2200st)-40-垂直",10,0.3,1500]
[3621,9806650,1500,-1,-1,"EC-S18XH-W (2250st～)-40-水平",14,1,1500]
[3622,6864655,1500,-1,-1,"EC-S18XH-W (2250st～)-40-水平",22,0.7,1500]
[3623,4903325,1500,-1,-1,"EC-S18XH-W (2250st～)-40-水平",32,0.5,1500]
[3624,2941995,1500,-1,-1,"EC-S18XH-W (2250st～)-40-水平",56,0.3,1500]
[3625,6864655,1500,-1,-1,"EC-S18XH-W (2250st～)-40-垂直",2.7,0.7,1500]
[3626,4903325,1500,-1,-1,"EC-S18XH-W (2250st～)-40-垂直",6,0.5,1500]
[3627,2941995,1500,-1,-1,"EC-S18XH-W (2250st～)-40-垂直",10,0.3,1500]
[3628,6864655,500,-1,-1,"EC-S18XLP-W-10-水平",91,0.7,500]
[3629,4903325,500,-1,-1,"EC-S18XLP-W-10-水平",156,0.5,500]
[3630,2941995,500,-1,-1,"EC-S18XLP-W-10-水平",261,0.3,500]
[3631,1961330,500,-1,-1,"EC-S18XLP-W-10-水平",396,0.2,500]
[3632,4903325,500,-1,-1,"EC-S18XLP-W-10-垂直",60,0.5,500]
[3633,1961330,500,-1,3634,"EC-S18XLP-W-10-垂直",76,0.2,500]
[3634,2941995,500,3633,-1,"EC-S18XLP-W-10-垂直",76,0.3,500,"↑ Ver.3.15"]
[3635,9806650,2000,-1,-1,"EC-B8SS-54-水平",4,1,2000,"↓ Ver.3.16 追加"]
[3636,6864655,2000,-1,-1,"EC-B8SS-54-水平",6,0.7,2000]
[3637,4903325,2000,-1,-1,"EC-B8SS-54-水平",9,0.5,2000]
[3638,2941995,2000,-1,-1,"EC-B8SS-54-水平",15,0.3,2000]
[3639,9806650,2000,-1,-1,"EC-B8SSU-54-水平",4,1,2000]
[3640,6864655,2000,-1,-1,"EC-B8SSU-54-水平",6,0.7,2000]
[3641,4903325,2000,-1,-1,"EC-B8SSU-54-水平",9,0.5,2000]
[3642,2941995,2000,-1,-1,"EC-B8SSU-54-水平",15,0.3,2000]
[3643,6864655,240,-1,-1,"RCS4-HSA6C-100-4-水平",40,0.7,240]
[3644,4903325,240,-1,-1,"RCS4-HSA6C-100-4-水平",60,0.5,240]
[3645,2941995,240,-1,-1,"RCS4-HSA6C-100-4-水平",90,0.3,240]
[3646,6864655,240,-1,-1,"RCS4-HSA6C-100-4-垂直",20,0.7,240]
[3647,4903325,240,-1,-1,"RCS4-HSA6C-100-4-垂直",25,0.5,240]
[3648,2941995,240,-1,-1,"RCS4-HSA6C-100-4-垂直",30,0.3,240]
[3649,9806650,500,-1,-1,"RCS4-HSA6C-100-8-水平",20,1,500]
[3650,6864655,500,-1,-1,"RCS4-HSA6C-100-8-水平",30,0.7,500]
[3651,4903325,500,-1,-1,"RCS4-HSA6C-100-8-水平",40,0.5,500]
[3652,2941995,500,-1,-1,"RCS4-HSA6C-100-8-水平",50,0.3,500]
[3653,2941995,500,-1,3654,"RCS4-HSA6C-100-8-垂直",15,0.3,500]
[3654,4903325,500,3653,3655,"RCS4-HSA6C-100-8-垂直",15,0.5,500]
[3655,6864655,500,3654,3656,"RCS4-HSA6C-100-8-垂直",15,0.7,500]
[3656,9806650,500,3655,-1,"RCS4-HSA6C-100-8-垂直",15,1,500]
[3657,11767980,1000,-1,-1,"RCS4-HSA6C-100-16-水平",13,1.2,1000]
[3658,9806650,1000,-1,-1,"RCS4-HSA6C-100-16-水平",15,1,1000]
[3659,6864655,1000,-1,-1,"RCS4-HSA6C-100-16-水平",20,0.7,1000]
[3660,4903325,1000,-1,-1,"RCS4-HSA6C-100-16-水平",24,0.5,1000]
[3661,2941995,1000,-1,-1,"RCS4-HSA6C-100-16-水平",33,0.3,1000]
[3662,2941995,1000,-1,3663,"RCS4-HSA6C-100-16-垂直",6,0.3,1000]
[3663,4903325,1000,3662,3664,"RCS4-HSA6C-100-16-垂直",6,0.5,1000]
[3664,6864655,1000,3663,3665,"RCS4-HSA6C-100-16-垂直",6,0.7,1000]
[3665,9806650,1000,3664,3666,"RCS4-HSA6C-100-16-垂直",6,1,1000]
[3666,11767980,1000,3665,-1,"RCS4-HSA6C-100-16-垂直",6,1.2,1000]
[3667,11767980,1500,-1,-1,"RCS4-HSA6C-100-24-水平",6,1.2,1500]
[3668,9806650,1500,-1,-1,"RCS4-HSA6C-100-24-水平",8,1,1500]
[3669,6864655,1500,-1,-1,"RCS4-HSA6C-100-24-水平",10,0.7,1500]
[3670,4903325,1500,-1,-1,"RCS4-HSA6C-100-24-水平",15,0.5,1500]
[3671,2941995,1500,-1,-1,"RCS4-HSA6C-100-24-水平",18,0.3,1500]
[3672,11767980,1500,-1,-1,"RCS4-HSA6C-100-24-垂直",2,1.2,1500]
[3673,2941995,1500,-1,3674,"RCS4-HSA6C-100-24-垂直",4,0.3,1500]
[3674,4903325,1500,3673,3675,"RCS4-HSA6C-100-24-垂直",4,0.5,1500]
[3675,6864655,1500,3674,3676,"RCS4-HSA6C-100-24-垂直",4,0.7,1500]
[3676,9806650,1500,3675,-1,"RCS4-HSA6C-100-24-垂直",4,1,1500]
[3677,6864655,300,-1,-1,"RCS4-HSA7C-200-5-水平",70,0.7,300]
[3678,4903325,300,-1,-1,"RCS4-HSA7C-200-5-水平",90,0.5,300]
[3679,2941995,300,-1,-1,"RCS4-HSA7C-200-5-水平",120,0.3,300]
[3680,6864655,300,-1,-1,"RCS4-HSA7C-200-5-垂直",30,0.7,300]
[3681,4903325,300,-1,-1,"RCS4-HSA7C-200-5-垂直",40,0.5,300]
[3682,2941995,300,-1,-1,"RCS4-HSA7C-200-5-垂直",50,0.3,300]
[3683,9806650,600,-1,-1,"RCS4-HSA7C-200-10-水平",35,1,600]
[3684,6864655,600,-1,-1,"RCS4-HSA7C-200-10-水平",40,0.7,600]
[3685,4903325,600,-1,-1,"RCS4-HSA7C-200-10-水平",50,0.5,600]
[3686,2941995,600,-1,-1,"RCS4-HSA7C-200-10-水平",60,0.3,600]
[3687,9806650,600,-1,-1,"RCS4-HSA7C-200-10-垂直",18,1,600]
[3688,4903325,600,-1,3689,"RCS4-HSA7C-200-10-垂直",20,0.5,600]
[3689,6864655,600,3688,-1,"RCS4-HSA7C-200-10-垂直",20,0.7,600]
[3690,2941995,600,-1,-1,"RCS4-HSA7C-200-10-垂直",25,0.3,600]
[3691,11767980,1200,-1,-1,"RCS4-HSA7C-200-20-水平",12,1.2,1200]
[3692,6864655,1200,-1,3693,"RCS4-HSA7C-200-20-水平",15,0.7,1200]
[3693,9806650,1200,3692,-1,"RCS4-HSA7C-200-20-水平",15,1,1200]
[3694,4903325,1200,-1,-1,"RCS4-HSA7C-200-20-水平",30,0.5,1200]
[3695,2941995,1200,-1,-1,"RCS4-HSA7C-200-20-水平",40,0.3,1200]
[3696,9806650,1200,-1,3697,"RCS4-HSA7C-200-20-垂直",8,1,1200]
[3697,11767980,1200,3696,-1,"RCS4-HSA7C-200-20-垂直",8,1.2,1200]
[3698,6864655,1200,-1,-1,"RCS4-HSA7C-200-20-垂直",10,0.7,1200]
[3699,2941995,1200,-1,3700,"RCS4-HSA7C-200-20-垂直",12,0.3,1200]
[3700,4903325,1200,3699,-1,"RCS4-HSA7C-200-20-垂直",12,0.5,1200]
[3701,11767980,1800,-1,-1,"RCS4-HSA7C-200-30-水平",5,1.2,1800]
[3702,9806650,1800,-1,-1,"RCS4-HSA7C-200-30-水平",6,1,1800]
[3703,6864655,1800,-1,-1,"RCS4-HSA7C-200-30-水平",10,0.7,1800]
[3704,4903325,1800,-1,-1,"RCS4-HSA7C-200-30-水平",12,0.5,1800]
[3705,2941995,1800,-1,-1,"RCS4-HSA7C-200-30-水平",30,0.3,1800]
[3706,11767980,1800,-1,-1,"RCS4-HSA7C-200-30-垂直",4,1.2,1800]
[3707,9806650,1800,-1,-1,"RCS4-HSA7C-200-30-垂直",5,1,1800]
[3708,6864655,1800,-1,-1,"RCS4-HSA7C-200-30-垂直",6,0.7,1800]
[3709,2941995,1800,-1,3710,"RCS4-HSA7C-200-30-垂直",7,0.3,1800]
[3710,4903325,1800,3709,-1,"RCS4-HSA7C-200-30-垂直",7,0.5,1800]
[3711,6864655,240,-1,-1,"RCS4-HSA6C-100-W-4-水平",34,0.7,240]
[3712,4903325,240,-1,-1,"RCS4-HSA6C-100-W-4-水平",54,0.5,240]
[3713,2941995,240,-1,-1,"RCS4-HSA6C-100-W-4-水平",84,0.3,240]
[3714,6864655,240,-1,-1,"RCS4-HSA6C-100-W-4-垂直",14,0.7,240]
[3715,4903325,240,-1,-1,"RCS4-HSA6C-100-W-4-垂直",19,0.5,240]
[3716,2941995,240,-1,-1,"RCS4-HSA6C-100-W-4-垂直",24,0.3,240]
[3717,9806650,500,-1,-1,"RCS4-HSA6C-100-W-8-水平",14,1,500]
[3718,6864655,500,-1,-1,"RCS4-HSA6C-100-W-8-水平",24,0.7,500]
[3719,4903325,500,-1,-1,"RCS4-HSA6C-100-W-8-水平",34,0.5,500]
[3720,2941995,500,-1,-1,"RCS4-HSA6C-100-W-8-水平",44,0.3,500]
[3721,2941995,500,-1,3722,"RCS4-HSA6C-100-W-8-垂直",9,0.3,500]
[3722,4903325,500,3721,3723,"RCS4-HSA6C-100-W-8-垂直",9,0.5,500]
[3723,6864655,500,3722,3724,"RCS4-HSA6C-100-W-8-垂直",9,0.7,500]
[3724,9806650,500,3723,-1,"RCS4-HSA6C-100-W-8-垂直",9,1,500]
[3725,11767980,1000,-1,-1,"RCS4-HSA6C-100-W-16-水平",7,1.2,1000]
[3726,9806650,1000,-1,-1,"RCS4-HSA6C-100-W-16-水平",9,1,1000]
[3727,6864655,1000,-1,-1,"RCS4-HSA6C-100-W-16-水平",14,0.7,1000]
[3728,4903325,1000,-1,-1,"RCS4-HSA6C-100-W-16-水平",18,0.5,1000]
[3729,2941995,1000,-1,-1,"RCS4-HSA6C-100-W-16-水平",27,0.3,1000]
[3730,6864655,300,-1,-1,"RCS4-HSA7C-200-W-5-水平",64,0.7,300]
[3731,4903325,300,-1,-1,"RCS4-HSA7C-200-W-5-水平",84,0.5,300]
[3732,2941995,300,-1,-1,"RCS4-HSA7C-200-W-5-水平",114,0.3,300]
[3733,6864655,300,-1,-1,"RCS4-HSA7C-200-W-5-垂直",24,0.7,300]
[3734,4903325,300,-1,-1,"RCS4-HSA7C-200-W-5-垂直",34,0.5,300]
[3735,2941995,300,-1,-1,"RCS4-HSA7C-200-W-5-垂直",44,0.3,300]
[3736,9806650,600,-1,-1,"RCS4-HSA7C-200-W-10-水平",29,1,600]
[3737,6864655,600,-1,-1,"RCS4-HSA7C-200-W-10-水平",34,0.7,600]
[3738,4903325,600,-1,-1,"RCS4-HSA7C-200-W-10-水平",44,0.5,600]
[3739,2941995,600,-1,-1,"RCS4-HSA7C-200-W-10-水平",54,0.3,600]
[3740,9806650,600,-1,-1,"RCS4-HSA7C-200-W-10-垂直",12,1,600]
[3741,4903325,600,-1,3742,"RCS4-HSA7C-200-W-10-垂直",14,0.5,600]
[3742,6864655,600,3741,-1,"RCS4-HSA7C-200-W-10-垂直",14,0.7,600]
[3743,2941995,600,-1,-1,"RCS4-HSA7C-200-W-10-垂直",19,0.3,600]
[3744,11767980,1200,-1,-1,"RCS4-HSA7C-200-W-20-水平",6,1.2,1200]
[3745,6864655,1200,-1,3746,"RCS4-HSA7C-200-W-20-水平",9,0.7,1200]
[3746,9806650,1200,3745,-1,"RCS4-HSA7C-200-W-20-水平",9,1,1200]
[3747,4903325,1200,-1,-1,"RCS4-HSA7C-200-W-20-水平",24,0.5,1200]
[3748,2941995,1200,-1,-1,"RCS4-HSA7C-200-W-20-水平",34,0.3,1200,"↑ Ver.3.16 追加"]
["EOF"]